Workbook

Sheet Schichtplan
B2: DIENSTPLANUNG | AJ2: Monat | AK2: März
B3: Schichtplan – 3 Schichten | AJ3: Jahr | AK3: 2027
B4: Monatsübersicht mit Früh-, Spät- und Nachtschicht · automatische Besetzungs- und Stundenauswertung
B6: Nr. | C6: Mitarbeiter | E6: Mo | F6: Di | G6: Mi | H6: Do | I6: Fr | J6: Sa | K6: So | L6: Mo | M6: Di | N6: Mi | O6: Do | P6: Fr | Q6: Sa | R6: So | S6: Mo | T6: Di | U6: Mi | V6: Do | W6: Fr | X6: Sa | Y6: So | Z6: Mo | AA6: Di | AB6: Mi | AC6: Do | AD6: Fr | AE6: Sa | AF6: So | AG6: Mo | AH6: Di | AI6: Mi | AJ6: Schich- ten | AK6: Stun- den | AL6: Näch- te | AM6: Soll (h) | AN6: Saldo (h)
E7: 1 | F7: 2 | G7: 3 | H7: 4 | I7: 5 | J7: 6 | K7: 7 | L7: 8 | M7: 9 | N7: 10 | O7: 11 | P7: 12 | Q7: 13 | R7: 14 | S7: 15 | T7: 16 | U7: 17 | V7: 18 | W7: 19 | X7: 20 | Y7: 21 | Z7: 22 | AA7: 23 | AB7: 24 | AC7: 25 | AD7: 26 | AE7: 27 | AF7: 28 | AG7: 29 | AH7: 30 | AI7: 31
B8: M-01 | C8: Jana Köhler | E8: F | J8: N | K8: N | L8: S | M8: S | N8: F | O8: F | T8: N | U8: N | V8: S | W8: S | X8: F | Y8: F | AB8: S | AD8: N | AE8: N | AF8: S | AG8: S | AH8: F | AI8: F | AJ8: =COUNTIF(E8:AI8,"F")+COUNTIF(E8:AI8,"S")+COUNTIF(E8:AI8,"N") -> 20 | AK8: =COUNTIF(E8:AI8,"F")*Stammdaten!$I$20+COUNTIF(E8:AI8,"S")*Stammdaten!$I$21+COUNTIF(E8:AI8,"N")*Stammdaten!$I$22 -> 150 | AL8: =COUNTIF(E8:AI8,"N") -> 6 | AM8: =Stammdaten!$F$6 -> 150 | AN8: =AK8-AM8 -> 0
B9: M-02 | C9: Oliver Reimann | E9: F | F9: F | K9: N | L9: N | M9: S | N9: S | O9: F | P9: F | U9: N | V9: N | W9: S | X9: S | Y9: F | Z9: F | AC9: S | AE9: N | AF9: N | AG9: S | AH9: S | AI9: F | AJ9: =COUNTIF(E9:AI9,"F")+COUNTIF(E9:AI9,"S")+COUNTIF(E9:AI9,"N") -> 20 | AK9: =COUNTIF(E9:AI9,"F")*Stammdaten!$I$20+COUNTIF(E9:AI9,"S")*Stammdaten!$I$21+COUNTIF(E9:AI9,"N")*Stammdaten!$I$22 -> 150 | AL9: =COUNTIF(E9:AI9,"N") -> 6 | AM9: =Stammdaten!$F$7 -> 150 | AN9: =AK9-AM9 -> 0
B10: M-03 | C10: Sibel Arslan | E10: S | F10: F | G10: F | L10: N | M10: U | N10: U | O10: U | P10: U | Q10: U | R10: U | S10: U | V10: N | W10: N | X10: S | Y10: S | Z10: F | AA10: F | AD10: F | AF10: N | AG10: N | AH10: S | AI10: S | AJ10: =COUNTIF(E10:AI10,"F")+COUNTIF(E10:AI10,"S")+COUNTIF(E10:AI10,"N") -> 15 | AK10: =COUNTIF(E10:AI10,"F")*Stammdaten!$I$20+COUNTIF(E10:AI10,"S")*Stammdaten!$I$21+COUNTIF(E10:AI10,"N")*Stammdaten!$I$22 -> 112.5 | AL10: =COUNTIF(E10:AI10,"N") -> 5 | AM10: =Stammdaten!$F$8 -> 138 | AN10: =AK10-AM10 -> -25.5
B11: M-04 | C11: Markus Pohl | E11: S | F11: S | G11: F | H11: F | M11: N | N11: N | O11: S | P11: S | Q11: F | R11: F | W11: N | X11: N | Y11: S | Z11: S | AA11: F | AB11: F | AG11: N | AH11: N | AI11: S | AJ11: =COUNTIF(E11:AI11,"F")+COUNTIF(E11:AI11,"S")+COUNTIF(E11:AI11,"N") -> 19 | AK11: =COUNTIF(E11:AI11,"F")*Stammdaten!$I$20+COUNTIF(E11:AI11,"S")*Stammdaten!$I$21+COUNTIF(E11:AI11,"N")*Stammdaten!$I$22 -> 142.5 | AL11: =COUNTIF(E11:AI11,"N") -> 6 | AM11: =Stammdaten!$F$9 -> 150 | AN11: =AK11-AM11 -> -7.5
B12: M-05 | C12: Nina Großmann | E12: N | F12: S | G12: S | H12: F | I12: F | M12: N | N12: N | O12: K | P12: S | Q12: S | R12: F | S12: F | X12: N | Y12: N | Z12: S | AA12: S | AB12: F | AC12: F | AH12: N | AI12: N | AJ12: =COUNTIF(E12:AI12,"F")+COUNTIF(E12:AI12,"S")+COUNTIF(E12:AI12,"N") -> 19 | AK12: =COUNTIF(E12:AI12,"F")*Stammdaten!$I$20+COUNTIF(E12:AI12,"S")*Stammdaten!$I$21+COUNTIF(E12:AI12,"N")*Stammdaten!$I$22 -> 142.5 | AL12: =COUNTIF(E12:AI12,"N") -> 7 | AM12: =Stammdaten!$F$10 -> 150 | AN12: =AK12-AM12 -> -7.5
B13: M-06 | C13: Dennis Walter | E13: N | F13: N | G13: S | H13: S | I13: F | J13: F | N13: S | O13: N | P13: N | Q13: S | R13: S | S13: F | T13: F | Y13: N | Z13: N | AA13: S | AB13: S | AC13: F | AD13: F | AI13: N | AJ13: =COUNTIF(E13:AI13,"F")+COUNTIF(E13:AI13,"S")+COUNTIF(E13:AI13,"N") -> 20 | AK13: =COUNTIF(E13:AI13,"F")*Stammdaten!$I$20+COUNTIF(E13:AI13,"S")*Stammdaten!$I$21+COUNTIF(E13:AI13,"N")*Stammdaten!$I$22 -> 150 | AL13: =COUNTIF(E13:AI13,"N") -> 7 | AM13: =Stammdaten!$F$11 -> 138 | AN13: =AK13-AM13 -> 12
B14: M-07 | C14: Katrin Ebert | F14: N | G14: N | H14: S | I14: S | J14: F | K14: F | O14: S | P14: N | Q14: N | R14: S | S14: S | T14: F | U14: F | X14: U | Y14: U | Z14: U | AA14: U | AB14: U | AC14: U | AD14: U | AE14: F | AJ14: =COUNTIF(E14:AI14,"F")+COUNTIF(E14:AI14,"S")+COUNTIF(E14:AI14,"N") -> 14 | AK14: =COUNTIF(E14:AI14,"F")*Stammdaten!$I$20+COUNTIF(E14:AI14,"S")*Stammdaten!$I$21+COUNTIF(E14:AI14,"N")*Stammdaten!$I$22 -> 105 | AL14: =COUNTIF(E14:AI14,"N") -> 4 | AM14: =Stammdaten!$F$12 -> 150 | AN14: =AK14-AM14 -> -45
B15: M-08 | C15: Ahmet Demir | G15: N | H15: N | I15: S | J15: S | K15: F | L15: F | P15: F | Q15: N | R15: N | S15: S | T15: S | U15: F | V15: F | AA15: N | AB15: N | AC15: S | AD15: S | AE15: F | AF15: F | AJ15: =COUNTIF(E15:AI15,"F")+COUNTIF(E15:AI15,"S")+COUNTIF(E15:AI15,"N") -> 19 | AK15: =COUNTIF(E15:AI15,"F")*Stammdaten!$I$20+COUNTIF(E15:AI15,"S")*Stammdaten!$I$21+COUNTIF(E15:AI15,"N")*Stammdaten!$I$22 -> 142.5 | AL15: =COUNTIF(E15:AI15,"N") -> 6 | AM15: =Stammdaten!$F$13 -> 150 | AN15: =AK15-AM15 -> -7.5
B16: M-09 | C16: Petra Sommer | H16: N | I16: N | J16: S | K16: S | L16: F | M16: F | Q16: F | R16: N | S16: N | T16: S | U16: S | V16: F | W16: F | Z16: N | AA16: K | AB16: N | AC16: N | AD16: S | AE16: S | AF16: F | AG16: F | AJ16: =COUNTIF(E16:AI16,"F")+COUNTIF(E16:AI16,"S")+COUNTIF(E16:AI16,"N") -> 20 | AK16: =COUNTIF(E16:AI16,"F")*Stammdaten!$I$20+COUNTIF(E16:AI16,"S")*Stammdaten!$I$21+COUNTIF(E16:AI16,"N")*Stammdaten!$I$22 -> 150 | AL16: =COUNTIF(E16:AI16,"N") -> 7 | AM16: =Stammdaten!$F$14 -> 142 | AN16: =AK16-AM16 -> 8
B17: M-10 | C17: Lars Thiel | I17: N | J17: N | K17: S | L17: S | M17: F | N17: F | S17: N | T17: N | U17: S | V17: S | W17: F | X17: F | AA17: N | AC17: N | AD17: N | AE17: S | AF17: S | AG17: F | AH17: F | AJ17: =COUNTIF(E17:AI17,"F")+COUNTIF(E17:AI17,"S")+COUNTIF(E17:AI17,"N") -> 19 | AK17: =COUNTIF(E17:AI17,"F")*Stammdaten!$I$20+COUNTIF(E17:AI17,"S")*Stammdaten!$I$21+COUNTIF(E17:AI17,"N")*Stammdaten!$I$22 -> 142.5 | AL17: =COUNTIF(E17:AI17,"N") -> 7 | AM17: =Stammdaten!$F$15 -> 150 | AN17: =AK17-AM17 -> -7.5
C19: Frühschicht (F) | E19: =COUNTIF(E8:E17,"F") -> 2 | F19: =COUNTIF(F8:F17,"F") -> 2 | G19: =COUNTIF(G8:G17,"F") -> 2 | H19: =COUNTIF(H8:H17,"F") -> 2 | I19: =COUNTIF(I8:I17,"F") -> 2 | J19: =COUNTIF(J8:J17,"F") -> 2 | K19: =COUNTIF(K8:K17,"F") -> 2 | L19: =COUNTIF(L8:L17,"F") -> 2 | ... AI19: =COUNTIF(AI8:AI17,"F") -> 2 | AJ19: =SUM(E19:AI19) -> 62
C20: Spätschicht (S) | E20: =COUNTIF(E8:E17,"S") -> 2 | F20: =COUNTIF(F8:F17,"S") -> 2 | G20: =COUNTIF(G8:G17,"S") -> 2 | H20: =COUNTIF(H8:H17,"S") -> 2 | I20: =COUNTIF(I8:I17,"S") -> 2 | J20: =COUNTIF(J8:J17,"S") -> 2 | K20: =COUNTIF(K8:K17,"S") -> 2 | L20: =COUNTIF(L8:L17,"S") -> 2 | ... AI20: =COUNTIF(AI8:AI17,"S") -> 2 | AJ20: =SUM(E20:AI20) -> 62
C21: Nachtschicht (N) | E21: =COUNTIF(E8:E17,"N") -> 2 | F21: =COUNTIF(F8:F17,"N") -> 2 | G21: =COUNTIF(G8:G17,"N") -> 2 | H21: =COUNTIF(H8:H17,"N") -> 2 | I21: =COUNTIF(I8:I17,"N") -> 2 | J21: =COUNTIF(J8:J17,"N") -> 2 | K21: =COUNTIF(K8:K17,"N") -> 2 | L21: =COUNTIF(L8:L17,"N") -> 2 | ... AI21: =COUNTIF(AI8:AI17,"N") -> 2 | AJ21: =SUM(E21:AI21) -> 61
C22: Urlaub (U) | E22: =COUNTIF(E8:E17,"U") -> 0 | F22: =COUNTIF(F8:F17,"U") -> 0 | G22: =COUNTIF(G8:G17,"U") -> 0 | H22: =COUNTIF(H8:H17,"U") -> 0 | I22: =COUNTIF(I8:I17,"U") -> 0 | J22: =COUNTIF(J8:J17,"U") -> 0 | K22: =COUNTIF(K8:K17,"U") -> 0 | L22: =COUNTIF(L8:L17,"U") -> 0 | ... AI22: =COUNTIF(AI8:AI17,"U") -> 0 | AJ22: =SUM(E22:AI22) -> 14
C23: Krank (K) | E23: =COUNTIF(E8:E17,"K") -> 0 | F23: =COUNTIF(F8:F17,"K") -> 0 | G23: =COUNTIF(G8:G17,"K") -> 0 | H23: =COUNTIF(H8:H17,"K") -> 0 | I23: =COUNTIF(I8:I17,"K") -> 0 | J23: =COUNTIF(J8:J17,"K") -> 0 | K23: =COUNTIF(K8:K17,"K") -> 0 | L23: =COUNTIF(L8:L17,"K") -> 0 | ... AI23: =COUNTIF(AI8:AI17,"K") -> 0 | AJ23: =SUM(E23:AI23) -> 2
C24: Unterbesetzung | E24: =IF(OR(E19<Stammdaten!$J$20,E20<Stammdaten!$J$21,E21<Stammdaten!$J$22),"!","") | F24: =IF(OR(F19<Stammdaten!$J$20,F20<Stammdaten!$J$21,F21<Stammdaten!$J$22),"!","") | G24: =IF(OR(G19<Stammdaten!$J$20,G20<Stammdaten!$J$21,G21<Stammdaten!$J$22),"!","") | H24: =IF(OR(H19<Stammdaten!$J$20,H20<Stammdaten!$J$21,H21<Stammdaten!$J$22),"!","") | I24: =IF(OR(I19<Stammdaten!$J$20,I20<Stammdaten!$J$21,I21<Stammdaten!$J$22),"!","") | J24: =IF(OR(J19<Stammdaten!$J$20,J20<Stammdaten!$J$21,J21<Stammdaten!$J$22),"!","") | K24: =IF(OR(K19<Stammdaten!$J$20,K20<Stammdaten!$J$21,K21<Stammdaten!$J$22),"!","") | L24: =IF(OR(L19<Stammdaten!$J$20,L20<Stammdaten!$J$21,L21<Stammdaten!$J$22),"!","") | ... AI24: =IF(OR(AI19<Stammdaten!$J$20,AI20<Stammdaten!$J$21,AI21<Stammdaten!$J$22),"!","")
C26: Legende: | E26: F Früh | J26: S Spät | O26: N Nacht | T26: U Urlaub | Y26: K Krank | AD26: FR Frei
C27: 06:00–14:00 · 14:00–22:00 · 22:00–06:00 | »!« = Besetzung unter Mindestvorgabe

Sheet Auswertung
B2: ANALYSE
B3: Auswertung
B4: Stunden, Schichten und Besetzung · März 2027
B6: Schichten gesamt | E6: Geplante Stunden | H6: Ø Stunden/MA
B7: =SUM(Schichtplan!AJ8:AJ17) -> 185 | E7: =SUM(Schichtplan!AK8:AK17) -> 1387.5 | H7: =IFERROR(E7/10,0) -> 138.75
B10: Nachtschichten | E10: Urlaubstage | H10: Tage mit Unterbesetzung
B11: =SUM(Schichtplan!AL8:AL17) -> 61 | E11: =SUMPRODUCT(--(Schichtplan!E8:AI17="U")) -> 14 | H11: =COUNTIF(Schichtplan!E24:AI24,"!") -> 1
B13: STUNDEN JE MITARBEITER
B15: Mitarbeiter | E15: Bereich | G15: Schichten | H15: Nächte | I15: Stunden | J15: Soll | K15: Saldo | N15: MA | O15: F | P15: S | Q15: N
B16: Jana Köhler | E16: Produktion A | G16: =Schichtplan!AJ8 -> 20 | H16: =Schichtplan!AL8 -> 6 | I16: =Schichtplan!AK8 -> 150 | J16: =Schichtplan!AM8 -> 150 | K16: =Schichtplan!AN8 -> 0 | N16: Jana Köhler | O16: =COUNTIF(Schichtplan!E8:AI8,"F") -> 7 | P16: =COUNTIF(Schichtplan!E8:AI8,"S") -> 7 | Q16: =COUNTIF(Schichtplan!E8:AI8,"N") -> 6
B17: Oliver Reimann | E17: Produktion A | G17: =Schichtplan!AJ9 -> 20 | H17: =Schichtplan!AL9 -> 6 | I17: =Schichtplan!AK9 -> 150 | J17: =Schichtplan!AM9 -> 150 | K17: =Schichtplan!AN9 -> 0 | N17: Oliver Reimann | O17: =COUNTIF(Schichtplan!E9:AI9,"F") -> 7 | P17: =COUNTIF(Schichtplan!E9:AI9,"S") -> 7 | Q17: =COUNTIF(Schichtplan!E9:AI9,"N") -> 6
B18: Sibel Arslan | E18: Produktion A | G18: =Schichtplan!AJ10 -> 15 | H18: =Schichtplan!AL10 -> 5 | I18: =Schichtplan!AK10 -> 112.5 | J18: =Schichtplan!AM10 -> 138 | K18: =Schichtplan!AN10 -> -25.5 | N18: Sibel Arslan | O18: =COUNTIF(Schichtplan!E10:AI10,"F") -> 5 | P18: =COUNTIF(Schichtplan!E10:AI10,"S") -> 5 | Q18: =COUNTIF(Schichtplan!E10:AI10,"N") -> 5
B19: Markus Pohl | E19: Produktion B | G19: =Schichtplan!AJ11 -> 19 | H19: =Schichtplan!AL11 -> 6 | I19: =Schichtplan!AK11 -> 142.5 | J19: =Schichtplan!AM11 -> 150 | K19: =Schichtplan!AN11 -> -7.5 | N19: Markus Pohl | O19: =COUNTIF(Schichtplan!E11:AI11,"F") -> 6 | P19: =COUNTIF(Schichtplan!E11:AI11,"S") -> 7 | Q19: =COUNTIF(Schichtplan!E11:AI11,"N") -> 6
B20: Nina Großmann | E20: Produktion B | G20: =Schichtplan!AJ12 -> 19 | H20: =Schichtplan!AL12 -> 7 | I20: =Schichtplan!AK12 -> 142.5 | J20: =Schichtplan!AM12 -> 150 | K20: =Schichtplan!AN12 -> -7.5 | N20: Nina Großmann | O20: =COUNTIF(Schichtplan!E12:AI12,"F") -> 6 | P20: =COUNTIF(Schichtplan!E12:AI12,"S") -> 6 | Q20: =COUNTIF(Schichtplan!E12:AI12,"N") -> 7
B21: Dennis Walter | E21: Produktion B | G21: =Schichtplan!AJ13 -> 20 | H21: =Schichtplan!AL13 -> 7 | I21: =Schichtplan!AK13 -> 150 | J21: =Schichtplan!AM13 -> 138 | K21: =Schichtplan!AN13 -> 12 | N21: Dennis Walter | O21: =COUNTIF(Schichtplan!E13:AI13,"F") -> 6 | P21: =COUNTIF(Schichtplan!E13:AI13,"S") -> 7 | Q21: =COUNTIF(Schichtplan!E13:AI13,"N") -> 7
B22: Katrin Ebert | E22: Logistik | G22: =Schichtplan!AJ14 -> 14 | H22: =Schichtplan!AL14 -> 4 | I22: =Schichtplan!AK14 -> 105 | J22: =Schichtplan!AM14 -> 150 | K22: =Schichtplan!AN14 -> -45 | N22: Katrin Ebert | O22: =COUNTIF(Schichtplan!E14:AI14,"F") -> 5 | P22: =COUNTIF(Schichtplan!E14:AI14,"S") -> 5 | Q22: =COUNTIF(Schichtplan!E14:AI14,"N") -> 4
B23: Ahmet Demir | E23: Logistik | G23: =Schichtplan!AJ15 -> 19 | H23: =Schichtplan!AL15 -> 6 | I23: =Schichtplan!AK15 -> 142.5 | J23: =Schichtplan!AM15 -> 150 | K23: =Schichtplan!AN15 -> -7.5 | N23: Ahmet Demir | O23: =COUNTIF(Schichtplan!E15:AI15,"F") -> 7 | P23: =COUNTIF(Schichtplan!E15:AI15,"S") -> 6 | Q23: =COUNTIF(Schichtplan!E15:AI15,"N") -> 6
B24: Petra Sommer | E24: Technik | G24: =Schichtplan!AJ16 -> 20 | H24: =Schichtplan!AL16 -> 7 | I24: =Schichtplan!AK16 -> 150 | J24: =Schichtplan!AM16 -> 142 | K24: =Schichtplan!AN16 -> 8 | N24: Petra Sommer | O24: =COUNTIF(Schichtplan!E16:AI16,"F") -> 7 | P24: =COUNTIF(Schichtplan!E16:AI16,"S") -> 6 | Q24: =COUNTIF(Schichtplan!E16:AI16,"N") -> 7
B25: Lars Thiel | E25: Technik | G25: =Schichtplan!AJ17 -> 19 | H25: =Schichtplan!AL17 -> 7 | I25: =Schichtplan!AK17 -> 142.5 | J25: =Schichtplan!AM17 -> 150 | K25: =Schichtplan!AN17 -> -7.5 | N25: Lars Thiel | O25: =COUNTIF(Schichtplan!E17:AI17,"F") -> 6 | P25: =COUNTIF(Schichtplan!E17:AI17,"S") -> 6 | Q25: =COUNTIF(Schichtplan!E17:AI17,"N") -> 7
B26: Gesamt | G26: =SUM(G16:G25) -> 185 | H26: =SUM(H16:H25) -> 61 | I26: =SUM(I16:I25) -> 1387.5 | J26: =SUM(J16:J25) -> 1468 | K26: =SUM(K16:K25) -> -80.5

Sheet Stammdaten
B2: KONFIGURATION
B3: Stammdaten
B4: Mitarbeiter, Schichtarten und Mindestbesetzung – Grundlage für Plan und Auswertung
B5: Nr. | C5: Mitarbeiter | E5: Bereich | F5: Soll-Std./Monat
B6: M-01 | C6: Jana Köhler | E6: Produktion A | F6: 150
B7: M-02 | C7: Oliver Reimann | E7: Produktion A | F7: 150
B8: M-03 | C8: Sibel Arslan | E8: Produktion A | F8: 138
B9: M-04 | C9: Markus Pohl | E9: Produktion B | F9: 150
B10: M-05 | C10: Nina Großmann | E10: Produktion B | F10: 150
B11: M-06 | C11: Dennis Walter | E11: Produktion B | F11: 138
B12: M-07 | C12: Katrin Ebert | E12: Logistik | F12: 150
B13: M-08 | C13: Ahmet Demir | E13: Logistik | F13: 150
B14: M-09 | C14: Petra Sommer | E14: Technik | F14: 142
B15: M-10 | C15: Lars Thiel | E15: Technik | F15: 150
C18: Schichtarten & Zeiten
B19: Code | C19: Bezeichnung | E19: Von | F19: Bis | G19: Pause | H19: Brutto | I19: Netto | J19: Mind.-Besetzung
B20: F | C20: Frühschicht | E20: 06:00 | F20: 14:00 | G20: 0.5 | H20: =MOD(TIMEVALUE(F20)-TIMEVALUE(E20),1)*24 -> 8 | I20: =H20-G20 -> 7.5 | J20: 2
B21: S | C21: Spätschicht | E21: 14:00 | F21: 22:00 | G21: 0.5 | H21: =MOD(TIMEVALUE(F21)-TIMEVALUE(E21),1)*24 -> 8 | I21: =H21-G21 -> 7.5 | J21: 2
B22: N | C22: Nachtschicht | E22: 22:00 | F22: 06:00 | G22: 0.5 | H22: =MOD(TIMEVALUE(F22)-TIMEVALUE(E22),1)*24 -> 8 | I22: =H22-G22 -> 7.5 | J22: 2
B23: U | C23: Urlaub
B24: K | C24: Krank
B25: FR | C25: Frei
C27: Netto-Std. = Brutto − Pause. Nachtschicht nutzt MOD() für den Tageswechsel. Blaue Felder sind Eingaben.

Sheet Anleitung
B2: HANDBUCH
B3: Anleitung
B4: So arbeiten Sie mit dem Schichtplan 2027
B7: 1 · Stammdaten festlegen
B8: Blatt »Stammdaten«: Mitarbeiter, Bereiche und Soll-Stunden pflegen sowie die Schichtzeiten (Früh/Spät/Nacht) und die Mindestbesetzung je Schicht. Netto-Stunden werden automatisch berechnet.
B10: 2 · Schichten eintragen
B11: Blatt »Schichtplan«: je Tag und Mitarbeiter ein Kürzel aus der Liste wählen – F (Früh), S (Spät), N (Nacht), U (Urlaub), K (Krank) oder FR (frei). Die Zellen färben sich automatisch nach Schichtart.
B13: 3 · Besetzung prüfen
B14: Am Fuß des Plans werden je Tag die Besetzung pro Schicht und eine »!«-Warnung bei Unterbesetzung angezeigt. Rote Felder liegen unter der Mindestvorgabe aus den Stammdaten.
B16: 4 · Stunden auswerten
B17: Rechts im Plan erscheinen je Mitarbeiter Schichten, Stunden, Nächte, Soll und Saldo. Das Blatt »Auswertung« fasst Kennzahlen, Stunden je Mitarbeiter und die Schichtverteilung grafisch zusammen.
B19: 5 · Monat anpassen
... B27: • Arbeitszeit-Hinweis (ArbZG): max. 10 h/Tag, mind. 11 h Ruhezeit zwischen zwei Schichten, Pausen ab 6 h. Bitte eigenverantwortlich prüfen.
