Workbook

Sheet Schichtplan
A1: SCHICHTPLAN - 3 Schichten
A2: Wochenplan · KW 1/2027 · 04.01.–10.01.2027 | Abteilung: Betrieb / Schichtteam
A4: Mitarbeiter | B4: Mo | C4: Di | D4: Mi | E4: Do | F4: Fr | G4: Sa | H4: So | I4: Schichten | J4: Stunden
B5: 46391 | C5: 46392 | D5: 46393 | E5: 46394 | F5: 46395 | G5: 46396 | H5: 46397
A6: Alvarez, Diego | B6: F | C6: F | D6: F | E6: F | F6: F | G6: FR | H6: FR | I6: =COUNTIF(B6:H6,"F")+COUNTIF(B6:H6,"S")+COUNTIF(B6:H6,"N") -> 5 | J6: =COUNTIF(B6:H6,"F")*'Legende & Einstellungen'!$C$5+COUNTIF(B6:H6,"S")*'Legende & Einstellungen'!$C$6+COUNTIF(B6:H6,"N")*'Legende & Einstellungen'!$C$7+COUNTIF(B6:H6,"U")*'Legende & Einstellungen'!$C$8+COUNTIF(B6:H6,"K")*'Legende & Einstellungen'!$C$9+COUNTIF(B6:H6,"FR")*'Legende & Einstellungen'!$C$10 -> 40
A7: Berg, Nina | B7: S | C7: S | D7: S | E7: S | F7: FR | G7: FR | H7: F | I7: =COUNTIF(B7:H7,"F")+COUNTIF(B7:H7,"S")+COUNTIF(B7:H7,"N") -> 5 | J7: =COUNTIF(B7:H7,"F")*'Legende & Einstellungen'!$C$5+COUNTIF(B7:H7,"S")*'Legende & Einstellungen'!$C$6+COUNTIF(B7:H7,"N")*'Legende & Einstellungen'!$C$7+COUNTIF(B7:H7,"U")*'Legende & Einstellungen'!$C$8+COUNTIF(B7:H7,"K")*'Legende & Einstellungen'!$C$9+COUNTIF(B7:H7,"FR")*'Legende & Einstellungen'!$C$10 -> 40
A8: Conti, Marco | B8: N | C8: N | D8: N | E8: FR | F8: FR | G8: N | H8: N | I8: =COUNTIF(B8:H8,"F")+COUNTIF(B8:H8,"S")+COUNTIF(B8:H8,"N") -> 5 | J8: =COUNTIF(B8:H8,"F")*'Legende & Einstellungen'!$C$5+COUNTIF(B8:H8,"S")*'Legende & Einstellungen'!$C$6+COUNTIF(B8:H8,"N")*'Legende & Einstellungen'!$C$7+COUNTIF(B8:H8,"U")*'Legende & Einstellungen'!$C$8+COUNTIF(B8:H8,"K")*'Legende & Einstellungen'!$C$9+COUNTIF(B8:H8,"FR")*'Legende & Einstellungen'!$C$10 -> 40
A9: Demir, Elif | B9: F | C9: F | D9: U | E9: U | F9: U | G9: FR | H9: FR | I9: =COUNTIF(B9:H9,"F")+COUNTIF(B9:H9,"S")+COUNTIF(B9:H9,"N") -> 2 | J9: =COUNTIF(B9:H9,"F")*'Legende & Einstellungen'!$C$5+COUNTIF(B9:H9,"S")*'Legende & Einstellungen'!$C$6+COUNTIF(B9:H9,"N")*'Legende & Einstellungen'!$C$7+COUNTIF(B9:H9,"U")*'Legende & Einstellungen'!$C$8+COUNTIF(B9:H9,"K")*'Legende & Einstellungen'!$C$9+COUNTIF(B9:H9,"FR")*'Legende & Einstellungen'!$C$10 -> 16
A10: Faber, Jonas | B10: S | C10: S | D10: S | E10: F | F10: F | G10: FR | H10: FR | I10: =COUNTIF(B10:H10,"F")+COUNTIF(B10:H10,"S")+COUNTIF(B10:H10,"N") -> 5 | J10: =COUNTIF(B10:H10,"F")*'Legende & Einstellungen'!$C$5+COUNTIF(B10:H10,"S")*'Legende & Einstellungen'!$C$6+COUNTIF(B10:H10,"N")*'Legende & Einstellungen'!$C$7+COUNTIF(B10:H10,"U")*'Legende & Einstellungen'!$C$8+COUNTIF(B10:H10,"K")*'Legende & Einstellungen'!$C$9+COUNTIF(B10:H10,"FR")*'Legende & Einstellungen'!$C$10 -> 40
A11: Groß, Hannah | B11: FR | C11: F | D11: F | E11: F | F11: S | G11: S | H11: FR | I11: =COUNTIF(B11:H11,"F")+COUNTIF(B11:H11,"S")+COUNTIF(B11:H11,"N") -> 5 | J11: =COUNTIF(B11:H11,"F")*'Legende & Einstellungen'!$C$5+COUNTIF(B11:H11,"S")*'Legende & Einstellungen'!$C$6+COUNTIF(B11:H11,"N")*'Legende & Einstellungen'!$C$7+COUNTIF(B11:H11,"U")*'Legende & Einstellungen'!$C$8+COUNTIF(B11:H11,"K")*'Legende & Einstellungen'!$C$9+COUNTIF(B11:H11,"FR")*'Legende & Einstellungen'!$C$10 -> 40
A12: Ivanov, Sergej | B12: N | C12: FR | D12: FR | E12: N | F12: N | G12: N | H12: FR | I12: =COUNTIF(B12:H12,"F")+COUNTIF(B12:H12,"S")+COUNTIF(B12:H12,"N") -> 4 | J12: =COUNTIF(B12:H12,"F")*'Legende & Einstellungen'!$C$5+COUNTIF(B12:H12,"S")*'Legende & Einstellungen'!$C$6+COUNTIF(B12:H12,"N")*'Legende & Einstellungen'!$C$7+COUNTIF(B12:H12,"U")*'Legende & Einstellungen'!$C$8+COUNTIF(B12:H12,"K")*'Legende & Einstellungen'!$C$9+COUNTIF(B12:H12,"FR")*'Legende & Einstellungen'!$C$10 -> 32
A13: Keller, Mara | B13: K | C13: K | D13: FR | E13: S | F13: S | G13: F | H13: F | I13: =COUNTIF(B13:H13,"F")+COUNTIF(B13:H13,"S")+COUNTIF(B13:H13,"N") -> 4 | J13: =COUNTIF(B13:H13,"F")*'Legende & Einstellungen'!$C$5+COUNTIF(B13:H13,"S")*'Legende & Einstellungen'!$C$6+COUNTIF(B13:H13,"N")*'Legende & Einstellungen'!$C$7+COUNTIF(B13:H13,"U")*'Legende & Einstellungen'!$C$8+COUNTIF(B13:H13,"K")*'Legende & Einstellungen'!$C$9+COUNTIF(B13:H13,"FR")*'Legende & Einstellungen'!$C$10 -> 32
A14: Lindqvist, Ola | B14: FR | C14: FR | D14: S | E14: S | F14: S | G14: F | H14: F | I14: =COUNTIF(B14:H14,"F")+COUNTIF(B14:H14,"S")+COUNTIF(B14:H14,"N") -> 5 | J14: =COUNTIF(B14:H14,"F")*'Legende & Einstellungen'!$C$5+COUNTIF(B14:H14,"S")*'Legende & Einstellungen'!$C$6+COUNTIF(B14:H14,"N")*'Legende & Einstellungen'!$C$7+COUNTIF(B14:H14,"U")*'Legende & Einstellungen'!$C$8+COUNTIF(B14:H14,"K")*'Legende & Einstellungen'!$C$9+COUNTIF(B14:H14,"FR")*'Legende & Einstellungen'!$C$10 -> 40
A15: Novak, Petra | B15: F | C15: S | D15: FR | E15: FR | F15: F | G15: N | H15: N | I15: =COUNTIF(B15:H15,"F")+COUNTIF(B15:H15,"S")+COUNTIF(B15:H15,"N") -> 5 | J15: =COUNTIF(B15:H15,"F")*'Legende & Einstellungen'!$C$5+COUNTIF(B15:H15,"S")*'Legende & Einstellungen'!$C$6+COUNTIF(B15:H15,"N")*'Legende & Einstellungen'!$C$7+COUNTIF(B15:H15,"U")*'Legende & Einstellungen'!$C$8+COUNTIF(B15:H15,"K")*'Legende & Einstellungen'!$C$9+COUNTIF(B15:H15,"FR")*'Legende & Einstellungen'!$C$10 -> 40
A17: Besetzung / Tag | B17: Mo | C17: Di | D17: Mi | E17: Do | F17: Fr | G17: Sa | H17: So
A18: Früh (F) | B18: =COUNTIF(B6:B15,"F") -> 3 | C18: =COUNTIF(C6:C15,"F") -> 3 | D18: =COUNTIF(D6:D15,"F") -> 2 | E18: =COUNTIF(E6:E15,"F") -> 3 | F18: =COUNTIF(F6:F15,"F") -> 3 | G18: =COUNTIF(G6:G15,"F") -> 2 | H18: =COUNTIF(H6:H15,"F") -> 3 | I18: =SUM(B18:H18) -> 19
A19: Spät (S) | B19: =COUNTIF(B6:B15,"S") -> 2 | C19: =COUNTIF(C6:C15,"S") -> 3 | D19: =COUNTIF(D6:D15,"S") -> 3 | E19: =COUNTIF(E6:E15,"S") -> 3 | F19: =COUNTIF(F6:F15,"S") -> 3 | G19: =COUNTIF(G6:G15,"S") -> 1 | H19: =COUNTIF(H6:H15,"S") -> 0 | I19: =SUM(B19:H19) -> 15
A20: Nacht (N) | B20: =COUNTIF(B6:B15,"N") -> 2 | C20: =COUNTIF(C6:C15,"N") -> 1 | D20: =COUNTIF(D6:D15,"N") -> 1 | E20: =COUNTIF(E6:E15,"N") -> 1 | F20: =COUNTIF(F6:F15,"N") -> 1 | G20: =COUNTIF(G6:G15,"N") -> 3 | H20: =COUNTIF(H6:H15,"N") -> 2 | I20: =SUM(B20:H20) -> 11
A21: Abwesend (U/K) | B21: =COUNTIF(B6:B15,"U")+COUNTIF(B6:B15,"K") -> 1 | C21: =COUNTIF(C6:C15,"U")+COUNTIF(C6:C15,"K") -> 1 | D21: =COUNTIF(D6:D15,"U")+COUNTIF(D6:D15,"K") -> 1 | E21: =COUNTIF(E6:E15,"U")+COUNTIF(E6:E15,"K") -> 1 | F21: =COUNTIF(F6:F15,"U")+COUNTIF(F6:F15,"K") -> 1 | G21: =COUNTIF(G6:G15,"U")+COUNTIF(G6:G15,"K") -> 0 | H21: =COUNTIF(H6:H15,"U")+COUNTIF(H6:H15,"K") -> 0 | I21: =SUM(B21:H21) -> 5
A23: Summe Schichten / Stunden (Team) | I23: =SUM(I6:I15) -> 45 | J23: =SUM(J6:J15) -> 360
A25: Legende: | B25: F = Frühschicht | E25: S = Spätschicht | H25: N = Nachtschicht
B26: U = Urlaub | E26: K = Krank | H26: FR = Frei
A28: Generische Beispielvorlage mit fiktiven Daten. In die Tageszellen nur die Codes eintragen (Auswahlliste); Schichten, Stunden und Besetzung berechnen sich automatisch.

Sheet Legende & Einstellungen
A1: LEGENDE & EINSTELLUNGEN
A2: Schicht-Codes, Farben und Stundenwerte. Die Stunden je Schicht steuern die Berechnung im Schichtplan.
A4: Code | B4: Bezeichnung | C4: Stunden | D4: zählt als Arbeitszeit | F4: WOCHE / HINWEISE
A5: F | B5: Frühschicht | C5: 8 | D5: Ja | F5: Soll-Stunden / Woche: | G5: 40
A6: S | B6: Spätschicht | C6: 8 | D6: Ja | F6: Max. Schichten / Woche: | G6: 5
A7: N | B7: Nachtschicht | C7: 8 | D7: Ja
A8: U | B8: Urlaub | C8: 0 | D8: Nein | F8: Gelbe Zellen sind editierbar. Ändern Sie die Stunden je Schicht links, um die Stundenberechnung im Schichtplan anzupassen.
A9: K | B9: Krank | C9: 0 | D9: Nein
A10: FR | B10: Frei | C10: 0 | D10: Nein
