Workbook

Sheet Ressourcenstamm
B2: RESSOURCENSTAMM · Planungsjahr 2027
B4: Mitarbeiterdaten · Kapazitätskennzahlen · Stundensätze
B5: Nr. | C5: Name | D5: Rolle | E5: Abteilung | F5: Brutto h/Woche | G5: Ausfall-% | H5: Admin-% | I5: Netto-Kap. h/Woche | J5: Netto-Kap. h/Jahr | K5: Stundensatz (€) | L5: Status
B6: 1 | C6: Lisa Bergmann | D6: Projektleiterin | E6: Projektmgmt. | F6: 40 | G6: 0.1 | H6: 0.2 | I6: =F6*(1-G6)*(1-H6) -> 28.8 | J6: =I6*48 -> 1382.4 | K6: 95 | L6: =IF(F6>=40,"✅ Vollzeit",IF(F6>=30,"🕐 Teilzeit","⚠️ Prüfen")) -> ✅ Vollzeit
B7: 2 | C7: Markus Stein | D7: Senior-Entwickler | E7: Entwicklung | F7: 40 | G7: 0.08 | H7: 0.1 | I7: =F7*(1-G7)*(1-H7) -> 33.12 | J7: =I7*48 -> 1589.76 | K7: 90 | L7: =IF(F7>=40,"✅ Vollzeit",IF(F7>=30,"🕐 Teilzeit","⚠️ Prüfen")) -> ✅ Vollzeit
B8: 3 | C8: Jana Voigt | D8: UX-Designerin | E8: Design | F8: 38 | G8: 0.12 | H8: 0.12 | I8: =F8*(1-G8)*(1-H8) -> 29.4272 | J8: =I8*48 -> 1412.5056 | K8: 85 | L8: =IF(F8>=40,"✅ Vollzeit",IF(F8>=30,"🕐 Teilzeit","⚠️ Prüfen")) -> 🕐 Teilzeit
B9: 4 | C9: Thomas Kühn | D9: Backend-Entwickler | E9: Entwicklung | F9: 40 | G9: 0.08 | H9: 0.1 | I9: =F9*(1-G9)*(1-H9) -> 33.12 | J9: =I9*48 -> 1589.76 | K9: 88 | L9: =IF(F9>=40,"✅ Vollzeit",IF(F9>=30,"🕐 Teilzeit","⚠️ Prüfen")) -> ✅ Vollzeit
B10: 5 | C10: Sandra Wolff | D10: QA-Ingenieurin | E10: Qualität | F10: 40 | G10: 0.1 | H10: 0.12 | I10: =F10*(1-G10)*(1-H10) -> 31.68 | J10: =I10*48 -> 1520.64 | K10: 82 | L10: =IF(F10>=40,"✅ Vollzeit",IF(F10>=30,"🕐 Teilzeit","⚠️ Prüfen")) -> ✅ Vollzeit
B11: 6 | C11: Andreas Roth | D11: DevOps-Ingenieur | E11: Infrastruktur | F11: 40 | G11: 0.08 | H11: 0.1 | I11: =F11*(1-G11)*(1-H11) -> 33.12 | J11: =I11*48 -> 1589.76 | K11: 87 | L11: =IF(F11>=40,"✅ Vollzeit",IF(F11>=30,"🕐 Teilzeit","⚠️ Prüfen")) -> ✅ Vollzeit
B12: 7 | C12: Petra Schön | D12: Frontend-Entwicklerin | E12: Entwicklung | F12: 38 | G12: 0.1 | H12: 0.1 | I12: =F12*(1-G12)*(1-H12) -> 30.78 | J12: =I12*48 -> 1477.44 | K12: 85 | L12: =IF(F12>=40,"✅ Vollzeit",IF(F12>=30,"🕐 Teilzeit","⚠️ Prüfen")) -> 🕐 Teilzeit
B13: 8 | C13: Kai Bauer | D13: Scrum Master | E13: Projektmgmt. | F13: 40 | G13: 0.1 | H13: 0.35 | I13: =F13*(1-G13)*(1-H13) -> 23.4 | J13: =I13*48 -> 1123.2 | K13: 80 | L13: =IF(F13>=40,"✅ Vollzeit",IF(F13>=30,"🕐 Teilzeit","⚠️ Prüfen")) -> ✅ Vollzeit
B14: 9 | C14: Elena Braun | D14: Datenanalystin | E14: Analytics | F14: 40 | G14: 0.08 | H14: 0.15 | I14: =F14*(1-G14)*(1-H14) -> 31.28 | J14: =I14*48 -> 1501.44 | K14: 86 | L14: =IF(F14>=40,"✅ Vollzeit",IF(F14>=30,"🕐 Teilzeit","⚠️ Prüfen")) -> ✅ Vollzeit
B15: 10 | C15: Felix Werner | D15: Technischer Autor | E15: Dokumentation | F15: 38 | G15: 0.12 | H15: 0.18 | I15: =F15*(1-G15)*(1-H15) -> 27.4208 | J15: =I15*48 -> 1316.1984 | K15: 75 | L15: =IF(F15>=40,"✅ Vollzeit",IF(F15>=30,"🕐 Teilzeit","⚠️ Prüfen")) -> 🕐 Teilzeit
B16: TEAM GESAMT (10 Mitarbeiter) | F16: =SUM(F6:F15) -> 394 | I16: =SUM(I6:I15) -> 302.148 | J16: =SUM(J6:J15) -> 14503.104
B18: ⓘ Netto-Kapazität = Brutto-Stunden × (1 − Ausfall-%) × (1 − Admin-%) | Jahreskapazität = Netto-Kap./W × 48 verfügbare Wochen

Sheet Kapazitätsmatrix 2027
B2: KAPAZITÄTSMATRIX · Planungsjahr 2027
B4: Arbeitsstunden je Monat 2027 (anpassbar): | D4: 160 | E4: 160 | F4: 168 | G4: 168 | H4: 152 | I4: 176 | J4: 176 | K4: 176 | L4: 176 | M4: 168 | N4: 168 | O4: 168 | P4: =SUM(D4:O4) -> 2016
B5: Ressource · Rolle | D5: Jan | E5: Feb | F5: Mär | G5: Apr | H5: Mai | I5: Jun | J5: Jul | K5: Aug | L5: Sep | M5: Okt | N5: Nov | O5: Dez | P5: GESAMT
B6: ▶ GEPLANTE STUNDEN (h) — aus Projektzuordnung
B7: Lisa Bergmann | D7: =IFERROR(SUMPRODUCT((Projektzuordnung!$E$6:$E$115=B7)*(Projektzuordnung!$G$6:$G$115=1),Projektzuordnung!$H$6:$H$115),"") -> 0 | E7: =IFERROR(SUMPRODUCT((Projektzuordnung!$E$6:$E$115=B7)*(Projektzuordnung!$G$6:$G$115=2),Projektzuordnung!$H$6:$H$115),"") -> 0 | F7: =IFERROR(SUMPRODUCT((Projektzuordnung!$E$6:$E$115=B7)*(Projektzuordnung!$G$6:$G$115=3),Projektzuordnung!$H$6:$H$115),"") -> 0 | G7: =IFERROR(SUMPRODUCT((Projektzuordnung!$E$6:$E$115=B7)*(Projektzuordnung!$G$6:$G$115=4),Projektzuordnung!$H$6:$H$115),"") -> 0 | H7: =IFERROR(SUMPRODUCT((Projektzuordnung!$E$6:$E$115=B7)*(Projektzuordnung!$G$6:$G$115=5),Projektzuordnung!$H$6:$H$115),"") -> 0 | I7: =IFERROR(SUMPRODUCT((Projektzuordnung!$E$6:$E$115=B7)*(Projektzuordnung!$G$6:$G$115=6),Projektzuordnung!$H$6:$H$115),"") -> 0 | J7: =IFERROR(SUMPRODUCT((Projektzuordnung!$E$6:$E$115=B7)*(Projektzuordnung!$G$6:$G$115=7),Projektzuordnung!$H$6:$H$115),"") -> 0 | K7: =IFERROR(SUMPRODUCT((Projektzuordnung!$E$6:$E$115=B7)*(Projektzuordnung!$G$6:$G$115=8),Projektzuordnung!$H$6:$H$115),"") -> 0 | L7: =IFERROR(SUMPRODUCT((Projektzuordnung!$E$6:$E$115=B7)*(Projektzuordnung!$G$6:$G$115=9),Projektzuordnung!$H$6:$H$115),"") -> 0 | M7: =IFERROR(SUMPRODUCT((Projektzuordnung!$E$6:$E$115=B7)*(Projektzuordnung!$G$6:$G$115=10),Projektzuordnung!$H$6:$H$115),"") -> 0 | N7: =IFERROR(SUMPRODUCT((Projektzuordnung!$E$6:$E$115=B7)*(Projektzuordnung!$G$6:$G$115=11),Projektzuordnung!$H$6:$H$115),"") -> 0 | O7: =IFERROR(SUMPRODUCT((Projektzuordnung!$E$6:$E$115=B7)*(Projektzuordnung!$G$6:$G$115=12),Projektzuordnung!$H$6:$H$115),"") -> 0 | P7: =IFERROR(SUM(D7:O7),"") -> 0
B8: Markus Stein | D8: =IFERROR(SUMPRODUCT((Projektzuordnung!$E$6:$E$115=B8)*(Projektzuordnung!$G$6:$G$115=1),Projektzuordnung!$H$6:$H$115),"") -> 0 | E8: =IFERROR(SUMPRODUCT((Projektzuordnung!$E$6:$E$115=B8)*(Projektzuordnung!$G$6:$G$115=2),Projektzuordnung!$H$6:$H$115),"") -> 0 | F8: =IFERROR(SUMPRODUCT((Projektzuordnung!$E$6:$E$115=B8)*(Projektzuordnung!$G$6:$G$115=3),Projektzuordnung!$H$6:$H$115),"") -> 0 | G8: =IFERROR(SUMPRODUCT((Projektzuordnung!$E$6:$E$115=B8)*(Projektzuordnung!$G$6:$G$115=4),Projektzuordnung!$H$6:$H$115),"") -> 0 | H8: =IFERROR(SUMPRODUCT((Projektzuordnung!$E$6:$E$115=B8)*(Projektzuordnung!$G$6:$G$115=5),Projektzuordnung!$H$6:$H$115),"") -> 0 | I8: =IFERROR(SUMPRODUCT((Projektzuordnung!$E$6:$E$115=B8)*(Projektzuordnung!$G$6:$G$115=6),Projektzuordnung!$H$6:$H$115),"") -> 0 | J8: =IFERROR(SUMPRODUCT((Projektzuordnung!$E$6:$E$115=B8)*(Projektzuordnung!$G$6:$G$115=7),Projektzuordnung!$H$6:$H$115),"") -> 0 | K8: =IFERROR(SUMPRODUCT((Projektzuordnung!$E$6:$E$115=B8)*(Projektzuordnung!$G$6:$G$115=8),Projektzuordnung!$H$6:$H$115),"") -> 0 | L8: =IFERROR(SUMPRODUCT((Projektzuordnung!$E$6:$E$115=B8)*(Projektzuordnung!$G$6:$G$115=9),Projektzuordnung!$H$6:$H$115),"") -> 0 | M8: =IFERROR(SUMPRODUCT((Projektzuordnung!$E$6:$E$115=B8)*(Projektzuordnung!$G$6:$G$115=10),Projektzuordnung!$H$6:$H$115),"") -> 0 | N8: =IFERROR(SUMPRODUCT((Projektzuordnung!$E$6:$E$115=B8)*(Projektzuordnung!$G$6:$G$115=11),Projektzuordnung!$H$6:$H$115),"") -> 0 | O8: =IFERROR(SUMPRODUCT((Projektzuordnung!$E$6:$E$115=B8)*(Projektzuordnung!$G$6:$G$115=12),Projektzuordnung!$H$6:$H$115),"") -> 0 | P8: =IFERROR(SUM(D8:O8),"") -> 0
B9: Jana Voigt | D9: =IFERROR(SUMPRODUCT((Projektzuordnung!$E$6:$E$115=B9)*(Projektzuordnung!$G$6:$G$115=1),Projektzuordnung!$H$6:$H$115),"") -> 0 | E9: =IFERROR(SUMPRODUCT((Projektzuordnung!$E$6:$E$115=B9)*(Projektzuordnung!$G$6:$G$115=2),Projektzuordnung!$H$6:$H$115),"") -> 0 | F9: =IFERROR(SUMPRODUCT((Projektzuordnung!$E$6:$E$115=B9)*(Projektzuordnung!$G$6:$G$115=3),Projektzuordnung!$H$6:$H$115),"") -> 0 | G9: =IFERROR(SUMPRODUCT((Projektzuordnung!$E$6:$E$115=B9)*(Projektzuordnung!$G$6:$G$115=4),Projektzuordnung!$H$6:$H$115),"") -> 0 | H9: =IFERROR(SUMPRODUCT((Projektzuordnung!$E$6:$E$115=B9)*(Projektzuordnung!$G$6:$G$115=5),Projektzuordnung!$H$6:$H$115),"") -> 0 | I9: =IFERROR(SUMPRODUCT((Projektzuordnung!$E$6:$E$115=B9)*(Projektzuordnung!$G$6:$G$115=6),Projektzuordnung!$H$6:$H$115),"") -> 0 | J9: =IFERROR(SUMPRODUCT((Projektzuordnung!$E$6:$E$115=B9)*(Projektzuordnung!$G$6:$G$115=7),Projektzuordnung!$H$6:$H$115),"") -> 0 | K9: =IFERROR(SUMPRODUCT((Projektzuordnung!$E$6:$E$115=B9)*(Projektzuordnung!$G$6:$G$115=8),Projektzuordnung!$H$6:$H$115),"") -> 0 | L9: =IFERROR(SUMPRODUCT((Projektzuordnung!$E$6:$E$115=B9)*(Projektzuordnung!$G$6:$G$115=9),Projektzuordnung!$H$6:$H$115),"") -> 0 | M9: =IFERROR(SUMPRODUCT((Projektzuordnung!$E$6:$E$115=B9)*(Projektzuordnung!$G$6:$G$115=10),Projektzuordnung!$H$6:$H$115),"") -> 0 | N9: =IFERROR(SUMPRODUCT((Projektzuordnung!$E$6:$E$115=B9)*(Projektzuordnung!$G$6:$G$115=11),Projektzuordnung!$H$6:$H$115),"") -> 0 | O9: =IFERROR(SUMPRODUCT((Projektzuordnung!$E$6:$E$115=B9)*(Projektzuordnung!$G$6:$G$115=12),Projektzuordnung!$H$6:$H$115),"") -> 0 | P9: =IFERROR(SUM(D9:O9),"") -> 0
B10: Thomas Kühn | D10: =IFERROR(SUMPRODUCT((Projektzuordnung!$E$6:$E$115=B10)*(Projektzuordnung!$G$6:$G$115=1),Projektzuordnung!$H$6:$H$115),"") -> 0 | E10: =IFERROR(SUMPRODUCT((Projektzuordnung!$E$6:$E$115=B10)*(Projektzuordnung!$G$6:$G$115=2),Projektzuordnung!$H$6:$H$115),"") -> 0 | F10: =IFERROR(SUMPRODUCT((Projektzuordnung!$E$6:$E$115=B10)*(Projektzuordnung!$G$6:$G$115=3),Projektzuordnung!$H$6:$H$115),"") -> 0 | G10: =IFERROR(SUMPRODUCT((Projektzuordnung!$E$6:$E$115=B10)*(Projektzuordnung!$G$6:$G$115=4),Projektzuordnung!$H$6:$H$115),"") -> 0 | H10: =IFERROR(SUMPRODUCT((Projektzuordnung!$E$6:$E$115=B10)*(Projektzuordnung!$G$6:$G$115=5),Projektzuordnung!$H$6:$H$115),"") -> 0 | I10: =IFERROR(SUMPRODUCT((Projektzuordnung!$E$6:$E$115=B10)*(Projektzuordnung!$G$6:$G$115=6),Projektzuordnung!$H$6:$H$115),"") -> 0 | J10: =IFERROR(SUMPRODUCT((Projektzuordnung!$E$6:$E$115=B10)*(Projektzuordnung!$G$6:$G$115=7),Projektzuordnung!$H$6:$H$115),"") -> 0 | K10: =IFERROR(SUMPRODUCT((Projektzuordnung!$E$6:$E$115=B10)*(Projektzuordnung!$G$6:$G$115=8),Projektzuordnung!$H$6:$H$115),"") -> 0 | L10: =IFERROR(SUMPRODUCT((Projektzuordnung!$E$6:$E$115=B10)*(Projektzuordnung!$G$6:$G$115=9),Projektzuordnung!$H$6:$H$115),"") -> 0 | M10: =IFERROR(SUMPRODUCT((Projektzuordnung!$E$6:$E$115=B10)*(Projektzuordnung!$G$6:$G$115=10),Projektzuordnung!$H$6:$H$115),"") -> 0 | N10: =IFERROR(SUMPRODUCT((Projektzuordnung!$E$6:$E$115=B10)*(Projektzuordnung!$G$6:$G$115=11),Projektzuordnung!$H$6:$H$115),"") -> 0 | O10: =IFERROR(SUMPRODUCT((Projektzuordnung!$E$6:$E$115=B10)*(Projektzuordnung!$G$6:$G$115=12),Projektzuordnung!$H$6:$H$115),"") -> 0 | P10: =IFERROR(SUM(D10:O10),"") -> 0
B11: Sandra Wolff | D11: =IFERROR(SUMPRODUCT((Projektzuordnung!$E$6:$E$115=B11)*(Projektzuordnung!$G$6:$G$115=1),Projektzuordnung!$H$6:$H$115),"") -> 0 | E11: =IFERROR(SUMPRODUCT((Projektzuordnung!$E$6:$E$115=B11)*(Projektzuordnung!$G$6:$G$115=2),Projektzuordnung!$H$6:$H$115),"") -> 0 | F11: =IFERROR(SUMPRODUCT((Projektzuordnung!$E$6:$E$115=B11)*(Projektzuordnung!$G$6:$G$115=3),Projektzuordnung!$H$6:$H$115),"") -> 0 | G11: =IFERROR(SUMPRODUCT((Projektzuordnung!$E$6:$E$115=B11)*(Projektzuordnung!$G$6:$G$115=4),Projektzuordnung!$H$6:$H$115),"") -> 0 | H11: =IFERROR(SUMPRODUCT((Projektzuordnung!$E$6:$E$115=B11)*(Projektzuordnung!$G$6:$G$115=5),Projektzuordnung!$H$6:$H$115),"") -> 0 | I11: =IFERROR(SUMPRODUCT((Projektzuordnung!$E$6:$E$115=B11)*(Projektzuordnung!$G$6:$G$115=6),Projektzuordnung!$H$6:$H$115),"") -> 0 | J11: =IFERROR(SUMPRODUCT((Projektzuordnung!$E$6:$E$115=B11)*(Projektzuordnung!$G$6:$G$115=7),Projektzuordnung!$H$6:$H$115),"") -> 0 | K11: =IFERROR(SUMPRODUCT((Projektzuordnung!$E$6:$E$115=B11)*(Projektzuordnung!$G$6:$G$115=8),Projektzuordnung!$H$6:$H$115),"") -> 0 | L11: =IFERROR(SUMPRODUCT((Projektzuordnung!$E$6:$E$115=B11)*(Projektzuordnung!$G$6:$G$115=9),Projektzuordnung!$H$6:$H$115),"") -> 0 | M11: =IFERROR(SUMPRODUCT((Projektzuordnung!$E$6:$E$115=B11)*(Projektzuordnung!$G$6:$G$115=10),Projektzuordnung!$H$6:$H$115),"") -> 0 | N11: =IFERROR(SUMPRODUCT((Projektzuordnung!$E$6:$E$115=B11)*(Projektzuordnung!$G$6:$G$115=11),Projektzuordnung!$H$6:$H$115),"") -> 0 | O11: =IFERROR(SUMPRODUCT((Projektzuordnung!$E$6:$E$115=B11)*(Projektzuordnung!$G$6:$G$115=12),Projektzuordnung!$H$6:$H$115),"") -> 0 | P11: =IFERROR(SUM(D11:O11),"") -> 0
B12: Andreas Roth | D12: =IFERROR(SUMPRODUCT((Projektzuordnung!$E$6:$E$115=B12)*(Projektzuordnung!$G$6:$G$115=1),Projektzuordnung!$H$6:$H$115),"") -> 0 | E12: =IFERROR(SUMPRODUCT((Projektzuordnung!$E$6:$E$115=B12)*(Projektzuordnung!$G$6:$G$115=2),Projektzuordnung!$H$6:$H$115),"") -> 0 | F12: =IFERROR(SUMPRODUCT((Projektzuordnung!$E$6:$E$115=B12)*(Projektzuordnung!$G$6:$G$115=3),Projektzuordnung!$H$6:$H$115),"") -> 0 | G12: =IFERROR(SUMPRODUCT((Projektzuordnung!$E$6:$E$115=B12)*(Projektzuordnung!$G$6:$G$115=4),Projektzuordnung!$H$6:$H$115),"") -> 0 | H12: =IFERROR(SUMPRODUCT((Projektzuordnung!$E$6:$E$115=B12)*(Projektzuordnung!$G$6:$G$115=5),Projektzuordnung!$H$6:$H$115),"") -> 0 | I12: =IFERROR(SUMPRODUCT((Projektzuordnung!$E$6:$E$115=B12)*(Projektzuordnung!$G$6:$G$115=6),Projektzuordnung!$H$6:$H$115),"") -> 0 | J12: =IFERROR(SUMPRODUCT((Projektzuordnung!$E$6:$E$115=B12)*(Projektzuordnung!$G$6:$G$115=7),Projektzuordnung!$H$6:$H$115),"") -> 0 | K12: =IFERROR(SUMPRODUCT((Projektzuordnung!$E$6:$E$115=B12)*(Projektzuordnung!$G$6:$G$115=8),Projektzuordnung!$H$6:$H$115),"") -> 0 | L12: =IFERROR(SUMPRODUCT((Projektzuordnung!$E$6:$E$115=B12)*(Projektzuordnung!$G$6:$G$115=9),Projektzuordnung!$H$6:$H$115),"") -> 0 | M12: =IFERROR(SUMPRODUCT((Projektzuordnung!$E$6:$E$115=B12)*(Projektzuordnung!$G$6:$G$115=10),Projektzuordnung!$H$6:$H$115),"") -> 0 | N12: =IFERROR(SUMPRODUCT((Projektzuordnung!$E$6:$E$115=B12)*(Projektzuordnung!$G$6:$G$115=11),Projektzuordnung!$H$6:$H$115),"") -> 0 | O12: =IFERROR(SUMPRODUCT((Projektzuordnung!$E$6:$E$115=B12)*(Projektzuordnung!$G$6:$G$115=12),Projektzuordnung!$H$6:$H$115),"") -> 0 | P12: =IFERROR(SUM(D12:O12),"") -> 0
B13: Petra Schön | D13: =IFERROR(SUMPRODUCT((Projektzuordnung!$E$6:$E$115=B13)*(Projektzuordnung!$G$6:$G$115=1),Projektzuordnung!$H$6:$H$115),"") -> 0 | E13: =IFERROR(SUMPRODUCT((Projektzuordnung!$E$6:$E$115=B13)*(Projektzuordnung!$G$6:$G$115=2),Projektzuordnung!$H$6:$H$115),"") -> 0 | F13: =IFERROR(SUMPRODUCT((Projektzuordnung!$E$6:$E$115=B13)*(Projektzuordnung!$G$6:$G$115=3),Projektzuordnung!$H$6:$H$115),"") -> 0 | G13: =IFERROR(SUMPRODUCT((Projektzuordnung!$E$6:$E$115=B13)*(Projektzuordnung!$G$6:$G$115=4),Projektzuordnung!$H$6:$H$115),"") -> 0 | H13: =IFERROR(SUMPRODUCT((Projektzuordnung!$E$6:$E$115=B13)*(Projektzuordnung!$G$6:$G$115=5),Projektzuordnung!$H$6:$H$115),"") -> 0 | I13: =IFERROR(SUMPRODUCT((Projektzuordnung!$E$6:$E$115=B13)*(Projektzuordnung!$G$6:$G$115=6),Projektzuordnung!$H$6:$H$115),"") -> 0 | J13: =IFERROR(SUMPRODUCT((Projektzuordnung!$E$6:$E$115=B13)*(Projektzuordnung!$G$6:$G$115=7),Projektzuordnung!$H$6:$H$115),"") -> 0 | K13: =IFERROR(SUMPRODUCT((Projektzuordnung!$E$6:$E$115=B13)*(Projektzuordnung!$G$6:$G$115=8),Projektzuordnung!$H$6:$H$115),"") -> 0 | L13: =IFERROR(SUMPRODUCT((Projektzuordnung!$E$6:$E$115=B13)*(Projektzuordnung!$G$6:$G$115=9),Projektzuordnung!$H$6:$H$115),"") -> 0 | M13: =IFERROR(SUMPRODUCT((Projektzuordnung!$E$6:$E$115=B13)*(Projektzuordnung!$G$6:$G$115=10),Projektzuordnung!$H$6:$H$115),"") -> 0 | N13: =IFERROR(SUMPRODUCT((Projektzuordnung!$E$6:$E$115=B13)*(Projektzuordnung!$G$6:$G$115=11),Projektzuordnung!$H$6:$H$115),"") -> 0 | O13: =IFERROR(SUMPRODUCT((Projektzuordnung!$E$6:$E$115=B13)*(Projektzuordnung!$G$6:$G$115=12),Projektzuordnung!$H$6:$H$115),"") -> 0 | P13: =IFERROR(SUM(D13:O13),"") -> 0
B14: Kai Bauer | D14: =IFERROR(SUMPRODUCT((Projektzuordnung!$E$6:$E$115=B14)*(Projektzuordnung!$G$6:$G$115=1),Projektzuordnung!$H$6:$H$115),"") -> 0 | E14: =IFERROR(SUMPRODUCT((Projektzuordnung!$E$6:$E$115=B14)*(Projektzuordnung!$G$6:$G$115=2),Projektzuordnung!$H$6:$H$115),"") -> 0 | F14: =IFERROR(SUMPRODUCT((Projektzuordnung!$E$6:$E$115=B14)*(Projektzuordnung!$G$6:$G$115=3),Projektzuordnung!$H$6:$H$115),"") -> 0 | G14: =IFERROR(SUMPRODUCT((Projektzuordnung!$E$6:$E$115=B14)*(Projektzuordnung!$G$6:$G$115=4),Projektzuordnung!$H$6:$H$115),"") -> 0 | H14: =IFERROR(SUMPRODUCT((Projektzuordnung!$E$6:$E$115=B14)*(Projektzuordnung!$G$6:$G$115=5),Projektzuordnung!$H$6:$H$115),"") -> 0 | I14: =IFERROR(SUMPRODUCT((Projektzuordnung!$E$6:$E$115=B14)*(Projektzuordnung!$G$6:$G$115=6),Projektzuordnung!$H$6:$H$115),"") -> 0 | J14: =IFERROR(SUMPRODUCT((Projektzuordnung!$E$6:$E$115=B14)*(Projektzuordnung!$G$6:$G$115=7),Projektzuordnung!$H$6:$H$115),"") -> 0 | K14: =IFERROR(SUMPRODUCT((Projektzuordnung!$E$6:$E$115=B14)*(Projektzuordnung!$G$6:$G$115=8),Projektzuordnung!$H$6:$H$115),"") -> 0 | L14: =IFERROR(SUMPRODUCT((Projektzuordnung!$E$6:$E$115=B14)*(Projektzuordnung!$G$6:$G$115=9),Projektzuordnung!$H$6:$H$115),"") -> 0 | M14: =IFERROR(SUMPRODUCT((Projektzuordnung!$E$6:$E$115=B14)*(Projektzuordnung!$G$6:$G$115=10),Projektzuordnung!$H$6:$H$115),"") -> 0 | N14: =IFERROR(SUMPRODUCT((Projektzuordnung!$E$6:$E$115=B14)*(Projektzuordnung!$G$6:$G$115=11),Projektzuordnung!$H$6:$H$115),"") -> 0 | O14: =IFERROR(SUMPRODUCT((Projektzuordnung!$E$6:$E$115=B14)*(Projektzuordnung!$G$6:$G$115=12),Projektzuordnung!$H$6:$H$115),"") -> 0 | P14: =IFERROR(SUM(D14:O14),"") -> 0
B15: Elena Braun | D15: =IFERROR(SUMPRODUCT((Projektzuordnung!$E$6:$E$115=B15)*(Projektzuordnung!$G$6:$G$115=1),Projektzuordnung!$H$6:$H$115),"") -> 0 | E15: =IFERROR(SUMPRODUCT((Projektzuordnung!$E$6:$E$115=B15)*(Projektzuordnung!$G$6:$G$115=2),Projektzuordnung!$H$6:$H$115),"") -> 0 | F15: =IFERROR(SUMPRODUCT((Projektzuordnung!$E$6:$E$115=B15)*(Projektzuordnung!$G$6:$G$115=3),Projektzuordnung!$H$6:$H$115),"") -> 0 | G15: =IFERROR(SUMPRODUCT((Projektzuordnung!$E$6:$E$115=B15)*(Projektzuordnung!$G$6:$G$115=4),Projektzuordnung!$H$6:$H$115),"") -> 0 | H15: =IFERROR(SUMPRODUCT((Projektzuordnung!$E$6:$E$115=B15)*(Projektzuordnung!$G$6:$G$115=5),Projektzuordnung!$H$6:$H$115),"") -> 0 | I15: =IFERROR(SUMPRODUCT((Projektzuordnung!$E$6:$E$115=B15)*(Projektzuordnung!$G$6:$G$115=6),Projektzuordnung!$H$6:$H$115),"") -> 0 | J15: =IFERROR(SUMPRODUCT((Projektzuordnung!$E$6:$E$115=B15)*(Projektzuordnung!$G$6:$G$115=7),Projektzuordnung!$H$6:$H$115),"") -> 0 | K15: =IFERROR(SUMPRODUCT((Projektzuordnung!$E$6:$E$115=B15)*(Projektzuordnung!$G$6:$G$115=8),Projektzuordnung!$H$6:$H$115),"") -> 0 | L15: =IFERROR(SUMPRODUCT((Projektzuordnung!$E$6:$E$115=B15)*(Projektzuordnung!$G$6:$G$115=9),Projektzuordnung!$H$6:$H$115),"") -> 0 | M15: =IFERROR(SUMPRODUCT((Projektzuordnung!$E$6:$E$115=B15)*(Projektzuordnung!$G$6:$G$115=10),Projektzuordnung!$H$6:$H$115),"") -> 0 | N15: =IFERROR(SUMPRODUCT((Projektzuordnung!$E$6:$E$115=B15)*(Projektzuordnung!$G$6:$G$115=11),Projektzuordnung!$H$6:$H$115),"") -> 0 | O15: =IFERROR(SUMPRODUCT((Projektzuordnung!$E$6:$E$115=B15)*(Projektzuordnung!$G$6:$G$115=12),Projektzuordnung!$H$6:$H$115),"") -> 0 | P15: =IFERROR(SUM(D15:O15),"") -> 0
B16: Felix Werner | D16: =IFERROR(SUMPRODUCT((Projektzuordnung!$E$6:$E$115=B16)*(Projektzuordnung!$G$6:$G$115=1),Projektzuordnung!$H$6:$H$115),"") -> 0 | E16: =IFERROR(SUMPRODUCT((Projektzuordnung!$E$6:$E$115=B16)*(Projektzuordnung!$G$6:$G$115=2),Projektzuordnung!$H$6:$H$115),"") -> 0 | F16: =IFERROR(SUMPRODUCT((Projektzuordnung!$E$6:$E$115=B16)*(Projektzuordnung!$G$6:$G$115=3),Projektzuordnung!$H$6:$H$115),"") -> 0 | G16: =IFERROR(SUMPRODUCT((Projektzuordnung!$E$6:$E$115=B16)*(Projektzuordnung!$G$6:$G$115=4),Projektzuordnung!$H$6:$H$115),"") -> 0 | H16: =IFERROR(SUMPRODUCT((Projektzuordnung!$E$6:$E$115=B16)*(Projektzuordnung!$G$6:$G$115=5),Projektzuordnung!$H$6:$H$115),"") -> 0 | I16: =IFERROR(SUMPRODUCT((Projektzuordnung!$E$6:$E$115=B16)*(Projektzuordnung!$G$6:$G$115=6),Projektzuordnung!$H$6:$H$115),"") -> 0 | J16: =IFERROR(SUMPRODUCT((Projektzuordnung!$E$6:$E$115=B16)*(Projektzuordnung!$G$6:$G$115=7),Projektzuordnung!$H$6:$H$115),"") -> 0 | K16: =IFERROR(SUMPRODUCT((Projektzuordnung!$E$6:$E$115=B16)*(Projektzuordnung!$G$6:$G$115=8),Projektzuordnung!$H$6:$H$115),"") -> 0 | L16: =IFERROR(SUMPRODUCT((Projektzuordnung!$E$6:$E$115=B16)*(Projektzuordnung!$G$6:$G$115=9),Projektzuordnung!$H$6:$H$115),"") -> 0 | M16: =IFERROR(SUMPRODUCT((Projektzuordnung!$E$6:$E$115=B16)*(Projektzuordnung!$G$6:$G$115=10),Projektzuordnung!$H$6:$H$115),"") -> 0 | N16: =IFERROR(SUMPRODUCT((Projektzuordnung!$E$6:$E$115=B16)*(Projektzuordnung!$G$6:$G$115=11),Projektzuordnung!$H$6:$H$115),"") -> 0 | O16: =IFERROR(SUMPRODUCT((Projektzuordnung!$E$6:$E$115=B16)*(Projektzuordnung!$G$6:$G$115=12),Projektzuordnung!$H$6:$H$115),"") -> 0 | P16: =IFERROR(SUM(D16:O16),"") -> 0
B17: TEAM GEPLANT GESAMT | D17: =IFERROR(SUM(D7:D16),"") -> 0 | E17: =IFERROR(SUM(E7:E16),"") -> 0 | F17: =IFERROR(SUM(F7:F16),"") -> 0 | G17: =IFERROR(SUM(G7:G16),"") -> 0 | H17: =IFERROR(SUM(H7:H16),"") -> 0 | I17: =IFERROR(SUM(I7:I16),"") -> 0 | J17: =IFERROR(SUM(J7:J16),"") -> 0 | K17: =IFERROR(SUM(K7:K16),"") -> 0 | ... O17: =IFERROR(SUM(O7:O16),"") -> 0 | P17: =IFERROR(SUM(D17:O17),"") -> 0
B19: ▶ VERFÜGBARE STUNDEN (h) — Netto-Kapazität je Monat
B20: Lisa Bergmann | D20: =IFERROR(D4*(Ressourcenstamm!I6/40),"") -> 115.2 | E20: =IFERROR(E4*(Ressourcenstamm!I6/40),"") -> 115.2 | F20: =IFERROR(F4*(Ressourcenstamm!I6/40),"") -> 120.96 | G20: =IFERROR(G4*(Ressourcenstamm!I6/40),"") -> 120.96 | H20: =IFERROR(H4*(Ressourcenstamm!I6/40),"") -> 109.44 | I20: =IFERROR(I4*(Ressourcenstamm!I6/40),"") -> 126.72 | J20: =IFERROR(J4*(Ressourcenstamm!I6/40),"") -> 126.72 | K20: =IFERROR(K4*(Ressourcenstamm!I6/40),"") -> 126.72 | L20: =IFERROR(L4*(Ressourcenstamm!I6/40),"") -> 126.72 | M20: =IFERROR(M4*(Ressourcenstamm!I6/40),"") -> 120.96 | N20: =IFERROR(N4*(Ressourcenstamm!I6/40),"") -> 120.96 | O20: =IFERROR(O4*(Ressourcenstamm!I6/40),"") -> 120.96 | P20: =IFERROR(SUM(D20:O20),"") -> 1451.52
B21: Markus Stein | D21: =IFERROR(D4*(Ressourcenstamm!I7/40),"") -> 132.48 | E21: =IFERROR(E4*(Ressourcenstamm!I7/40),"") -> 132.48 | F21: =IFERROR(F4*(Ressourcenstamm!I7/40),"") -> 139.104 | G21: =IFERROR(G4*(Ressourcenstamm!I7/40),"") -> 139.104 | H21: =IFERROR(H4*(Ressourcenstamm!I7/40),"") -> 125.856 | I21: =IFERROR(I4*(Ressourcenstamm!I7/40),"") -> 145.728 | J21: =IFERROR(J4*(Ressourcenstamm!I7/40),"") -> 145.728 | K21: =IFERROR(K4*(Ressourcenstamm!I7/40),"") -> 145.728 | L21: =IFERROR(L4*(Ressourcenstamm!I7/40),"") -> 145.728 | M21: =IFERROR(M4*(Ressourcenstamm!I7/40),"") -> 139.104 | N21: =IFERROR(N4*(Ressourcenstamm!I7/40),"") -> 139.104 | O21: =IFERROR(O4*(Ressourcenstamm!I7/40),"") -> 139.104 | P21: =IFERROR(SUM(D21:O21),"") -> 1669.248
B22: Jana Voigt | D22: =IFERROR(D4*(Ressourcenstamm!I8/40),"") -> 117.7088 | E22: =IFERROR(E4*(Ressourcenstamm!I8/40),"") -> 117.7088 | F22: =IFERROR(F4*(Ressourcenstamm!I8/40),"") -> 123.59424 | G22: =IFERROR(G4*(Ressourcenstamm!I8/40),"") -> 123.59424 | H22: =IFERROR(H4*(Ressourcenstamm!I8/40),"") -> 111.82336 | I22: =IFERROR(I4*(Ressourcenstamm!I8/40),"") -> 129.47968 | J22: =IFERROR(J4*(Ressourcenstamm!I8/40),"") -> 129.47968 | K22: =IFERROR(K4*(Ressourcenstamm!I8/40),"") -> 129.47968 | L22: =IFERROR(L4*(Ressourcenstamm!I8/40),"") -> 129.47968 | M22: =IFERROR(M4*(Ressourcenstamm!I8/40),"") -> 123.59424 | N22: =IFERROR(N4*(Ressourcenstamm!I8/40),"") -> 123.59424 | O22: =IFERROR(O4*(Ressourcenstamm!I8/40),"") -> 123.59424 | P22: =IFERROR(SUM(D22:O22),"") -> 1483.1309
B23: Thomas Kühn | D23: =IFERROR(D4*(Ressourcenstamm!I9/40),"") -> 132.48 | E23: =IFERROR(E4*(Ressourcenstamm!I9/40),"") -> 132.48 | F23: =IFERROR(F4*(Ressourcenstamm!I9/40),"") -> 139.104 | G23: =IFERROR(G4*(Ressourcenstamm!I9/40),"") -> 139.104 | H23: =IFERROR(H4*(Ressourcenstamm!I9/40),"") -> 125.856 | I23: =IFERROR(I4*(Ressourcenstamm!I9/40),"") -> 145.728 | J23: =IFERROR(J4*(Ressourcenstamm!I9/40),"") -> 145.728 | K23: =IFERROR(K4*(Ressourcenstamm!I9/40),"") -> 145.728 | L23: =IFERROR(L4*(Ressourcenstamm!I9/40),"") -> 145.728 | M23: =IFERROR(M4*(Ressourcenstamm!I9/40),"") -> 139.104 | N23: =IFERROR(N4*(Ressourcenstamm!I9/40),"") -> 139.104 | O23: =IFERROR(O4*(Ressourcenstamm!I9/40),"") -> 139.104 | P23: =IFERROR(SUM(D23:O23),"") -> 1669.248
B24: Sandra Wolff | D24: =IFERROR(D4*(Ressourcenstamm!I10/40),"") -> 126.72 | E24: =IFERROR(E4*(Ressourcenstamm!I10/40),"") -> 126.72 | F24: =IFERROR(F4*(Ressourcenstamm!I10/40),"") -> 133.056 | G24: =IFERROR(G4*(Ressourcenstamm!I10/40),"") -> 133.056 | H24: =IFERROR(H4*(Ressourcenstamm!I10/40),"") -> 120.384 | I24: =IFERROR(I4*(Ressourcenstamm!I10/40),"") -> 139.392 | J24: =IFERROR(J4*(Ressourcenstamm!I10/40),"") -> 139.392 | K24: =IFERROR(K4*(Ressourcenstamm!I10/40),"") -> 139.392 | L24: =IFERROR(L4*(Ressourcenstamm!I10/40),"") -> 139.392 | M24: =IFERROR(M4*(Ressourcenstamm!I10/40),"") -> 133.056 | N24: =IFERROR(N4*(Ressourcenstamm!I10/40),"") -> 133.056 | O24: =IFERROR(O4*(Ressourcenstamm!I10/40),"") -> 133.056 | P24: =IFERROR(SUM(D24:O24),"") -> 1596.672
B25: Andreas Roth | D25: =IFERROR(D4*(Ressourcenstamm!I11/40),"") -> 132.48 | E25: =IFERROR(E4*(Ressourcenstamm!I11/40),"") -> 132.48 | F25: =IFERROR(F4*(Ressourcenstamm!I11/40),"") -> 139.104 | G25: =IFERROR(G4*(Ressourcenstamm!I11/40),"") -> 139.104 | H25: =IFERROR(H4*(Ressourcenstamm!I11/40),"") -> 125.856 | I25: =IFERROR(I4*(Ressourcenstamm!I11/40),"") -> 145.728 | J25: =IFERROR(J4*(Ressourcenstamm!I11/40),"") -> 145.728 | K25: =IFERROR(K4*(Ressourcenstamm!I11/40),"") -> 145.728 | L25: =IFERROR(L4*(Ressourcenstamm!I11/40),"") -> 145.728 | M25: =IFERROR(M4*(Ressourcenstamm!I11/40),"") -> 139.104 | N25: =IFERROR(N4*(Ressourcenstamm!I11/40),"") -> 139.104 | O25: =IFERROR(O4*(Ressourcenstamm!I11/40),"") -> 139.104 | P25: =IFERROR(SUM(D25:O25),"") -> 1669.248
B26: Petra Schön | D26: =IFERROR(D4*(Ressourcenstamm!I12/40),"") -> 123.12 | E26: =IFERROR(E4*(Ressourcenstamm!I12/40),"") -> 123.12 | F26: =IFERROR(F4*(Ressourcenstamm!I12/40),"") -> 129.276 | G26: =IFERROR(G4*(Ressourcenstamm!I12/40),"") -> 129.276 | H26: =IFERROR(H4*(Ressourcenstamm!I12/40),"") -> 116.964 | I26: =IFERROR(I4*(Ressourcenstamm!I12/40),"") -> 135.432 | J26: =IFERROR(J4*(Ressourcenstamm!I12/40),"") -> 135.432 | K26: =IFERROR(K4*(Ressourcenstamm!I12/40),"") -> 135.432 | L26: =IFERROR(L4*(Ressourcenstamm!I12/40),"") -> 135.432 | M26: =IFERROR(M4*(Ressourcenstamm!I12/40),"") -> 129.276 | N26: =IFERROR(N4*(Ressourcenstamm!I12/40),"") -> 129.276 | O26: =IFERROR(O4*(Ressourcenstamm!I12/40),"") -> 129.276 | P26: =IFERROR(SUM(D26:O26),"") -> 1551.312
B27: Kai Bauer | D27: =IFERROR(D4*(Ressourcenstamm!I13/40),"") -> 93.6 | E27: =IFERROR(E4*(Ressourcenstamm!I13/40),"") -> 93.6 | F27: =IFERROR(F4*(Ressourcenstamm!I13/40),"") -> 98.28 | G27: =IFERROR(G4*(Ressourcenstamm!I13/40),"") -> 98.28 | H27: =IFERROR(H4*(Ressourcenstamm!I13/40),"") -> 88.92 | I27: =IFERROR(I4*(Ressourcenstamm!I13/40),"") -> 102.96 | J27: =IFERROR(J4*(Ressourcenstamm!I13/40),"") -> 102.96 | K27: =IFERROR(K4*(Ressourcenstamm!I13/40),"") -> 102.96 | L27: =IFERROR(L4*(Ressourcenstamm!I13/40),"") -> 102.96 | M27: =IFERROR(M4*(Ressourcenstamm!I13/40),"") -> 98.28 | N27: =IFERROR(N4*(Ressourcenstamm!I13/40),"") -> 98.28 | O27: =IFERROR(O4*(Ressourcenstamm!I13/40),"") -> 98.28 | P27: =IFERROR(SUM(D27:O27),"") -> 1179.36
B28: Elena Braun | D28: =IFERROR(D4*(Ressourcenstamm!I14/40),"") -> 125.12 | E28: =IFERROR(E4*(Ressourcenstamm!I14/40),"") -> 125.12 | F28: =IFERROR(F4*(Ressourcenstamm!I14/40),"") -> 131.376 | G28: =IFERROR(G4*(Ressourcenstamm!I14/40),"") -> 131.376 | H28: =IFERROR(H4*(Ressourcenstamm!I14/40),"") -> 118.864 | I28: =IFERROR(I4*(Ressourcenstamm!I14/40),"") -> 137.632 | J28: =IFERROR(J4*(Ressourcenstamm!I14/40),"") -> 137.632 | K28: =IFERROR(K4*(Ressourcenstamm!I14/40),"") -> 137.632 | L28: =IFERROR(L4*(Ressourcenstamm!I14/40),"") -> 137.632 | M28: =IFERROR(M4*(Ressourcenstamm!I14/40),"") -> 131.376 | N28: =IFERROR(N4*(Ressourcenstamm!I14/40),"") -> 131.376 | O28: =IFERROR(O4*(Ressourcenstamm!I14/40),"") -> 131.376 | P28: =IFERROR(SUM(D28:O28),"") -> 1576.512
B29: Felix Werner | D29: =IFERROR(D4*(Ressourcenstamm!I15/40),"") -> 109.6832 | E29: =IFERROR(E4*(Ressourcenstamm!I15/40),"") -> 109.6832 | F29: =IFERROR(F4*(Ressourcenstamm!I15/40),"") -> 115.16736 | G29: =IFERROR(G4*(Ressourcenstamm!I15/40),"") -> 115.16736 | H29: =IFERROR(H4*(Ressourcenstamm!I15/40),"") -> 104.19904 | I29: =IFERROR(I4*(Ressourcenstamm!I15/40),"") -> 120.65152 | J29: =IFERROR(J4*(Ressourcenstamm!I15/40),"") -> 120.65152 | K29: =IFERROR(K4*(Ressourcenstamm!I15/40),"") -> 120.65152 | L29: =IFERROR(L4*(Ressourcenstamm!I15/40),"") -> 120.65152 | M29: =IFERROR(M4*(Ressourcenstamm!I15/40),"") -> 115.16736 | N29: =IFERROR(N4*(Ressourcenstamm!I15/40),"") -> 115.16736 | O29: =IFERROR(O4*(Ressourcenstamm!I15/40),"") -> 115.16736 | P29: =IFERROR(SUM(D29:O29),"") -> 1382.0083
B30: TEAM VERFÜGBAR GESAMT | D30: =IFERROR(SUM(D20:D29),"") -> 1208.592 | E30: =IFERROR(SUM(E20:E29),"") -> 1208.592 | F30: =IFERROR(SUM(F20:F29),"") -> 1269.0216 | G30: =IFERROR(SUM(G20:G29),"") -> 1269.0216 | H30: =IFERROR(SUM(H20:H29),"") -> 1148.1624 | I30: =IFERROR(SUM(I20:I29),"") -> 1329.4512 | J30: =IFERROR(SUM(J20:J29),"") -> 1329.4512 | K30: =IFERROR(SUM(K20:K29),"") -> 1329.4512 | ... O30: =IFERROR(SUM(O20:O29),"") -> 1269.0216 | P30: =IFERROR(SUM(D30:O30),"") -> 15228.259
B32: ▶ AUSLASTUNG (%) — Geplant ÷ Verfügbar | 🔴 >90 % Überlast 🟢 75–90 % Optimal 🟡 <75 % Unterauslastung
B33: Lisa Bergmann | D33: =IFERROR(D7/D20,"") -> 0 | E33: =IFERROR(E7/E20,"") -> 0 | F33: =IFERROR(F7/F20,"") -> 0 | G33: =IFERROR(G7/G20,"") -> 0 | H33: =IFERROR(H7/H20,"") -> 0 | I33: =IFERROR(I7/I20,"") -> 0 | J33: =IFERROR(J7/J20,"") -> 0 | K33: =IFERROR(K7/K20,"") -> 0 | ... O33: =IFERROR(O7/O20,"") -> 0 | P33: =IFERROR(AVERAGE(D33:O33),"") -> 0
B34: Markus Stein | D34: =IFERROR(D8/D21,"") -> 0 | E34: =IFERROR(E8/E21,"") -> 0 | F34: =IFERROR(F8/F21,"") -> 0 | G34: =IFERROR(G8/G21,"") -> 0 | H34: =IFERROR(H8/H21,"") -> 0 | I34: =IFERROR(I8/I21,"") -> 0 | J34: =IFERROR(J8/J21,"") -> 0 | K34: =IFERROR(K8/K21,"") -> 0 | ... O34: =IFERROR(O8/O21,"") -> 0 | P34: =IFERROR(AVERAGE(D34:O34),"") -> 0
B35: Jana Voigt | D35: =IFERROR(D9/D22,"") -> 0 | E35: =IFERROR(E9/E22,"") -> 0 | F35: =IFERROR(F9/F22,"") -> 0 | G35: =IFERROR(G9/G22,"") -> 0 | H35: =IFERROR(H9/H22,"") -> 0 | I35: =IFERROR(I9/I22,"") -> 0 | J35: =IFERROR(J9/J22,"") -> 0 | K35: =IFERROR(K9/K22,"") -> 0 | ... O35: =IFERROR(O9/O22,"") -> 0 | P35: =IFERROR(AVERAGE(D35:O35),"") -> 0
B36: Thomas Kühn | D36: =IFERROR(D10/D23,"") -> 0 | E36: =IFERROR(E10/E23,"") -> 0 | F36: =IFERROR(F10/F23,"") -> 0 | G36: =IFERROR(G10/G23,"") -> 0 | H36: =IFERROR(H10/H23,"") -> 0 | I36: =IFERROR(I10/I23,"") -> 0 | J36: =IFERROR(J10/J23,"") -> 0 | K36: =IFERROR(K10/K23,"") -> 0 | ... O36: =IFERROR(O10/O23,"") -> 0 | P36: =IFERROR(AVERAGE(D36:O36),"") -> 0
B37: Sandra Wolff | D37: =IFERROR(D11/D24,"") -> 0 | E37: =IFERROR(E11/E24,"") -> 0 | F37: =IFERROR(F11/F24,"") -> 0 | G37: =IFERROR(G11/G24,"") -> 0 | H37: =IFERROR(H11/H24,"") -> 0 | I37: =IFERROR(I11/I24,"") -> 0 | J37: =IFERROR(J11/J24,"") -> 0 | K37: =IFERROR(K11/K24,"") -> 0 | ... O37: =IFERROR(O11/O24,"") -> 0 | P37: =IFERROR(AVERAGE(D37:O37),"") -> 0
B38: Andreas Roth | D38: =IFERROR(D12/D25,"") -> 0 | E38: =IFERROR(E12/E25,"") -> 0 | F38: =IFERROR(F12/F25,"") -> 0 | G38: =IFERROR(G12/G25,"") -> 0 | H38: =IFERROR(H12/H25,"") -> 0 | I38: =IFERROR(I12/I25,"") -> 0 | J38: =IFERROR(J12/J25,"") -> 0 | K38: =IFERROR(K12/K25,"") -> 0 | ... O38: =IFERROR(O12/O25,"") -> 0 | P38: =IFERROR(AVERAGE(D38:O38),"") -> 0
B39: Petra Schön | D39: =IFERROR(D13/D26,"") -> 0 | E39: =IFERROR(E13/E26,"") -> 0 | F39: =IFERROR(F13/F26,"") -> 0 | G39: =IFERROR(G13/G26,"") -> 0 | H39: =IFERROR(H13/H26,"") -> 0 | I39: =IFERROR(I13/I26,"") -> 0 | J39: =IFERROR(J13/J26,"") -> 0 | K39: =IFERROR(K13/K26,"") -> 0 | ... O39: =IFERROR(O13/O26,"") -> 0 | P39: =IFERROR(AVERAGE(D39:O39),"") -> 0
B40: Kai Bauer | D40: =IFERROR(D14/D27,"") -> 0 | E40: =IFERROR(E14/E27,"") -> 0 | F40: =IFERROR(F14/F27,"") -> 0 | G40: =IFERROR(G14/G27,"") -> 0 | H40: =IFERROR(H14/H27,"") -> 0 | I40: =IFERROR(I14/I27,"") -> 0 | J40: =IFERROR(J14/J27,"") -> 0 | K40: =IFERROR(K14/K27,"") -> 0 | ... O40: =IFERROR(O14/O27,"") -> 0 | P40: =IFERROR(AVERAGE(D40:O40),"") -> 0
B41: Elena Braun | D41: =IFERROR(D15/D28,"") -> 0 | E41: =IFERROR(E15/E28,"") -> 0 | F41: =IFERROR(F15/F28,"") -> 0 | G41: =IFERROR(G15/G28,"") -> 0 | H41: =IFERROR(H15/H28,"") -> 0 | I41: =IFERROR(I15/I28,"") -> 0 | J41: =IFERROR(J15/J28,"") -> 0 | K41: =IFERROR(K15/K28,"") -> 0 | ... O41: =IFERROR(O15/O28,"") -> 0 | P41: =IFERROR(AVERAGE(D41:O41),"") -> 0
B42: Felix Werner | D42: =IFERROR(D16/D29,"") -> 0 | E42: =IFERROR(E16/E29,"") -> 0 | F42: =IFERROR(F16/F29,"") -> 0 | G42: =IFERROR(G16/G29,"") -> 0 | H42: =IFERROR(H16/H29,"") -> 0 | I42: =IFERROR(I16/I29,"") -> 0 | J42: =IFERROR(J16/J29,"") -> 0 | K42: =IFERROR(K16/K29,"") -> 0 | ... O42: =IFERROR(O16/O29,"") -> 0 | P42: =IFERROR(AVERAGE(D42:O42),"") -> 0
B43: TEAM AUSLASTUNG Ø | D43: =IFERROR(D17/D30,"") -> 0 | E43: =IFERROR(E17/E30,"") -> 0 | F43: =IFERROR(F17/F30,"") -> 0 | G43: =IFERROR(G17/G30,"") -> 0 | H43: =IFERROR(H17/H30,"") -> 0 | I43: =IFERROR(I17/I30,"") -> 0 | J43: =IFERROR(J17/J30,"") -> 0 | K43: =IFERROR(K17/K30,"") -> 0 | ... P43: =IFERROR(P17/P30,"") -> 0

Sheet Projektzuordnung
B2: PROJEKTZUORDNUNG · Planungsjahr 2027
B4: Zuweisung von Ressourcen auf Projekte · Geplante und Ist-Stunden · Grundlage für die Kapazitätsmatrix
B5: Nr. | C5: Projekt-ID | D5: Projektname | E5: Priorität | F5: Ressource | G5: Monat | H5: Monat-Nr (intern) | I5: Geplant (h) | J5: Ist (h) | K5: Differenz (h) | L5: Status | N5: Projektübersicht
B6: 1 | C6: P001 | D6: Digitales Kundenportal | E6: Hoch | F6: Lisa Bergmann | G6: Januar 2027 | H6: 1 | I6: 20 | J6: 18 | K6: =IFERROR(J6-I6,"") -> -2 | L6: =IF(J6="","📋 Geplant",IF(J6>I6,"🔴 Überzogen",IF(J6=I6,"✅ Abgeschlossen","🟡 Läuft"))) -> 🟡 Läuft | N6: ID | O6: Projektname | P6: Priorität
B7: 2 | C7: P001 | D7: Digitales Kundenportal | E7: Hoch | F7: Lisa Bergmann | G7: Februar 2027 | H7: 2 | I7: 20 | J7: 22 | K7: =IFERROR(J7-I7,"") -> 2 | L7: =IF(J7="","📋 Geplant",IF(J7>I7,"🔴 Überzogen",IF(J7=I7,"✅ Abgeschlossen","🟡 Läuft"))) -> 🔴 Überzogen | N7: P001 | O7: Digitales Kundenportal | P7: Hoch
B8: 3 | C8: P001 | D8: Digitales Kundenportal | E8: Hoch | F8: Lisa Bergmann | G8: März 2027 | H8: 3 | I8: 20 | J8: 20 | K8: =IFERROR(J8-I8,"") -> 0 | L8: =IF(J8="","📋 Geplant",IF(J8>I8,"🔴 Überzogen",IF(J8=I8,"✅ Abgeschlossen","🟡 Läuft"))) -> ✅ Abgeschlossen | N8: P002 | O8: Mobile App Entwicklung | P8: Mittel
B9: 4 | C9: P001 | D9: Digitales Kundenportal | E9: Hoch | F9: Lisa Bergmann | G9: April 2027 | H9: 4 | I9: 20 | J9: 19 | K9: =IFERROR(J9-I9,"") -> -1 | L9: =IF(J9="","📋 Geplant",IF(J9>I9,"🔴 Überzogen",IF(J9=I9,"✅ Abgeschlossen","🟡 Läuft"))) -> 🟡 Läuft | N9: P003 | O9: Systemintegration Backend | P9: Hoch
B10: 5 | C10: P001 | D10: Digitales Kundenportal | E10: Hoch | F10: Lisa Bergmann | G10: Mai 2027 | H10: 5 | I10: 20 | K10: =IFERROR(J10-I10,"") -> -20 | L10: =IF(J10="","📋 Geplant",IF(J10>I10,"🔴 Überzogen",IF(J10=I10,"✅ Abgeschlossen","🟡 Läuft"))) -> 📋 Geplant | N10: P004 | O10: Reporting-Plattform | P10: Mittel
B11: 6 | C11: P001 | D11: Digitales Kundenportal | E11: Hoch | F11: Lisa Bergmann | G11: Juni 2027 | H11: 6 | I11: 20 | K11: =IFERROR(J11-I11,"") -> -20 | L11: =IF(J11="","📋 Geplant",IF(J11>I11,"🔴 Überzogen",IF(J11=I11,"✅ Abgeschlossen","🟡 Läuft"))) -> 📋 Geplant | N11: P005 | O11: QA-Automatisierung | P11: Niedrig
B12: 7 | C12: P001 | D12: Digitales Kundenportal | E12: Hoch | F12: Markus Stein | G12: Januar 2027 | H12: 1 | I12: 60 | J12: 58 | K12: =IFERROR(J12-I12,"") -> -2 | L12: =IF(J12="","📋 Geplant",IF(J12>I12,"🔴 Überzogen",IF(J12=I12,"✅ Abgeschlossen","🟡 Läuft"))) -> 🟡 Läuft
B13: 8 | C13: P001 | D13: Digitales Kundenportal | E13: Hoch | F13: Markus Stein | G13: Februar 2027 | H13: 2 | I13: 60 | J13: 65 | K13: =IFERROR(J13-I13,"") -> 5 | L13: =IF(J13="","📋 Geplant",IF(J13>I13,"🔴 Überzogen",IF(J13=I13,"✅ Abgeschlossen","🟡 Läuft"))) -> 🔴 Überzogen | N13: Stunden je Projekt (Geplant / Ist)
B14: 9 | C14: P001 | D14: Digitales Kundenportal | E14: Hoch | F14: Markus Stein | G14: März 2027 | H14: 3 | I14: 60 | J14: 60 | K14: =IFERROR(J14-I14,"") -> 0 | L14: =IF(J14="","📋 Geplant",IF(J14>I14,"🔴 Überzogen",IF(J14=I14,"✅ Abgeschlossen","🟡 Läuft"))) -> ✅ Abgeschlossen | N14: ID | O14: Geplant (h) | P14: Ist (h)
B15: 10 | C15: P001 | D15: Digitales Kundenportal | E15: Hoch | F15: Markus Stein | G15: April 2027 | H15: 4 | I15: 55 | K15: =IFERROR(J15-I15,"") -> -55 | L15: =IF(J15="","📋 Geplant",IF(J15>I15,"🔴 Überzogen",IF(J15=I15,"✅ Abgeschlossen","🟡 Läuft"))) -> 📋 Geplant | N15: P001 | O15: =IFERROR(SUMIF(Projektzuordnung!$C$6:$C$115,"P001",Projektzuordnung!$I$6:$I$115),0) -> 895 | P15: =IFERROR(SUMIF(Projektzuordnung!$C$6:$C$115,"P001",Projektzuordnung!$J$6:$J$115),0) -> 574
B16: 11 | C16: P001 | D16: Digitales Kundenportal | E16: Hoch | F16: Jana Voigt | G16: Januar 2027 | H16: 1 | I16: 45 | J16: 42 | K16: =IFERROR(J16-I16,"") -> -3 | L16: =IF(J16="","📋 Geplant",IF(J16>I16,"🔴 Überzogen",IF(J16=I16,"✅ Abgeschlossen","🟡 Läuft"))) -> 🟡 Läuft | N16: P002 | O16: =IFERROR(SUMIF(Projektzuordnung!$C$6:$C$115,"P002",Projektzuordnung!$I$6:$I$115),0) -> 665 | P16: =IFERROR(SUMIF(Projektzuordnung!$C$6:$C$115,"P002",Projektzuordnung!$J$6:$J$115),0) -> 463
B17: 12 | C17: P001 | D17: Digitales Kundenportal | E17: Hoch | F17: Jana Voigt | G17: Februar 2027 | H17: 2 | I17: 45 | J17: 48 | K17: =IFERROR(J17-I17,"") -> 3 | L17: =IF(J17="","📋 Geplant",IF(J17>I17,"🔴 Überzogen",IF(J17=I17,"✅ Abgeschlossen","🟡 Läuft"))) -> 🔴 Überzogen | N17: P003 | O17: =IFERROR(SUMIF(Projektzuordnung!$C$6:$C$115,"P003",Projektzuordnung!$I$6:$I$115),0) -> 380 | P17: =IFERROR(SUMIF(Projektzuordnung!$C$6:$C$115,"P003",Projektzuordnung!$J$6:$J$115),0) -> 375
B18: 13 | C18: P001 | D18: Digitales Kundenportal | E18: Hoch | F18: Jana Voigt | G18: März 2027 | H18: 3 | I18: 40 | J18: 38 | K18: =IFERROR(J18-I18,"") -> -2 | L18: =IF(J18="","📋 Geplant",IF(J18>I18,"🔴 Überzogen",IF(J18=I18,"✅ Abgeschlossen","🟡 Läuft"))) -> 🟡 Läuft | N18: P004 | O18: =IFERROR(SUMIF(Projektzuordnung!$C$6:$C$115,"P004",Projektzuordnung!$I$6:$I$115),0) -> 1260 | P18: =IFERROR(SUMIF(Projektzuordnung!$C$6:$C$115,"P004",Projektzuordnung!$J$6:$J$115),0) -> 0
B19: 14 | C19: P001 | D19: Digitales Kundenportal | E19: Hoch | F19: Thomas Kühn | G19: Februar 2027 | H19: 2 | I19: 70 | J19: 68 | K19: =IFERROR(J19-I19,"") -> -2 | L19: =IF(J19="","📋 Geplant",IF(J19>I19,"🔴 Überzogen",IF(J19=I19,"✅ Abgeschlossen","🟡 Läuft"))) -> 🟡 Läuft | N19: P005 | O19: =IFERROR(SUMIF(Projektzuordnung!$C$6:$C$115,"P005",Projektzuordnung!$I$6:$I$115),0) -> 1230 | P19: =IFERROR(SUMIF(Projektzuordnung!$C$6:$C$115,"P005",Projektzuordnung!$J$6:$J$115),0) -> 72
B20: 15 | C20: P001 | D20: Digitales Kundenportal | E20: Hoch | F20: Thomas Kühn | G20: März 2027 | H20: 3 | I20: 70 | J20: 72 | K20: =IFERROR(J20-I20,"") -> 2 | L20: =IF(J20="","📋 Geplant",IF(J20>I20,"🔴 Überzogen",IF(J20=I20,"✅ Abgeschlossen","🟡 Läuft"))) -> 🔴 Überzogen
B21: 16 | C21: P001 | D21: Digitales Kundenportal | E21: Hoch | F21: Thomas Kühn | G21: April 2027 | H21: 4 | I21: 70 | K21: =IFERROR(J21-I21,"") -> -70 | L21: =IF(J21="","📋 Geplant",IF(J21>I21,"🔴 Überzogen",IF(J21=I21,"✅ Abgeschlossen","🟡 Läuft"))) -> 📋 Geplant
B22: 17 | C22: P001 | D22: Digitales Kundenportal | E22: Hoch | F22: Thomas Kühn | G22: Mai 2027 | H22: 5 | I22: 65 | K22: =IFERROR(J22-I22,"") -> -65 | L22: =IF(J22="","📋 Geplant",IF(J22>I22,"🔴 Überzogen",IF(J22=I22,"✅ Abgeschlossen","🟡 Läuft"))) -> 📋 Geplant
B23: 18 | C23: P001 | D23: Digitales Kundenportal | E23: Hoch | F23: Sandra Wolff | G23: April 2027 | H23: 4 | I23: 30 | K23: =IFERROR(J23-I23,"") -> -30 | L23: =IF(J23="","📋 Geplant",IF(J23>I23,"🔴 Überzogen",IF(J23=I23,"✅ Abgeschlossen","🟡 Läuft"))) -> 📋 Geplant
B24: 19 | C24: P001 | D24: Digitales Kundenportal | E24: Hoch | F24: Sandra Wolff | G24: Mai 2027 | H24: 5 | I24: 30 | K24: =IFERROR(J24-I24,"") -> -30 | L24: =IF(J24="","📋 Geplant",IF(J24>I24,"🔴 Überzogen",IF(J24=I24,"✅ Abgeschlossen","🟡 Läuft"))) -> 📋 Geplant
B25: 20 | C25: P001 | D25: Digitales Kundenportal | E25: Hoch | F25: Sandra Wolff | G25: Juni 2027 | H25: 6 | I25: 30 | K25: =IFERROR(J25-I25,"") -> -30 | L25: =IF(J25="","📋 Geplant",IF(J25>I25,"🔴 Überzogen",IF(J25=I25,"✅ Abgeschlossen","🟡 Läuft"))) -> 📋 Geplant
B26: 21 | C26: P002 | D26: Mobile App Entwicklung | E26: Mittel | F26: Petra Schön | G26: Januar 2027 | H26: 1 | I26: 80 | J26: 75 | K26: =IFERROR(J26-I26,"") -> -5 | L26: =IF(J26="","📋 Geplant",IF(J26>I26,"🔴 Überzogen",IF(J26=I26,"✅ Abgeschlossen","🟡 Läuft"))) -> 🟡 Läuft
B27: 22 | C27: P002 | D27: Mobile App Entwicklung | E27: Mittel | F27: Petra Schön | G27: Februar 2027 | H27: 2 | I27: 80 | J27: 82 | K27: =IFERROR(J27-I27,"") -> 2 | L27: =IF(J27="","📋 Geplant",IF(J27>I27,"🔴 Überzogen",IF(J27=I27,"✅ Abgeschlossen","🟡 Läuft"))) -> 🔴 Überzogen
B28: 23 | C28: P002 | D28: Mobile App Entwicklung | E28: Mittel | F28: Petra Schön | G28: März 2027 | H28: 3 | I28: 75 | J28: 74 | K28: =IFERROR(J28-I28,"") -> -1 | L28: =IF(J28="","📋 Geplant",IF(J28>I28,"🔴 Überzogen",IF(J28=I28,"✅ Abgeschlossen","🟡 Läuft"))) -> 🟡 Läuft
B29: 24 | C29: P002 | D29: Mobile App Entwicklung | E29: Mittel | F29: Petra Schön | G29: April 2027 | H29: 4 | I29: 80 | K29: =IFERROR(J29-I29,"") -> -80 | L29: =IF(J29="","📋 Geplant",IF(J29>I29,"🔴 Überzogen",IF(J29=I29,"✅ Abgeschlossen","🟡 Läuft"))) -> 📋 Geplant
B30: 25 | C30: P002 | D30: Mobile App Entwicklung | E30: Mittel | F30: Petra Schön | G30: Mai 2027 | H30: 5 | I30: 75 | K30: =IFERROR(J30-I30,"") -> -75 | L30: =IF(J30="","📋 Geplant",IF(J30>I30,"🔴 Überzogen",IF(J30=I30,"✅ Abgeschlossen","🟡 Läuft"))) -> 📋 Geplant
B31: 26 | C31: P002 | D31: Mobile App Entwicklung | E31: Mittel | F31: Thomas Kühn | G31: Januar 2027 | H31: 1 | I31: 30 | J31: 28 | K31: =IFERROR(J31-I31,"") -> -2 | L31: =IF(J31="","📋 Geplant",IF(J31>I31,"🔴 Überzogen",IF(J31=I31,"✅ Abgeschlossen","🟡 Läuft"))) -> 🟡 Läuft
B32: 27 | C32: P002 | D32: Mobile App Entwicklung | E32: Mittel | F32: Thomas Kühn | G32: Februar 2027 | H32: 2 | I32: 30 | J32: 32 | K32: =IFERROR(J32-I32,"") -> 2 | L32: =IF(J32="","📋 Geplant",IF(J32>I32,"🔴 Überzogen",IF(J32=I32,"✅ Abgeschlossen","🟡 Läuft"))) -> 🔴 Überzogen
B33: 28 | C33: P002 | D33: Mobile App Entwicklung | E33: Mittel | F33: Jana Voigt | G33: März 2027 | H33: 3 | I33: 35 | J33: 33 | K33: =IFERROR(J33-I33,"") -> -2 | L33: =IF(J33="","📋 Geplant",IF(J33>I33,"🔴 Überzogen",IF(J33=I33,"✅ Abgeschlossen","🟡 Läuft"))) -> 🟡 Läuft
B34: 29 | C34: P002 | D34: Mobile App Entwicklung | E34: Mittel | F34: Jana Voigt | G34: April 2027 | H34: 4 | I34: 40 | K34: =IFERROR(J34-I34,"") -> -40 | L34: =IF(J34="","📋 Geplant",IF(J34>I34,"🔴 Überzogen",IF(J34=I34,"✅ Abgeschlossen","🟡 Läuft"))) -> 📋 Geplant
B35: 30 | C35: P002 | D35: Mobile App Entwicklung | E35: Mittel | F35: Sandra Wolff | G35: Januar 2027 | H35: 1 | I35: 40 | J35: 38 | K35: =IFERROR(J35-I35,"") -> -2 | L35: =IF(J35="","📋 Geplant",IF(J35>I35,"🔴 Überzogen",IF(J35=I35,"✅ Abgeschlossen","🟡 Läuft"))) -> 🟡 Läuft
B36: 31 | C36: P002 | D36: Mobile App Entwicklung | E36: Mittel | F36: Sandra Wolff | G36: Februar 2027 | H36: 2 | I36: 40 | J36: 42 | K36: =IFERROR(J36-I36,"") -> 2 | L36: =IF(J36="","📋 Geplant",IF(J36>I36,"🔴 Überzogen",IF(J36=I36,"✅ Abgeschlossen","🟡 Läuft"))) -> 🔴 Überzogen
B37: 32 | C37: P002 | D37: Mobile App Entwicklung | E37: Mittel | F37: Sandra Wolff | G37: März 2027 | H37: 3 | I37: 40 | J37: 39 | K37: =IFERROR(J37-I37,"") -> -1 | L37: =IF(J37="","📋 Geplant",IF(J37>I37,"🔴 Überzogen",IF(J37=I37,"✅ Abgeschlossen","🟡 Läuft"))) -> 🟡 Läuft
B38: 33 | C38: P003 | D38: Systemintegration Backend | E38: Hoch | F38: Andreas Roth | G38: Januar 2027 | H38: 1 | I38: 60 | J38: 58 | K38: =IFERROR(J38-I38,"") -> -2 | L38: =IF(J38="","📋 Geplant",IF(J38>I38,"🔴 Überzogen",IF(J38=I38,"✅ Abgeschlossen","🟡 Läuft"))) -> 🟡 Läuft
B39: 34 | C39: P003 | D39: Systemintegration Backend | E39: Hoch | F39: Andreas Roth | G39: Februar 2027 | H39: 2 | I39: 60 | J39: 62 | K39: =IFERROR(J39-I39,"") -> 2 | L39: =IF(J39="","📋 Geplant",IF(J39>I39,"🔴 Überzogen",IF(J39=I39,"✅ Abgeschlossen","🟡 Läuft"))) -> 🔴 Überzogen
B40: 35 | C40: P003 | D40: Systemintegration Backend | E40: Hoch | F40: Andreas Roth | G40: März 2027 | H40: 3 | I40: 55 | J40: 54 | K40: =IFERROR(J40-I40,"") -> -1 | L40: =IF(J40="","📋 Geplant",IF(J40>I40,"🔴 Überzogen",IF(J40=I40,"✅ Abgeschlossen","🟡 Läuft"))) -> 🟡 Läuft
B41: 36 | C41: P003 | D41: Systemintegration Backend | E41: Hoch | F41: Thomas Kühn | G41: Januar 2027 | H41: 1 | I41: 40 | J41: 38 | K41: =IFERROR(J41-I41,"") -> -2 | L41: =IF(J41="","📋 Geplant",IF(J41>I41,"🔴 Überzogen",IF(J41=I41,"✅ Abgeschlossen","🟡 Läuft"))) -> 🟡 Läuft
B42: 37 | C42: P003 | D42: Systemintegration Backend | E42: Hoch | F42: Elena Braun | G42: Januar 2027 | H42: 1 | I42: 50 | J42: 48 | K42: =IFERROR(J42-I42,"") -> -2 | L42: =IF(J42="","📋 Geplant",IF(J42>I42,"🔴 Überzogen",IF(J42=I42,"✅ Abgeschlossen","🟡 Läuft"))) -> 🟡 Läuft
...

Sheet Dashboard & Auswertung
B2: DASHBOARD & AUSWERTUNG · Ressourcenplanung 2027
B5: 👥 | G5: 📅 | L5: 📊 | Q5: ⚠️ | V5: 🗂️
B6: 10 | G6: =IFERROR(SUM(Projektzuordnung!I6:I115),0) -> 4430 | L6: =IFERROR(AVERAGE('Kapazitätsmatrix 2027'!D33:O42),0) -> 0 | Q6: =IFERROR(COUNTIF('Kapazitätsmatrix 2027'!D33:O42,">0.9"),0) -> 0 | V6: 5
B7: AKTIVE RESSOURCEN | G7: GEPLANTE STUNDEN 2027 | L7: Ø TEAM-AUSLASTUNG | Q7: ÜBERLASTETE PERIODEN | V7: AKTIVE PROJEKTE
B10: AUSLASTUNG JE RESSOURCE · Ø Jahreswert 2027
B11: Ressource | C11: Rolle | D11: Abt. | E11: Ø Auslastung | G11: Status | H11: Geplant h/J. | I11: Verfügbar h/J.
B12: Lisa Bergmann | C12: Projektleiterin | D12: Projektmgmt. | E12: =IFERROR(AVERAGE('Kapazitätsmatrix 2027'!D33:O33),"") -> 0 | G12: =IFERROR(IF(E12>0.9,"🔴 Überlastet",IF(E12>=0.75,"🟢 Optimal","🟡 Unterausgelastet")),"–") -> 🟡 Unterausgelastet | H12: =IFERROR(SUM('Kapazitätsmatrix 2027'!D7:O7),"") -> 0 | I12: =IFERROR(SUM('Kapazitätsmatrix 2027'!D20:O20),"") -> 1451.52
B13: Markus Stein | C13: Senior-Entwickler | D13: Entwicklung | E13: =IFERROR(AVERAGE('Kapazitätsmatrix 2027'!D34:O34),"") -> 0 | G13: =IFERROR(IF(E13>0.9,"🔴 Überlastet",IF(E13>=0.75,"🟢 Optimal","🟡 Unterausgelastet")),"–") -> 🟡 Unterausgelastet | H13: =IFERROR(SUM('Kapazitätsmatrix 2027'!D8:O8),"") -> 0 | I13: =IFERROR(SUM('Kapazitätsmatrix 2027'!D21:O21),"") -> 1669.248
B14: Jana Voigt | C14: UX-Designerin | D14: Design | E14: =IFERROR(AVERAGE('Kapazitätsmatrix 2027'!D35:O35),"") -> 0 | G14: =IFERROR(IF(E14>0.9,"🔴 Überlastet",IF(E14>=0.75,"🟢 Optimal","🟡 Unterausgelastet")),"–") -> 🟡 Unterausgelastet | H14: =IFERROR(SUM('Kapazitätsmatrix 2027'!D9:O9),"") -> 0 | I14: =IFERROR(SUM('Kapazitätsmatrix 2027'!D22:O22),"") -> 1483.1309
B15: Thomas Kühn | C15: Backend-Entwickler | D15: Entwicklung | E15: =IFERROR(AVERAGE('Kapazitätsmatrix 2027'!D36:O36),"") -> 0 | G15: =IFERROR(IF(E15>0.9,"🔴 Überlastet",IF(E15>=0.75,"🟢 Optimal","🟡 Unterausgelastet")),"–") -> 🟡 Unterausgelastet | H15: =IFERROR(SUM('Kapazitätsmatrix 2027'!D10:O10),"") -> 0 | I15: =IFERROR(SUM('Kapazitätsmatrix 2027'!D23:O23),"") -> 1669.248
B16: Sandra Wolff | C16: QA-Ingenieurin | D16: Qualität | E16: =IFERROR(AVERAGE('Kapazitätsmatrix 2027'!D37:O37),"") -> 0 | G16: =IFERROR(IF(E16>0.9,"🔴 Überlastet",IF(E16>=0.75,"🟢 Optimal","🟡 Unterausgelastet")),"–") -> 🟡 Unterausgelastet | H16: =IFERROR(SUM('Kapazitätsmatrix 2027'!D11:O11),"") -> 0 | I16: =IFERROR(SUM('Kapazitätsmatrix 2027'!D24:O24),"") -> 1596.672
B17: Andreas Roth | C17: DevOps-Ingenieur | D17: Infrastruktur | E17: =IFERROR(AVERAGE('Kapazitätsmatrix 2027'!D38:O38),"") -> 0 | G17: =IFERROR(IF(E17>0.9,"🔴 Überlastet",IF(E17>=0.75,"🟢 Optimal","🟡 Unterausgelastet")),"–") -> 🟡 Unterausgelastet | H17: =IFERROR(SUM('Kapazitätsmatrix 2027'!D12:O12),"") -> 0 | I17: =IFERROR(SUM('Kapazitätsmatrix 2027'!D25:O25),"") -> 1669.248
B18: Petra Schön | C18: Frontend-Entwicklerin | D18: Entwicklung | E18: =IFERROR(AVERAGE('Kapazitätsmatrix 2027'!D39:O39),"") -> 0 | G18: =IFERROR(IF(E18>0.9,"🔴 Überlastet",IF(E18>=0.75,"🟢 Optimal","🟡 Unterausgelastet")),"–") -> 🟡 Unterausgelastet | H18: =IFERROR(SUM('Kapazitätsmatrix 2027'!D13:O13),"") -> 0 | I18: =IFERROR(SUM('Kapazitätsmatrix 2027'!D26:O26),"") -> 1551.312
B19: Kai Bauer | C19: Scrum Master | D19: Projektmgmt. | E19: =IFERROR(AVERAGE('Kapazitätsmatrix 2027'!D40:O40),"") -> 0 | G19: =IFERROR(IF(E19>0.9,"🔴 Überlastet",IF(E19>=0.75,"🟢 Optimal","🟡 Unterausgelastet")),"–") -> 🟡 Unterausgelastet | H19: =IFERROR(SUM('Kapazitätsmatrix 2027'!D14:O14),"") -> 0 | I19: =IFERROR(SUM('Kapazitätsmatrix 2027'!D27:O27),"") -> 1179.36
B20: Elena Braun | C20: Datenanalystin | D20: Analytics | E20: =IFERROR(AVERAGE('Kapazitätsmatrix 2027'!D41:O41),"") -> 0 | G20: =IFERROR(IF(E20>0.9,"🔴 Überlastet",IF(E20>=0.75,"🟢 Optimal","🟡 Unterausgelastet")),"–") -> 🟡 Unterausgelastet | H20: =IFERROR(SUM('Kapazitätsmatrix 2027'!D15:O15),"") -> 0 | I20: =IFERROR(SUM('Kapazitätsmatrix 2027'!D28:O28),"") -> 1576.512
B21: Felix Werner | C21: Technischer Autor | D21: Dokumentation | E21: =IFERROR(AVERAGE('Kapazitätsmatrix 2027'!D42:O42),"") -> 0 | G21: =IFERROR(IF(E21>0.9,"🔴 Überlastet",IF(E21>=0.75,"🟢 Optimal","🟡 Unterausgelastet")),"–") -> 🟡 Unterausgelastet | H21: =IFERROR(SUM('Kapazitätsmatrix 2027'!D16:O16),"") -> 0 | I21: =IFERROR(SUM('Kapazitätsmatrix 2027'!D29:O29),"") -> 1382.0083
B24: PROJEKTÜBERSICHT · Geplante & Ist-Stunden 2027
B25: Projekt-ID | C25: Projektname | D25: Priorität | E25: Geplant (h) | F25: Ist (h) | G25: Auslastung | H25: Anz. Zuord.
B26: P001 | C26: Digitales Kundenportal | D26: Hoch | E26: =IFERROR(SUMIF(Projektzuordnung!$C$6:$C$115,"P001",Projektzuordnung!$I$6:$I$115),0) -> 895 | F26: =IFERROR(SUMIF(Projektzuordnung!$C$6:$C$115,"P001",Projektzuordnung!$J$6:$J$115),0) -> 574 | G26: =IFERROR(F26/E26,"") -> 0.64134078 | H26: =IFERROR(COUNTIF(Projektzuordnung!$C$6:$C$115,"P001"),0) -> 23
B27: P002 | C27: Mobile App Entwicklung | D27: Mittel | E27: =IFERROR(SUMIF(Projektzuordnung!$C$6:$C$115,"P002",Projektzuordnung!$I$6:$I$115),0) -> 665 | F27: =IFERROR(SUMIF(Projektzuordnung!$C$6:$C$115,"P002",Projektzuordnung!$J$6:$J$115),0) -> 463 | G27: =IFERROR(F27/E27,"") -> 0.6962406 | H27: =IFERROR(COUNTIF(Projektzuordnung!$C$6:$C$115,"P002"),0) -> 14
B28: P003 | C28: Systemintegration Backend | D28: Hoch | E28: =IFERROR(SUMIF(Projektzuordnung!$C$6:$C$115,"P003",Projektzuordnung!$I$6:$I$115),0) -> 380 | F28: =IFERROR(SUMIF(Projektzuordnung!$C$6:$C$115,"P003",Projektzuordnung!$J$6:$J$115),0) -> 375 | G28: =IFERROR(F28/E28,"") -> 0.98684211 | H28: =IFERROR(COUNTIF(Projektzuordnung!$C$6:$C$115,"P003"),0) -> 9
B29: P004 | C29: Reporting-Plattform | D29: Mittel | E29: =IFERROR(SUMIF(Projektzuordnung!$C$6:$C$115,"P004",Projektzuordnung!$I$6:$I$115),0) -> 1260 | F29: =IFERROR(SUMIF(Projektzuordnung!$C$6:$C$115,"P004",Projektzuordnung!$J$6:$J$115),0) -> 0 | G29: =IFERROR(F29/E29,"") -> 0 | H29: =IFERROR(COUNTIF(Projektzuordnung!$C$6:$C$115,"P004"),0) -> 28
B30: P005 | C30: QA-Automatisierung | D30: Niedrig | E30: =IFERROR(SUMIF(Projektzuordnung!$C$6:$C$115,"P005",Projektzuordnung!$I$6:$I$115),0) -> 1230 | F30: =IFERROR(SUMIF(Projektzuordnung!$C$6:$C$115,"P005",Projektzuordnung!$J$6:$J$115),0) -> 72 | G30: =IFERROR(F30/E30,"") -> 0.058536585 | H30: =IFERROR(COUNTIF(Projektzuordnung!$C$6:$C$115,"P005"),0) -> 36
B33: LEGENDE AUSLASTUNGSAMPEL
B34: 🟢 75 – 90 % Optimale Auslastung — Ressource wird effizient genutzt
B35: 🟡 < 75 % Unterausgelastet — Kapazität verfügbar oder zu wenig geplant
B36: 🔴 > 90 % Überlastet — Risiko von Burnout oder Qualitätsverlust
