Workbook

Sheet Cockpit
B2: KAPAZITÄTS- & RESSOURCENPLANUNG | J2: Unternehmen | K2: Nordlicht Industries GmbH
B3: Cockpit · Geschäftsjahr 2027 | J3: Geschäftsjahr | K3: 2027 | L3: Stand | M3: Okt 2026
B4: Portfolio-Auslastung, Kapazität und Budget auf einen Blick
B7: Team-Ressourcen | F7: Projekte im Portfolio | J7: Ø Auslastung p.a.
B8: =COUNTA(Team!$C$6:$C$14) -> 9 | F8: =COUNTA(Projekte!$C$6:$C$11) -> 6 | J8: =IFERROR(SUM(Einsatzplanung!$U$6:$U$50)/SUM(Team!$N$6:$N$14),0) -> 0.57065217 | P8: Monat | Q8: Kapazität | R8: Geplant
P9: Jan | Q9: =SUM(Team!$M$6:$M$14) -> 1472 | R9: =SUM(Einsatzplanung!$I$6:$I$50) -> 740
B10: Gesamtbudget | F10: Verplante Kosten | J10: Restbudget | P10: Feb | Q10: =SUM(Team!$M$6:$M$14) -> 1472 | R10: =SUM(Einsatzplanung!$J$6:$J$50) -> 1030
B11: =SUM(Projekte!$M$6:$M$11) -> 1400000 | F11: =SUM(Einsatzplanung!$W$6:$W$50) -> 808670 | J11: =B11-F11 -> 591330 | P11: Mär | Q11: =SUM(Team!$M$6:$M$14) -> 1472 | R11: =SUM(Einsatzplanung!$K$6:$K$50) -> 1180
P12: Apr | Q12: =SUM(Team!$M$6:$M$14) -> 1472 | R12: =SUM(Einsatzplanung!$L$6:$L$50) -> 1260
B13: PROJEKTPORTFOLIO | P13: Mai | Q13: =SUM(Team!$M$6:$M$14) -> 1472 | R13: =SUM(Einsatzplanung!$M$6:$M$50) -> 1250
P14: Jun | Q14: =SUM(Team!$M$6:$M$14) -> 1472 | R14: =SUM(Einsatzplanung!$N$6:$N$50) -> 1180
B15: Projekt | G15: Status | I15: Budget (€) | K15: Verplant (€) | L15: Abweichung (€) | M15: Ausschöpfung | P15: Jul | Q15: =SUM(Team!$M$6:$M$14) -> 1472 | R15: =SUM(Einsatzplanung!$O$6:$O$50) -> 950
B16: Kernplattform-Modernisierung | G16: Aktiv | I16: =INDEX(Projekte!$M$6:$M$11,MATCH(B16,Projekte!$C$6:$C$11,0)) -> 420000 | K16: =SUMIF(Einsatzplanung!$B$6:$B$50,B16,Einsatzplanung!$W$6:$W$50) -> 236330 | L16: =I16-K16 -> 183670 | M16: =IFERROR(K16/I16,0) -> 0.56269048 | P16: Aug | Q16: =SUM(Team!$M$6:$M$14) -> 1472 | R16: =SUM(Einsatzplanung!$P$6:$P$50) -> 470
B17: Kundenportal 2.0 | G17: Aktiv | I17: =INDEX(Projekte!$M$6:$M$11,MATCH(B17,Projekte!$C$6:$C$11,0)) -> 300000 | K17: =SUMIF(Einsatzplanung!$B$6:$B$50,B17,Einsatzplanung!$W$6:$W$50) -> 160300 | L17: =I17-K17 -> 139700 | M17: =IFERROR(K17/I17,0) -> 0.53433333 | P17: Sep | Q17: =SUM(Team!$M$6:$M$14) -> 1472 | R17: =SUM(Einsatzplanung!$Q$6:$Q$50) -> 630
B18: Datenplattform & Reporting | G18: Geplant | I18: =INDEX(Projekte!$M$6:$M$11,MATCH(B18,Projekte!$C$6:$C$11,0)) -> 260000 | K18: =SUMIF(Einsatzplanung!$B$6:$B$50,B18,Einsatzplanung!$W$6:$W$50) -> 163800 | L18: =I18-K18 -> 96200 | M18: =IFERROR(K18/I18,0) -> 0.63 | P18: Okt | Q18: =SUM(Team!$M$6:$M$14) -> 1472 | R18: =SUM(Einsatzplanung!$R$6:$R$50) -> 570
B19: Cloud-Migration | G19: Aktiv | I19: =INDEX(Projekte!$M$6:$M$11,MATCH(B19,Projekte!$C$6:$C$11,0)) -> 180000 | K19: =SUMIF(Einsatzplanung!$B$6:$B$50,B19,Einsatzplanung!$W$6:$W$50) -> 90480 | L19: =I19-K19 -> 89520 | M19: =IFERROR(K19/I19,0) -> 0.50266667 | P19: Nov | Q19: =SUM(Team!$M$6:$M$14) -> 1472 | R19: =SUM(Einsatzplanung!$S$6:$S$50) -> 500
B20: Markteinführung Produktlinie | G20: Geplant | I20: =INDEX(Projekte!$M$6:$M$11,MATCH(B20,Projekte!$C$6:$C$11,0)) -> 150000 | K20: =SUMIF(Einsatzplanung!$B$6:$B$50,B20,Einsatzplanung!$W$6:$W$50) -> 90560 | L20: =I20-K20 -> 59440 | M20: =IFERROR(K20/I20,0) -> 0.60373333 | P20: Dez | Q20: =SUM(Team!$M$6:$M$14) -> 1472 | R20: =SUM(Einsatzplanung!$T$6:$T$50) -> 320
B21: Interne Prozesse & Enablement | G21: Laufend | I21: =INDEX(Projekte!$M$6:$M$11,MATCH(B21,Projekte!$C$6:$C$11,0)) -> 90000 | K21: =SUMIF(Einsatzplanung!$B$6:$B$50,B21,Einsatzplanung!$W$6:$W$50) -> 67200 | L21: =I21-K21 -> 22800 | M21: =IFERROR(K21/I21,0) -> 0.74666667
B22: Gesamt | I22: =SUM(I16:I21) -> 1400000 | K22: =SUM(K16:K21) -> 808670 | L22: =SUM(L16:L21) -> 591330 | M22: =IFERROR(K22/I22,0) -> 0.57762143
B24: ENGPÄSSE · ÜBERLASTETE RESSOURCEN
B26: Ressource | G26: Überlastete Monate | J26: Spitzen-Auslastung
B27: =Auslastung!$C$6 -> Carla Vogt | G27: =Auslastung!$U$6 -> 0 | J27: =Auslastung!$T$6 -> 0.86705202 | P27: Verplant | Q27: =F11 -> 808670
B28: =Auslastung!$C$7 -> Mehmet Yıldız | G28: =Auslastung!$U$7 -> 3 | J28: =Auslastung!$T$7 -> 1.1560694 | P28: Frei | Q28: =MAX(B11-F11,0) -> 591330
B29: =Auslastung!$C$8 -> Julia Brandt | G29: =Auslastung!$U$8 -> 2 | J29: =Auslastung!$T$8 -> 1.0404624
B30: =Auslastung!$C$9 -> Felix Horn | G30: =Auslastung!$U$9 -> 2 | J30: =Auslastung!$T$9 -> 1.0071942
B31: =Auslastung!$C$10 -> Nadia Scholz | G31: =Auslastung!$U$10 -> 1 | J31: =Auslastung!$T$10 -> 1.0404624
B32: =Auslastung!$C$11 -> Robert Kraus | G32: =Auslastung!$U$11 -> 0 | J32: =Auslastung!$T$11 -> 0.92485549
B33: =Auslastung!$C$12 -> Elena Petrova | G33: =Auslastung!$U$12 -> 1 | J33: =Auslastung!$T$12 -> 1.025641
B34: =Auslastung!$C$13 -> Tobias Lang | G34: =Auslastung!$U$13 -> 2 | J34: =Auslastung!$T$13 -> 1.2138728
B35: =Auslastung!$C$14 -> Hanna Weiß | G35: =Auslastung!$U$14 -> 2 | J35: =Auslastung!$T$14 -> 1.0791367

Sheet Team
B2: STAMMDATEN
B3: Team
B4: Rollen, Kapazität und Kostensätze · Basis für die gesamte Planung
B5: Nr. | C5: Name | E5: Rolle | G5: Kostenstelle | I5: Standort | J5: FTE | K5: Std/ Woche | L5: €/Std | M5: Kapazität h/Monat | N5: Kapazität h/Jahr | O5: Kapazität €/Jahr
B6: TM-01 | C6: Carla Vogt | E6: Programm-Managerin | G6: PMO | I6: Köln | J6: 1 | K6: =J6*40 -> 40 | L6: 105 | M6: =ROUND(K6*52/12,0) -> 173 | N6: =M6*12 -> 2076 | O6: =N6*L6 -> 217980
B7: TM-02 | C7: Mehmet Yıldız | E7: Lead Developer | G7: Engineering | I7: Berlin | J7: 1 | K7: =J7*40 -> 40 | L7: 90 | M7: =ROUND(K7*52/12,0) -> 173 | N7: =M7*12 -> 2076 | O7: =N7*L7 -> 186840
B8: TM-03 | C8: Julia Brandt | E8: Softwareentwicklerin | G8: Engineering | I8: Berlin | J8: 1 | K8: =J8*40 -> 40 | L8: 72 | M8: =ROUND(K8*52/12,0) -> 173 | N8: =M8*12 -> 2076 | O8: =N8*L8 -> 149472
B9: TM-04 | C9: Felix Horn | E9: Softwareentwickler | G9: Engineering | I9: Leipzig | J9: 0.8 | K9: =J9*40 -> 32 | L9: 68 | M9: =ROUND(K9*52/12,0) -> 139 | N9: =M9*12 -> 1668 | O9: =N9*L9 -> 113424
B10: TM-05 | C10: Nadia Scholz | E10: Produktdesignerin | G10: Design | I10: Hamburg | J10: 1 | K10: =J10*40 -> 40 | L10: 78 | M10: =ROUND(K10*52/12,0) -> 173 | N10: =M10*12 -> 2076 | O10: =N10*L10 -> 161928
B11: TM-06 | C11: Robert Kraus | E11: Data Analyst | G11: Data & Analytics | I11: München | J11: 1 | K11: =J11*40 -> 40 | L11: 80 | M11: =ROUND(K11*52/12,0) -> 173 | N11: =M11*12 -> 2076 | O11: =N11*L11 -> 166080
B12: TM-07 | C12: Elena Petrova | E12: QA-Lead | G12: Quality | I12: Berlin | J12: 0.9 | K12: =J12*40 -> 36 | L12: 66 | M12: =ROUND(K12*52/12,0) -> 156 | N12: =M12*12 -> 1872 | O12: =N12*L12 -> 123552
B13: TM-08 | C13: Tobias Lang | E13: Cloud Engineer | G13: Platform | I13: Frankfurt | J13: 1 | K13: =J13*40 -> 40 | L13: 88 | M13: =ROUND(K13*52/12,0) -> 173 | N13: =M13*12 -> 2076 | O13: =N13*L13 -> 182688
B14: TM-09 | C14: Hanna Weiß | E14: Marketing-Lead | G14: Marketing | I14: Hamburg | J14: 0.8 | K14: =J14*40 -> 32 | L14: 70 | M14: =ROUND(K14*52/12,0) -> 139 | N14: =M14*12 -> 1668 | O14: =N14*L14 -> 116760
C15: Gesamt / Ø | J15: =SUM(J6:J14) -> 8.5 | K15: =SUM(K6:K14) -> 340 | L15: =ROUND(AVERAGE(L6:L14),0) -> 80 | M15: =SUM(M6:M14) -> 1472 | N15: =SUM(N6:N14) -> 17664 | O15: =SUM(O6:O14) -> 1418724
C17: Std/Woche = FTE × 40 · Kapazität h/Monat = Std/Woche × 52 ÷ 12 (gerundet). Blau hinterlegte Felder sind Eingaben.

Sheet Projekte
B2: PORTFOLIO
B3: Projekte
B4: Projektregister mit Budget, Zeitraum und automatischer Soll-/Ist-Abweichung
B5: Code | C5: Projektname | G5: Projektleitung | I5: Prio | J5: Status | K5: Start | L5: Ende | M5: Budget (€) | O5: Geplant (h) | P5: Geplante Kosten (€) | R5: Abwei- chung (€) | T5: Aus- schöpf.
B6: PRJ-01 | C6: Kernplattform-Modernisierung | G6: Carla Vogt | I6: Hoch | J6: Aktiv | K6: Jan 27 | L6: Sep 27 | M6: 420000 | O6: =SUMIF(Einsatzplanung!$B$6:$B$50,C6,Einsatzplanung!$U$6:$U$50) -> 2740 | P6: =SUMIF(Einsatzplanung!$B$6:$B$50,C6,Einsatzplanung!$W$6:$W$50) -> 236330 | R6: =M6-P6 -> 183670 | T6: =IFERROR(P6/M6,0) -> 0.56269048
B7: PRJ-02 | C7: Kundenportal 2.0 | G7: Nadia Scholz | I7: Hoch | J7: Aktiv | K7: Feb 27 | L7: Aug 27 | M7: 300000 | O7: =SUMIF(Einsatzplanung!$B$6:$B$50,C7,Einsatzplanung!$U$6:$U$50) -> 2220 | P7: =SUMIF(Einsatzplanung!$B$6:$B$50,C7,Einsatzplanung!$W$6:$W$50) -> 160300 | R7: =M7-P7 -> 139700 | T7: =IFERROR(P7/M7,0) -> 0.53433333
B8: PRJ-03 | C8: Datenplattform & Reporting | G8: Robert Kraus | I8: Mittel | J8: Geplant | K8: Apr 27 | L8: Dez 27 | M8: 260000 | O8: =SUMIF(Einsatzplanung!$B$6:$B$50,C8,Einsatzplanung!$U$6:$U$50) -> 2090 | P8: =SUMIF(Einsatzplanung!$B$6:$B$50,C8,Einsatzplanung!$W$6:$W$50) -> 163800 | R8: =M8-P8 -> 96200 | T8: =IFERROR(P8/M8,0) -> 0.63
B9: PRJ-04 | C9: Cloud-Migration | G9: Tobias Lang | I9: Hoch | J9: Aktiv | K9: Jan 27 | L9: Jun 27 | M9: 180000 | O9: =SUMIF(Einsatzplanung!$B$6:$B$50,C9,Einsatzplanung!$U$6:$U$50) -> 1060 | P9: =SUMIF(Einsatzplanung!$B$6:$B$50,C9,Einsatzplanung!$W$6:$W$50) -> 90480 | R9: =M9-P9 -> 89520 | T9: =IFERROR(P9/M9,0) -> 0.50266667
B10: PRJ-05 | C10: Markteinführung Produktlinie | G10: Hanna Weiß | I10: Mittel | J10: Geplant | K10: Mai 27 | L10: Nov 27 | M10: 150000 | O10: =SUMIF(Einsatzplanung!$B$6:$B$50,C10,Einsatzplanung!$U$6:$U$50) -> 1240 | P10: =SUMIF(Einsatzplanung!$B$6:$B$50,C10,Einsatzplanung!$W$6:$W$50) -> 90560 | R10: =M10-P10 -> 59440 | T10: =IFERROR(P10/M10,0) -> 0.60373333
B11: PRJ-06 | C11: Interne Prozesse & Enablement | G11: Carla Vogt | I11: Niedrig | J11: Laufend | K11: Jan 27 | L11: Dez 27 | M11: 90000 | O11: =SUMIF(Einsatzplanung!$B$6:$B$50,C11,Einsatzplanung!$U$6:$U$50) -> 730 | P11: =SUMIF(Einsatzplanung!$B$6:$B$50,C11,Einsatzplanung!$W$6:$W$50) -> 67200 | R11: =M11-P11 -> 22800 | T11: =IFERROR(P11/M11,0) -> 0.74666667
C12: Gesamt | M12: =SUM(M6:M11) -> 1400000 | O12: =SUM(O6:O11) -> 10080 | P12: =SUM(P6:P11) -> 808670 | R12: =SUM(R6:R11) -> 591330 | T12: =IFERROR(P12/M12,0) -> 0.57762143
C14: Geplant (h), Geplante Kosten und Abweichung werden automatisch aus der Einsatzplanung ermittelt.

Sheet Einsatzplanung
B2: PLANUNG
B3: Einsatzplanung
B4: Geplante Stunden je Projekt und Ressource – pro Monat. Kosten werden automatisch berechnet.
B5: Projekt | E5: Ressource | G5: Rolle | I5: Jan | J5: Feb | K5: Mär | L5: Apr | M5: Mai | N5: Jun | O5: Jul | P5: Aug | Q5: Sep | R5: Okt | S5: Nov | T5: Dez | U5: Summe Std | V5: €/Std | W5: Kosten (€)
B6: Kernplattform-Modernisierung | E6: Carla Vogt | G6: =IFERROR(INDEX(Team!$E$6:$E$14,MATCH(E6,Team!$C$6:$C$14,0)),"") -> Programm-Managerin | I6: 90 | J6: 100 | K6: 110 | L6: 90 | M6: 80 | N6: 70 | O6: 40 | P6: 20 | Q6: 30 | U6: =SUM(I6:T6) -> 630 | V6: =IFERROR(INDEX(Team!$L$6:$L$14,MATCH(E6,Team!$C$6:$C$14,0)),"") -> 105 | W6: =IF(U6=0,"",U6*V6) -> 66150
B7: Interne Prozesse & Enablement | E7: Carla Vogt | G7: =IFERROR(INDEX(Team!$E$6:$E$14,MATCH(E7,Team!$C$6:$C$14,0)),"") -> Programm-Managerin | I7: 40 | J7: 40 | K7: 40 | L7: 40 | M7: 40 | N7: 40 | O7: 40 | P7: 20 | Q7: 40 | R7: 40 | S7: 40 | T7: 40 | U7: =SUM(I7:T7) -> 460 | V7: =IFERROR(INDEX(Team!$L$6:$L$14,MATCH(E7,Team!$C$6:$C$14,0)),"") -> 105 | W7: =IF(U7=0,"",U7*V7) -> 48300
B8: Kernplattform-Modernisierung | E8: Mehmet Yıldız | G8: =IFERROR(INDEX(Team!$E$6:$E$14,MATCH(E8,Team!$C$6:$C$14,0)),"") -> Lead Developer | I8: 120 | J8: 140 | K8: 140 | L8: 120 | M8: 110 | N8: 90 | O8: 60 | P8: 40 | Q8: 40 | U8: =SUM(I8:T8) -> 860 | V8: =IFERROR(INDEX(Team!$L$6:$L$14,MATCH(E8,Team!$C$6:$C$14,0)),"") -> 90 | W8: =IF(U8=0,"",U8*V8) -> 77400
B9: Cloud-Migration | E9: Mehmet Yıldız | G9: =IFERROR(INDEX(Team!$E$6:$E$14,MATCH(E9,Team!$C$6:$C$14,0)),"") -> Lead Developer | I9: 60 | J9: 60 | K9: 60 | L9: 40 | M9: 20 | N9: 10 | U9: =SUM(I9:T9) -> 250 | V9: =IFERROR(INDEX(Team!$L$6:$L$14,MATCH(E9,Team!$C$6:$C$14,0)),"") -> 90 | W9: =IF(U9=0,"",U9*V9) -> 22500
B10: Kernplattform-Modernisierung | E10: Julia Brandt | G10: =IFERROR(INDEX(Team!$E$6:$E$14,MATCH(E10,Team!$C$6:$C$14,0)),"") -> Softwareentwicklerin | I10: 80 | J10: 100 | K10: 110 | L10: 90 | M10: 60 | N10: 40 | U10: =SUM(I10:T10) -> 480 | V10: =IFERROR(INDEX(Team!$L$6:$L$14,MATCH(E10,Team!$C$6:$C$14,0)),"") -> 72 | W10: =IF(U10=0,"",U10*V10) -> 34560
B11: Kundenportal 2.0 | E11: Julia Brandt | G11: =IFERROR(INDEX(Team!$E$6:$E$14,MATCH(E11,Team!$C$6:$C$14,0)),"") -> Softwareentwicklerin | J11: 40 | K11: 60 | L11: 90 | M11: 120 | N11: 110 | O11: 90 | P11: 40 | Q11: 20 | U11: =SUM(I11:T11) -> 570 | V11: =IFERROR(INDEX(Team!$L$6:$L$14,MATCH(E11,Team!$C$6:$C$14,0)),"") -> 72 | W11: =IF(U11=0,"",U11*V11) -> 41040
B12: Kundenportal 2.0 | E12: Felix Horn | G12: =IFERROR(INDEX(Team!$E$6:$E$14,MATCH(E12,Team!$C$6:$C$14,0)),"") -> Softwareentwickler | J12: 60 | K12: 80 | L12: 90 | M12: 90 | N12: 80 | O12: 70 | P12: 30 | U12: =SUM(I12:T12) -> 500 | V12: =IFERROR(INDEX(Team!$L$6:$L$14,MATCH(E12,Team!$C$6:$C$14,0)),"") -> 68 | W12: =IF(U12=0,"",U12*V12) -> 34000
B13: Datenplattform & Reporting | E13: Felix Horn | G13: =IFERROR(INDEX(Team!$E$6:$E$14,MATCH(E13,Team!$C$6:$C$14,0)),"") -> Softwareentwickler | L13: 40 | M13: 40 | N13: 60 | O13: 70 | P13: 40 | Q13: 90 | R13: 100 | S13: 90 | T13: 60 | U13: =SUM(I13:T13) -> 590 | V13: =IFERROR(INDEX(Team!$L$6:$L$14,MATCH(E13,Team!$C$6:$C$14,0)),"") -> 68 | W13: =IF(U13=0,"",U13*V13) -> 40120
B14: Kundenportal 2.0 | E14: Nadia Scholz | G14: =IFERROR(INDEX(Team!$E$6:$E$14,MATCH(E14,Team!$C$6:$C$14,0)),"") -> Produktdesignerin | I14: 70 | J14: 120 | K14: 140 | L14: 150 | M14: 120 | N14: 90 | O14: 60 | P14: 30 | U14: =SUM(I14:T14) -> 780 | V14: =IFERROR(INDEX(Team!$L$6:$L$14,MATCH(E14,Team!$C$6:$C$14,0)),"") -> 78 | W14: =IF(U14=0,"",U14*V14) -> 60840
B15: Markteinführung Produktlinie | E15: Nadia Scholz | G15: =IFERROR(INDEX(Team!$E$6:$E$14,MATCH(E15,Team!$C$6:$C$14,0)),"") -> Produktdesignerin | M15: 60 | N15: 80 | O15: 90 | P15: 40 | Q15: 80 | R15: 70 | S15: 50 | U15: =SUM(I15:T15) -> 470 | V15: =IFERROR(INDEX(Team!$L$6:$L$14,MATCH(E15,Team!$C$6:$C$14,0)),"") -> 78 | W15: =IF(U15=0,"",U15*V15) -> 36660
B16: Datenplattform & Reporting | E16: Robert Kraus | G16: =IFERROR(INDEX(Team!$E$6:$E$14,MATCH(E16,Team!$C$6:$C$14,0)),"") -> Data Analyst | L16: 120 | M16: 130 | N16: 140 | O16: 130 | P16: 60 | Q16: 120 | R16: 130 | S16: 120 | T16: 90 | U16: =SUM(I16:T16) -> 1040 | V16: =IFERROR(INDEX(Team!$L$6:$L$14,MATCH(E16,Team!$C$6:$C$14,0)),"") -> 80 | W16: =IF(U16=0,"",U16*V16) -> 83200
B17: Kernplattform-Modernisierung | E17: Robert Kraus | G17: =IFERROR(INDEX(Team!$E$6:$E$14,MATCH(E17,Team!$C$6:$C$14,0)),"") -> Data Analyst | I17: 60 | J17: 70 | K17: 60 | L17: 40 | U17: =SUM(I17:T17) -> 230 | V17: =IFERROR(INDEX(Team!$L$6:$L$14,MATCH(E17,Team!$C$6:$C$14,0)),"") -> 80 | W17: =IF(U17=0,"",U17*V17) -> 18400
B18: Kernplattform-Modernisierung | E18: Elena Petrova | G18: =IFERROR(INDEX(Team!$E$6:$E$14,MATCH(E18,Team!$C$6:$C$14,0)),"") -> QA-Lead | J18: 40 | K18: 60 | L18: 80 | M18: 70 | N18: 60 | O18: 40 | U18: =SUM(I18:T18) -> 350 | V18: =IFERROR(INDEX(Team!$L$6:$L$14,MATCH(E18,Team!$C$6:$C$14,0)),"") -> 66 | W18: =IF(U18=0,"",U18*V18) -> 23100
B19: Kundenportal 2.0 | E19: Elena Petrova | G19: =IFERROR(INDEX(Team!$E$6:$E$14,MATCH(E19,Team!$C$6:$C$14,0)),"") -> QA-Lead | K19: 40 | L19: 60 | M19: 80 | N19: 80 | O19: 70 | P19: 40 | U19: =SUM(I19:T19) -> 370 | V19: =IFERROR(INDEX(Team!$L$6:$L$14,MATCH(E19,Team!$C$6:$C$14,0)),"") -> 66 | W19: =IF(U19=0,"",U19*V19) -> 24420
B20: Cloud-Migration | E20: Elena Petrova | G20: =IFERROR(INDEX(Team!$E$6:$E$14,MATCH(E20,Team!$C$6:$C$14,0)),"") -> QA-Lead | I20: 40 | J20: 50 | K20: 40 | L20: 20 | U20: =SUM(I20:T20) -> 150 | V20: =IFERROR(INDEX(Team!$L$6:$L$14,MATCH(E20,Team!$C$6:$C$14,0)),"") -> 66 | W20: =IF(U20=0,"",U20*V20) -> 9900
B21: Cloud-Migration | E21: Tobias Lang | G21: =IFERROR(INDEX(Team!$E$6:$E$14,MATCH(E21,Team!$C$6:$C$14,0)),"") -> Cloud Engineer | I21: 110 | J21: 130 | K21: 150 | L21: 120 | M21: 90 | N21: 60 | U21: =SUM(I21:T21) -> 660 | V21: =IFERROR(INDEX(Team!$L$6:$L$14,MATCH(E21,Team!$C$6:$C$14,0)),"") -> 88 | W21: =IF(U21=0,"",U21*V21) -> 58080
B22: Kernplattform-Modernisierung | E22: Tobias Lang | G22: =IFERROR(INDEX(Team!$E$6:$E$14,MATCH(E22,Team!$C$6:$C$14,0)),"") -> Cloud Engineer | I22: 40 | J22: 50 | K22: 60 | L22: 40 | U22: =SUM(I22:T22) -> 190 | V22: =IFERROR(INDEX(Team!$L$6:$L$14,MATCH(E22,Team!$C$6:$C$14,0)),"") -> 88 | W22: =IF(U22=0,"",U22*V22) -> 16720
B23: Datenplattform & Reporting | E23: Tobias Lang | G23: =IFERROR(INDEX(Team!$E$6:$E$14,MATCH(E23,Team!$C$6:$C$14,0)),"") -> Cloud Engineer | M23: 40 | N23: 50 | O23: 60 | P23: 40 | Q23: 70 | R23: 80 | S23: 70 | T23: 50 | U23: =SUM(I23:T23) -> 460 | V23: =IFERROR(INDEX(Team!$L$6:$L$14,MATCH(E23,Team!$C$6:$C$14,0)),"") -> 88 | W23: =IF(U23=0,"",U23*V23) -> 40480
B24: Markteinführung Produktlinie | E24: Hanna Weiß | G24: =IFERROR(INDEX(Team!$E$6:$E$14,MATCH(E24,Team!$C$6:$C$14,0)),"") -> Marketing-Lead | M24: 80 | N24: 100 | O24: 110 | P24: 60 | Q24: 120 | R24: 130 | S24: 110 | T24: 60 | U24: =SUM(I24:T24) -> 770 | V24: =IFERROR(INDEX(Team!$L$6:$L$14,MATCH(E24,Team!$C$6:$C$14,0)),"") -> 70 | W24: =IF(U24=0,"",U24*V24) -> 53900
B25: Interne Prozesse & Enablement | E25: Hanna Weiß | G25: =IFERROR(INDEX(Team!$E$6:$E$14,MATCH(E25,Team!$C$6:$C$14,0)),"") -> Marketing-Lead | I25: 30 | J25: 30 | K25: 30 | L25: 30 | M25: 20 | N25: 20 | O25: 20 | P25: 10 | Q25: 20 | R25: 20 | S25: 20 | T25: 20 | U25: =SUM(I25:T25) -> 270 | V25: =IFERROR(INDEX(Team!$L$6:$L$14,MATCH(E25,Team!$C$6:$C$14,0)),"") -> 70 | W25: =IF(U25=0,"",U25*V25) -> 18900
G26: =IFERROR(INDEX(Team!$E$6:$E$14,MATCH(E26,Team!$C$6:$C$14,0)),"") | U26: =SUM(I26:T26) -> 0 | V26: =IFERROR(INDEX(Team!$L$6:$L$14,MATCH(E26,Team!$C$6:$C$14,0)),"") | W26: =IF(U26=0,"",U26*V26)
G27: =IFERROR(INDEX(Team!$E$6:$E$14,MATCH(E27,Team!$C$6:$C$14,0)),"") | U27: =SUM(I27:T27) -> 0 | V27: =IFERROR(INDEX(Team!$L$6:$L$14,MATCH(E27,Team!$C$6:$C$14,0)),"") | W27: =IF(U27=0,"",U27*V27)
G28: =IFERROR(INDEX(Team!$E$6:$E$14,MATCH(E28,Team!$C$6:$C$14,0)),"") | U28: =SUM(I28:T28) -> 0 | V28: =IFERROR(INDEX(Team!$L$6:$L$14,MATCH(E28,Team!$C$6:$C$14,0)),"") | W28: =IF(U28=0,"",U28*V28)
G29: =IFERROR(INDEX(Team!$E$6:$E$14,MATCH(E29,Team!$C$6:$C$14,0)),"") | U29: =SUM(I29:T29) -> 0 | V29: =IFERROR(INDEX(Team!$L$6:$L$14,MATCH(E29,Team!$C$6:$C$14,0)),"") | W29: =IF(U29=0,"",U29*V29)
G30: =IFERROR(INDEX(Team!$E$6:$E$14,MATCH(E30,Team!$C$6:$C$14,0)),"") | U30: =SUM(I30:T30) -> 0 | V30: =IFERROR(INDEX(Team!$L$6:$L$14,MATCH(E30,Team!$C$6:$C$14,0)),"") | W30: =IF(U30=0,"",U30*V30)
G31: =IFERROR(INDEX(Team!$E$6:$E$14,MATCH(E31,Team!$C$6:$C$14,0)),"") | U31: =SUM(I31:T31) -> 0 | V31: =IFERROR(INDEX(Team!$L$6:$L$14,MATCH(E31,Team!$C$6:$C$14,0)),"") | W31: =IF(U31=0,"",U31*V31)
G32: =IFERROR(INDEX(Team!$E$6:$E$14,MATCH(E32,Team!$C$6:$C$14,0)),"") | U32: =SUM(I32:T32) -> 0 | V32: =IFERROR(INDEX(Team!$L$6:$L$14,MATCH(E32,Team!$C$6:$C$14,0)),"") | W32: =IF(U32=0,"",U32*V32)
G33: =IFERROR(INDEX(Team!$E$6:$E$14,MATCH(E33,Team!$C$6:$C$14,0)),"") | U33: =SUM(I33:T33) -> 0 | V33: =IFERROR(INDEX(Team!$L$6:$L$14,MATCH(E33,Team!$C$6:$C$14,0)),"") | W33: =IF(U33=0,"",U33*V33)
G34: =IFERROR(INDEX(Team!$E$6:$E$14,MATCH(E34,Team!$C$6:$C$14,0)),"") | U34: =SUM(I34:T34) -> 0 | V34: =IFERROR(INDEX(Team!$L$6:$L$14,MATCH(E34,Team!$C$6:$C$14,0)),"") | W34: =IF(U34=0,"",U34*V34)
G35: =IFERROR(INDEX(Team!$E$6:$E$14,MATCH(E35,Team!$C$6:$C$14,0)),"") | U35: =SUM(I35:T35) -> 0 | V35: =IFERROR(INDEX(Team!$L$6:$L$14,MATCH(E35,Team!$C$6:$C$14,0)),"") | W35: =IF(U35=0,"",U35*V35)
G36: =IFERROR(INDEX(Team!$E$6:$E$14,MATCH(E36,Team!$C$6:$C$14,0)),"") | U36: =SUM(I36:T36) -> 0 | V36: =IFERROR(INDEX(Team!$L$6:$L$14,MATCH(E36,Team!$C$6:$C$14,0)),"") | W36: =IF(U36=0,"",U36*V36)
G37: =IFERROR(INDEX(Team!$E$6:$E$14,MATCH(E37,Team!$C$6:$C$14,0)),"") | U37: =SUM(I37:T37) -> 0 | V37: =IFERROR(INDEX(Team!$L$6:$L$14,MATCH(E37,Team!$C$6:$C$14,0)),"") | W37: =IF(U37=0,"",U37*V37)
... G50: =IFERROR(INDEX(Team!$E$6:$E$14,MATCH(E50,Team!$C$6:$C$14,0)),"") | U50: =SUM(I50:T50) -> 0 | V50: =IFERROR(INDEX(Team!$L$6:$L$14,MATCH(E50,Team!$C$6:$C$14,0)),"") | W50: =IF(U50=0,"",U50*V50)
B51: Gesamt geplant | I51: =SUM(I6:I50) -> 740 | J51: =SUM(J6:J50) -> 1030 | K51: =SUM(K6:K50) -> 1180 | L51: =SUM(L6:L50) -> 1260 | M51: =SUM(M6:M50) -> 1250 | N51: =SUM(N6:N50) -> 1180 | O51: =SUM(O6:O50) -> 950 | P51: =SUM(P6:P50) -> 470 | ... U51: =SUM(U6:U50) -> 10080 | W51: =SUM(W6:W50) -> 808670

Sheet Auslastung
B2: ANALYSE
B3: Auslastung
B4: Monatliche Auslastung je Ressource (geplante Stunden ÷ Kapazität) – Heatmap mit Überlastwarnung
B5: Nr. | C5: Ressource | E5: Kostenstelle | G5: Jan | H5: Feb | I5: Mär | J5: Apr | K5: Mai | L5: Jun | M5: Jul | N5: Aug | O5: Sep | P5: Okt | Q5: Nov | R5: Dez | S5: Ø | T5: Peak | U5: Über- last | V5: Status
B6: =Team!B6 -> TM-01 | C6: =Team!C6 -> Carla Vogt | E6: =Team!G6 -> PMO | G6: =IFERROR(SUMIF(Einsatzplanung!$E$6:$E$50,$C6,Einsatzplanung!$I$6:$I$50)/Team!$M$6,0) -> 0.75144509 | H6: =IFERROR(SUMIF(Einsatzplanung!$E$6:$E$50,$C6,Einsatzplanung!$J$6:$J$50)/Team!$M$6,0) -> 0.80924855 | I6: =IFERROR(SUMIF(Einsatzplanung!$E$6:$E$50,$C6,Einsatzplanung!$K$6:$K$50)/Team!$M$6,0) -> 0.86705202 | J6: =IFERROR(SUMIF(Einsatzplanung!$E$6:$E$50,$C6,Einsatzplanung!$L$6:$L$50)/Team!$M$6,0) -> 0.75144509 | K6: =IFERROR(SUMIF(Einsatzplanung!$E$6:$E$50,$C6,Einsatzplanung!$M$6:$M$50)/Team!$M$6,0) -> 0.69364162 | L6: =IFERROR(SUMIF(Einsatzplanung!$E$6:$E$50,$C6,Einsatzplanung!$N$6:$N$50)/Team!$M$6,0) -> 0.63583815 | M6: =IFERROR(SUMIF(Einsatzplanung!$E$6:$E$50,$C6,Einsatzplanung!$O$6:$O$50)/Team!$M$6,0) -> 0.46242775 | N6: =IFERROR(SUMIF(Einsatzplanung!$E$6:$E$50,$C6,Einsatzplanung!$P$6:$P$50)/Team!$M$6,0) -> 0.23121387 | O6: =IFERROR(SUMIF(Einsatzplanung!$E$6:$E$50,$C6,Einsatzplanung!$Q$6:$Q$50)/Team!$M$6,0) -> 0.40462428 | P6: =IFERROR(SUMIF(Einsatzplanung!$E$6:$E$50,$C6,Einsatzplanung!$R$6:$R$50)/Team!$M$6,0) -> 0.23121387 | Q6: =IFERROR(SUMIF(Einsatzplanung!$E$6:$E$50,$C6,Einsatzplanung!$S$6:$S$50)/Team!$M$6,0) -> 0.23121387 | R6: =IFERROR(SUMIF(Einsatzplanung!$E$6:$E$50,$C6,Einsatzplanung!$T$6:$T$50)/Team!$M$6,0) -> 0.23121387 | S6: =AVERAGE(G6:R6) -> 0.52504817 | T6: =MAX(G6:R6) -> 0.86705202 | U6: =SUMPRODUCT(--(G6:R6>1)) -> 0 | V6: =IF(U6>0,"Überlastet",IF(S6>=0.85,"Hoch",IF(S6>=0.6,"Solide",IF(S6>0,"Gering","Frei")))) -> Gering
B7: =Team!B7 -> TM-02 | C7: =Team!C7 -> Mehmet Yıldız | E7: =Team!G7 -> Engineering | G7: =IFERROR(SUMIF(Einsatzplanung!$E$6:$E$50,$C7,Einsatzplanung!$I$6:$I$50)/Team!$M$7,0) -> 1.0404624 | H7: =IFERROR(SUMIF(Einsatzplanung!$E$6:$E$50,$C7,Einsatzplanung!$J$6:$J$50)/Team!$M$7,0) -> 1.1560694 | I7: =IFERROR(SUMIF(Einsatzplanung!$E$6:$E$50,$C7,Einsatzplanung!$K$6:$K$50)/Team!$M$7,0) -> 1.1560694 | J7: =IFERROR(SUMIF(Einsatzplanung!$E$6:$E$50,$C7,Einsatzplanung!$L$6:$L$50)/Team!$M$7,0) -> 0.92485549 | K7: =IFERROR(SUMIF(Einsatzplanung!$E$6:$E$50,$C7,Einsatzplanung!$M$6:$M$50)/Team!$M$7,0) -> 0.75144509 | L7: =IFERROR(SUMIF(Einsatzplanung!$E$6:$E$50,$C7,Einsatzplanung!$N$6:$N$50)/Team!$M$7,0) -> 0.57803468 | M7: =IFERROR(SUMIF(Einsatzplanung!$E$6:$E$50,$C7,Einsatzplanung!$O$6:$O$50)/Team!$M$7,0) -> 0.34682081 | N7: =IFERROR(SUMIF(Einsatzplanung!$E$6:$E$50,$C7,Einsatzplanung!$P$6:$P$50)/Team!$M$7,0) -> 0.23121387 | O7: =IFERROR(SUMIF(Einsatzplanung!$E$6:$E$50,$C7,Einsatzplanung!$Q$6:$Q$50)/Team!$M$7,0) -> 0.23121387 | P7: =IFERROR(SUMIF(Einsatzplanung!$E$6:$E$50,$C7,Einsatzplanung!$R$6:$R$50)/Team!$M$7,0) -> 0 | Q7: =IFERROR(SUMIF(Einsatzplanung!$E$6:$E$50,$C7,Einsatzplanung!$S$6:$S$50)/Team!$M$7,0) -> 0 | R7: =IFERROR(SUMIF(Einsatzplanung!$E$6:$E$50,$C7,Einsatzplanung!$T$6:$T$50)/Team!$M$7,0) -> 0 | S7: =AVERAGE(G7:R7) -> 0.53468208 | T7: =MAX(G7:R7) -> 1.1560694 | U7: =SUMPRODUCT(--(G7:R7>1)) -> 3 | V7: =IF(U7>0,"Überlastet",IF(S7>=0.85,"Hoch",IF(S7>=0.6,"Solide",IF(S7>0,"Gering","Frei")))) -> Überlastet
B8: =Team!B8 -> TM-03 | C8: =Team!C8 -> Julia Brandt | E8: =Team!G8 -> Engineering | G8: =IFERROR(SUMIF(Einsatzplanung!$E$6:$E$50,$C8,Einsatzplanung!$I$6:$I$50)/Team!$M$8,0) -> 0.46242775 | H8: =IFERROR(SUMIF(Einsatzplanung!$E$6:$E$50,$C8,Einsatzplanung!$J$6:$J$50)/Team!$M$8,0) -> 0.80924855 | I8: =IFERROR(SUMIF(Einsatzplanung!$E$6:$E$50,$C8,Einsatzplanung!$K$6:$K$50)/Team!$M$8,0) -> 0.98265896 | J8: =IFERROR(SUMIF(Einsatzplanung!$E$6:$E$50,$C8,Einsatzplanung!$L$6:$L$50)/Team!$M$8,0) -> 1.0404624 | K8: =IFERROR(SUMIF(Einsatzplanung!$E$6:$E$50,$C8,Einsatzplanung!$M$6:$M$50)/Team!$M$8,0) -> 1.0404624 | L8: =IFERROR(SUMIF(Einsatzplanung!$E$6:$E$50,$C8,Einsatzplanung!$N$6:$N$50)/Team!$M$8,0) -> 0.86705202 | M8: =IFERROR(SUMIF(Einsatzplanung!$E$6:$E$50,$C8,Einsatzplanung!$O$6:$O$50)/Team!$M$8,0) -> 0.52023121 | N8: =IFERROR(SUMIF(Einsatzplanung!$E$6:$E$50,$C8,Einsatzplanung!$P$6:$P$50)/Team!$M$8,0) -> 0.23121387 | O8: =IFERROR(SUMIF(Einsatzplanung!$E$6:$E$50,$C8,Einsatzplanung!$Q$6:$Q$50)/Team!$M$8,0) -> 0.11560694 | P8: =IFERROR(SUMIF(Einsatzplanung!$E$6:$E$50,$C8,Einsatzplanung!$R$6:$R$50)/Team!$M$8,0) -> 0 | Q8: =IFERROR(SUMIF(Einsatzplanung!$E$6:$E$50,$C8,Einsatzplanung!$S$6:$S$50)/Team!$M$8,0) -> 0 | R8: =IFERROR(SUMIF(Einsatzplanung!$E$6:$E$50,$C8,Einsatzplanung!$T$6:$T$50)/Team!$M$8,0) -> 0 | S8: =AVERAGE(G8:R8) -> 0.50578035 | T8: =MAX(G8:R8) -> 1.0404624 | U8: =SUMPRODUCT(--(G8:R8>1)) -> 2 | V8: =IF(U8>0,"Überlastet",IF(S8>=0.85,"Hoch",IF(S8>=0.6,"Solide",IF(S8>0,"Gering","Frei")))) -> Überlastet
B9: =Team!B9 -> TM-04 | C9: =Team!C9 -> Felix Horn | E9: =Team!G9 -> Engineering | G9: =IFERROR(SUMIF(Einsatzplanung!$E$6:$E$50,$C9,Einsatzplanung!$I$6:$I$50)/Team!$M$9,0) -> 0 | H9: =IFERROR(SUMIF(Einsatzplanung!$E$6:$E$50,$C9,Einsatzplanung!$J$6:$J$50)/Team!$M$9,0) -> 0.43165468 | I9: =IFERROR(SUMIF(Einsatzplanung!$E$6:$E$50,$C9,Einsatzplanung!$K$6:$K$50)/Team!$M$9,0) -> 0.57553957 | J9: =IFERROR(SUMIF(Einsatzplanung!$E$6:$E$50,$C9,Einsatzplanung!$L$6:$L$50)/Team!$M$9,0) -> 0.9352518 | K9: =IFERROR(SUMIF(Einsatzplanung!$E$6:$E$50,$C9,Einsatzplanung!$M$6:$M$50)/Team!$M$9,0) -> 0.9352518 | L9: =IFERROR(SUMIF(Einsatzplanung!$E$6:$E$50,$C9,Einsatzplanung!$N$6:$N$50)/Team!$M$9,0) -> 1.0071942 | M9: =IFERROR(SUMIF(Einsatzplanung!$E$6:$E$50,$C9,Einsatzplanung!$O$6:$O$50)/Team!$M$9,0) -> 1.0071942 | N9: =IFERROR(SUMIF(Einsatzplanung!$E$6:$E$50,$C9,Einsatzplanung!$P$6:$P$50)/Team!$M$9,0) -> 0.50359712 | O9: =IFERROR(SUMIF(Einsatzplanung!$E$6:$E$50,$C9,Einsatzplanung!$Q$6:$Q$50)/Team!$M$9,0) -> 0.64748201 | P9: =IFERROR(SUMIF(Einsatzplanung!$E$6:$E$50,$C9,Einsatzplanung!$R$6:$R$50)/Team!$M$9,0) -> 0.71942446 | Q9: =IFERROR(SUMIF(Einsatzplanung!$E$6:$E$50,$C9,Einsatzplanung!$S$6:$S$50)/Team!$M$9,0) -> 0.64748201 | R9: =IFERROR(SUMIF(Einsatzplanung!$E$6:$E$50,$C9,Einsatzplanung!$T$6:$T$50)/Team!$M$9,0) -> 0.43165468 | S9: =AVERAGE(G9:R9) -> 0.65347722 | T9: =MAX(G9:R9) -> 1.0071942 | U9: =SUMPRODUCT(--(G9:R9>1)) -> 2 | V9: =IF(U9>0,"Überlastet",IF(S9>=0.85,"Hoch",IF(S9>=0.6,"Solide",IF(S9>0,"Gering","Frei")))) -> Überlastet
B10: =Team!B10 -> TM-05 | C10: =Team!C10 -> Nadia Scholz | E10: =Team!G10 -> Design | G10: =IFERROR(SUMIF(Einsatzplanung!$E$6:$E$50,$C10,Einsatzplanung!$I$6:$I$50)/Team!$M$10,0) -> 0.40462428 | H10: =IFERROR(SUMIF(Einsatzplanung!$E$6:$E$50,$C10,Einsatzplanung!$J$6:$J$50)/Team!$M$10,0) -> 0.69364162 | I10: =IFERROR(SUMIF(Einsatzplanung!$E$6:$E$50,$C10,Einsatzplanung!$K$6:$K$50)/Team!$M$10,0) -> 0.80924855 | J10: =IFERROR(SUMIF(Einsatzplanung!$E$6:$E$50,$C10,Einsatzplanung!$L$6:$L$50)/Team!$M$10,0) -> 0.86705202 | K10: =IFERROR(SUMIF(Einsatzplanung!$E$6:$E$50,$C10,Einsatzplanung!$M$6:$M$50)/Team!$M$10,0) -> 1.0404624 | L10: =IFERROR(SUMIF(Einsatzplanung!$E$6:$E$50,$C10,Einsatzplanung!$N$6:$N$50)/Team!$M$10,0) -> 0.98265896 | M10: =IFERROR(SUMIF(Einsatzplanung!$E$6:$E$50,$C10,Einsatzplanung!$O$6:$O$50)/Team!$M$10,0) -> 0.86705202 | N10: =IFERROR(SUMIF(Einsatzplanung!$E$6:$E$50,$C10,Einsatzplanung!$P$6:$P$50)/Team!$M$10,0) -> 0.40462428 | O10: =IFERROR(SUMIF(Einsatzplanung!$E$6:$E$50,$C10,Einsatzplanung!$Q$6:$Q$50)/Team!$M$10,0) -> 0.46242775 | P10: =IFERROR(SUMIF(Einsatzplanung!$E$6:$E$50,$C10,Einsatzplanung!$R$6:$R$50)/Team!$M$10,0) -> 0.40462428 | Q10: =IFERROR(SUMIF(Einsatzplanung!$E$6:$E$50,$C10,Einsatzplanung!$S$6:$S$50)/Team!$M$10,0) -> 0.28901734 | R10: =IFERROR(SUMIF(Einsatzplanung!$E$6:$E$50,$C10,Einsatzplanung!$T$6:$T$50)/Team!$M$10,0) -> 0 | S10: =AVERAGE(G10:R10) -> 0.60211946 | T10: =MAX(G10:R10) -> 1.0404624 | U10: =SUMPRODUCT(--(G10:R10>1)) -> 1 | V10: =IF(U10>0,"Überlastet",IF(S10>=0.85,"Hoch",IF(S10>=0.6,"Solide",IF(S10>0,"Gering","Frei")))) -> Überlastet
B11: =Team!B11 -> TM-06 | C11: =Team!C11 -> Robert Kraus | E11: =Team!G11 -> Data & Analytics | G11: =IFERROR(SUMIF(Einsatzplanung!$E$6:$E$50,$C11,Einsatzplanung!$I$6:$I$50)/Team!$M$11,0) -> 0.34682081 | H11: =IFERROR(SUMIF(Einsatzplanung!$E$6:$E$50,$C11,Einsatzplanung!$J$6:$J$50)/Team!$M$11,0) -> 0.40462428 | I11: =IFERROR(SUMIF(Einsatzplanung!$E$6:$E$50,$C11,Einsatzplanung!$K$6:$K$50)/Team!$M$11,0) -> 0.34682081 | J11: =IFERROR(SUMIF(Einsatzplanung!$E$6:$E$50,$C11,Einsatzplanung!$L$6:$L$50)/Team!$M$11,0) -> 0.92485549 | K11: =IFERROR(SUMIF(Einsatzplanung!$E$6:$E$50,$C11,Einsatzplanung!$M$6:$M$50)/Team!$M$11,0) -> 0.75144509 | L11: =IFERROR(SUMIF(Einsatzplanung!$E$6:$E$50,$C11,Einsatzplanung!$N$6:$N$50)/Team!$M$11,0) -> 0.80924855 | M11: =IFERROR(SUMIF(Einsatzplanung!$E$6:$E$50,$C11,Einsatzplanung!$O$6:$O$50)/Team!$M$11,0) -> 0.75144509 | N11: =IFERROR(SUMIF(Einsatzplanung!$E$6:$E$50,$C11,Einsatzplanung!$P$6:$P$50)/Team!$M$11,0) -> 0.34682081 | O11: =IFERROR(SUMIF(Einsatzplanung!$E$6:$E$50,$C11,Einsatzplanung!$Q$6:$Q$50)/Team!$M$11,0) -> 0.69364162 | P11: =IFERROR(SUMIF(Einsatzplanung!$E$6:$E$50,$C11,Einsatzplanung!$R$6:$R$50)/Team!$M$11,0) -> 0.75144509 | Q11: =IFERROR(SUMIF(Einsatzplanung!$E$6:$E$50,$C11,Einsatzplanung!$S$6:$S$50)/Team!$M$11,0) -> 0.69364162 | R11: =IFERROR(SUMIF(Einsatzplanung!$E$6:$E$50,$C11,Einsatzplanung!$T$6:$T$50)/Team!$M$11,0) -> 0.52023121 | S11: =AVERAGE(G11:R11) -> 0.61175337 | T11: =MAX(G11:R11) -> 0.92485549 | U11: =SUMPRODUCT(--(G11:R11>1)) -> 0 | V11: =IF(U11>0,"Überlastet",IF(S11>=0.85,"Hoch",IF(S11>=0.6,"Solide",IF(S11>0,"Gering","Frei")))) -> Solide
B12: =Team!B12 -> TM-07 | C12: =Team!C12 -> Elena Petrova | E12: =Team!G12 -> Quality | G12: =IFERROR(SUMIF(Einsatzplanung!$E$6:$E$50,$C12,Einsatzplanung!$I$6:$I$50)/Team!$M$12,0) -> 0.25641026 | H12: =IFERROR(SUMIF(Einsatzplanung!$E$6:$E$50,$C12,Einsatzplanung!$J$6:$J$50)/Team!$M$12,0) -> 0.57692308 | I12: =IFERROR(SUMIF(Einsatzplanung!$E$6:$E$50,$C12,Einsatzplanung!$K$6:$K$50)/Team!$M$12,0) -> 0.8974359 | J12: =IFERROR(SUMIF(Einsatzplanung!$E$6:$E$50,$C12,Einsatzplanung!$L$6:$L$50)/Team!$M$12,0) -> 1.025641 | K12: =IFERROR(SUMIF(Einsatzplanung!$E$6:$E$50,$C12,Einsatzplanung!$M$6:$M$50)/Team!$M$12,0) -> 0.96153846 | L12: =IFERROR(SUMIF(Einsatzplanung!$E$6:$E$50,$C12,Einsatzplanung!$N$6:$N$50)/Team!$M$12,0) -> 0.8974359 | M12: =IFERROR(SUMIF(Einsatzplanung!$E$6:$E$50,$C12,Einsatzplanung!$O$6:$O$50)/Team!$M$12,0) -> 0.70512821 | N12: =IFERROR(SUMIF(Einsatzplanung!$E$6:$E$50,$C12,Einsatzplanung!$P$6:$P$50)/Team!$M$12,0) -> 0.25641026 | O12: =IFERROR(SUMIF(Einsatzplanung!$E$6:$E$50,$C12,Einsatzplanung!$Q$6:$Q$50)/Team!$M$12,0) -> 0 | P12: =IFERROR(SUMIF(Einsatzplanung!$E$6:$E$50,$C12,Einsatzplanung!$R$6:$R$50)/Team!$M$12,0) -> 0 | Q12: =IFERROR(SUMIF(Einsatzplanung!$E$6:$E$50,$C12,Einsatzplanung!$S$6:$S$50)/Team!$M$12,0) -> 0 | R12: =IFERROR(SUMIF(Einsatzplanung!$E$6:$E$50,$C12,Einsatzplanung!$T$6:$T$50)/Team!$M$12,0) -> 0 | S12: =AVERAGE(G12:R12) -> 0.46474359 | T12: =MAX(G12:R12) -> 1.025641 | U12: =SUMPRODUCT(--(G12:R12>1)) -> 1 | V12: =IF(U12>0,"Überlastet",IF(S12>=0.85,"Hoch",IF(S12>=0.6,"Solide",IF(S12>0,"Gering","Frei")))) -> Überlastet
B13: =Team!B13 -> TM-08 | C13: =Team!C13 -> Tobias Lang | E13: =Team!G13 -> Platform | G13: =IFERROR(SUMIF(Einsatzplanung!$E$6:$E$50,$C13,Einsatzplanung!$I$6:$I$50)/Team!$M$13,0) -> 0.86705202 | H13: =IFERROR(SUMIF(Einsatzplanung!$E$6:$E$50,$C13,Einsatzplanung!$J$6:$J$50)/Team!$M$13,0) -> 1.0404624 | I13: =IFERROR(SUMIF(Einsatzplanung!$E$6:$E$50,$C13,Einsatzplanung!$K$6:$K$50)/Team!$M$13,0) -> 1.2138728 | J13: =IFERROR(SUMIF(Einsatzplanung!$E$6:$E$50,$C13,Einsatzplanung!$L$6:$L$50)/Team!$M$13,0) -> 0.92485549 | K13: =IFERROR(SUMIF(Einsatzplanung!$E$6:$E$50,$C13,Einsatzplanung!$M$6:$M$50)/Team!$M$13,0) -> 0.75144509 | L13: =IFERROR(SUMIF(Einsatzplanung!$E$6:$E$50,$C13,Einsatzplanung!$N$6:$N$50)/Team!$M$13,0) -> 0.63583815 | M13: =IFERROR(SUMIF(Einsatzplanung!$E$6:$E$50,$C13,Einsatzplanung!$O$6:$O$50)/Team!$M$13,0) -> 0.34682081 | N13: =IFERROR(SUMIF(Einsatzplanung!$E$6:$E$50,$C13,Einsatzplanung!$P$6:$P$50)/Team!$M$13,0) -> 0.23121387 | O13: =IFERROR(SUMIF(Einsatzplanung!$E$6:$E$50,$C13,Einsatzplanung!$Q$6:$Q$50)/Team!$M$13,0) -> 0.40462428 | P13: =IFERROR(SUMIF(Einsatzplanung!$E$6:$E$50,$C13,Einsatzplanung!$R$6:$R$50)/Team!$M$13,0) -> 0.46242775 | Q13: =IFERROR(SUMIF(Einsatzplanung!$E$6:$E$50,$C13,Einsatzplanung!$S$6:$S$50)/Team!$M$13,0) -> 0.40462428 | R13: =IFERROR(SUMIF(Einsatzplanung!$E$6:$E$50,$C13,Einsatzplanung!$T$6:$T$50)/Team!$M$13,0) -> 0.28901734 | S13: =AVERAGE(G13:R13) -> 0.63102119 | T13: =MAX(G13:R13) -> 1.2138728 | U13: =SUMPRODUCT(--(G13:R13>1)) -> 2 | V13: =IF(U13>0,"Überlastet",IF(S13>=0.85,"Hoch",IF(S13>=0.6,"Solide",IF(S13>0,"Gering","Frei")))) -> Überlastet
B14: =Team!B14 -> TM-09 | C14: =Team!C14 -> Hanna Weiß | E14: =Team!G14 -> Marketing | G14: =IFERROR(SUMIF(Einsatzplanung!$E$6:$E$50,$C14,Einsatzplanung!$I$6:$I$50)/Team!$M$14,0) -> 0.21582734 | H14: =IFERROR(SUMIF(Einsatzplanung!$E$6:$E$50,$C14,Einsatzplanung!$J$6:$J$50)/Team!$M$14,0) -> 0.21582734 | I14: =IFERROR(SUMIF(Einsatzplanung!$E$6:$E$50,$C14,Einsatzplanung!$K$6:$K$50)/Team!$M$14,0) -> 0.21582734 | J14: =IFERROR(SUMIF(Einsatzplanung!$E$6:$E$50,$C14,Einsatzplanung!$L$6:$L$50)/Team!$M$14,0) -> 0.21582734 | K14: =IFERROR(SUMIF(Einsatzplanung!$E$6:$E$50,$C14,Einsatzplanung!$M$6:$M$50)/Team!$M$14,0) -> 0.71942446 | L14: =IFERROR(SUMIF(Einsatzplanung!$E$6:$E$50,$C14,Einsatzplanung!$N$6:$N$50)/Team!$M$14,0) -> 0.86330935 | M14: =IFERROR(SUMIF(Einsatzplanung!$E$6:$E$50,$C14,Einsatzplanung!$O$6:$O$50)/Team!$M$14,0) -> 0.9352518 | N14: =IFERROR(SUMIF(Einsatzplanung!$E$6:$E$50,$C14,Einsatzplanung!$P$6:$P$50)/Team!$M$14,0) -> 0.50359712 | O14: =IFERROR(SUMIF(Einsatzplanung!$E$6:$E$50,$C14,Einsatzplanung!$Q$6:$Q$50)/Team!$M$14,0) -> 1.0071942 | P14: =IFERROR(SUMIF(Einsatzplanung!$E$6:$E$50,$C14,Einsatzplanung!$R$6:$R$50)/Team!$M$14,0) -> 1.0791367 | Q14: =IFERROR(SUMIF(Einsatzplanung!$E$6:$E$50,$C14,Einsatzplanung!$S$6:$S$50)/Team!$M$14,0) -> 0.9352518 | R14: =IFERROR(SUMIF(Einsatzplanung!$E$6:$E$50,$C14,Einsatzplanung!$T$6:$T$50)/Team!$M$14,0) -> 0.57553957 | S14: =AVERAGE(G14:R14) -> 0.6235012 | T14: =MAX(G14:R14) -> 1.0791367 | U14: =SUMPRODUCT(--(G14:R14>1)) -> 2 | V14: =IF(U14>0,"Überlastet",IF(S14>=0.85,"Hoch",IF(S14>=0.6,"Solide",IF(S14>0,"Gering","Frei")))) -> Überlastet
C15: Team gesamt | G15: =IFERROR(SUM(Einsatzplanung!$I$6:$I$50)/SUM(Team!$M$6:$M$14),0) -> 0.50271739 | H15: =IFERROR(SUM(Einsatzplanung!$J$6:$J$50)/SUM(Team!$M$6:$M$14),0) -> 0.69972826 | I15: =IFERROR(SUM(Einsatzplanung!$K$6:$K$50)/SUM(Team!$M$6:$M$14),0) -> 0.80163043 | J15: =IFERROR(SUM(Einsatzplanung!$L$6:$L$50)/SUM(Team!$M$6:$M$14),0) -> 0.85597826 | K15: =IFERROR(SUM(Einsatzplanung!$M$6:$M$50)/SUM(Team!$M$6:$M$14),0) -> 0.84918478 | L15: =IFERROR(SUM(Einsatzplanung!$N$6:$N$50)/SUM(Team!$M$6:$M$14),0) -> 0.80163043 | M15: =IFERROR(SUM(Einsatzplanung!$O$6:$O$50)/SUM(Team!$M$6:$M$14),0) -> 0.64538043 | N15: =IFERROR(SUM(Einsatzplanung!$P$6:$P$50)/SUM(Team!$M$6:$M$14),0) -> 0.31929348 | O15: =IFERROR(SUM(Einsatzplanung!$Q$6:$Q$50)/SUM(Team!$M$6:$M$14),0) -> 0.42798913 | P15: =IFERROR(SUM(Einsatzplanung!$R$6:$R$50)/SUM(Team!$M$6:$M$14),0) -> 0.38722826 | Q15: =IFERROR(SUM(Einsatzplanung!$S$6:$S$50)/SUM(Team!$M$6:$M$14),0) -> 0.33967391 | R15: =IFERROR(SUM(Einsatzplanung!$T$6:$T$50)/SUM(Team!$M$6:$M$14),0) -> 0.2173913 | S15: =AVERAGE(G15:R15) -> 0.57065217 | T15: =MAX(G15:R15) -> 0.85597826 | U15: =SUM(U6:U14) -> 13
C17: Heatmap: | E17: niedrig | H17: solide (~85 %) | K17: Überlast (>100 %)

Sheet Anleitung
B2: HANDBUCH
B3: Anleitung
B4: So arbeiten Sie mit der Ressourcenplanung 2027
B7: 1 · Team pflegen
B8: Blatt »Team«: Name, Rolle, Kostenstelle, Standort, FTE und Stundensatz eintragen. Std/Woche, Kapazität und Kapazitätskosten werden automatisch berechnet (FTE × 40 Std.).
B10: 2 · Projekte anlegen
B11: Blatt »Projekte«: Projektregister mit Projektleitung, Priorität, Status, Zeitraum und Budget führen. Geplante Stunden, Kosten und Budgetabweichung kommen automatisch aus der Einsatzplanung.
B13: 3 · Einsätze planen
B14: Blatt »Einsatzplanung«: je Zeile eine Kombination aus Projekt und Ressource wählen (Dropdown) und die geplanten Stunden pro Monat eintragen. Rolle, Stundensatz und Kosten werden automatisch ergänzt. Neue Zeilen einfach in den freien Puffer ergänzen.
B16: 4 · Auslastung prüfen
B17: Blatt »Auslastung«: zeigt die monatliche Auslastung je Ressource als Heatmap. Werte über 100 % (Überlast) werden kräftig rot markiert, Ø, Spitze und Anzahl Überlastmonate je Ressource ausgewiesen.
B19: 5 · Cockpit lesen
... B26: • Status-Logik: Überlastet (ein Monat > 100 %) · Hoch (Ø ≥ 85 %) · Solide (Ø ≥ 60 %) · Gering (Ø > 0) · Frei.
B28: Legende: | C28: Eingabe | D28: Formel / automatisch
