Workbook

Sheet Übersicht
B2: RESSOURCENPLANUNG 2027
B3: Kapazitäts- und Einsatzplanung · Jahresübersicht
B6: Unternehmen: | D6: Musterfirma GmbH | G6: Planungsjahr: | I6: 2027 | J6: Budget (€): | L6: 1500000
B8: KENNZAHLEN IM ÜBERBLICK
B10: Anzahl Ressourcen | E10: Anzahl Projekte | H10: Gesamtkapazität p.a. (h) | K10: Verplante Stunden p.a. (h)
B11: =COUNTA(Ressourcen!$B$5:$B$12) -> 8 | E11: =SUMPRODUCT((COUNTIF(Projekteinsatz!$A$6:$A$79,{"Projekt Alpha";"Projekt Beta";"Projekt Gamma";"Projekt Delta";"Interne Aufgaben"})>0)*1) -> 5 | H11: =SUM(Ressourcen!$H$5:$H$12)*12 -> 15684 | K11: =SUM(Projekteinsatz!$E$6:$E$79) -> 3825
B14: Ø Auslastung (gepl. Monate) | E14: Überlastete Ress.-Monate | H14: Geplante Kosten gesamt (€) | K14: Restbudget (€)
B15: =IFERROR(AVERAGE(Kapazitätsplanung!S6:S13),0) -> 0.77110969 | E15: =SUM(Kapazitätsplanung!$T$6:$T$13) -> 4 | H15: =SUM(Projekteinsatz!$G$6:$G$79) -> 288910 | K15: =$L$6-H15 -> 1211090
B18: PROJEKTAUSWERTUNG
B19: Projekt | F19: Geplante Stunden | H19: Geplante Kosten (€) | K19: Kostenanteil
B20: Projekt Alpha | F20: =SUMIF(Projekteinsatz!$A$6:$A$79,B20,Projekteinsatz!$E$6:$E$79) -> 1155 | H20: =SUMIF(Projekteinsatz!$A$6:$A$79,B20,Projekteinsatz!$G$6:$G$79) -> 87270 | K20: =IFERROR(H20/$H$15,0) -> 0.30206639
B21: Projekt Beta | F21: =SUMIF(Projekteinsatz!$A$6:$A$79,B21,Projekteinsatz!$E$6:$E$79) -> 360 | H21: =SUMIF(Projekteinsatz!$A$6:$A$79,B21,Projekteinsatz!$G$6:$G$79) -> 29760 | K21: =IFERROR(H21/$H$15,0) -> 0.10300786
B22: Projekt Gamma | F22: =SUMIF(Projekteinsatz!$A$6:$A$79,B22,Projekteinsatz!$E$6:$E$79) -> 1350 | H22: =SUMIF(Projekteinsatz!$A$6:$A$79,B22,Projekteinsatz!$G$6:$G$79) -> 98850 | K22: =IFERROR(H22/$H$15,0) -> 0.34214807
B23: Projekt Delta | F23: =SUMIF(Projekteinsatz!$A$6:$A$79,B23,Projekteinsatz!$E$6:$E$79) -> 780 | H23: =SUMIF(Projekteinsatz!$A$6:$A$79,B23,Projekteinsatz!$G$6:$G$79) -> 57010 | K23: =IFERROR(H23/$H$15,0) -> 0.19732789
B24: Interne Aufgaben | F24: =SUMIF(Projekteinsatz!$A$6:$A$79,B24,Projekteinsatz!$E$6:$E$79) -> 180 | H24: =SUMIF(Projekteinsatz!$A$6:$A$79,B24,Projekteinsatz!$G$6:$G$79) -> 16020 | K24: =IFERROR(H24/$H$15,0) -> 0.055449794
B25: Gesamt | F25: =SUM(F20:F24) -> 3825 | H25: =SUM(H20:H24) -> 288910 | K25: =IFERROR(H25/$H$15,0) -> 1
B27: MONATSAUSLASTUNG
B28: Monat | F28: Kapazität (h) | H28: Geplant (h) | K28: Auslastung
B29: Jan | F29: =SUM(Ressourcen!$H$5:$H$12) -> 1307 | H29: =SUM(Kapazitätsplanung!$E$6:$E$13) -> 400 | K29: =IFERROR(H29/F29,0) -> 0.30604438
B30: Feb | F30: =SUM(Ressourcen!$H$5:$H$12) -> 1307 | H30: =SUM(Kapazitätsplanung!$F$6:$F$13) -> 735 | K30: =IFERROR(H30/F30,0) -> 0.56235654
B31: Mär | F31: =SUM(Ressourcen!$H$5:$H$12) -> 1307 | H31: =SUM(Kapazitätsplanung!$G$6:$G$13) -> 560 | K31: =IFERROR(H31/F31,0) -> 0.42846213
B32: Apr | F32: =SUM(Ressourcen!$H$5:$H$12) -> 1307 | H32: =SUM(Kapazitätsplanung!$H$6:$H$13) -> 690 | K32: =IFERROR(H32/F32,0) -> 0.52792655
B33: Mai | F33: =SUM(Ressourcen!$H$5:$H$12) -> 1307 | H33: =SUM(Kapazitätsplanung!$I$6:$I$13) -> 550 | K33: =IFERROR(H33/F33,0) -> 0.42081102
B34: Jun | F34: =SUM(Ressourcen!$H$5:$H$12) -> 1307 | H34: =SUM(Kapazitätsplanung!$J$6:$J$13) -> 540 | K34: =IFERROR(H34/F34,0) -> 0.41315991
B35: Jul | F35: =SUM(Ressourcen!$H$5:$H$12) -> 1307 | H35: =SUM(Kapazitätsplanung!$K$6:$K$13) -> 270 | K35: =IFERROR(H35/F35,0) -> 0.20657995
B36: Aug | F36: =SUM(Ressourcen!$H$5:$H$12) -> 1307 | H36: =SUM(Kapazitätsplanung!$L$6:$L$13) -> 0 | K36: =IFERROR(H36/F36,0) -> 0
B37: Sep | F37: =SUM(Ressourcen!$H$5:$H$12) -> 1307 | H37: =SUM(Kapazitätsplanung!$M$6:$M$13) -> 80 | K37: =IFERROR(H37/F37,0) -> 0.061208875
B38: Okt | F38: =SUM(Ressourcen!$H$5:$H$12) -> 1307 | H38: =SUM(Kapazitätsplanung!$N$6:$N$13) -> 0 | K38: =IFERROR(H38/F38,0) -> 0
B39: Nov | F39: =SUM(Ressourcen!$H$5:$H$12) -> 1307 | H39: =SUM(Kapazitätsplanung!$O$6:$O$13) -> 0 | K39: =IFERROR(H39/F39,0) -> 0
B40: Dez | F40: =SUM(Ressourcen!$H$5:$H$12) -> 1307 | H40: =SUM(Kapazitätsplanung!$P$6:$P$13) -> 0 | K40: =IFERROR(H40/F40,0) -> 0
B42: SO NUTZEN SIE DIE VORLAGE
B43: 1. Blatt »Ressourcen«: Team, Wochenstunden, Verfügbarkeit und Stundensätze pflegen.
B44: 2. Blatt »Projekteinsatz«: Ressourcen den Projekten je Monat mit geplanten Stunden zuordnen.
B45: 3. Blatt »Kapazitätsplanung«: zeigt automatisch Auslastung und Überlastung (Farben) je Monat.
B46: 4. Dieses Blatt fasst Kennzahlen, Projekte und Monatsauslastung automatisch zusammen.
B47: Gelb hinterlegte Zellen sind Eingaben – alle übrigen Werte werden automatisch berechnet.

Sheet Ressourcen
A1: Ressourcen – Stammdaten
A2: Team, Verfügbarkeit und Kostensätze · Planungsjahr 2027
A4: Nr. | B4: Name | C4: Rolle / Funktion | D4: Abteilung | E4: Standort | F4: Wochen- stunden | G4: Verfüg- barkeit | H4: Kapazität h/Monat | I4: Stundensatz (€) | J4: Bemerkung
A5: R01 | B5: Anna Becker | C5: Projektleitung | D5: PMO | E5: München | F5: 40 | G5: 1 | H5: =ROUND(F5*52/12*G5,0) -> 173 | I5: 95 | J5: Vollzeit
A6: R02 | B6: Tom Fischer | C6: Senior-Softwareentwickler | D6: Entwicklung | E6: Berlin | F6: 40 | G6: 1 | H6: =ROUND(F6*52/12*G6,0) -> 173 | I6: 82 | J6: Vollzeit
A7: R03 | B7: Lena Wagner | C7: Softwareentwicklerin | D7: Entwicklung | E7: Berlin | F7: 40 | G7: 0.9 | H7: =ROUND(F7*52/12*G7,0) -> 156 | I7: 70 | J7: Teilzeit 90 %
A8: R04 | B8: Jonas Schmidt | C8: UX/UI-Designer | D8: Design | E8: Hamburg | F8: 40 | G8: 1 | H8: =ROUND(F8*52/12*G8,0) -> 173 | I8: 72 | J8: Vollzeit
A9: R05 | B9: Mara Hoffmann | C9: Business-Analystin | D9: Analyse | E9: München | F9: 30 | G9: 1 | H9: =ROUND(F9*52/12*G9,0) -> 130 | I9: 68 | J9: Teilzeit 30 Std.
A10: R06 | B10: David Klein | C10: QA-Ingenieur | D10: Qualitätssicherung | E10: Berlin | F10: 40 | G10: 1 | H10: =ROUND(F10*52/12*G10,0) -> 173 | I10: 60 | J10: Vollzeit
A11: R07 | B11: Sophie Neumann | C11: Marketing-Managerin | D11: Marketing | E11: Hamburg | F11: 40 | G11: 0.9 | H11: =ROUND(F11*52/12*G11,0) -> 156 | I11: 58 | J11: Teilzeit 90 %
A12: R08 | B12: Paul Richter | C12: DevOps-Engineer | D12: IT-Betrieb | E12: Frankfurt | F12: 40 | G12: 1 | H12: =ROUND(F12*52/12*G12,0) -> 173 | I12: 75 | J12: Vollzeit
B13: Gesamt / Durchschnitt | F13: =SUM(F5:F12) -> 310 | H13: =SUM(H5:H12) -> 1307 | I13: =ROUND(AVERAGE(I5:I12),0) -> 73
B15: Hinweis: Kapazität h/Monat = Wochenstunden × 52 ÷ 12 × Verfügbarkeit (gerundet, durchschnittlicher Monat).
B16: Urlaub, Feiertage oder Sonderaufgaben können über die Verfügbarkeit (%) abgebildet werden.
B18: Legende: | C18: Eingabefeld | D18: berechnet

Sheet Projekteinsatz
A1: Projekteinsatz – Planung
A2: Zuordnung von Ressourcen zu Projekten je Monat · Planungsjahr 2027
A4: Neue Einsätze einfach in einer freien Zeile ergänzen – Dropdowns und Formeln (Stundensatz, Kosten) ziehen automatisch mit.
A5: Projekt | B5: Arbeitspaket / Aufgabe | C5: Ressource | D5: Monat | E5: Geplante Stunden | F5: Stundensatz (€) | G5: Geplante Kosten (€) | H5: Status | I5: Priorität
A6: Projekt Alpha | B6: Projektsteuerung & Reporting | C6: Anna Becker | D6: Jan | E6: 80 | F6: =IFERROR(INDEX(Ressourcen!$I$5:$I$12,MATCH(C6,Ressourcen!$B$5:$B$12,0)),"") -> 95 | G6: =IF(E6="","",E6*F6) -> 7600 | H6: In Arbeit | I6: Hoch
A7: Projekt Alpha | B7: Anforderungsanalyse | C7: Mara Hoffmann | D7: Jan | E7: 90 | F7: =IFERROR(INDEX(Ressourcen!$I$5:$I$12,MATCH(C7,Ressourcen!$B$5:$B$12,0)),"") -> 68 | G7: =IF(E7="","",E7*F7) -> 6120 | H7: In Arbeit | I7: Hoch
A8: Projekt Alpha | B8: Backend-Entwicklung | C8: Tom Fischer | D8: Jan | E8: 100 | F8: =IFERROR(INDEX(Ressourcen!$I$5:$I$12,MATCH(C8,Ressourcen!$B$5:$B$12,0)),"") -> 82 | G8: =IF(E8="","",E8*F8) -> 8200 | H8: In Arbeit | I8: Hoch
A9: Projekt Alpha | B9: UI-Konzept | C9: Jonas Schmidt | D9: Jan | E9: 70 | F9: =IFERROR(INDEX(Ressourcen!$I$5:$I$12,MATCH(C9,Ressourcen!$B$5:$B$12,0)),"") -> 72 | G9: =IF(E9="","",E9*F9) -> 5040 | H9: In Arbeit | I9: Mittel
A10: Interne Aufgaben | B10: Team-Meetings & Administration | C10: Anna Becker | D10: Jan | E10: 60 | F10: =IFERROR(INDEX(Ressourcen!$I$5:$I$12,MATCH(C10,Ressourcen!$B$5:$B$12,0)),"") -> 95 | G10: =IF(E10="","",E10*F10) -> 5700 | H10: Geplant | I10: Niedrig
A11: Projekt Alpha | B11: Backend-Entwicklung | C11: Tom Fischer | D11: Feb | E11: 110 | F11: =IFERROR(INDEX(Ressourcen!$I$5:$I$12,MATCH(C11,Ressourcen!$B$5:$B$12,0)),"") -> 82 | G11: =IF(E11="","",E11*F11) -> 9020 | H11: In Arbeit | I11: Hoch
A12: Projekt Beta | B12: Schnittstellen-Entwicklung | C12: Tom Fischer | D12: Feb | E12: 80 | F12: =IFERROR(INDEX(Ressourcen!$I$5:$I$12,MATCH(C12,Ressourcen!$B$5:$B$12,0)),"") -> 82 | G12: =IF(E12="","",E12*F12) -> 6560 | H12: Geplant | I12: Mittel
A13: Projekt Alpha | B13: Frontend-Entwicklung | C13: Lena Wagner | D13: Feb | E13: 95 | F13: =IFERROR(INDEX(Ressourcen!$I$5:$I$12,MATCH(C13,Ressourcen!$B$5:$B$12,0)),"") -> 70 | G13: =IF(E13="","",E13*F13) -> 6650 | H13: In Arbeit | I13: Hoch
A14: Projekt Beta | B14: Frontend-Entwicklung | C14: Lena Wagner | D14: Feb | E14: 80 | F14: =IFERROR(INDEX(Ressourcen!$I$5:$I$12,MATCH(C14,Ressourcen!$B$5:$B$12,0)),"") -> 70 | G14: =IF(E14="","",E14*F14) -> 5600 | H14: Geplant | I14: Mittel
A15: Projekt Alpha | B15: UI-Design | C15: Jonas Schmidt | D15: Feb | E15: 120 | F15: =IFERROR(INDEX(Ressourcen!$I$5:$I$12,MATCH(C15,Ressourcen!$B$5:$B$12,0)),"") -> 72 | G15: =IF(E15="","",E15*F15) -> 8640 | H15: In Arbeit | I15: Hoch
A16: Projekt Alpha | B16: Projektsteuerung & Reporting | C16: Anna Becker | D16: Feb | E16: 150 | F16: =IFERROR(INDEX(Ressourcen!$I$5:$I$12,MATCH(C16,Ressourcen!$B$5:$B$12,0)),"") -> 95 | G16: =IF(E16="","",E16*F16) -> 14250 | H16: In Arbeit | I16: Hoch
A17: Projekt Alpha | B17: Testkonzept & QA | C17: David Klein | D17: Feb | E17: 100 | F17: =IFERROR(INDEX(Ressourcen!$I$5:$I$12,MATCH(C17,Ressourcen!$B$5:$B$12,0)),"") -> 60 | G17: =IF(E17="","",E17*F17) -> 6000 | H17: Geplant | I17: Mittel
... A39: Interne Aufgaben | B39: Jahresplanung 2028 | C39: Anna Becker | D39: Sep | E39: 80 | F39: =IFERROR(INDEX(Ressourcen!$I$5:$I$12,MATCH(C39,Ressourcen!$B$5:$B$12,0)),"") -> 95 | G39: =IF(E39="","",E39*F39) -> 7600 | H39: Geplant | I39: Niedrig
F40: =IFERROR(INDEX(Ressourcen!$I$5:$I$12,MATCH(C40,Ressourcen!$B$5:$B$12,0)),"") | G40: =IF(E40="","",E40*F40)
F41: =IFERROR(INDEX(Ressourcen!$I$5:$I$12,MATCH(C41,Ressourcen!$B$5:$B$12,0)),"") | G41: =IF(E41="","",E41*F41)
F42: =IFERROR(INDEX(Ressourcen!$I$5:$I$12,MATCH(C42,Ressourcen!$B$5:$B$12,0)),"") | G42: =IF(E42="","",E42*F42)
F43: =IFERROR(INDEX(Ressourcen!$I$5:$I$12,MATCH(C43,Ressourcen!$B$5:$B$12,0)),"") | G43: =IF(E43="","",E43*F43)
F44: =IFERROR(INDEX(Ressourcen!$I$5:$I$12,MATCH(C44,Ressourcen!$B$5:$B$12,0)),"") | G44: =IF(E44="","",E44*F44)
F45: =IFERROR(INDEX(Ressourcen!$I$5:$I$12,MATCH(C45,Ressourcen!$B$5:$B$12,0)),"") | G45: =IF(E45="","",E45*F45)
F46: =IFERROR(INDEX(Ressourcen!$I$5:$I$12,MATCH(C46,Ressourcen!$B$5:$B$12,0)),"") | G46: =IF(E46="","",E46*F46)
F47: =IFERROR(INDEX(Ressourcen!$I$5:$I$12,MATCH(C47,Ressourcen!$B$5:$B$12,0)),"") | G47: =IF(E47="","",E47*F47)
F48: =IFERROR(INDEX(Ressourcen!$I$5:$I$12,MATCH(C48,Ressourcen!$B$5:$B$12,0)),"") | G48: =IF(E48="","",E48*F48)
F49: =IFERROR(INDEX(Ressourcen!$I$5:$I$12,MATCH(C49,Ressourcen!$B$5:$B$12,0)),"") | G49: =IF(E49="","",E49*F49)
F50: =IFERROR(INDEX(Ressourcen!$I$5:$I$12,MATCH(C50,Ressourcen!$B$5:$B$12,0)),"") | G50: =IF(E50="","",E50*F50)
F51: =IFERROR(INDEX(Ressourcen!$I$5:$I$12,MATCH(C51,Ressourcen!$B$5:$B$12,0)),"") | G51: =IF(E51="","",E51*F51)
... F79: =IFERROR(INDEX(Ressourcen!$I$5:$I$12,MATCH(C79,Ressourcen!$B$5:$B$12,0)),"") | G79: =IF(E79="","",E79*F79)

Sheet Kapazitätsplanung
A1: Kapazitätsplanung – Auslastung je Monat
A2: Geplante Stunden gegen verfügbare Kapazität · automatische Überlastwarnung · 2027
A5: Nr. | B5: Ressource | C5: Rolle | D5: Kap. h/Mon | E5: Jan | F5: Feb | G5: Mär | H5: Apr | I5: Mai | J5: Jun | K5: Jul | L5: Aug | M5: Sep | N5: Okt | O5: Nov | P5: Dez | Q5: Summe geplant | R5: Kapazität p.a. | S5: Ø Aus- lastung | T5: Über- last-Mon. | U5: Status
A6: =Ressourcen!A5 -> R01 | B6: =Ressourcen!B5 -> Anna Becker | C6: =Ressourcen!C5 -> Projektleitung | D6: =Ressourcen!H5 -> 173 | E6: =SUMIFS(Projekteinsatz!$E$6:$E$79,Projekteinsatz!$C$6:$C$79,$B6,Projekteinsatz!$D$6:$D$79,E$5) -> 140 | F6: =SUMIFS(Projekteinsatz!$E$6:$E$79,Projekteinsatz!$C$6:$C$79,$B6,Projekteinsatz!$D$6:$D$79,F$5) -> 150 | G6: =SUMIFS(Projekteinsatz!$E$6:$E$79,Projekteinsatz!$C$6:$C$79,$B6,Projekteinsatz!$D$6:$D$79,G$5) -> 160 | H6: =SUMIFS(Projekteinsatz!$E$6:$E$79,Projekteinsatz!$C$6:$C$79,$B6,Projekteinsatz!$D$6:$D$79,H$5) -> 140 | I6: =SUMIFS(Projekteinsatz!$E$6:$E$79,Projekteinsatz!$C$6:$C$79,$B6,Projekteinsatz!$D$6:$D$79,I$5) -> 0 | J6: =SUMIFS(Projekteinsatz!$E$6:$E$79,Projekteinsatz!$C$6:$C$79,$B6,Projekteinsatz!$D$6:$D$79,J$5) -> 90 | K6: =SUMIFS(Projekteinsatz!$E$6:$E$79,Projekteinsatz!$C$6:$C$79,$B6,Projekteinsatz!$D$6:$D$79,K$5) -> 0 | L6: =SUMIFS(Projekteinsatz!$E$6:$E$79,Projekteinsatz!$C$6:$C$79,$B6,Projekteinsatz!$D$6:$D$79,L$5) -> 0 | ... P6: =SUMIFS(Projekteinsatz!$E$6:$E$79,Projekteinsatz!$C$6:$C$79,$B6,Projekteinsatz!$D$6:$D$79,P$5) -> 0 | Q6: =SUM(E6:P6) -> 760 | R6: =D6*12 -> 2076 | S6: =IFERROR(AVERAGEIF(E6:P6,">0")/D6,0) -> 0.73217726 | T6: =SUMPRODUCT(--(E6:P6>D6)) -> 0 | U6: =IF(MAX(E6:P6)>D6,"Überlastet",IF(S6>=0.85,"Hoch ausgelastet",IF(S6>=0.6,"Gut ausgelastet",IF(S6>0,"Gering ausgelastet","Nicht verplant")))) -> Gut ausgelastet
A7: =Ressourcen!A6 -> R02 | B7: =Ressourcen!B6 -> Tom Fischer | C7: =Ressourcen!C6 -> Senior-Softwareentwickler | D7: =Ressourcen!H6 -> 173 | E7: =SUMIFS(Projekteinsatz!$E$6:$E$79,Projekteinsatz!$C$6:$C$79,$B7,Projekteinsatz!$D$6:$D$79,E$5) -> 100 | F7: =SUMIFS(Projekteinsatz!$E$6:$E$79,Projekteinsatz!$C$6:$C$79,$B7,Projekteinsatz!$D$6:$D$79,F$5) -> 190 | G7: =SUMIFS(Projekteinsatz!$E$6:$E$79,Projekteinsatz!$C$6:$C$79,$B7,Projekteinsatz!$D$6:$D$79,G$5) -> 0 | H7: =SUMIFS(Projekteinsatz!$E$6:$E$79,Projekteinsatz!$C$6:$C$79,$B7,Projekteinsatz!$D$6:$D$79,H$5) -> 150 | I7: =SUMIFS(Projekteinsatz!$E$6:$E$79,Projekteinsatz!$C$6:$C$79,$B7,Projekteinsatz!$D$6:$D$79,I$5) -> 160 | J7: =SUMIFS(Projekteinsatz!$E$6:$E$79,Projekteinsatz!$C$6:$C$79,$B7,Projekteinsatz!$D$6:$D$79,J$5) -> 130 | K7: =SUMIFS(Projekteinsatz!$E$6:$E$79,Projekteinsatz!$C$6:$C$79,$B7,Projekteinsatz!$D$6:$D$79,K$5) -> 0 | L7: =SUMIFS(Projekteinsatz!$E$6:$E$79,Projekteinsatz!$C$6:$C$79,$B7,Projekteinsatz!$D$6:$D$79,L$5) -> 0 | ... P7: =SUMIFS(Projekteinsatz!$E$6:$E$79,Projekteinsatz!$C$6:$C$79,$B7,Projekteinsatz!$D$6:$D$79,P$5) -> 0 | Q7: =SUM(E7:P7) -> 730 | R7: =D7*12 -> 2076 | S7: =IFERROR(AVERAGEIF(E7:P7,">0")/D7,0) -> 0.84393064 | T7: =SUMPRODUCT(--(E7:P7>D7)) -> 1 | U7: =IF(MAX(E7:P7)>D7,"Überlastet",IF(S7>=0.85,"Hoch ausgelastet",IF(S7>=0.6,"Gut ausgelastet",IF(S7>0,"Gering ausgelastet","Nicht verplant")))) -> Überlastet
A8: =Ressourcen!A7 -> R03 | B8: =Ressourcen!B7 -> Lena Wagner | C8: =Ressourcen!C7 -> Softwareentwicklerin | D8: =Ressourcen!H7 -> 156 | E8: =SUMIFS(Projekteinsatz!$E$6:$E$79,Projekteinsatz!$C$6:$C$79,$B8,Projekteinsatz!$D$6:$D$79,E$5) -> 0 | F8: =SUMIFS(Projekteinsatz!$E$6:$E$79,Projekteinsatz!$C$6:$C$79,$B8,Projekteinsatz!$D$6:$D$79,F$5) -> 175 | G8: =SUMIFS(Projekteinsatz!$E$6:$E$79,Projekteinsatz!$C$6:$C$79,$B8,Projekteinsatz!$D$6:$D$79,G$5) -> 0 | H8: =SUMIFS(Projekteinsatz!$E$6:$E$79,Projekteinsatz!$C$6:$C$79,$B8,Projekteinsatz!$D$6:$D$79,H$5) -> 0 | I8: =SUMIFS(Projekteinsatz!$E$6:$E$79,Projekteinsatz!$C$6:$C$79,$B8,Projekteinsatz!$D$6:$D$79,I$5) -> 140 | J8: =SUMIFS(Projekteinsatz!$E$6:$E$79,Projekteinsatz!$C$6:$C$79,$B8,Projekteinsatz!$D$6:$D$79,J$5) -> 120 | K8: =SUMIFS(Projekteinsatz!$E$6:$E$79,Projekteinsatz!$C$6:$C$79,$B8,Projekteinsatz!$D$6:$D$79,K$5) -> 0 | L8: =SUMIFS(Projekteinsatz!$E$6:$E$79,Projekteinsatz!$C$6:$C$79,$B8,Projekteinsatz!$D$6:$D$79,L$5) -> 0 | ... P8: =SUMIFS(Projekteinsatz!$E$6:$E$79,Projekteinsatz!$C$6:$C$79,$B8,Projekteinsatz!$D$6:$D$79,P$5) -> 0 | Q8: =SUM(E8:P8) -> 435 | R8: =D8*12 -> 1872 | S8: =IFERROR(AVERAGEIF(E8:P8,">0")/D8,0) -> 0.92948718 | T8: =SUMPRODUCT(--(E8:P8>D8)) -> 1 | U8: =IF(MAX(E8:P8)>D8,"Überlastet",IF(S8>=0.85,"Hoch ausgelastet",IF(S8>=0.6,"Gut ausgelastet",IF(S8>0,"Gering ausgelastet","Nicht verplant")))) -> Überlastet
A9: =Ressourcen!A8 -> R04 | B9: =Ressourcen!B8 -> Jonas Schmidt | C9: =Ressourcen!C8 -> UX/UI-Designer | D9: =Ressourcen!H8 -> 173 | E9: =SUMIFS(Projekteinsatz!$E$6:$E$79,Projekteinsatz!$C$6:$C$79,$B9,Projekteinsatz!$D$6:$D$79,E$5) -> 70 | F9: =SUMIFS(Projekteinsatz!$E$6:$E$79,Projekteinsatz!$C$6:$C$79,$B9,Projekteinsatz!$D$6:$D$79,F$5) -> 120 | G9: =SUMIFS(Projekteinsatz!$E$6:$E$79,Projekteinsatz!$C$6:$C$79,$B9,Projekteinsatz!$D$6:$D$79,G$5) -> 0 | H9: =SUMIFS(Projekteinsatz!$E$6:$E$79,Projekteinsatz!$C$6:$C$79,$B9,Projekteinsatz!$D$6:$D$79,H$5) -> 130 | I9: =SUMIFS(Projekteinsatz!$E$6:$E$79,Projekteinsatz!$C$6:$C$79,$B9,Projekteinsatz!$D$6:$D$79,I$5) -> 0 | J9: =SUMIFS(Projekteinsatz!$E$6:$E$79,Projekteinsatz!$C$6:$C$79,$B9,Projekteinsatz!$D$6:$D$79,J$5) -> 0 | K9: =SUMIFS(Projekteinsatz!$E$6:$E$79,Projekteinsatz!$C$6:$C$79,$B9,Projekteinsatz!$D$6:$D$79,K$5) -> 0 | L9: =SUMIFS(Projekteinsatz!$E$6:$E$79,Projekteinsatz!$C$6:$C$79,$B9,Projekteinsatz!$D$6:$D$79,L$5) -> 0 | ... P9: =SUMIFS(Projekteinsatz!$E$6:$E$79,Projekteinsatz!$C$6:$C$79,$B9,Projekteinsatz!$D$6:$D$79,P$5) -> 0 | Q9: =SUM(E9:P9) -> 320 | R9: =D9*12 -> 2076 | S9: =IFERROR(AVERAGEIF(E9:P9,">0")/D9,0) -> 0.61657033 | T9: =SUMPRODUCT(--(E9:P9>D9)) -> 0 | U9: =IF(MAX(E9:P9)>D9,"Überlastet",IF(S9>=0.85,"Hoch ausgelastet",IF(S9>=0.6,"Gut ausgelastet",IF(S9>0,"Gering ausgelastet","Nicht verplant")))) -> Gut ausgelastet
A10: =Ressourcen!A9 -> R05 | B10: =Ressourcen!B9 -> Mara Hoffmann | C10: =Ressourcen!C9 -> Business-Analystin | D10: =Ressourcen!H9 -> 130 | E10: =SUMIFS(Projekteinsatz!$E$6:$E$79,Projekteinsatz!$C$6:$C$79,$B10,Projekteinsatz!$D$6:$D$79,E$5) -> 90 | F10: =SUMIFS(Projekteinsatz!$E$6:$E$79,Projekteinsatz!$C$6:$C$79,$B10,Projekteinsatz!$D$6:$D$79,F$5) -> 0 | G10: =SUMIFS(Projekteinsatz!$E$6:$E$79,Projekteinsatz!$C$6:$C$79,$B10,Projekteinsatz!$D$6:$D$79,G$5) -> 0 | H10: =SUMIFS(Projekteinsatz!$E$6:$E$79,Projekteinsatz!$C$6:$C$79,$B10,Projekteinsatz!$D$6:$D$79,H$5) -> 110 | I10: =SUMIFS(Projekteinsatz!$E$6:$E$79,Projekteinsatz!$C$6:$C$79,$B10,Projekteinsatz!$D$6:$D$79,I$5) -> 0 | J10: =SUMIFS(Projekteinsatz!$E$6:$E$79,Projekteinsatz!$C$6:$C$79,$B10,Projekteinsatz!$D$6:$D$79,J$5) -> 40 | K10: =SUMIFS(Projekteinsatz!$E$6:$E$79,Projekteinsatz!$C$6:$C$79,$B10,Projekteinsatz!$D$6:$D$79,K$5) -> 0 | L10: =SUMIFS(Projekteinsatz!$E$6:$E$79,Projekteinsatz!$C$6:$C$79,$B10,Projekteinsatz!$D$6:$D$79,L$5) -> 0 | ... P10: =SUMIFS(Projekteinsatz!$E$6:$E$79,Projekteinsatz!$C$6:$C$79,$B10,Projekteinsatz!$D$6:$D$79,P$5) -> 0 | Q10: =SUM(E10:P10) -> 240 | R10: =D10*12 -> 1560 | S10: =IFERROR(AVERAGEIF(E10:P10,">0")/D10,0) -> 0.61538462 | T10: =SUMPRODUCT(--(E10:P10>D10)) -> 0 | U10: =IF(MAX(E10:P10)>D10,"Überlastet",IF(S10>=0.85,"Hoch ausgelastet",IF(S10>=0.6,"Gut ausgelastet",IF(S10>0,"Gering ausgelastet","Nicht verplant")))) -> Gut ausgelastet
A11: =Ressourcen!A10 -> R06 | B11: =Ressourcen!B10 -> David Klein | C11: =Ressourcen!C10 -> QA-Ingenieur | D11: =Ressourcen!H10 -> 173 | E11: =SUMIFS(Projekteinsatz!$E$6:$E$79,Projekteinsatz!$C$6:$C$79,$B11,Projekteinsatz!$D$6:$D$79,E$5) -> 0 | F11: =SUMIFS(Projekteinsatz!$E$6:$E$79,Projekteinsatz!$C$6:$C$79,$B11,Projekteinsatz!$D$6:$D$79,F$5) -> 100 | G11: =SUMIFS(Projekteinsatz!$E$6:$E$79,Projekteinsatz!$C$6:$C$79,$B11,Projekteinsatz!$D$6:$D$79,G$5) -> 190 | H11: =SUMIFS(Projekteinsatz!$E$6:$E$79,Projekteinsatz!$C$6:$C$79,$B11,Projekteinsatz!$D$6:$D$79,H$5) -> 0 | I11: =SUMIFS(Projekteinsatz!$E$6:$E$79,Projekteinsatz!$C$6:$C$79,$B11,Projekteinsatz!$D$6:$D$79,I$5) -> 0 | J11: =SUMIFS(Projekteinsatz!$E$6:$E$79,Projekteinsatz!$C$6:$C$79,$B11,Projekteinsatz!$D$6:$D$79,J$5) -> 0 | K11: =SUMIFS(Projekteinsatz!$E$6:$E$79,Projekteinsatz!$C$6:$C$79,$B11,Projekteinsatz!$D$6:$D$79,K$5) -> 120 | L11: =SUMIFS(Projekteinsatz!$E$6:$E$79,Projekteinsatz!$C$6:$C$79,$B11,Projekteinsatz!$D$6:$D$79,L$5) -> 0 | ... P11: =SUMIFS(Projekteinsatz!$E$6:$E$79,Projekteinsatz!$C$6:$C$79,$B11,Projekteinsatz!$D$6:$D$79,P$5) -> 0 | Q11: =SUM(E11:P11) -> 410 | R11: =D11*12 -> 2076 | S11: =IFERROR(AVERAGEIF(E11:P11,">0")/D11,0) -> 0.78998073 | T11: =SUMPRODUCT(--(E11:P11>D11)) -> 1 | U11: =IF(MAX(E11:P11)>D11,"Überlastet",IF(S11>=0.85,"Hoch ausgelastet",IF(S11>=0.6,"Gut ausgelastet",IF(S11>0,"Gering ausgelastet","Nicht verplant")))) -> Überlastet
A12: =Ressourcen!A11 -> R07 | B12: =Ressourcen!B11 -> Sophie Neumann | C12: =Ressourcen!C11 -> Marketing-Managerin | D12: =Ressourcen!H11 -> 156 | E12: =SUMIFS(Projekteinsatz!$E$6:$E$79,Projekteinsatz!$C$6:$C$79,$B12,Projekteinsatz!$D$6:$D$79,E$5) -> 0 | F12: =SUMIFS(Projekteinsatz!$E$6:$E$79,Projekteinsatz!$C$6:$C$79,$B12,Projekteinsatz!$D$6:$D$79,F$5) -> 0 | G12: =SUMIFS(Projekteinsatz!$E$6:$E$79,Projekteinsatz!$C$6:$C$79,$B12,Projekteinsatz!$D$6:$D$79,G$5) -> 120 | H12: =SUMIFS(Projekteinsatz!$E$6:$E$79,Projekteinsatz!$C$6:$C$79,$B12,Projekteinsatz!$D$6:$D$79,H$5) -> 0 | I12: =SUMIFS(Projekteinsatz!$E$6:$E$79,Projekteinsatz!$C$6:$C$79,$B12,Projekteinsatz!$D$6:$D$79,I$5) -> 150 | J12: =SUMIFS(Projekteinsatz!$E$6:$E$79,Projekteinsatz!$C$6:$C$79,$B12,Projekteinsatz!$D$6:$D$79,J$5) -> 160 | K12: =SUMIFS(Projekteinsatz!$E$6:$E$79,Projekteinsatz!$C$6:$C$79,$B12,Projekteinsatz!$D$6:$D$79,K$5) -> 0 | L12: =SUMIFS(Projekteinsatz!$E$6:$E$79,Projekteinsatz!$C$6:$C$79,$B12,Projekteinsatz!$D$6:$D$79,L$5) -> 0 | ... P12: =SUMIFS(Projekteinsatz!$E$6:$E$79,Projekteinsatz!$C$6:$C$79,$B12,Projekteinsatz!$D$6:$D$79,P$5) -> 0 | Q12: =SUM(E12:P12) -> 430 | R12: =D12*12 -> 1872 | S12: =IFERROR(AVERAGEIF(E12:P12,">0")/D12,0) -> 0.91880342 | T12: =SUMPRODUCT(--(E12:P12>D12)) -> 1 | U12: =IF(MAX(E12:P12)>D12,"Überlastet",IF(S12>=0.85,"Hoch ausgelastet",IF(S12>=0.6,"Gut ausgelastet",IF(S12>0,"Gering ausgelastet","Nicht verplant")))) -> Überlastet
A13: =Ressourcen!A12 -> R08 | B13: =Ressourcen!B12 -> Paul Richter | C13: =Ressourcen!C12 -> DevOps-Engineer | D13: =Ressourcen!H12 -> 173 | E13: =SUMIFS(Projekteinsatz!$E$6:$E$79,Projekteinsatz!$C$6:$C$79,$B13,Projekteinsatz!$D$6:$D$79,E$5) -> 0 | F13: =SUMIFS(Projekteinsatz!$E$6:$E$79,Projekteinsatz!$C$6:$C$79,$B13,Projekteinsatz!$D$6:$D$79,F$5) -> 0 | G13: =SUMIFS(Projekteinsatz!$E$6:$E$79,Projekteinsatz!$C$6:$C$79,$B13,Projekteinsatz!$D$6:$D$79,G$5) -> 90 | H13: =SUMIFS(Projekteinsatz!$E$6:$E$79,Projekteinsatz!$C$6:$C$79,$B13,Projekteinsatz!$D$6:$D$79,H$5) -> 160 | I13: =SUMIFS(Projekteinsatz!$E$6:$E$79,Projekteinsatz!$C$6:$C$79,$B13,Projekteinsatz!$D$6:$D$79,I$5) -> 100 | J13: =SUMIFS(Projekteinsatz!$E$6:$E$79,Projekteinsatz!$C$6:$C$79,$B13,Projekteinsatz!$D$6:$D$79,J$5) -> 0 | K13: =SUMIFS(Projekteinsatz!$E$6:$E$79,Projekteinsatz!$C$6:$C$79,$B13,Projekteinsatz!$D$6:$D$79,K$5) -> 150 | L13: =SUMIFS(Projekteinsatz!$E$6:$E$79,Projekteinsatz!$C$6:$C$79,$B13,Projekteinsatz!$D$6:$D$79,L$5) -> 0 | ... P13: =SUMIFS(Projekteinsatz!$E$6:$E$79,Projekteinsatz!$C$6:$C$79,$B13,Projekteinsatz!$D$6:$D$79,P$5) -> 0 | Q13: =SUM(E13:P13) -> 500 | R13: =D13*12 -> 2076 | S13: =IFERROR(AVERAGEIF(E13:P13,">0")/D13,0) -> 0.72254335 | T13: =SUMPRODUCT(--(E13:P13>D13)) -> 0 | U13: =IF(MAX(E13:P13)>D13,"Überlastet",IF(S13>=0.85,"Hoch ausgelastet",IF(S13>=0.6,"Gut ausgelastet",IF(S13>0,"Gering ausgelastet","Nicht verplant")))) -> Gut ausgelastet
B14: Summe Team | D14: =SUM(D6:D13) -> 1307 | E14: =SUM(E6:E13) -> 400 | F14: =SUM(F6:F13) -> 735 | G14: =SUM(G6:G13) -> 560 | H14: =SUM(H6:H13) -> 690 | I14: =SUM(I6:I13) -> 550 | J14: =SUM(J6:J13) -> 540 | K14: =SUM(K6:K13) -> 270 | ... R14: =SUM(R6:R13) -> 15684 | S14: =IFERROR(AVERAGE(S6:S13),0) -> 0.77110969 | T14: =SUM(T6:T13) -> 4
B16: Farblogik der Monatszellen:
C17: Überlastung (> Kapazität) | G17: Optimal (85–100 %) | K17: Unterauslastung (< 85 %) | O17: nicht verplant (0)
B19: Ø Auslastung = durchschnittliche Auslastung über die tatsächlich verplanten Monate. »Über­last-Mon.« = Anzahl Monate mit Überlastung.
