Workbook

Sheet Materialliste
A1: MATERIALLISTE
A2: Materialbedarf · Mengen · Kosten · Beschaffungsstatus | Geschäftsjahr 2027
A4: Projekt: | C4: Modernisierung Halle 2 – Baugruppe A | F4: Datum: | G4: 46461 | J4: POSITIONEN
A5: Projektleiter: | C5: M. Brandt | F5: Nr.: | G5: PRJ-2027-014 | J5: =COUNTA(B9:B28) -> 12
A6: Abteilung: | C6: Technik / Fertigung | F6: Budget €: | G6: 7500 | J6: OFFEN / BESTELLT
J7: =COUNTIF(J9:J28,"Offen")+COUNTIF(J9:J28,"Bestellt")+COUNTIF(J9:J28,"Angefragt") -> 7
A8: Pos. | B8: Artikelbezeichnung | C8: Art.-Nr. | D8: Kategorie | E8: Menge | F8: Einheit | G8: Einzelpreis (Netto) | H8: Gesamtpreis (Netto) | I8: Lieferant | J8: Status | K8: Liefertermin | L8: Bemerkung
A9: =IF(B9="","",ROW()-8) -> 1 | B9: Stahlprofil L-förmig 40×40×4 | C9: RM-2041 | D9: Rohmaterial | E9: 24 | F9: m | G9: 8.9 | H9: =IF(OR(E9="",G9=""),"",E9*G9) -> 213.6 | I9: Südmetall Handel GmbH | J9: Geliefert | K9: 46448 | L9: Zuschnitt inkl.
A10: =IF(B10="","",ROW()-8) -> 2 | B10: Aluminiumblech 2 mm, 1×2 m | C10: RM-1002 | D10: Rohmaterial | E10: 8 | F10: Stk. | G10: 46.5 | H10: =IF(OR(E10="",G10=""),"",E10*G10) -> 372 | I10: Südmetall Handel GmbH | J10: Bestellt | K10: 46464 | L10: Eloxiert
A11: =IF(B11="","",ROW()-8) -> 3 | B11: Sechskantschraube M8×40, verz. | C11: NT-0840 | D11: Normteile | E11: 500 | F11: Stk. | G11: 0.12 | H11: =IF(OR(E11="",G11=""),"",E11*G11) -> 60 | I11: Verbindt & Co. KG | J11: Geliefert | K11: 46445 | L11: DIN 933
A12: =IF(B12="","",ROW()-8) -> 4 | B12: Sechskantmutter M8, verz. | C12: NT-0080 | D12: Normteile | E12: 500 | F12: Stk. | G12: 0.05 | H12: =IF(OR(E12="",G12=""),"",E12*G12) -> 25 | I12: Verbindt & Co. KG | J12: Geliefert | K12: 46445 | L12: DIN 934
A13: =IF(B13="","",ROW()-8) -> 5 | B13: Unterlegscheibe M8, verz. | C13: NT-0908 | D13: Normteile | E13: 1000 | F13: Stk. | G13: 0.02 | H13: =IF(OR(E13="",G13=""),"",E13*G13) -> 20 | I13: Verbindt & Co. KG | J13: Geliefert | K13: 46445
A14: =IF(B14="","",ROW()-8) -> 6 | B14: Kabel NYM-J 3×1,5 mm² | C14: EL-3150 | D14: Elektro | E14: 100 | F14: m | G14: 1.35 | H14: =IF(OR(E14="",G14=""),"",E14*G14) -> 135 | I14: Elektro Nordstern AG | J14: Bestellt | K14: 46466 | L14: Ring 100 m
A15: =IF(B15="","",ROW()-8) -> 7 | B15: Aufputz-Schalter IP44 | C15: EL-0441 | D15: Elektro | E15: 12 | F15: Stk. | G15: 6.8 | H15: =IF(OR(E15="",G15=""),"",E15*G15) -> 81.6 | I15: Elektro Nordstern AG | J15: Angefragt | K15: 46471 | L15: 2 Angebote prüfen
A16: =IF(B16="","",ROW()-8) -> 8 | B16: Industrie-Klebeband 50 mm | C16: VB-5050 | D16: Verbrauchsmaterial | E16: 20 | F16: Rolle | G16: 3.2 | H16: =IF(OR(E16="",G16=""),"",E16*G16) -> 64 | I16: Weber Betriebsbedarf | J16: Offen
A17: =IF(B17="","",ROW()-8) -> 9 | B17: Schleifscheibe Ø125 mm | C17: VB-1250 | D17: Verbrauchsmaterial | E17: 40 | F17: Stk. | G17: 1.1 | H17: =IF(OR(E17="",G17=""),"",E17*G17) -> 44 | I17: Weber Betriebsbedarf | J17: Offen | L17: Körnung 60
A18: =IF(B18="","",ROW()-8) -> 10 | B18: Akkuschrauber 18 V (Leihe) | C18: WZ-0018 | D18: Werkzeug | E18: 2 | F18: Stk. | G18: 0 | H18: =IF(OR(E18="",G18=""),"",E18*G18) -> 0 | I18: Intern / Lager | J18: Geliefert | K18: 46438 | L18: aus Lagerbestand
A19: =IF(B19="","",ROW()-8) -> 11 | B19: Montage- & Prüfservice | C19: DL-0001 | D19: Dienstleistung | E19: 6 | F19: Std. | G19: 62 | H19: =IF(OR(E19="",G19=""),"",E19*G19) -> 372 | I19: TechMontage Partner | J19: Angefragt | K19: 46478 | L19: Pauschale verhandelbar
A20: =IF(B20="","",ROW()-8) -> 12 | B20: Palette Dämmplatten 600×1000 | C20: RM-6010 | D20: Rohmaterial | E20: 3 | F20: Paket | G20: 128 | H20: =IF(OR(E20="",G20=""),"",E20*G20) -> 384 | I20: BauDepot Mitte | J20: Bestellt | K20: 46468 | L20: WLG 035
A21: =IF(B21="","",ROW()-8) | H21: =IF(OR(E21="",G21=""),"",E21*G21)
A22: =IF(B22="","",ROW()-8) | H22: =IF(OR(E22="",G22=""),"",E22*G22)
A23: =IF(B23="","",ROW()-8) | H23: =IF(OR(E23="",G23=""),"",E23*G23)
A24: =IF(B24="","",ROW()-8) | H24: =IF(OR(E24="",G24=""),"",E24*G24)
A25: =IF(B25="","",ROW()-8) | H25: =IF(OR(E25="",G25=""),"",E25*G25)
A26: =IF(B26="","",ROW()-8) | H26: =IF(OR(E26="",G26=""),"",E26*G26)
A27: =IF(B27="","",ROW()-8) | H27: =IF(OR(E27="",G27=""),"",E27*G27)
A28: =IF(B28="","",ROW()-8) | H28: =IF(OR(E28="",G28=""),"",E28*G28)
E30: Summe Netto | H30: =SUM(H9:H28) -> 1771.2
E31: MwSt.-Satz | H31: =Referenzdaten!$F$3 -> 0.19
E32: MwSt.-Betrag | H32: =H30*H31 -> 336.528
E33: Summe Brutto | H33: =H30+H32 -> 2107.728
E34: Budget (Netto) | H34: =G6 -> 7500
E35: Budgetdifferenz (Netto) | H35: =G6-H30 -> 5728.8
A37: Generische Beispielvorlage mit fiktiven Daten. Gelb = Eingabefelder. Gesamtpreis, Summen, MwSt. und Budgetdifferenz berechnen sich automatisch.

Sheet Auswertung
B2: AUSWERTUNG
B3: Materialkosten nach Kategorie und Beschaffungsstatus (automatisch aus »Materialliste«)
B5: NACH KATEGORIE | F5: NACH STATUS
B6: Kategorie | C6: Kosten (Netto) | D6: Anteil | F6: Status | G6: Kosten (Netto) | H6: Positionen
B7: Rohmaterial | C7: =SUMIF(Materialliste!$D$9:$D$28,B7,Materialliste!$H$9:$H$28) -> 969.6 | D7: =IFERROR(C7/SUM($C$7:$C$13),0) -> 0.54742547 | F7: Offen | G7: =SUMIF(Materialliste!$J$9:$J$28,F7,Materialliste!$H$9:$H$28) -> 108 | H7: =COUNTIF(Materialliste!$J$9:$J$28,F7) -> 2
B8: Normteile | C8: =SUMIF(Materialliste!$D$9:$D$28,B8,Materialliste!$H$9:$H$28) -> 105 | D8: =IFERROR(C8/SUM($C$7:$C$13),0) -> 0.059281843 | F8: Angefragt | G8: =SUMIF(Materialliste!$J$9:$J$28,F8,Materialliste!$H$9:$H$28) -> 453.6 | H8: =COUNTIF(Materialliste!$J$9:$J$28,F8) -> 2
B9: Elektro | C9: =SUMIF(Materialliste!$D$9:$D$28,B9,Materialliste!$H$9:$H$28) -> 216.6 | D9: =IFERROR(C9/SUM($C$7:$C$13),0) -> 0.12228997 | F9: Bestellt | G9: =SUMIF(Materialliste!$J$9:$J$28,F9,Materialliste!$H$9:$H$28) -> 891 | H9: =COUNTIF(Materialliste!$J$9:$J$28,F9) -> 3
B10: Verbrauchsmaterial | C10: =SUMIF(Materialliste!$D$9:$D$28,B10,Materialliste!$H$9:$H$28) -> 108 | D10: =IFERROR(C10/SUM($C$7:$C$13),0) -> 0.06097561 | F10: Geliefert | G10: =SUMIF(Materialliste!$J$9:$J$28,F10,Materialliste!$H$9:$H$28) -> 318.6 | H10: =COUNTIF(Materialliste!$J$9:$J$28,F10) -> 5
B11: Werkzeug | C11: =SUMIF(Materialliste!$D$9:$D$28,B11,Materialliste!$H$9:$H$28) -> 0 | D11: =IFERROR(C11/SUM($C$7:$C$13),0) -> 0 | F11: Storniert | G11: =SUMIF(Materialliste!$J$9:$J$28,F11,Materialliste!$H$9:$H$28) -> 0 | H11: =COUNTIF(Materialliste!$J$9:$J$28,F11) -> 0
B12: Dienstleistung | C12: =SUMIF(Materialliste!$D$9:$D$28,B12,Materialliste!$H$9:$H$28) -> 372 | D12: =IFERROR(C12/SUM($C$7:$C$13),0) -> 0.2100271 | F12: Gesamt | G12: =SUM(G7:G11) -> 1771.2 | H12: =SUM(H7:H11) -> 12
B13: Sonstiges | C13: =SUMIF(Materialliste!$D$9:$D$28,B13,Materialliste!$H$9:$H$28) -> 0 | D13: =IFERROR(C13/SUM($C$7:$C$13),0) -> 0
B14: Gesamt | C14: =SUM(C7:C13) -> 1771.2 | D14: 100%
B16: KENNZAHLEN
B17: Positionen gesamt | C17: =COUNTA(Materialliste!B9:B28) -> 12
B18: Materialwert (Netto) | C18: =SUM(Materialliste!$H$9:$H$28) -> 1771.2
B19: Ø Positionswert | C19: =IFERROR(SUM(Materialliste!$H$9:$H$28)/COUNTA(Materialliste!B9:B28),0) -> 147.6
B20: Offener Bestellwert | C20: =SUMIF(Materialliste!$J$9:$J$28,"Offen",Materialliste!$H$9:$H$28)+SUMIF(Materialliste!$J$9:$J$28,"Angefragt",Materialliste!$H$9:$H$28)+SUMIF(Materialliste!$J$9:$J$28,"Bestellt",Materialliste!$H$9:$H$28) -> 1452.6

Sheet Referenzdaten
A1: REFERENZDATEN
A2: Einheiten | B2: Status-Optionen | C2: Kategorien | F2: MwSt.-Satz
A3: Stk. | B3: Offen | C3: Rohmaterial | E3: Standardsatz: | F3: 0.19
A4: m | B4: Angefragt | C4: Normteile | E4: ermäßigt: | F4: 0.07
A5: m² | B5: Bestellt | C5: Elektro
A6: m³ | B6: Geliefert | C6: Verbrauchsmaterial
A7: kg | B7: Storniert | C7: Werkzeug
A8: t | C8: Dienstleistung
A9: l | C9: Sonstiges
A10: Paar
A11: Satz
A12: Paket
A13: Rolle
A14: Std.
A17: Der in der Materialliste verwendete MwSt.-Satz wird aus Zelle F3 gezogen.
