Workbook

Sheet Übersicht
B1: Kraftstoffverbrauch · Übersicht 2027
B2: Verbrauch, Kosten und Entwicklung auf einen Blick · aus dem Tankbuch berechnet
B4: FAHRZEUG | D4: KENNZEICHEN | F4: KRAFTSTOFFART | H4: ZEITRAUM
B5: Muster-Pkw · Kompakt | D5: M-AB 1234 | F5: Super E10 (Benzin) | H5: Januar – Mai 2027
B7: Ø VERBRAUCH | D7: GESAMTKOSTEN | F7: GEFAHRENE STRECKE | H7: Ø KRAFTSTOFFPREIS
B8: =Tankbuch!$H$22 -> 7.1297376 | D8: =Tankbuch!$G$22 -> 870.3369 | F8: =Tankbuch!$D$22 -> 6860 | H8: =Tankbuch!$F$22 -> 1.7794662
B9: =_xlfn.CONCAT("Gesamt getankt: ",TEXT(Tankbuch!$E$22,"#,##0.0")," l") -> Gesamt getankt: 489,100 l | D9: =_xlfn.CONCAT("Ø ",TEXT(IFERROR(Tankbuch!$G$22/13,0),"#,##0.00")," € / Tankung") -> Ø 66,94899 € / Tankung | F9: =_xlfn.CONCAT(13," Tankvorgänge erfasst") -> 13 Tankvorgänge erfasst | H9: =_xlfn.CONCAT("Ø Kosten/100 km: ",TEXT(Tankbuch!$I$22,"#,##0.00")," €") -> Ø Kosten/100 km: 12,68713 €
B11: VERBRAUCHSVERLAUF JE TANKVORGANG (l/100 km)
B27: MONATSÜBERSICHT 2027
B28: Monat | C28: Strecke | D28: Getankt | E28: Kosten | F28: Ø Preis/l | G28: Ø l/100 km | H28: Kosten/100 km | I28: Verlauf
B29: Januar | C29: =SUMIFS(Tankbuch!$D$9:$D$21,Tankbuch!$B$9:$B$21,">="&DATE(2027,1,1),Tankbuch!$B$9:$B$21,"<"&DATE(2027,2,1)) -> 980 | D29: =SUMIFS(Tankbuch!$E$9:$E$21,Tankbuch!$B$9:$B$21,">="&DATE(2027,1,1),Tankbuch!$B$9:$B$21,"<"&DATE(2027,2,1)) -> 69.9 | E29: =SUMIFS(Tankbuch!$G$9:$G$21,Tankbuch!$B$9:$B$21,">="&DATE(2027,1,1),Tankbuch!$B$9:$B$21,"<"&DATE(2027,2,1)) -> 125.4221 | F29: =IFERROR(E29/D29,0) -> 1.7943076 | G29: =IFERROR(D29/C29*100,0) -> 7.1326531 | H29: =IFERROR(E29/C29*100,0) -> 12.798173 | I29: =IFERROR(REPT("▮",ROUND(E29/60,0)),"") -> ▮▮
B30: Februar | C30: =SUMIFS(Tankbuch!$D$9:$D$21,Tankbuch!$B$9:$B$21,">="&DATE(2027,2,1),Tankbuch!$B$9:$B$21,"<"&DATE(2027,3,1)) -> 1550 | D30: =SUMIFS(Tankbuch!$E$9:$E$21,Tankbuch!$B$9:$B$21,">="&DATE(2027,2,1),Tankbuch!$B$9:$B$21,"<"&DATE(2027,3,1)) -> 110.7 | E30: =SUMIFS(Tankbuch!$G$9:$G$21,Tankbuch!$B$9:$B$21,">="&DATE(2027,2,1),Tankbuch!$B$9:$B$21,"<"&DATE(2027,3,1)) -> 197.8863 | F30: =IFERROR(E30/D30,0) -> 1.7875908 | G30: =IFERROR(D30/C30*100,0) -> 7.1419355 | H30: =IFERROR(E30/C30*100,0) -> 12.766858 | I30: =IFERROR(REPT("▮",ROUND(E30/60,0)),"") -> ▮▮▮
B31: März | C31: =SUMIFS(Tankbuch!$D$9:$D$21,Tankbuch!$B$9:$B$21,">="&DATE(2027,3,1),Tankbuch!$B$9:$B$21,"<"&DATE(2027,4,1)) -> 1560 | D31: =SUMIFS(Tankbuch!$E$9:$E$21,Tankbuch!$B$9:$B$21,">="&DATE(2027,3,1),Tankbuch!$B$9:$B$21,"<"&DATE(2027,4,1)) -> 111.5 | E31: =SUMIFS(Tankbuch!$G$9:$G$21,Tankbuch!$B$9:$B$21,">="&DATE(2027,3,1),Tankbuch!$B$9:$B$21,"<"&DATE(2027,4,1)) -> 198.2565 | F31: =IFERROR(E31/D31,0) -> 1.7780852 | G31: =IFERROR(D31/C31*100,0) -> 7.1474359 | H31: =IFERROR(E31/C31*100,0) -> 12.70875 | I31: =IFERROR(REPT("▮",ROUND(E31/60,0)),"") -> ▮▮▮
B32: April | C32: =SUMIFS(Tankbuch!$D$9:$D$21,Tankbuch!$B$9:$B$21,">="&DATE(2027,4,1),Tankbuch!$B$9:$B$21,"<"&DATE(2027,5,1)) -> 1120 | D32: =SUMIFS(Tankbuch!$E$9:$E$21,Tankbuch!$B$9:$B$21,">="&DATE(2027,4,1),Tankbuch!$B$9:$B$21,"<"&DATE(2027,5,1)) -> 79.3 | E32: =SUMIFS(Tankbuch!$G$9:$G$21,Tankbuch!$B$9:$B$21,">="&DATE(2027,4,1),Tankbuch!$B$9:$B$21,"<"&DATE(2027,5,1)) -> 141.1487 | F32: =IFERROR(E32/D32,0) -> 1.7799332 | G32: =IFERROR(D32/C32*100,0) -> 7.0803571 | H32: =IFERROR(E32/C32*100,0) -> 12.602562 | I32: =IFERROR(REPT("▮",ROUND(E32/60,0)),"") -> ▮▮
B33: Mai | C33: =SUMIFS(Tankbuch!$D$9:$D$21,Tankbuch!$B$9:$B$21,">="&DATE(2027,5,1),Tankbuch!$B$9:$B$21,"<"&DATE(2027,6,1)) -> 1650 | D33: =SUMIFS(Tankbuch!$E$9:$E$21,Tankbuch!$B$9:$B$21,">="&DATE(2027,5,1),Tankbuch!$B$9:$B$21,"<"&DATE(2027,6,1)) -> 117.7 | E33: =SUMIFS(Tankbuch!$G$9:$G$21,Tankbuch!$B$9:$B$21,">="&DATE(2027,5,1),Tankbuch!$B$9:$B$21,"<"&DATE(2027,6,1)) -> 207.6233 | F33: =IFERROR(E33/D33,0) -> 1.7640042 | G33: =IFERROR(D33/C33*100,0) -> 7.1333333 | H33: =IFERROR(E33/C33*100,0) -> 12.58323 | I33: =IFERROR(REPT("▮",ROUND(E33/60,0)),"") -> ▮▮▮
B34: Juni | C34: =SUMIFS(Tankbuch!$D$9:$D$21,Tankbuch!$B$9:$B$21,">="&DATE(2027,6,1),Tankbuch!$B$9:$B$21,"<"&DATE(2027,7,1)) -> 0 | D34: =SUMIFS(Tankbuch!$E$9:$E$21,Tankbuch!$B$9:$B$21,">="&DATE(2027,6,1),Tankbuch!$B$9:$B$21,"<"&DATE(2027,7,1)) -> 0 | E34: =SUMIFS(Tankbuch!$G$9:$G$21,Tankbuch!$B$9:$B$21,">="&DATE(2027,6,1),Tankbuch!$B$9:$B$21,"<"&DATE(2027,7,1)) -> 0 | F34: =IFERROR(E34/D34,0) -> 0 | G34: =IFERROR(D34/C34*100,0) -> 0 | H34: =IFERROR(E34/C34*100,0) -> 0 | I34: =IFERROR(REPT("▮",ROUND(E34/60,0)),"")
B35: Juli | C35: =SUMIFS(Tankbuch!$D$9:$D$21,Tankbuch!$B$9:$B$21,">="&DATE(2027,7,1),Tankbuch!$B$9:$B$21,"<"&DATE(2027,8,1)) -> 0 | D35: =SUMIFS(Tankbuch!$E$9:$E$21,Tankbuch!$B$9:$B$21,">="&DATE(2027,7,1),Tankbuch!$B$9:$B$21,"<"&DATE(2027,8,1)) -> 0 | E35: =SUMIFS(Tankbuch!$G$9:$G$21,Tankbuch!$B$9:$B$21,">="&DATE(2027,7,1),Tankbuch!$B$9:$B$21,"<"&DATE(2027,8,1)) -> 0 | F35: =IFERROR(E35/D35,0) -> 0 | G35: =IFERROR(D35/C35*100,0) -> 0 | H35: =IFERROR(E35/C35*100,0) -> 0 | I35: =IFERROR(REPT("▮",ROUND(E35/60,0)),"")
B36: August | C36: =SUMIFS(Tankbuch!$D$9:$D$21,Tankbuch!$B$9:$B$21,">="&DATE(2027,8,1),Tankbuch!$B$9:$B$21,"<"&DATE(2027,9,1)) -> 0 | D36: =SUMIFS(Tankbuch!$E$9:$E$21,Tankbuch!$B$9:$B$21,">="&DATE(2027,8,1),Tankbuch!$B$9:$B$21,"<"&DATE(2027,9,1)) -> 0 | E36: =SUMIFS(Tankbuch!$G$9:$G$21,Tankbuch!$B$9:$B$21,">="&DATE(2027,8,1),Tankbuch!$B$9:$B$21,"<"&DATE(2027,9,1)) -> 0 | F36: =IFERROR(E36/D36,0) -> 0 | G36: =IFERROR(D36/C36*100,0) -> 0 | H36: =IFERROR(E36/C36*100,0) -> 0 | I36: =IFERROR(REPT("▮",ROUND(E36/60,0)),"")
B37: September | C37: =SUMIFS(Tankbuch!$D$9:$D$21,Tankbuch!$B$9:$B$21,">="&DATE(2027,9,1),Tankbuch!$B$9:$B$21,"<"&DATE(2027,10,1)) -> 0 | D37: =SUMIFS(Tankbuch!$E$9:$E$21,Tankbuch!$B$9:$B$21,">="&DATE(2027,9,1),Tankbuch!$B$9:$B$21,"<"&DATE(2027,10,1)) -> 0 | E37: =SUMIFS(Tankbuch!$G$9:$G$21,Tankbuch!$B$9:$B$21,">="&DATE(2027,9,1),Tankbuch!$B$9:$B$21,"<"&DATE(2027,10,1)) -> 0 | F37: =IFERROR(E37/D37,0) -> 0 | G37: =IFERROR(D37/C37*100,0) -> 0 | H37: =IFERROR(E37/C37*100,0) -> 0 | I37: =IFERROR(REPT("▮",ROUND(E37/60,0)),"")
B38: Oktober | C38: =SUMIFS(Tankbuch!$D$9:$D$21,Tankbuch!$B$9:$B$21,">="&DATE(2027,10,1),Tankbuch!$B$9:$B$21,"<"&DATE(2027,11,1)) -> 0 | D38: =SUMIFS(Tankbuch!$E$9:$E$21,Tankbuch!$B$9:$B$21,">="&DATE(2027,10,1),Tankbuch!$B$9:$B$21,"<"&DATE(2027,11,1)) -> 0 | E38: =SUMIFS(Tankbuch!$G$9:$G$21,Tankbuch!$B$9:$B$21,">="&DATE(2027,10,1),Tankbuch!$B$9:$B$21,"<"&DATE(2027,11,1)) -> 0 | F38: =IFERROR(E38/D38,0) -> 0 | G38: =IFERROR(D38/C38*100,0) -> 0 | H38: =IFERROR(E38/C38*100,0) -> 0 | I38: =IFERROR(REPT("▮",ROUND(E38/60,0)),"")
B39: November | C39: =SUMIFS(Tankbuch!$D$9:$D$21,Tankbuch!$B$9:$B$21,">="&DATE(2027,11,1),Tankbuch!$B$9:$B$21,"<"&DATE(2027,12,1)) -> 0 | D39: =SUMIFS(Tankbuch!$E$9:$E$21,Tankbuch!$B$9:$B$21,">="&DATE(2027,11,1),Tankbuch!$B$9:$B$21,"<"&DATE(2027,12,1)) -> 0 | E39: =SUMIFS(Tankbuch!$G$9:$G$21,Tankbuch!$B$9:$B$21,">="&DATE(2027,11,1),Tankbuch!$B$9:$B$21,"<"&DATE(2027,12,1)) -> 0 | F39: =IFERROR(E39/D39,0) -> 0 | G39: =IFERROR(D39/C39*100,0) -> 0 | H39: =IFERROR(E39/C39*100,0) -> 0 | I39: =IFERROR(REPT("▮",ROUND(E39/60,0)),"")
B40: Dezember | C40: =SUMIFS(Tankbuch!$D$9:$D$21,Tankbuch!$B$9:$B$21,">="&DATE(2027,12,1),Tankbuch!$B$9:$B$21,"<"&DATE(2027,13,1)) -> 0 | D40: =SUMIFS(Tankbuch!$E$9:$E$21,Tankbuch!$B$9:$B$21,">="&DATE(2027,12,1),Tankbuch!$B$9:$B$21,"<"&DATE(2027,13,1)) -> 0 | E40: =SUMIFS(Tankbuch!$G$9:$G$21,Tankbuch!$B$9:$B$21,">="&DATE(2027,12,1),Tankbuch!$B$9:$B$21,"<"&DATE(2027,13,1)) -> 0 | F40: =IFERROR(E40/D40,0) -> 0 | G40: =IFERROR(D40/C40*100,0) -> 0 | H40: =IFERROR(E40/C40*100,0) -> 0 | I40: =IFERROR(REPT("▮",ROUND(E40/60,0)),"")
B41: GESAMT 2027 | C41: =SUM(C29:C40) -> 6860 | D41: =SUM(D29:D40) -> 489.1 | E41: =SUM(E29:E40) -> 870.3369 | F41: =IFERROR(E41/D41,0) -> 1.7794662 | G41: =IFERROR(D41/C41*100,0) -> 7.1297376 | H41: =IFERROR(E41/C41*100,0) -> 12.687127
B43: KRAFTSTOFFKOSTEN JE MONAT (€)

Sheet Tankbuch
B1: Tankbuch
B2: Einzelerfassung aller Tankvorgänge · Kraftstoffverbrauch & -kosten · 2027
B4: FAHRZEUG | D4: KENNZEICHEN | F4: KRAFTSTOFFART | H4: KILOMETERSTAND ZU BEGINN | J4: BERICHTSZEITRAUM
B5: Muster-Pkw · Kompakt | D5: M-AB 1234 | F5: Super E10 (Benzin) | H5: 42350 | J5: Januar – Mai 2027
B7: TANKVORGÄNGE
B8: Datum | C8: Kilometerstand | D8: Teilstrecke | E8: Getankt | F8: Preis / l | G8: Kosten | H8: Verbrauch | I8: Kosten / 100 km | J8: Volltank | K8: Notiz
B9: 46396 | C9: 42810 | D9: =C9-$H$5 -> 460 | E9: 32.8 | F9: 1.789 | G9: =E9*F9 -> 58.6792 | H9: =IFERROR(E9/D9*100,0) -> 7.1304348 | I9: =IFERROR(G9/D9*100,0) -> 12.756348 | J9: Ja | K9: Überwiegend Autobahn | N9: =$H$22 -> 7.1297376
B10: 46407 | C10: 43330 | D10: =C10-C9 -> 520 | E10: 37.1 | F10: 1.799 | G10: =E10*F10 -> 66.7429 | H10: =IFERROR(E10/D10*100,0) -> 7.1346154 | I10: =IFERROR(G10/D10*100,0) -> 12.835173 | J10: Ja | K10: Gemischt | N10: =$H$22 -> 7.1297376
B11: 46420 | C11: 43835 | D11: =C11-C10 -> 505 | E11: 36.2 | F11: 1.759 | G11: =E11*F11 -> 63.6758 | H11: =IFERROR(E11/D11*100,0) -> 7.1683168 | I11: =IFERROR(G11/D11*100,0) -> 12.609069 | J11: Ja | K11: Stadtverkehr | N11: =$H$22 -> 7.1297376
B12: 46432 | C12: 44290 | D12: =C12-C11 -> 455 | E12: 33.5 | F12: 1.829 | G12: =E12*F12 -> 61.2715 | H12: =IFERROR(E12/D12*100,0) -> 7.3626374 | I12: =IFERROR(G12/D12*100,0) -> 13.466264 | J12: Nein | K12: Kurzstrecke, Winter | N12: =$H$22 -> 7.1297376
B13: 46443 | C13: 44880 | D13: =C13-C12 -> 590 | E13: 41 | F13: 1.779 | G13: =E13*F13 -> 72.939 | H13: =IFERROR(E13/D13*100,0) -> 6.9491525 | I13: =IFERROR(G13/D13*100,0) -> 12.362542 | J13: Ja | K13: Überwiegend Autobahn | N13: =$H$22 -> 7.1297376
B14: 46454 | C14: 45360 | D14: =C14-C13 -> 480 | E14: 34.6 | F14: 1.749 | G14: =E14*F14 -> 60.5154 | H14: =IFERROR(E14/D14*100,0) -> 7.2083333 | I14: =IFERROR(G14/D14*100,0) -> 12.607375 | J14: Ja | K14: Gemischt | N14: =$H$22 -> 7.1297376
B15: 46465 | C15: 45970 | D15: =C15-C14 -> 610 | E15: 42.8 | F15: 1.769 | G15: =E15*F15 -> 75.7132 | H15: =IFERROR(E15/D15*100,0) -> 7.0163934 | I15: =IFERROR(G15/D15*100,0) -> 12.412 | J15: Ja | K15: Urlaubsfahrt | N15: =$H$22 -> 7.1297376
B16: 46476 | C16: 46440 | D16: =C16-C15 -> 470 | E16: 34.1 | F16: 1.819 | G16: =E16*F16 -> 62.0279 | H16: =IFERROR(E16/D16*100,0) -> 7.2553191 | I16: =IFERROR(G16/D16*100,0) -> 13.197426 | J16: Ja | K16: Stadtverkehr | N16: =$H$22 -> 7.1297376
B17: 46487 | C17: 47030 | D17: =C17-C16 -> 590 | E17: 41.5 | F17: 1.799 | G17: =E17*F17 -> 74.6585 | H17: =IFERROR(E17/D17*100,0) -> 7.0338983 | I17: =IFERROR(G17/D17*100,0) -> 12.653983 | J17: Ja | K17: Überwiegend Autobahn | N17: =$H$22 -> 7.1297376
B18: 46498 | C18: 47560 | D18: =C18-C17 -> 530 | E18: 37.8 | F18: 1.759 | G18: =E18*F18 -> 66.4902 | H18: =IFERROR(E18/D18*100,0) -> 7.1320755 | I18: =IFERROR(G18/D18*100,0) -> 12.545321 | J18: Nein | K18: Gemischt | N18: =$H$22 -> 7.1297376
B19: 46509 | C19: 48150 | D19: =C19-C18 -> 590 | E19: 42.2 | F19: 1.739 | G19: =E19*F19 -> 73.3858 | H19: =IFERROR(E19/D19*100,0) -> 7.1525424 | I19: =IFERROR(G19/D19*100,0) -> 12.438271 | J19: Ja | K19: Überwiegend Autobahn | N19: =$H$22 -> 7.1297376
B20: 46521 | C20: 48620 | D20: =C20-C19 -> 470 | E20: 33.9 | F20: 1.789 | G20: =E20*F20 -> 60.6471 | H20: =IFERROR(E20/D20*100,0) -> 7.212766 | I20: =IFERROR(G20/D20*100,0) -> 12.903638 | J20: Ja | K20: Stadtverkehr | N20: =$H$22 -> 7.1297376
B21: 46532 | C21: 49210 | D21: =C21-C20 -> 590 | E21: 41.6 | F21: 1.769 | G21: =E21*F21 -> 73.5904 | H21: =IFERROR(E21/D21*100,0) -> 7.0508475 | I21: =IFERROR(G21/D21*100,0) -> 12.472949 | J21: Ja | K21: Gemischt | N21: =$H$22 -> 7.1297376
B22: GESAMT / Ø | D22: =SUM(D9:D21) -> 6860 | E22: =SUM(E9:E21) -> 489.1 | F22: =IFERROR(G22/E22,0) -> 1.7794662 | G22: =SUM(G9:G21) -> 870.3369 | H22: =IFERROR(E22/D22*100,0) -> 7.1297376 | I22: =IFERROR(G22/D22*100,0) -> 12.687127

Sheet Anleitung
B1: Anleitung & Hinweise
B3: AUFBAU DER VORLAGE
B4: Blatt »Übersicht« = Kennzahlen, Verbrauchsverlauf und Monatsübersicht (automatisch berechnet).
B5: Blatt »Tankbuch« = Einzelerfassung jedes Tankvorgangs – hier trägst du deine Daten ein.
B6: Blatt »Anleitung« = diese Hinweise.
B8: SO FÜLLST DU DAS TANKBUCH AUS
B9: 1. Kopf ausfüllen: Fahrzeug, Kennzeichen, Kraftstoffart und Kilometerstand zu Beginn.
B10: 2. Je Tankstopp eine Zeile: Datum, aktueller Kilometerstand, getankte Liter und Preis pro Liter.
B11: 3. Teilstrecke, Kosten, Verbrauch und Kosten/100 km werden automatisch berechnet.
B12: 4. Spalte »Volltank« auf Ja/Nein setzen – nur bei Volltankung ist der Verbrauch exakt.
B13: 5. Die Übersicht aktualisiert Kennzahlen und Diagramme automatisch.
B15: DIE FORMELN DAHINTER
... B27: Alle Angaben sind Beispielwerte eines fiktiven Fahrzeugs und dienen nur der Veranschaulichung.
