Workbook

Sheet Belegungsplan
B2: Desk Sharing - Belegungsplan | P2: DESK SHARING · 2026
B3: =Stammdaten!$C$5&" · "&Stammdaten!$C$6 -> Beispielunternehmen GmbH · Hauptsitz – Bürogebäude A
B5: Startdatum | C5: 46307 | E5: → Plan startet am Montag dieser Woche (2 Arbeitswochen) | I5: Legende: | J5: Belegt | L5: Angefragt ? | M5: Konflikt | N5: Gesperrt | O5: Feiertag | P5: Heute
F7: ="KALENDERWOCHE "&_xlfn.ISOWEEKNUM(F8) -> KALENDERWOCHE 42 | L7: ="KALENDERWOCHE "&_xlfn.ISOWEEKNUM(L8) -> KALENDERWOCHE 43
B8: Arbeitsplatz | F8: =$C$5-WEEKDAY($C$5,2)+1 -> 46307 | G8: =$F$8+1 -> 46308 | H8: =$F$8+2 -> 46309 | I8: =$F$8+3 -> 46310 | J8: =$F$8+4 -> 46311 | L8: =$F$8+7 -> 46314 | M8: =$F$8+8 -> 46315 | N8: =$F$8+9 -> 46316 | O8: =$F$8+10 -> 46317 | P8: =$F$8+11 -> 46318
B9: Platz | C9: Etage | D9: Bereich | E9: Ausstattung | F9: =CHOOSE(WEEKDAY(F$8,2),"Montag","Dienstag","Mittwoch","Donnerstag","Freitag","Samstag","Sonntag") -> Montag | G9: =CHOOSE(WEEKDAY(G$8,2),"Montag","Dienstag","Mittwoch","Donnerstag","Freitag","Samstag","Sonntag") -> Dienstag | H9: =CHOOSE(WEEKDAY(H$8,2),"Montag","Dienstag","Mittwoch","Donnerstag","Freitag","Samstag","Sonntag") -> Mittwoch | I9: =CHOOSE(WEEKDAY(I$8,2),"Montag","Dienstag","Mittwoch","Donnerstag","Freitag","Samstag","Sonntag") -> Donnerstag | J9: =CHOOSE(WEEKDAY(J$8,2),"Montag","Dienstag","Mittwoch","Donnerstag","Freitag","Samstag","Sonntag") -> Freitag | L9: =CHOOSE(WEEKDAY(L$8,2),"Montag","Dienstag","Mittwoch","Donnerstag","Freitag","Samstag","Sonntag") -> Montag | M9: =CHOOSE(WEEKDAY(M$8,2),"Montag","Dienstag","Mittwoch","Donnerstag","Freitag","Samstag","Sonntag") -> Dienstag | N9: =CHOOSE(WEEKDAY(N$8,2),"Montag","Dienstag","Mittwoch","Donnerstag","Freitag","Samstag","Sonntag") -> Mittwoch | O9: =CHOOSE(WEEKDAY(O$8,2),"Montag","Dienstag","Mittwoch","Donnerstag","Freitag","Samstag","Sonntag") -> Donnerstag | P9: =CHOOSE(WEEKDAY(P$8,2),"Montag","Dienstag","Mittwoch","Donnerstag","Freitag","Samstag","Sonntag") -> Freitag
B10: =IF(Stammdaten!$B10="","",Stammdaten!$B10) -> A-01 | C10: =IF($B10="","",Stammdaten!$C10) -> 1. OG | D10: =IF($B10="","",Stammdaten!$D10) -> Teamzone Nord | E10: =IF($B10="","",Stammdaten!$F10&" Mon."&IF(Stammdaten!$G10="Ja"," · Dock","")&IF(Stammdaten!$H10="Ja"," · HV","")) -> 2 Mon. · Dock | F10: =IF($B10="","",IF(Stammdaten!$I10="Gesperrt","gesperrt",IF(COUNTIF(Stammdaten!$AD$10:$AD$30,F$8)>0,"Feiertag",IFERROR(INDEX(Buchungen!$T$6:$T$605,MATCH($B10&"|"&F$8&"|1",Buchungen!$Q$6:$Q$605,0)),"")&IFERROR(" / "&INDEX(Buchungen!$T$6:$T$605,MATCH($B10&"|"&F$8&"|2",Buchungen!$Q$6:$Q$605,0)),"")))) -> J. Weber | G10: =IF($B10="","",IF(Stammdaten!$I10="Gesperrt","gesperrt",IF(COUNTIF(Stammdaten!$AD$10:$AD$30,G$8)>0,"Feiertag",IFERROR(INDEX(Buchungen!$T$6:$T$605,MATCH($B10&"|"&G$8&"|1",Buchungen!$Q$6:$Q$605,0)),"")&IFERROR(" / "&INDEX(Buchungen!$T$6:$T$605,MATCH($B10&"|"&G$8&"|2",Buchungen!$Q$6:$Q$605,0)),"")))) | H10: =IF($B10="","",IF(Stammdaten!$I10="Gesperrt","gesperrt",IF(COUNTIF(Stammdaten!$AD$10:$AD$30,H$8)>0,"Feiertag",IFERROR(INDEX(Buchungen!$T$6:$T$605,MATCH($B10&"|"&H$8&"|1",Buchungen!$Q$6:$Q$605,0)),"")&IFERROR(" / "&INDEX(Buchungen!$T$6:$T$605,MATCH($B10&"|"&H$8&"|2",Buchungen!$Q$6:$Q$605,0)),"")))) -> J. Weber | I10: =IF($B10="","",IF(Stammdaten!$I10="Gesperrt","gesperrt",IF(COUNTIF(Stammdaten!$AD$10:$AD$30,I$8)>0,"Feiertag",IFERROR(INDEX(Buchungen!$T$6:$T$605,MATCH($B10&"|"&I$8&"|1",Buchungen!$Q$6:$Q$605,0)),"")&IFERROR(" / "&INDEX(Buchungen!$T$6:$T$605,MATCH($B10&"|"&I$8&"|2",Buchungen!$Q$6:$Q$605,0)),"")))) -> M. Seidel | J10: =IF($B10="","",IF(Stammdaten!$I10="Gesperrt","gesperrt",IF(COUNTIF(Stammdaten!$AD$10:$AD$30,J$8)>0,"Feiertag",IFERROR(INDEX(Buchungen!$T$6:$T$605,MATCH($B10&"|"&J$8&"|1",Buchungen!$Q$6:$Q$605,0)),"")&IFERROR(" / "&INDEX(Buchungen!$T$6:$T$605,MATCH($B10&"|"&J$8&"|2",Buchungen!$Q$6:$Q$605,0)),"")))) -> F. Engel | L10: =IF($B10="","",IF(Stammdaten!$I10="Gesperrt","gesperrt",IF(COUNTIF(Stammdaten!$AD$10:$AD$30,L$8)>0,"Feiertag",IFERROR(INDEX(Buchungen!$T$6:$T$605,MATCH($B10&"|"&L$8&"|1",Buchungen!$Q$6:$Q$605,0)),"")&IFERROR(" / "&INDEX(Buchungen!$T$6:$T$605,MATCH($B10&"|"&L$8&"|2",Buchungen!$Q$6:$Q$605,0)),"")))) -> M. Seidel | M10: =IF($B10="","",IF(Stammdaten!$I10="Gesperrt","gesperrt",IF(COUNTIF(Stammdaten!$AD$10:$AD$30,M$8)>0,"Feiertag",IFERROR(INDEX(Buchungen!$T$6:$T$605,MATCH($B10&"|"&M$8&"|1",Buchungen!$Q$6:$Q$605,0)),"")&IFERROR(" / "&INDEX(Buchungen!$T$6:$T$605,MATCH($B10&"|"&M$8&"|2",Buchungen!$Q$6:$Q$605,0)),"")))) -> M. Seidel | N10: =IF($B10="","",IF(Stammdaten!$I10="Gesperrt","gesperrt",IF(COUNTIF(Stammdaten!$AD$10:$AD$30,N$8)>0,"Feiertag",IFERROR(INDEX(Buchungen!$T$6:$T$605,MATCH($B10&"|"&N$8&"|1",Buchungen!$Q$6:$Q$605,0)),"")&IFERROR(" / "&INDEX(Buchungen!$T$6:$T$605,MATCH($B10&"|"&N$8&"|2",Buchungen!$Q$6:$Q$605,0)),"")))) | O10: =IF($B10="","",IF(Stammdaten!$I10="Gesperrt","gesperrt",IF(COUNTIF(Stammdaten!$AD$10:$AD$30,O$8)>0,"Feiertag",IFERROR(INDEX(Buchungen!$T$6:$T$605,MATCH($B10&"|"&O$8&"|1",Buchungen!$Q$6:$Q$605,0)),"")&IFERROR(" / "&INDEX(Buchungen!$T$6:$T$605,MATCH($B10&"|"&O$8&"|2",Buchungen!$Q$6:$Q$605,0)),"")))) -> A. Demir | P10: =IF($B10="","",IF(Stammdaten!$I10="Gesperrt","gesperrt",IF(COUNTIF(Stammdaten!$AD$10:$AD$30,P$8)>0,"Feiertag",IFERROR(INDEX(Buchungen!$T$6:$T$605,MATCH($B10&"|"&P$8&"|1",Buchungen!$Q$6:$Q$605,0)),"")&IFERROR(" / "&INDEX(Buchungen!$T$6:$T$605,MATCH($B10&"|"&P$8&"|2",Buchungen!$Q$6:$Q$605,0)),"")))) -> M. Seidel
B11: =IF(Stammdaten!$B11="","",Stammdaten!$B11) -> A-02 | C11: =IF($B11="","",Stammdaten!$C11) -> 1. OG | D11: =IF($B11="","",Stammdaten!$D11) -> Teamzone Nord | E11: =IF($B11="","",Stammdaten!$F11&" Mon."&IF(Stammdaten!$G11="Ja"," · Dock","")&IF(Stammdaten!$H11="Ja"," · HV","")) -> 2 Mon. · Dock | F11: =IF($B11="","",IF(Stammdaten!$I11="Gesperrt","gesperrt",IF(COUNTIF(Stammdaten!$AD$10:$AD$30,F$8)>0,"Feiertag",IFERROR(INDEX(Buchungen!$T$6:$T$605,MATCH($B11&"|"&F$8&"|1",Buchungen!$Q$6:$Q$605,0)),"")&IFERROR(" / "&INDEX(Buchungen!$T$6:$T$605,MATCH($B11&"|"&F$8&"|2",Buchungen!$Q$6:$Q$605,0)),"")))) -> P. Schreiber | G11: =IF($B11="","",IF(Stammdaten!$I11="Gesperrt","gesperrt",IF(COUNTIF(Stammdaten!$AD$10:$AD$30,G$8)>0,"Feiertag",IFERROR(INDEX(Buchungen!$T$6:$T$605,MATCH($B11&"|"&G$8&"|1",Buchungen!$Q$6:$Q$605,0)),"")&IFERROR(" / "&INDEX(Buchungen!$T$6:$T$605,MATCH($B11&"|"&G$8&"|2",Buchungen!$Q$6:$Q$605,0)),"")))) -> F. Engel | H11: =IF($B11="","",IF(Stammdaten!$I11="Gesperrt","gesperrt",IF(COUNTIF(Stammdaten!$AD$10:$AD$30,H$8)>0,"Feiertag",IFERROR(INDEX(Buchungen!$T$6:$T$605,MATCH($B11&"|"&H$8&"|1",Buchungen!$Q$6:$Q$605,0)),"")&IFERROR(" / "&INDEX(Buchungen!$T$6:$T$605,MATCH($B11&"|"&H$8&"|2",Buchungen!$Q$6:$Q$605,0)),"")))) -> N. Albrecht | I11: =IF($B11="","",IF(Stammdaten!$I11="Gesperrt","gesperrt",IF(COUNTIF(Stammdaten!$AD$10:$AD$30,I$8)>0,"Feiertag",IFERROR(INDEX(Buchungen!$T$6:$T$605,MATCH($B11&"|"&I$8&"|1",Buchungen!$Q$6:$Q$605,0)),"")&IFERROR(" / "&INDEX(Buchungen!$T$6:$T$605,MATCH($B11&"|"&I$8&"|2",Buchungen!$Q$6:$Q$605,0)),"")))) -> L. Hartmann | J11: =IF($B11="","",IF(Stammdaten!$I11="Gesperrt","gesperrt",IF(COUNTIF(Stammdaten!$AD$10:$AD$30,J$8)>0,"Feiertag",IFERROR(INDEX(Buchungen!$T$6:$T$605,MATCH($B11&"|"&J$8&"|1",Buchungen!$Q$6:$Q$605,0)),"")&IFERROR(" / "&INDEX(Buchungen!$T$6:$T$605,MATCH($B11&"|"&J$8&"|2",Buchungen!$Q$6:$Q$605,0)),"")))) -> L. Hartmann | L11: =IF($B11="","",IF(Stammdaten!$I11="Gesperrt","gesperrt",IF(COUNTIF(Stammdaten!$AD$10:$AD$30,L$8)>0,"Feiertag",IFERROR(INDEX(Buchungen!$T$6:$T$605,MATCH($B11&"|"&L$8&"|1",Buchungen!$Q$6:$Q$605,0)),"")&IFERROR(" / "&INDEX(Buchungen!$T$6:$T$605,MATCH($B11&"|"&L$8&"|2",Buchungen!$Q$6:$Q$605,0)),"")))) -> N. Albrecht | M11: =IF($B11="","",IF(Stammdaten!$I11="Gesperrt","gesperrt",IF(COUNTIF(Stammdaten!$AD$10:$AD$30,M$8)>0,"Feiertag",IFERROR(INDEX(Buchungen!$T$6:$T$605,MATCH($B11&"|"&M$8&"|1",Buchungen!$Q$6:$Q$605,0)),"")&IFERROR(" / "&INDEX(Buchungen!$T$6:$T$605,MATCH($B11&"|"&M$8&"|2",Buchungen!$Q$6:$Q$605,0)),"")))) -> P. Schreiber | N11: =IF($B11="","",IF(Stammdaten!$I11="Gesperrt","gesperrt",IF(COUNTIF(Stammdaten!$AD$10:$AD$30,N$8)>0,"Feiertag",IFERROR(INDEX(Buchungen!$T$6:$T$605,MATCH($B11&"|"&N$8&"|1",Buchungen!$Q$6:$Q$605,0)),"")&IFERROR(" / "&INDEX(Buchungen!$T$6:$T$605,MATCH($B11&"|"&N$8&"|2",Buchungen!$Q$6:$Q$605,0)),"")))) -> L. Hartmann | O11: =IF($B11="","",IF(Stammdaten!$I11="Gesperrt","gesperrt",IF(COUNTIF(Stammdaten!$AD$10:$AD$30,O$8)>0,"Feiertag",IFERROR(INDEX(Buchungen!$T$6:$T$605,MATCH($B11&"|"&O$8&"|1",Buchungen!$Q$6:$Q$605,0)),"")&IFERROR(" / "&INDEX(Buchungen!$T$6:$T$605,MATCH($B11&"|"&O$8&"|2",Buchungen!$Q$6:$Q$605,0)),"")))) -> N. Albrecht | P11: =IF($B11="","",IF(Stammdaten!$I11="Gesperrt","gesperrt",IF(COUNTIF(Stammdaten!$AD$10:$AD$30,P$8)>0,"Feiertag",IFERROR(INDEX(Buchungen!$T$6:$T$605,MATCH($B11&"|"&P$8&"|1",Buchungen!$Q$6:$Q$605,0)),"")&IFERROR(" / "&INDEX(Buchungen!$T$6:$T$605,MATCH($B11&"|"&P$8&"|2",Buchungen!$Q$6:$Q$605,0)),"")))) -> F. Engel
B12: =IF(Stammdaten!$B12="","",Stammdaten!$B12) -> A-03 | C12: =IF($B12="","",Stammdaten!$C12) -> 1. OG | D12: =IF($B12="","",Stammdaten!$D12) -> Teamzone Nord | E12: =IF($B12="","",Stammdaten!$F12&" Mon."&IF(Stammdaten!$G12="Ja"," · Dock","")&IF(Stammdaten!$H12="Ja"," · HV","")) -> 2 Mon. · Dock · HV | F12: =IF($B12="","",IF(Stammdaten!$I12="Gesperrt","gesperrt",IF(COUNTIF(Stammdaten!$AD$10:$AD$30,F$8)>0,"Feiertag",IFERROR(INDEX(Buchungen!$T$6:$T$605,MATCH($B12&"|"&F$8&"|1",Buchungen!$Q$6:$Q$605,0)),"")&IFERROR(" / "&INDEX(Buchungen!$T$6:$T$605,MATCH($B12&"|"&F$8&"|2",Buchungen!$Q$6:$Q$605,0)),"")))) | G12: =IF($B12="","",IF(Stammdaten!$I12="Gesperrt","gesperrt",IF(COUNTIF(Stammdaten!$AD$10:$AD$30,G$8)>0,"Feiertag",IFERROR(INDEX(Buchungen!$T$6:$T$605,MATCH($B12&"|"&G$8&"|1",Buchungen!$Q$6:$Q$605,0)),"")&IFERROR(" / "&INDEX(Buchungen!$T$6:$T$605,MATCH($B12&"|"&G$8&"|2",Buchungen!$Q$6:$Q$605,0)),"")))) | H12: =IF($B12="","",IF(Stammdaten!$I12="Gesperrt","gesperrt",IF(COUNTIF(Stammdaten!$AD$10:$AD$30,H$8)>0,"Feiertag",IFERROR(INDEX(Buchungen!$T$6:$T$605,MATCH($B12&"|"&H$8&"|1",Buchungen!$Q$6:$Q$605,0)),"")&IFERROR(" / "&INDEX(Buchungen!$T$6:$T$605,MATCH($B12&"|"&H$8&"|2",Buchungen!$Q$6:$Q$605,0)),"")))) -> M. Krause | I12: =IF($B12="","",IF(Stammdaten!$I12="Gesperrt","gesperrt",IF(COUNTIF(Stammdaten!$AD$10:$AD$30,I$8)>0,"Feiertag",IFERROR(INDEX(Buchungen!$T$6:$T$605,MATCH($B12&"|"&I$8&"|1",Buchungen!$Q$6:$Q$605,0)),"")&IFERROR(" / "&INDEX(Buchungen!$T$6:$T$605,MATCH($B12&"|"&I$8&"|2",Buchungen!$Q$6:$Q$605,0)),"")))) | J12: =IF($B12="","",IF(Stammdaten!$I12="Gesperrt","gesperrt",IF(COUNTIF(Stammdaten!$AD$10:$AD$30,J$8)>0,"Feiertag",IFERROR(INDEX(Buchungen!$T$6:$T$605,MATCH($B12&"|"&J$8&"|1",Buchungen!$Q$6:$Q$605,0)),"")&IFERROR(" / "&INDEX(Buchungen!$T$6:$T$605,MATCH($B12&"|"&J$8&"|2",Buchungen!$Q$6:$Q$605,0)),"")))) -> A. Demir | L12: =IF($B12="","",IF(Stammdaten!$I12="Gesperrt","gesperrt",IF(COUNTIF(Stammdaten!$AD$10:$AD$30,L$8)>0,"Feiertag",IFERROR(INDEX(Buchungen!$T$6:$T$605,MATCH($B12&"|"&L$8&"|1",Buchungen!$Q$6:$Q$605,0)),"")&IFERROR(" / "&INDEX(Buchungen!$T$6:$T$605,MATCH($B12&"|"&L$8&"|2",Buchungen!$Q$6:$Q$605,0)),"")))) -> P. Schreiber | M12: =IF($B12="","",IF(Stammdaten!$I12="Gesperrt","gesperrt",IF(COUNTIF(Stammdaten!$AD$10:$AD$30,M$8)>0,"Feiertag",IFERROR(INDEX(Buchungen!$T$6:$T$605,MATCH($B12&"|"&M$8&"|1",Buchungen!$Q$6:$Q$605,0)),"")&IFERROR(" / "&INDEX(Buchungen!$T$6:$T$605,MATCH($B12&"|"&M$8&"|2",Buchungen!$Q$6:$Q$605,0)),"")))) | N12: =IF($B12="","",IF(Stammdaten!$I12="Gesperrt","gesperrt",IF(COUNTIF(Stammdaten!$AD$10:$AD$30,N$8)>0,"Feiertag",IFERROR(INDEX(Buchungen!$T$6:$T$605,MATCH($B12&"|"&N$8&"|1",Buchungen!$Q$6:$Q$605,0)),"")&IFERROR(" / "&INDEX(Buchungen!$T$6:$T$605,MATCH($B12&"|"&N$8&"|2",Buchungen!$Q$6:$Q$605,0)),"")))) -> T. Lindner | O12: =IF($B12="","",IF(Stammdaten!$I12="Gesperrt","gesperrt",IF(COUNTIF(Stammdaten!$AD$10:$AD$30,O$8)>0,"Feiertag",IFERROR(INDEX(Buchungen!$T$6:$T$605,MATCH($B12&"|"&O$8&"|1",Buchungen!$Q$6:$Q$605,0)),"")&IFERROR(" / "&INDEX(Buchungen!$T$6:$T$605,MATCH($B12&"|"&O$8&"|2",Buchungen!$Q$6:$Q$605,0)),"")))) -> M. Keller | P12: =IF($B12="","",IF(Stammdaten!$I12="Gesperrt","gesperrt",IF(COUNTIF(Stammdaten!$AD$10:$AD$30,P$8)>0,"Feiertag",IFERROR(INDEX(Buchungen!$T$6:$T$605,MATCH($B12&"|"&P$8&"|1",Buchungen!$Q$6:$Q$605,0)),"")&IFERROR(" / "&INDEX(Buchungen!$T$6:$T$605,MATCH($B12&"|"&P$8&"|2",Buchungen!$Q$6:$Q$605,0)),""))))
B13: =IF(Stammdaten!$B13="","",Stammdaten!$B13) -> A-04 | C13: =IF($B13="","",Stammdaten!$C13) -> 1. OG | D13: =IF($B13="","",Stammdaten!$D13) -> Teamzone Nord | E13: =IF($B13="","",Stammdaten!$F13&" Mon."&IF(Stammdaten!$G13="Ja"," · Dock","")&IF(Stammdaten!$H13="Ja"," · HV","")) -> 2 Mon. · Dock | F13: =IF($B13="","",IF(Stammdaten!$I13="Gesperrt","gesperrt",IF(COUNTIF(Stammdaten!$AD$10:$AD$30,F$8)>0,"Feiertag",IFERROR(INDEX(Buchungen!$T$6:$T$605,MATCH($B13&"|"&F$8&"|1",Buchungen!$Q$6:$Q$605,0)),"")&IFERROR(" / "&INDEX(Buchungen!$T$6:$T$605,MATCH($B13&"|"&F$8&"|2",Buchungen!$Q$6:$Q$605,0)),"")))) -> M. Krause | G13: =IF($B13="","",IF(Stammdaten!$I13="Gesperrt","gesperrt",IF(COUNTIF(Stammdaten!$AD$10:$AD$30,G$8)>0,"Feiertag",IFERROR(INDEX(Buchungen!$T$6:$T$605,MATCH($B13&"|"&G$8&"|1",Buchungen!$Q$6:$Q$605,0)),"")&IFERROR(" / "&INDEX(Buchungen!$T$6:$T$605,MATCH($B13&"|"&G$8&"|2",Buchungen!$Q$6:$Q$605,0)),"")))) -> T. Lindner | H13: =IF($B13="","",IF(Stammdaten!$I13="Gesperrt","gesperrt",IF(COUNTIF(Stammdaten!$AD$10:$AD$30,H$8)>0,"Feiertag",IFERROR(INDEX(Buchungen!$T$6:$T$605,MATCH($B13&"|"&H$8&"|1",Buchungen!$Q$6:$Q$605,0)),"")&IFERROR(" / "&INDEX(Buchungen!$T$6:$T$605,MATCH($B13&"|"&H$8&"|2",Buchungen!$Q$6:$Q$605,0)),"")))) -> C. Vogt | I13: =IF($B13="","",IF(Stammdaten!$I13="Gesperrt","gesperrt",IF(COUNTIF(Stammdaten!$AD$10:$AD$30,I$8)>0,"Feiertag",IFERROR(INDEX(Buchungen!$T$6:$T$605,MATCH($B13&"|"&I$8&"|1",Buchungen!$Q$6:$Q$605,0)),"")&IFERROR(" / "&INDEX(Buchungen!$T$6:$T$605,MATCH($B13&"|"&I$8&"|2",Buchungen!$Q$6:$Q$605,0)),"")))) | J13: =IF($B13="","",IF(Stammdaten!$I13="Gesperrt","gesperrt",IF(COUNTIF(Stammdaten!$AD$10:$AD$30,J$8)>0,"Feiertag",IFERROR(INDEX(Buchungen!$T$6:$T$605,MATCH($B13&"|"&J$8&"|1",Buchungen!$Q$6:$Q$605,0)),"")&IFERROR(" / "&INDEX(Buchungen!$T$6:$T$605,MATCH($B13&"|"&J$8&"|2",Buchungen!$Q$6:$Q$605,0)),"")))) -> T. Lindner | L13: =IF($B13="","",IF(Stammdaten!$I13="Gesperrt","gesperrt",IF(COUNTIF(Stammdaten!$AD$10:$AD$30,L$8)>0,"Feiertag",IFERROR(INDEX(Buchungen!$T$6:$T$605,MATCH($B13&"|"&L$8&"|1",Buchungen!$Q$6:$Q$605,0)),"")&IFERROR(" / "&INDEX(Buchungen!$T$6:$T$605,MATCH($B13&"|"&L$8&"|2",Buchungen!$Q$6:$Q$605,0)),"")))) -> S. Brandt | M13: =IF($B13="","",IF(Stammdaten!$I13="Gesperrt","gesperrt",IF(COUNTIF(Stammdaten!$AD$10:$AD$30,M$8)>0,"Feiertag",IFERROR(INDEX(Buchungen!$T$6:$T$605,MATCH($B13&"|"&M$8&"|1",Buchungen!$Q$6:$Q$605,0)),"")&IFERROR(" / "&INDEX(Buchungen!$T$6:$T$605,MATCH($B13&"|"&M$8&"|2",Buchungen!$Q$6:$Q$605,0)),"")))) -> L. Hartmann | N13: =IF($B13="","",IF(Stammdaten!$I13="Gesperrt","gesperrt",IF(COUNTIF(Stammdaten!$AD$10:$AD$30,N$8)>0,"Feiertag",IFERROR(INDEX(Buchungen!$T$6:$T$605,MATCH($B13&"|"&N$8&"|1",Buchungen!$Q$6:$Q$605,0)),"")&IFERROR(" / "&INDEX(Buchungen!$T$6:$T$605,MATCH($B13&"|"&N$8&"|2",Buchungen!$Q$6:$Q$605,0)),"")))) -> D. Kühn | O13: =IF($B13="","",IF(Stammdaten!$I13="Gesperrt","gesperrt",IF(COUNTIF(Stammdaten!$AD$10:$AD$30,O$8)>0,"Feiertag",IFERROR(INDEX(Buchungen!$T$6:$T$605,MATCH($B13&"|"&O$8&"|1",Buchungen!$Q$6:$Q$605,0)),"")&IFERROR(" / "&INDEX(Buchungen!$T$6:$T$605,MATCH($B13&"|"&O$8&"|2",Buchungen!$Q$6:$Q$605,0)),"")))) -> J. Weber | P13: =IF($B13="","",IF(Stammdaten!$I13="Gesperrt","gesperrt",IF(COUNTIF(Stammdaten!$AD$10:$AD$30,P$8)>0,"Feiertag",IFERROR(INDEX(Buchungen!$T$6:$T$605,MATCH($B13&"|"&P$8&"|1",Buchungen!$Q$6:$Q$605,0)),"")&IFERROR(" / "&INDEX(Buchungen!$T$6:$T$605,MATCH($B13&"|"&P$8&"|2",Buchungen!$Q$6:$Q$605,0)),"")))) -> S. Brandt
B14: =IF(Stammdaten!$B14="","",Stammdaten!$B14) -> A-05 | C14: =IF($B14="","",Stammdaten!$C14) -> 1. OG | D14: =IF($B14="","",Stammdaten!$D14) -> Teamzone Nord | E14: =IF($B14="","",Stammdaten!$F14&" Mon."&IF(Stammdaten!$G14="Ja"," · Dock","")&IF(Stammdaten!$H14="Ja"," · HV","")) -> 2 Mon. · Dock | F14: =IF($B14="","",IF(Stammdaten!$I14="Gesperrt","gesperrt",IF(COUNTIF(Stammdaten!$AD$10:$AD$30,F$8)>0,"Feiertag",IFERROR(INDEX(Buchungen!$T$6:$T$605,MATCH($B14&"|"&F$8&"|1",Buchungen!$Q$6:$Q$605,0)),"")&IFERROR(" / "&INDEX(Buchungen!$T$6:$T$605,MATCH($B14&"|"&F$8&"|2",Buchungen!$Q$6:$Q$605,0)),"")))) -> F. Engel | G14: =IF($B14="","",IF(Stammdaten!$I14="Gesperrt","gesperrt",IF(COUNTIF(Stammdaten!$AD$10:$AD$30,G$8)>0,"Feiertag",IFERROR(INDEX(Buchungen!$T$6:$T$605,MATCH($B14&"|"&G$8&"|1",Buchungen!$Q$6:$Q$605,0)),"")&IFERROR(" / "&INDEX(Buchungen!$T$6:$T$605,MATCH($B14&"|"&G$8&"|2",Buchungen!$Q$6:$Q$605,0)),"")))) -> M. Krause | H14: =IF($B14="","",IF(Stammdaten!$I14="Gesperrt","gesperrt",IF(COUNTIF(Stammdaten!$AD$10:$AD$30,H$8)>0,"Feiertag",IFERROR(INDEX(Buchungen!$T$6:$T$605,MATCH($B14&"|"&H$8&"|1",Buchungen!$Q$6:$Q$605,0)),"")&IFERROR(" / "&INDEX(Buchungen!$T$6:$T$605,MATCH($B14&"|"&H$8&"|2",Buchungen!$Q$6:$Q$605,0)),"")))) -> L. Hartmann | I14: =IF($B14="","",IF(Stammdaten!$I14="Gesperrt","gesperrt",IF(COUNTIF(Stammdaten!$AD$10:$AD$30,I$8)>0,"Feiertag",IFERROR(INDEX(Buchungen!$T$6:$T$605,MATCH($B14&"|"&I$8&"|1",Buchungen!$Q$6:$Q$605,0)),"")&IFERROR(" / "&INDEX(Buchungen!$T$6:$T$605,MATCH($B14&"|"&I$8&"|2",Buchungen!$Q$6:$Q$605,0)),"")))) -> M. Krause | J14: =IF($B14="","",IF(Stammdaten!$I14="Gesperrt","gesperrt",IF(COUNTIF(Stammdaten!$AD$10:$AD$30,J$8)>0,"Feiertag",IFERROR(INDEX(Buchungen!$T$6:$T$605,MATCH($B14&"|"&J$8&"|1",Buchungen!$Q$6:$Q$605,0)),"")&IFERROR(" / "&INDEX(Buchungen!$T$6:$T$605,MATCH($B14&"|"&J$8&"|2",Buchungen!$Q$6:$Q$605,0)),"")))) -> D. Kühn | L14: =IF($B14="","",IF(Stammdaten!$I14="Gesperrt","gesperrt",IF(COUNTIF(Stammdaten!$AD$10:$AD$30,L$8)>0,"Feiertag",IFERROR(INDEX(Buchungen!$T$6:$T$605,MATCH($B14&"|"&L$8&"|1",Buchungen!$Q$6:$Q$605,0)),"")&IFERROR(" / "&INDEX(Buchungen!$T$6:$T$605,MATCH($B14&"|"&L$8&"|2",Buchungen!$Q$6:$Q$605,0)),"")))) -> F. Engel | M14: =IF($B14="","",IF(Stammdaten!$I14="Gesperrt","gesperrt",IF(COUNTIF(Stammdaten!$AD$10:$AD$30,M$8)>0,"Feiertag",IFERROR(INDEX(Buchungen!$T$6:$T$605,MATCH($B14&"|"&M$8&"|1",Buchungen!$Q$6:$Q$605,0)),"")&IFERROR(" / "&INDEX(Buchungen!$T$6:$T$605,MATCH($B14&"|"&M$8&"|2",Buchungen!$Q$6:$Q$605,0)),"")))) -> M. Krause (VM) / J. Weber (NM) | N14: =IF($B14="","",IF(Stammdaten!$I14="Gesperrt","gesperrt",IF(COUNTIF(Stammdaten!$AD$10:$AD$30,N$8)>0,"Feiertag",IFERROR(INDEX(Buchungen!$T$6:$T$605,MATCH($B14&"|"&N$8&"|1",Buchungen!$Q$6:$Q$605,0)),"")&IFERROR(" / "&INDEX(Buchungen!$T$6:$T$605,MATCH($B14&"|"&N$8&"|2",Buchungen!$Q$6:$Q$605,0)),"")))) -> M. Krause ? | O14: =IF($B14="","",IF(Stammdaten!$I14="Gesperrt","gesperrt",IF(COUNTIF(Stammdaten!$AD$10:$AD$30,O$8)>0,"Feiertag",IFERROR(INDEX(Buchungen!$T$6:$T$605,MATCH($B14&"|"&O$8&"|1",Buchungen!$Q$6:$Q$605,0)),"")&IFERROR(" / "&INDEX(Buchungen!$T$6:$T$605,MATCH($B14&"|"&O$8&"|2",Buchungen!$Q$6:$Q$605,0)),"")))) -> M. Krause ? | P14: =IF($B14="","",IF(Stammdaten!$I14="Gesperrt","gesperrt",IF(COUNTIF(Stammdaten!$AD$10:$AD$30,P$8)>0,"Feiertag",IFERROR(INDEX(Buchungen!$T$6:$T$605,MATCH($B14&"|"&P$8&"|1",Buchungen!$Q$6:$Q$605,0)),"")&IFERROR(" / "&INDEX(Buchungen!$T$6:$T$605,MATCH($B14&"|"&P$8&"|2",Buchungen!$Q$6:$Q$605,0)),"")))) -> C. Vogt ?
B15: =IF(Stammdaten!$B15="","",Stammdaten!$B15) -> A-06 | C15: =IF($B15="","",Stammdaten!$C15) -> 1. OG | D15: =IF($B15="","",Stammdaten!$D15) -> Teamzone Nord | E15: =IF($B15="","",Stammdaten!$F15&" Mon."&IF(Stammdaten!$G15="Ja"," · Dock","")&IF(Stammdaten!$H15="Ja"," · HV","")) -> 2 Mon. · Dock · HV | F15: =IF($B15="","",IF(Stammdaten!$I15="Gesperrt","gesperrt",IF(COUNTIF(Stammdaten!$AD$10:$AD$30,F$8)>0,"Feiertag",IFERROR(INDEX(Buchungen!$T$6:$T$605,MATCH($B15&"|"&F$8&"|1",Buchungen!$Q$6:$Q$605,0)),"")&IFERROR(" / "&INDEX(Buchungen!$T$6:$T$605,MATCH($B15&"|"&F$8&"|2",Buchungen!$Q$6:$Q$605,0)),"")))) | G15: =IF($B15="","",IF(Stammdaten!$I15="Gesperrt","gesperrt",IF(COUNTIF(Stammdaten!$AD$10:$AD$30,G$8)>0,"Feiertag",IFERROR(INDEX(Buchungen!$T$6:$T$605,MATCH($B15&"|"&G$8&"|1",Buchungen!$Q$6:$Q$605,0)),"")&IFERROR(" / "&INDEX(Buchungen!$T$6:$T$605,MATCH($B15&"|"&G$8&"|2",Buchungen!$Q$6:$Q$605,0)),"")))) -> P. Schreiber | H15: =IF($B15="","",IF(Stammdaten!$I15="Gesperrt","gesperrt",IF(COUNTIF(Stammdaten!$AD$10:$AD$30,H$8)>0,"Feiertag",IFERROR(INDEX(Buchungen!$T$6:$T$605,MATCH($B15&"|"&H$8&"|1",Buchungen!$Q$6:$Q$605,0)),"")&IFERROR(" / "&INDEX(Buchungen!$T$6:$T$605,MATCH($B15&"|"&H$8&"|2",Buchungen!$Q$6:$Q$605,0)),"")))) -> M. Seidel | I15: =IF($B15="","",IF(Stammdaten!$I15="Gesperrt","gesperrt",IF(COUNTIF(Stammdaten!$AD$10:$AD$30,I$8)>0,"Feiertag",IFERROR(INDEX(Buchungen!$T$6:$T$605,MATCH($B15&"|"&I$8&"|1",Buchungen!$Q$6:$Q$605,0)),"")&IFERROR(" / "&INDEX(Buchungen!$T$6:$T$605,MATCH($B15&"|"&I$8&"|2",Buchungen!$Q$6:$Q$605,0)),"")))) | J15: =IF($B15="","",IF(Stammdaten!$I15="Gesperrt","gesperrt",IF(COUNTIF(Stammdaten!$AD$10:$AD$30,J$8)>0,"Feiertag",IFERROR(INDEX(Buchungen!$T$6:$T$605,MATCH($B15&"|"&J$8&"|1",Buchungen!$Q$6:$Q$605,0)),"")&IFERROR(" / "&INDEX(Buchungen!$T$6:$T$605,MATCH($B15&"|"&J$8&"|2",Buchungen!$Q$6:$Q$605,0)),"")))) -> P. Schreiber | L15: =IF($B15="","",IF(Stammdaten!$I15="Gesperrt","gesperrt",IF(COUNTIF(Stammdaten!$AD$10:$AD$30,L$8)>0,"Feiertag",IFERROR(INDEX(Buchungen!$T$6:$T$605,MATCH($B15&"|"&L$8&"|1",Buchungen!$Q$6:$Q$605,0)),"")&IFERROR(" / "&INDEX(Buchungen!$T$6:$T$605,MATCH($B15&"|"&L$8&"|2",Buchungen!$Q$6:$Q$605,0)),"")))) -> J. Weber | M15: =IF($B15="","",IF(Stammdaten!$I15="Gesperrt","gesperrt",IF(COUNTIF(Stammdaten!$AD$10:$AD$30,M$8)>0,"Feiertag",IFERROR(INDEX(Buchungen!$T$6:$T$605,MATCH($B15&"|"&M$8&"|1",Buchungen!$Q$6:$Q$605,0)),"")&IFERROR(" / "&INDEX(Buchungen!$T$6:$T$605,MATCH($B15&"|"&M$8&"|2",Buchungen!$Q$6:$Q$605,0)),"")))) | N15: =IF($B15="","",IF(Stammdaten!$I15="Gesperrt","gesperrt",IF(COUNTIF(Stammdaten!$AD$10:$AD$30,N$8)>0,"Feiertag",IFERROR(INDEX(Buchungen!$T$6:$T$605,MATCH($B15&"|"&N$8&"|1",Buchungen!$Q$6:$Q$605,0)),"")&IFERROR(" / "&INDEX(Buchungen!$T$6:$T$605,MATCH($B15&"|"&N$8&"|2",Buchungen!$Q$6:$Q$605,0)),"")))) -> P. Schreiber | O15: =IF($B15="","",IF(Stammdaten!$I15="Gesperrt","gesperrt",IF(COUNTIF(Stammdaten!$AD$10:$AD$30,O$8)>0,"Feiertag",IFERROR(INDEX(Buchungen!$T$6:$T$605,MATCH($B15&"|"&O$8&"|1",Buchungen!$Q$6:$Q$605,0)),"")&IFERROR(" / "&INDEX(Buchungen!$T$6:$T$605,MATCH($B15&"|"&O$8&"|2",Buchungen!$Q$6:$Q$605,0)),"")))) | P15: =IF($B15="","",IF(Stammdaten!$I15="Gesperrt","gesperrt",IF(COUNTIF(Stammdaten!$AD$10:$AD$30,P$8)>0,"Feiertag",IFERROR(INDEX(Buchungen!$T$6:$T$605,MATCH($B15&"|"&P$8&"|1",Buchungen!$Q$6:$Q$605,0)),"")&IFERROR(" / "&INDEX(Buchungen!$T$6:$T$605,MATCH($B15&"|"&P$8&"|2",Buchungen!$Q$6:$Q$605,0)),""))))
B16: =IF(Stammdaten!$B16="","",Stammdaten!$B16) -> A-07 | C16: =IF($B16="","",Stammdaten!$C16) -> 1. OG | D16: =IF($B16="","",Stammdaten!$D16) -> Teamzone Nord | E16: =IF($B16="","",Stammdaten!$F16&" Mon."&IF(Stammdaten!$G16="Ja"," · Dock","")&IF(Stammdaten!$H16="Ja"," · HV","")) -> 2 Mon. · Dock | F16: =IF($B16="","",IF(Stammdaten!$I16="Gesperrt","gesperrt",IF(COUNTIF(Stammdaten!$AD$10:$AD$30,F$8)>0,"Feiertag",IFERROR(INDEX(Buchungen!$T$6:$T$605,MATCH($B16&"|"&F$8&"|1",Buchungen!$Q$6:$Q$605,0)),"")&IFERROR(" / "&INDEX(Buchungen!$T$6:$T$605,MATCH($B16&"|"&F$8&"|2",Buchungen!$Q$6:$Q$605,0)),"")))) -> M. Seidel | G16: =IF($B16="","",IF(Stammdaten!$I16="Gesperrt","gesperrt",IF(COUNTIF(Stammdaten!$AD$10:$AD$30,G$8)>0,"Feiertag",IFERROR(INDEX(Buchungen!$T$6:$T$605,MATCH($B16&"|"&G$8&"|1",Buchungen!$Q$6:$Q$605,0)),"")&IFERROR(" / "&INDEX(Buchungen!$T$6:$T$605,MATCH($B16&"|"&G$8&"|2",Buchungen!$Q$6:$Q$605,0)),"")))) -> C. Vogt (VM) / P. Haas (NM) | H16: =IF($B16="","",IF(Stammdaten!$I16="Gesperrt","gesperrt",IF(COUNTIF(Stammdaten!$AD$10:$AD$30,H$8)>0,"Feiertag",IFERROR(INDEX(Buchungen!$T$6:$T$605,MATCH($B16&"|"&H$8&"|1",Buchungen!$Q$6:$Q$605,0)),"")&IFERROR(" / "&INDEX(Buchungen!$T$6:$T$605,MATCH($B16&"|"&H$8&"|2",Buchungen!$Q$6:$Q$605,0)),"")))) -> P. Schreiber | I16: =IF($B16="","",IF(Stammdaten!$I16="Gesperrt","gesperrt",IF(COUNTIF(Stammdaten!$AD$10:$AD$30,I$8)>0,"Feiertag",IFERROR(INDEX(Buchungen!$T$6:$T$605,MATCH($B16&"|"&I$8&"|1",Buchungen!$Q$6:$Q$605,0)),"")&IFERROR(" / "&INDEX(Buchungen!$T$6:$T$605,MATCH($B16&"|"&I$8&"|2",Buchungen!$Q$6:$Q$605,0)),"")))) | J16: =IF($B16="","",IF(Stammdaten!$I16="Gesperrt","gesperrt",IF(COUNTIF(Stammdaten!$AD$10:$AD$30,J$8)>0,"Feiertag",IFERROR(INDEX(Buchungen!$T$6:$T$605,MATCH($B16&"|"&J$8&"|1",Buchungen!$Q$6:$Q$605,0)),"")&IFERROR(" / "&INDEX(Buchungen!$T$6:$T$605,MATCH($B16&"|"&J$8&"|2",Buchungen!$Q$6:$Q$605,0)),"")))) -> N. Albrecht | L16: =IF($B16="","",IF(Stammdaten!$I16="Gesperrt","gesperrt",IF(COUNTIF(Stammdaten!$AD$10:$AD$30,L$8)>0,"Feiertag",IFERROR(INDEX(Buchungen!$T$6:$T$605,MATCH($B16&"|"&L$8&"|1",Buchungen!$Q$6:$Q$605,0)),"")&IFERROR(" / "&INDEX(Buchungen!$T$6:$T$605,MATCH($B16&"|"&L$8&"|2",Buchungen!$Q$6:$Q$605,0)),"")))) -> L. Hartmann | M16: =IF($B16="","",IF(Stammdaten!$I16="Gesperrt","gesperrt",IF(COUNTIF(Stammdaten!$AD$10:$AD$30,M$8)>0,"Feiertag",IFERROR(INDEX(Buchungen!$T$6:$T$605,MATCH($B16&"|"&M$8&"|1",Buchungen!$Q$6:$Q$605,0)),"")&IFERROR(" / "&INDEX(Buchungen!$T$6:$T$605,MATCH($B16&"|"&M$8&"|2",Buchungen!$Q$6:$Q$605,0)),"")))) | N16: =IF($B16="","",IF(Stammdaten!$I16="Gesperrt","gesperrt",IF(COUNTIF(Stammdaten!$AD$10:$AD$30,N$8)>0,"Feiertag",IFERROR(INDEX(Buchungen!$T$6:$T$605,MATCH($B16&"|"&N$8&"|1",Buchungen!$Q$6:$Q$605,0)),"")&IFERROR(" / "&INDEX(Buchungen!$T$6:$T$605,MATCH($B16&"|"&N$8&"|2",Buchungen!$Q$6:$Q$605,0)),"")))) -> F. Engel | O16: =IF($B16="","",IF(Stammdaten!$I16="Gesperrt","gesperrt",IF(COUNTIF(Stammdaten!$AD$10:$AD$30,O$8)>0,"Feiertag",IFERROR(INDEX(Buchungen!$T$6:$T$605,MATCH($B16&"|"&O$8&"|1",Buchungen!$Q$6:$Q$605,0)),"")&IFERROR(" / "&INDEX(Buchungen!$T$6:$T$605,MATCH($B16&"|"&O$8&"|2",Buchungen!$Q$6:$Q$605,0)),"")))) -> C. Vogt | P16: =IF($B16="","",IF(Stammdaten!$I16="Gesperrt","gesperrt",IF(COUNTIF(Stammdaten!$AD$10:$AD$30,P$8)>0,"Feiertag",IFERROR(INDEX(Buchungen!$T$6:$T$605,MATCH($B16&"|"&P$8&"|1",Buchungen!$Q$6:$Q$605,0)),"")&IFERROR(" / "&INDEX(Buchungen!$T$6:$T$605,MATCH($B16&"|"&P$8&"|2",Buchungen!$Q$6:$Q$605,0)),"")))) -> P. Schreiber
B17: =IF(Stammdaten!$B17="","",Stammdaten!$B17) -> A-08 | C17: =IF($B17="","",Stammdaten!$C17) -> 1. OG | D17: =IF($B17="","",Stammdaten!$D17) -> Teamzone Nord | E17: =IF($B17="","",Stammdaten!$F17&" Mon."&IF(Stammdaten!$G17="Ja"," · Dock","")&IF(Stammdaten!$H17="Ja"," · HV","")) -> 2 Mon. · Dock | F17: =IF($B17="","",IF(Stammdaten!$I17="Gesperrt","gesperrt",IF(COUNTIF(Stammdaten!$AD$10:$AD$30,F$8)>0,"Feiertag",IFERROR(INDEX(Buchungen!$T$6:$T$605,MATCH($B17&"|"&F$8&"|1",Buchungen!$Q$6:$Q$605,0)),"")&IFERROR(" / "&INDEX(Buchungen!$T$6:$T$605,MATCH($B17&"|"&F$8&"|2",Buchungen!$Q$6:$Q$605,0)),"")))) | G17: =IF($B17="","",IF(Stammdaten!$I17="Gesperrt","gesperrt",IF(COUNTIF(Stammdaten!$AD$10:$AD$30,G$8)>0,"Feiertag",IFERROR(INDEX(Buchungen!$T$6:$T$605,MATCH($B17&"|"&G$8&"|1",Buchungen!$Q$6:$Q$605,0)),"")&IFERROR(" / "&INDEX(Buchungen!$T$6:$T$605,MATCH($B17&"|"&G$8&"|2",Buchungen!$Q$6:$Q$605,0)),"")))) -> S. Brandt | H17: =IF($B17="","",IF(Stammdaten!$I17="Gesperrt","gesperrt",IF(COUNTIF(Stammdaten!$AD$10:$AD$30,H$8)>0,"Feiertag",IFERROR(INDEX(Buchungen!$T$6:$T$605,MATCH($B17&"|"&H$8&"|1",Buchungen!$Q$6:$Q$605,0)),"")&IFERROR(" / "&INDEX(Buchungen!$T$6:$T$605,MATCH($B17&"|"&H$8&"|2",Buchungen!$Q$6:$Q$605,0)),"")))) -> A. Demir | I17: =IF($B17="","",IF(Stammdaten!$I17="Gesperrt","gesperrt",IF(COUNTIF(Stammdaten!$AD$10:$AD$30,I$8)>0,"Feiertag",IFERROR(INDEX(Buchungen!$T$6:$T$605,MATCH($B17&"|"&I$8&"|1",Buchungen!$Q$6:$Q$605,0)),"")&IFERROR(" / "&INDEX(Buchungen!$T$6:$T$605,MATCH($B17&"|"&I$8&"|2",Buchungen!$Q$6:$Q$605,0)),"")))) -> N. Albrecht | J17: =IF($B17="","",IF(Stammdaten!$I17="Gesperrt","gesperrt",IF(COUNTIF(Stammdaten!$AD$10:$AD$30,J$8)>0,"Feiertag",IFERROR(INDEX(Buchungen!$T$6:$T$605,MATCH($B17&"|"&J$8&"|1",Buchungen!$Q$6:$Q$605,0)),"")&IFERROR(" / "&INDEX(Buchungen!$T$6:$T$605,MATCH($B17&"|"&J$8&"|2",Buchungen!$Q$6:$Q$605,0)),"")))) | L17: =IF($B17="","",IF(Stammdaten!$I17="Gesperrt","gesperrt",IF(COUNTIF(Stammdaten!$AD$10:$AD$30,L$8)>0,"Feiertag",IFERROR(INDEX(Buchungen!$T$6:$T$605,MATCH($B17&"|"&L$8&"|1",Buchungen!$Q$6:$Q$605,0)),"")&IFERROR(" / "&INDEX(Buchungen!$T$6:$T$605,MATCH($B17&"|"&L$8&"|2",Buchungen!$Q$6:$Q$605,0)),"")))) -> A. Demir | M17: =IF($B17="","",IF(Stammdaten!$I17="Gesperrt","gesperrt",IF(COUNTIF(Stammdaten!$AD$10:$AD$30,M$8)>0,"Feiertag",IFERROR(INDEX(Buchungen!$T$6:$T$605,MATCH($B17&"|"&M$8&"|1",Buchungen!$Q$6:$Q$605,0)),"")&IFERROR(" / "&INDEX(Buchungen!$T$6:$T$605,MATCH($B17&"|"&M$8&"|2",Buchungen!$Q$6:$Q$605,0)),"")))) | N17: =IF($B17="","",IF(Stammdaten!$I17="Gesperrt","gesperrt",IF(COUNTIF(Stammdaten!$AD$10:$AD$30,N$8)>0,"Feiertag",IFERROR(INDEX(Buchungen!$T$6:$T$605,MATCH($B17&"|"&N$8&"|1",Buchungen!$Q$6:$Q$605,0)),"")&IFERROR(" / "&INDEX(Buchungen!$T$6:$T$605,MATCH($B17&"|"&N$8&"|2",Buchungen!$Q$6:$Q$605,0)),"")))) -> N. Albrecht ? | O17: =IF($B17="","",IF(Stammdaten!$I17="Gesperrt","gesperrt",IF(COUNTIF(Stammdaten!$AD$10:$AD$30,O$8)>0,"Feiertag",IFERROR(INDEX(Buchungen!$T$6:$T$605,MATCH($B17&"|"&O$8&"|1",Buchungen!$Q$6:$Q$605,0)),"")&IFERROR(" / "&INDEX(Buchungen!$T$6:$T$605,MATCH($B17&"|"&O$8&"|2",Buchungen!$Q$6:$Q$605,0)),"")))) -> S. Brandt | P17: =IF($B17="","",IF(Stammdaten!$I17="Gesperrt","gesperrt",IF(COUNTIF(Stammdaten!$AD$10:$AD$30,P$8)>0,"Feiertag",IFERROR(INDEX(Buchungen!$T$6:$T$605,MATCH($B17&"|"&P$8&"|1",Buchungen!$Q$6:$Q$605,0)),"")&IFERROR(" / "&INDEX(Buchungen!$T$6:$T$605,MATCH($B17&"|"&P$8&"|2",Buchungen!$Q$6:$Q$605,0)),""))))
B18: =IF(Stammdaten!$B18="","",Stammdaten!$B18) -> A-09 | C18: =IF($B18="","",Stammdaten!$C18) -> 1. OG | D18: =IF($B18="","",Stammdaten!$D18) -> Fokuszone | E18: =IF($B18="","",Stammdaten!$F18&" Mon."&IF(Stammdaten!$G18="Ja"," · Dock","")&IF(Stammdaten!$H18="Ja"," · HV","")) -> 1 Mon. · Dock | F18: =IF($B18="","",IF(Stammdaten!$I18="Gesperrt","gesperrt",IF(COUNTIF(Stammdaten!$AD$10:$AD$30,F$8)>0,"Feiertag",IFERROR(INDEX(Buchungen!$T$6:$T$605,MATCH($B18&"|"&F$8&"|1",Buchungen!$Q$6:$Q$605,0)),"")&IFERROR(" / "&INDEX(Buchungen!$T$6:$T$605,MATCH($B18&"|"&F$8&"|2",Buchungen!$Q$6:$Q$605,0)),"")))) | G18: =IF($B18="","",IF(Stammdaten!$I18="Gesperrt","gesperrt",IF(COUNTIF(Stammdaten!$AD$10:$AD$30,G$8)>0,"Feiertag",IFERROR(INDEX(Buchungen!$T$6:$T$605,MATCH($B18&"|"&G$8&"|1",Buchungen!$Q$6:$Q$605,0)),"")&IFERROR(" / "&INDEX(Buchungen!$T$6:$T$605,MATCH($B18&"|"&G$8&"|2",Buchungen!$Q$6:$Q$605,0)),"")))) -> I. Marx | H18: =IF($B18="","",IF(Stammdaten!$I18="Gesperrt","gesperrt",IF(COUNTIF(Stammdaten!$AD$10:$AD$30,H$8)>0,"Feiertag",IFERROR(INDEX(Buchungen!$T$6:$T$605,MATCH($B18&"|"&H$8&"|1",Buchungen!$Q$6:$Q$605,0)),"")&IFERROR(" / "&INDEX(Buchungen!$T$6:$T$605,MATCH($B18&"|"&H$8&"|2",Buchungen!$Q$6:$Q$605,0)),"")))) -> S. Brandt | I18: =IF($B18="","",IF(Stammdaten!$I18="Gesperrt","gesperrt",IF(COUNTIF(Stammdaten!$AD$10:$AD$30,I$8)>0,"Feiertag",IFERROR(INDEX(Buchungen!$T$6:$T$605,MATCH($B18&"|"&I$8&"|1",Buchungen!$Q$6:$Q$605,0)),"")&IFERROR(" / "&INDEX(Buchungen!$T$6:$T$605,MATCH($B18&"|"&I$8&"|2",Buchungen!$Q$6:$Q$605,0)),"")))) -> T. Jung | J18: =IF($B18="","",IF(Stammdaten!$I18="Gesperrt","gesperrt",IF(COUNTIF(Stammdaten!$AD$10:$AD$30,J$8)>0,"Feiertag",IFERROR(INDEX(Buchungen!$T$6:$T$605,MATCH($B18&"|"&J$8&"|1",Buchungen!$Q$6:$Q$605,0)),"")&IFERROR(" / "&INDEX(Buchungen!$T$6:$T$605,MATCH($B18&"|"&J$8&"|2",Buchungen!$Q$6:$Q$605,0)),"")))) -> J. Peters | L18: =IF($B18="","",IF(Stammdaten!$I18="Gesperrt","gesperrt",IF(COUNTIF(Stammdaten!$AD$10:$AD$30,L$8)>0,"Feiertag",IFERROR(INDEX(Buchungen!$T$6:$T$605,MATCH($B18&"|"&L$8&"|1",Buchungen!$Q$6:$Q$605,0)),"")&IFERROR(" / "&INDEX(Buchungen!$T$6:$T$605,MATCH($B18&"|"&L$8&"|2",Buchungen!$Q$6:$Q$605,0)),"")))) -> M. Krause | M18: =IF($B18="","",IF(Stammdaten!$I18="Gesperrt","gesperrt",IF(COUNTIF(Stammdaten!$AD$10:$AD$30,M$8)>0,"Feiertag",IFERROR(INDEX(Buchungen!$T$6:$T$605,MATCH($B18&"|"&M$8&"|1",Buchungen!$Q$6:$Q$605,0)),"")&IFERROR(" / "&INDEX(Buchungen!$T$6:$T$605,MATCH($B18&"|"&M$8&"|2",Buchungen!$Q$6:$Q$605,0)),"")))) -> S. Graf | N18: =IF($B18="","",IF(Stammdaten!$I18="Gesperrt","gesperrt",IF(COUNTIF(Stammdaten!$AD$10:$AD$30,N$8)>0,"Feiertag",IFERROR(INDEX(Buchungen!$T$6:$T$605,MATCH($B18&"|"&N$8&"|1",Buchungen!$Q$6:$Q$605,0)),"")&IFERROR(" / "&INDEX(Buchungen!$T$6:$T$605,MATCH($B18&"|"&N$8&"|2",Buchungen!$Q$6:$Q$605,0)),"")))) -> J. Peters | O18: =IF($B18="","",IF(Stammdaten!$I18="Gesperrt","gesperrt",IF(COUNTIF(Stammdaten!$AD$10:$AD$30,O$8)>0,"Feiertag",IFERROR(INDEX(Buchungen!$T$6:$T$605,MATCH($B18&"|"&O$8&"|1",Buchungen!$Q$6:$Q$605,0)),"")&IFERROR(" / "&INDEX(Buchungen!$T$6:$T$605,MATCH($B18&"|"&O$8&"|2",Buchungen!$Q$6:$Q$605,0)),"")))) | P18: =IF($B18="","",IF(Stammdaten!$I18="Gesperrt","gesperrt",IF(COUNTIF(Stammdaten!$AD$10:$AD$30,P$8)>0,"Feiertag",IFERROR(INDEX(Buchungen!$T$6:$T$605,MATCH($B18&"|"&P$8&"|1",Buchungen!$Q$6:$Q$605,0)),"")&IFERROR(" / "&INDEX(Buchungen!$T$6:$T$605,MATCH($B18&"|"&P$8&"|2",Buchungen!$Q$6:$Q$605,0)),""))))
B19: =IF(Stammdaten!$B19="","",Stammdaten!$B19) -> A-10 | C19: =IF($B19="","",Stammdaten!$C19) -> 1. OG | D19: =IF($B19="","",Stammdaten!$D19) -> Fokuszone | E19: =IF($B19="","",Stammdaten!$F19&" Mon."&IF(Stammdaten!$G19="Ja"," · Dock","")&IF(Stammdaten!$H19="Ja"," · HV","")) -> 2 Mon. · Dock · HV | F19: =IF($B19="","",IF(Stammdaten!$I19="Gesperrt","gesperrt",IF(COUNTIF(Stammdaten!$AD$10:$AD$30,F$8)>0,"Feiertag",IFERROR(INDEX(Buchungen!$T$6:$T$605,MATCH($B19&"|"&F$8&"|1",Buchungen!$Q$6:$Q$605,0)),"")&IFERROR(" / "&INDEX(Buchungen!$T$6:$T$605,MATCH($B19&"|"&F$8&"|2",Buchungen!$Q$6:$Q$605,0)),"")))) -> P. Haas | G19: =IF($B19="","",IF(Stammdaten!$I19="Gesperrt","gesperrt",IF(COUNTIF(Stammdaten!$AD$10:$AD$30,G$8)>0,"Feiertag",IFERROR(INDEX(Buchungen!$T$6:$T$605,MATCH($B19&"|"&G$8&"|1",Buchungen!$Q$6:$Q$605,0)),"")&IFERROR(" / "&INDEX(Buchungen!$T$6:$T$605,MATCH($B19&"|"&G$8&"|2",Buchungen!$Q$6:$Q$605,0)),"")))) | H19: =IF($B19="","",IF(Stammdaten!$I19="Gesperrt","gesperrt",IF(COUNTIF(Stammdaten!$AD$10:$AD$30,H$8)>0,"Feiertag",IFERROR(INDEX(Buchungen!$T$6:$T$605,MATCH($B19&"|"&H$8&"|1",Buchungen!$Q$6:$Q$605,0)),"")&IFERROR(" / "&INDEX(Buchungen!$T$6:$T$605,MATCH($B19&"|"&H$8&"|2",Buchungen!$Q$6:$Q$605,0)),"")))) -> I. Marx | I19: =IF($B19="","",IF(Stammdaten!$I19="Gesperrt","gesperrt",IF(COUNTIF(Stammdaten!$AD$10:$AD$30,I$8)>0,"Feiertag",IFERROR(INDEX(Buchungen!$T$6:$T$605,MATCH($B19&"|"&I$8&"|1",Buchungen!$Q$6:$Q$605,0)),"")&IFERROR(" / "&INDEX(Buchungen!$T$6:$T$605,MATCH($B19&"|"&I$8&"|2",Buchungen!$Q$6:$Q$605,0)),"")))) | J19: =IF($B19="","",IF(Stammdaten!$I19="Gesperrt","gesperrt",IF(COUNTIF(Stammdaten!$AD$10:$AD$30,J$8)>0,"Feiertag",IFERROR(INDEX(Buchungen!$T$6:$T$605,MATCH($B19&"|"&J$8&"|1",Buchungen!$Q$6:$Q$605,0)),"")&IFERROR(" / "&INDEX(Buchungen!$T$6:$T$605,MATCH($B19&"|"&J$8&"|2",Buchungen!$Q$6:$Q$605,0)),"")))) -> L. Sommer | L19: =IF($B19="","",IF(Stammdaten!$I19="Gesperrt","gesperrt",IF(COUNTIF(Stammdaten!$AD$10:$AD$30,L$8)>0,"Feiertag",IFERROR(INDEX(Buchungen!$T$6:$T$605,MATCH($B19&"|"&L$8&"|1",Buchungen!$Q$6:$Q$605,0)),"")&IFERROR(" / "&INDEX(Buchungen!$T$6:$T$605,MATCH($B19&"|"&L$8&"|2",Buchungen!$Q$6:$Q$605,0)),"")))) -> I. Marx | M19: =IF($B19="","",IF(Stammdaten!$I19="Gesperrt","gesperrt",IF(COUNTIF(Stammdaten!$AD$10:$AD$30,M$8)>0,"Feiertag",IFERROR(INDEX(Buchungen!$T$6:$T$605,MATCH($B19&"|"&M$8&"|1",Buchungen!$Q$6:$Q$605,0)),"")&IFERROR(" / "&INDEX(Buchungen!$T$6:$T$605,MATCH($B19&"|"&M$8&"|2",Buchungen!$Q$6:$Q$605,0)),"")))) -> I. Marx | N19: =IF($B19="","",IF(Stammdaten!$I19="Gesperrt","gesperrt",IF(COUNTIF(Stammdaten!$AD$10:$AD$30,N$8)>0,"Feiertag",IFERROR(INDEX(Buchungen!$T$6:$T$605,MATCH($B19&"|"&N$8&"|1",Buchungen!$Q$6:$Q$605,0)),"")&IFERROR(" / "&INDEX(Buchungen!$T$6:$T$605,MATCH($B19&"|"&N$8&"|2",Buchungen!$Q$6:$Q$605,0)),"")))) | O19: =IF($B19="","",IF(Stammdaten!$I19="Gesperrt","gesperrt",IF(COUNTIF(Stammdaten!$AD$10:$AD$30,O$8)>0,"Feiertag",IFERROR(INDEX(Buchungen!$T$6:$T$605,MATCH($B19&"|"&O$8&"|1",Buchungen!$Q$6:$Q$605,0)),"")&IFERROR(" / "&INDEX(Buchungen!$T$6:$T$605,MATCH($B19&"|"&O$8&"|2",Buchungen!$Q$6:$Q$605,0)),"")))) -> I. Marx | P19: =IF($B19="","",IF(Stammdaten!$I19="Gesperrt","gesperrt",IF(COUNTIF(Stammdaten!$AD$10:$AD$30,P$8)>0,"Feiertag",IFERROR(INDEX(Buchungen!$T$6:$T$605,MATCH($B19&"|"&P$8&"|1",Buchungen!$Q$6:$Q$605,0)),"")&IFERROR(" / "&INDEX(Buchungen!$T$6:$T$605,MATCH($B19&"|"&P$8&"|2",Buchungen!$Q$6:$Q$605,0)),"")))) -> K. Brandl ?
B20: =IF(Stammdaten!$B20="","",Stammdaten!$B20) -> A-11 | C20: =IF($B20="","",Stammdaten!$C20) -> 1. OG | D20: =IF($B20="","",Stammdaten!$D20) -> Fokuszone | E20: =IF($B20="","",Stammdaten!$F20&" Mon."&IF(Stammdaten!$G20="Ja"," · Dock","")&IF(Stammdaten!$H20="Ja"," · HV","")) -> 1 Mon. · Dock | F20: =IF($B20="","",IF(Stammdaten!$I20="Gesperrt","gesperrt",IF(COUNTIF(Stammdaten!$AD$10:$AD$30,F$8)>0,"Feiertag",IFERROR(INDEX(Buchungen!$T$6:$T$605,MATCH($B20&"|"&F$8&"|1",Buchungen!$Q$6:$Q$605,0)),"")&IFERROR(" / "&INDEX(Buchungen!$T$6:$T$605,MATCH($B20&"|"&F$8&"|2",Buchungen!$Q$6:$Q$605,0)),"")))) -> T. Jung | G20: =IF($B20="","",IF(Stammdaten!$I20="Gesperrt","gesperrt",IF(COUNTIF(Stammdaten!$AD$10:$AD$30,G$8)>0,"Feiertag",IFERROR(INDEX(Buchungen!$T$6:$T$605,MATCH($B20&"|"&G$8&"|1",Buchungen!$Q$6:$Q$605,0)),"")&IFERROR(" / "&INDEX(Buchungen!$T$6:$T$605,MATCH($B20&"|"&G$8&"|2",Buchungen!$Q$6:$Q$605,0)),"")))) -> T. Jung | H20: =IF($B20="","",IF(Stammdaten!$I20="Gesperrt","gesperrt",IF(COUNTIF(Stammdaten!$AD$10:$AD$30,H$8)>0,"Feiertag",IFERROR(INDEX(Buchungen!$T$6:$T$605,MATCH($B20&"|"&H$8&"|1",Buchungen!$Q$6:$Q$605,0)),"")&IFERROR(" / "&INDEX(Buchungen!$T$6:$T$605,MATCH($B20&"|"&H$8&"|2",Buchungen!$Q$6:$Q$605,0)),"")))) -> L. Sommer | I20: =IF($B20="","",IF(Stammdaten!$I20="Gesperrt","gesperrt",IF(COUNTIF(Stammdaten!$AD$10:$AD$30,I$8)>0,"Feiertag",IFERROR(INDEX(Buchungen!$T$6:$T$605,MATCH($B20&"|"&I$8&"|1",Buchungen!$Q$6:$Q$605,0)),"")&IFERROR(" / "&INDEX(Buchungen!$T$6:$T$605,MATCH($B20&"|"&I$8&"|2",Buchungen!$Q$6:$Q$605,0)),"")))) -> I. Marx / F. Engel | J20: =IF($B20="","",IF(Stammdaten!$I20="Gesperrt","gesperrt",IF(COUNTIF(Stammdaten!$AD$10:$AD$30,J$8)>0,"Feiertag",IFERROR(INDEX(Buchungen!$T$6:$T$605,MATCH($B20&"|"&J$8&"|1",Buchungen!$Q$6:$Q$605,0)),"")&IFERROR(" / "&INDEX(Buchungen!$T$6:$T$605,MATCH($B20&"|"&J$8&"|2",Buchungen!$Q$6:$Q$605,0)),"")))) -> T. Jung | L20: =IF($B20="","",IF(Stammdaten!$I20="Gesperrt","gesperrt",IF(COUNTIF(Stammdaten!$AD$10:$AD$30,L$8)>0,"Feiertag",IFERROR(INDEX(Buchungen!$T$6:$T$605,MATCH($B20&"|"&L$8&"|1",Buchungen!$Q$6:$Q$605,0)),"")&IFERROR(" / "&INDEX(Buchungen!$T$6:$T$605,MATCH($B20&"|"&L$8&"|2",Buchungen!$Q$6:$Q$605,0)),"")))) -> T. Jung | M20: =IF($B20="","",IF(Stammdaten!$I20="Gesperrt","gesperrt",IF(COUNTIF(Stammdaten!$AD$10:$AD$30,M$8)>0,"Feiertag",IFERROR(INDEX(Buchungen!$T$6:$T$605,MATCH($B20&"|"&M$8&"|1",Buchungen!$Q$6:$Q$605,0)),"")&IFERROR(" / "&INDEX(Buchungen!$T$6:$T$605,MATCH($B20&"|"&M$8&"|2",Buchungen!$Q$6:$Q$605,0)),"")))) -> T. Jung | N20: =IF($B20="","",IF(Stammdaten!$I20="Gesperrt","gesperrt",IF(COUNTIF(Stammdaten!$AD$10:$AD$30,N$8)>0,"Feiertag",IFERROR(INDEX(Buchungen!$T$6:$T$605,MATCH($B20&"|"&N$8&"|1",Buchungen!$Q$6:$Q$605,0)),"")&IFERROR(" / "&INDEX(Buchungen!$T$6:$T$605,MATCH($B20&"|"&N$8&"|2",Buchungen!$Q$6:$Q$605,0)),"")))) -> T. Jung | O20: =IF($B20="","",IF(Stammdaten!$I20="Gesperrt","gesperrt",IF(COUNTIF(Stammdaten!$AD$10:$AD$30,O$8)>0,"Feiertag",IFERROR(INDEX(Buchungen!$T$6:$T$605,MATCH($B20&"|"&O$8&"|1",Buchungen!$Q$6:$Q$605,0)),"")&IFERROR(" / "&INDEX(Buchungen!$T$6:$T$605,MATCH($B20&"|"&O$8&"|2",Buchungen!$Q$6:$Q$605,0)),"")))) -> T. Jung | P20: =IF($B20="","",IF(Stammdaten!$I20="Gesperrt","gesperrt",IF(COUNTIF(Stammdaten!$AD$10:$AD$30,P$8)>0,"Feiertag",IFERROR(INDEX(Buchungen!$T$6:$T$605,MATCH($B20&"|"&P$8&"|1",Buchungen!$Q$6:$Q$605,0)),"")&IFERROR(" / "&INDEX(Buchungen!$T$6:$T$605,MATCH($B20&"|"&P$8&"|2",Buchungen!$Q$6:$Q$605,0)),""))))
B21: =IF(Stammdaten!$B21="","",Stammdaten!$B21) -> A-12 | C21: =IF($B21="","",Stammdaten!$C21) -> 1. OG | D21: =IF($B21="","",Stammdaten!$D21) -> Fokuszone | E21: =IF($B21="","",Stammdaten!$F21&" Mon."&IF(Stammdaten!$G21="Ja"," · Dock","")&IF(Stammdaten!$H21="Ja"," · HV","")) -> 2 Mon. · Dock · HV | F21: =IF($B21="","",IF(Stammdaten!$I21="Gesperrt","gesperrt",IF(COUNTIF(Stammdaten!$AD$10:$AD$30,F$8)>0,"Feiertag",IFERROR(INDEX(Buchungen!$T$6:$T$605,MATCH($B21&"|"&F$8&"|1",Buchungen!$Q$6:$Q$605,0)),"")&IFERROR(" / "&INDEX(Buchungen!$T$6:$T$605,MATCH($B21&"|"&F$8&"|2",Buchungen!$Q$6:$Q$605,0)),"")))) | G21: =IF($B21="","",IF(Stammdaten!$I21="Gesperrt","gesperrt",IF(COUNTIF(Stammdaten!$AD$10:$AD$30,G$8)>0,"Feiertag",IFERROR(INDEX(Buchungen!$T$6:$T$605,MATCH($B21&"|"&G$8&"|1",Buchungen!$Q$6:$Q$605,0)),"")&IFERROR(" / "&INDEX(Buchungen!$T$6:$T$605,MATCH($B21&"|"&G$8&"|2",Buchungen!$Q$6:$Q$605,0)),"")))) | H21: =IF($B21="","",IF(Stammdaten!$I21="Gesperrt","gesperrt",IF(COUNTIF(Stammdaten!$AD$10:$AD$30,H$8)>0,"Feiertag",IFERROR(INDEX(Buchungen!$T$6:$T$605,MATCH($B21&"|"&H$8&"|1",Buchungen!$Q$6:$Q$605,0)),"")&IFERROR(" / "&INDEX(Buchungen!$T$6:$T$605,MATCH($B21&"|"&H$8&"|2",Buchungen!$Q$6:$Q$605,0)),"")))) | I21: =IF($B21="","",IF(Stammdaten!$I21="Gesperrt","gesperrt",IF(COUNTIF(Stammdaten!$AD$10:$AD$30,I$8)>0,"Feiertag",IFERROR(INDEX(Buchungen!$T$6:$T$605,MATCH($B21&"|"&I$8&"|1",Buchungen!$Q$6:$Q$605,0)),"")&IFERROR(" / "&INDEX(Buchungen!$T$6:$T$605,MATCH($B21&"|"&I$8&"|2",Buchungen!$Q$6:$Q$605,0)),"")))) -> J. Peters | J21: =IF($B21="","",IF(Stammdaten!$I21="Gesperrt","gesperrt",IF(COUNTIF(Stammdaten!$AD$10:$AD$30,J$8)>0,"Feiertag",IFERROR(INDEX(Buchungen!$T$6:$T$605,MATCH($B21&"|"&J$8&"|1",Buchungen!$Q$6:$Q$605,0)),"")&IFERROR(" / "&INDEX(Buchungen!$T$6:$T$605,MATCH($B21&"|"&J$8&"|2",Buchungen!$Q$6:$Q$605,0)),"")))) -> K. Busch | L21: =IF($B21="","",IF(Stammdaten!$I21="Gesperrt","gesperrt",IF(COUNTIF(Stammdaten!$AD$10:$AD$30,L$8)>0,"Feiertag",IFERROR(INDEX(Buchungen!$T$6:$T$605,MATCH($B21&"|"&L$8&"|1",Buchungen!$Q$6:$Q$605,0)),"")&IFERROR(" / "&INDEX(Buchungen!$T$6:$T$605,MATCH($B21&"|"&L$8&"|2",Buchungen!$Q$6:$Q$605,0)),"")))) -> T. Lindner | M21: =IF($B21="","",IF(Stammdaten!$I21="Gesperrt","gesperrt",IF(COUNTIF(Stammdaten!$AD$10:$AD$30,M$8)>0,"Feiertag",IFERROR(INDEX(Buchungen!$T$6:$T$605,MATCH($B21&"|"&M$8&"|1",Buchungen!$Q$6:$Q$605,0)),"")&IFERROR(" / "&INDEX(Buchungen!$T$6:$T$605,MATCH($B21&"|"&M$8&"|2",Buchungen!$Q$6:$Q$605,0)),"")))) -> K. Brandl ? | N21: =IF($B21="","",IF(Stammdaten!$I21="Gesperrt","gesperrt",IF(COUNTIF(Stammdaten!$AD$10:$AD$30,N$8)>0,"Feiertag",IFERROR(INDEX(Buchungen!$T$6:$T$605,MATCH($B21&"|"&N$8&"|1",Buchungen!$Q$6:$Q$605,0)),"")&IFERROR(" / "&INDEX(Buchungen!$T$6:$T$605,MATCH($B21&"|"&N$8&"|2",Buchungen!$Q$6:$Q$605,0)),"")))) | O21: =IF($B21="","",IF(Stammdaten!$I21="Gesperrt","gesperrt",IF(COUNTIF(Stammdaten!$AD$10:$AD$30,O$8)>0,"Feiertag",IFERROR(INDEX(Buchungen!$T$6:$T$605,MATCH($B21&"|"&O$8&"|1",Buchungen!$Q$6:$Q$605,0)),"")&IFERROR(" / "&INDEX(Buchungen!$T$6:$T$605,MATCH($B21&"|"&O$8&"|2",Buchungen!$Q$6:$Q$605,0)),"")))) -> J. Peters | P21: =IF($B21="","",IF(Stammdaten!$I21="Gesperrt","gesperrt",IF(COUNTIF(Stammdaten!$AD$10:$AD$30,P$8)>0,"Feiertag",IFERROR(INDEX(Buchungen!$T$6:$T$605,MATCH($B21&"|"&P$8&"|1",Buchungen!$Q$6:$Q$605,0)),"")&IFERROR(" / "&INDEX(Buchungen!$T$6:$T$605,MATCH($B21&"|"&P$8&"|2",Buchungen!$Q$6:$Q$605,0)),"")))) -> M. Winter
... B49: =IF(Stammdaten!$B49="","",Stammdaten!$B49) | C49: =IF($B49="","",Stammdaten!$C49) | D49: =IF($B49="","",Stammdaten!$D49) | E49: =IF($B49="","",Stammdaten!$F49&" Mon."&IF(Stammdaten!$G49="Ja"," · Dock","")&IF(Stammdaten!$H49="Ja"," · HV","")) | F49: =IF($B49="","",IF(Stammdaten!$I49="Gesperrt","gesperrt",IF(COUNTIF(Stammdaten!$AD$10:$AD$30,F$8)>0,"Feiertag",IFERROR(INDEX(Buchungen!$T$6:$T$605,MATCH($B49&"|"&F$8&"|1",Buchungen!$Q$6:$Q$605,0)),"")&IFERROR(" / "&INDEX(Buchungen!$T$6:$T$605,MATCH($B49&"|"&F$8&"|2",Buchungen!$Q$6:$Q$605,0)),"")))) | G49: =IF($B49="","",IF(Stammdaten!$I49="Gesperrt","gesperrt",IF(COUNTIF(Stammdaten!$AD$10:$AD$30,G$8)>0,"Feiertag",IFERROR(INDEX(Buchungen!$T$6:$T$605,MATCH($B49&"|"&G$8&"|1",Buchungen!$Q$6:$Q$605,0)),"")&IFERROR(" / "&INDEX(Buchungen!$T$6:$T$605,MATCH($B49&"|"&G$8&"|2",Buchungen!$Q$6:$Q$605,0)),"")))) | H49: =IF($B49="","",IF(Stammdaten!$I49="Gesperrt","gesperrt",IF(COUNTIF(Stammdaten!$AD$10:$AD$30,H$8)>0,"Feiertag",IFERROR(INDEX(Buchungen!$T$6:$T$605,MATCH($B49&"|"&H$8&"|1",Buchungen!$Q$6:$Q$605,0)),"")&IFERROR(" / "&INDEX(Buchungen!$T$6:$T$605,MATCH($B49&"|"&H$8&"|2",Buchungen!$Q$6:$Q$605,0)),"")))) | I49: =IF($B49="","",IF(Stammdaten!$I49="Gesperrt","gesperrt",IF(COUNTIF(Stammdaten!$AD$10:$AD$30,I$8)>0,"Feiertag",IFERROR(INDEX(Buchungen!$T$6:$T$605,MATCH($B49&"|"&I$8&"|1",Buchungen!$Q$6:$Q$605,0)),"")&IFERROR(" / "&INDEX(Buchungen!$T$6:$T$605,MATCH($B49&"|"&I$8&"|2",Buchungen!$Q$6:$Q$605,0)),"")))) | J49: =IF($B49="","",IF(Stammdaten!$I49="Gesperrt","gesperrt",IF(COUNTIF(Stammdaten!$AD$10:$AD$30,J$8)>0,"Feiertag",IFERROR(INDEX(Buchungen!$T$6:$T$605,MATCH($B49&"|"&J$8&"|1",Buchungen!$Q$6:$Q$605,0)),"")&IFERROR(" / "&INDEX(Buchungen!$T$6:$T$605,MATCH($B49&"|"&J$8&"|2",Buchungen!$Q$6:$Q$605,0)),"")))) | L49: =IF($B49="","",IF(Stammdaten!$I49="Gesperrt","gesperrt",IF(COUNTIF(Stammdaten!$AD$10:$AD$30,L$8)>0,"Feiertag",IFERROR(INDEX(Buchungen!$T$6:$T$605,MATCH($B49&"|"&L$8&"|1",Buchungen!$Q$6:$Q$605,0)),"")&IFERROR(" / "&INDEX(Buchungen!$T$6:$T$605,MATCH($B49&"|"&L$8&"|2",Buchungen!$Q$6:$Q$605,0)),"")))) | M49: =IF($B49="","",IF(Stammdaten!$I49="Gesperrt","gesperrt",IF(COUNTIF(Stammdaten!$AD$10:$AD$30,M$8)>0,"Feiertag",IFERROR(INDEX(Buchungen!$T$6:$T$605,MATCH($B49&"|"&M$8&"|1",Buchungen!$Q$6:$Q$605,0)),"")&IFERROR(" / "&INDEX(Buchungen!$T$6:$T$605,MATCH($B49&"|"&M$8&"|2",Buchungen!$Q$6:$Q$605,0)),"")))) | N49: =IF($B49="","",IF(Stammdaten!$I49="Gesperrt","gesperrt",IF(COUNTIF(Stammdaten!$AD$10:$AD$30,N$8)>0,"Feiertag",IFERROR(INDEX(Buchungen!$T$6:$T$605,MATCH($B49&"|"&N$8&"|1",Buchungen!$Q$6:$Q$605,0)),"")&IFERROR(" / "&INDEX(Buchungen!$T$6:$T$605,MATCH($B49&"|"&N$8&"|2",Buchungen!$Q$6:$Q$605,0)),"")))) | O49: =IF($B49="","",IF(Stammdaten!$I49="Gesperrt","gesperrt",IF(COUNTIF(Stammdaten!$AD$10:$AD$30,O$8)>0,"Feiertag",IFERROR(INDEX(Buchungen!$T$6:$T$605,MATCH($B49&"|"&O$8&"|1",Buchungen!$Q$6:$Q$605,0)),"")&IFERROR(" / "&INDEX(Buchungen!$T$6:$T$605,MATCH($B49&"|"&O$8&"|2",Buchungen!$Q$6:$Q$605,0)),"")))) | P49: =IF($B49="","",IF(Stammdaten!$I49="Gesperrt","gesperrt",IF(COUNTIF(Stammdaten!$AD$10:$AD$30,P$8)>0,"Feiertag",IFERROR(INDEX(Buchungen!$T$6:$T$605,MATCH($B49&"|"&P$8&"|1",Buchungen!$Q$6:$Q$605,0)),"")&IFERROR(" / "&INDEX(Buchungen!$T$6:$T$605,MATCH($B49&"|"&P$8&"|2",Buchungen!$Q$6:$Q$605,0)),""))))
B51: Verfügbare Plätze | F51: =IF(COUNTIF(Stammdaten!$AD$10:$AD$30,F$8)>0,0,COUNTIF(Stammdaten!$I$10:$I$49,"Aktiv")) -> 23 | G51: =IF(COUNTIF(Stammdaten!$AD$10:$AD$30,G$8)>0,0,COUNTIF(Stammdaten!$I$10:$I$49,"Aktiv")) -> 23 | H51: =IF(COUNTIF(Stammdaten!$AD$10:$AD$30,H$8)>0,0,COUNTIF(Stammdaten!$I$10:$I$49,"Aktiv")) -> 23 | I51: =IF(COUNTIF(Stammdaten!$AD$10:$AD$30,I$8)>0,0,COUNTIF(Stammdaten!$I$10:$I$49,"Aktiv")) -> 23 | J51: =IF(COUNTIF(Stammdaten!$AD$10:$AD$30,J$8)>0,0,COUNTIF(Stammdaten!$I$10:$I$49,"Aktiv")) -> 23 | L51: =IF(COUNTIF(Stammdaten!$AD$10:$AD$30,L$8)>0,0,COUNTIF(Stammdaten!$I$10:$I$49,"Aktiv")) -> 23 | M51: =IF(COUNTIF(Stammdaten!$AD$10:$AD$30,M$8)>0,0,COUNTIF(Stammdaten!$I$10:$I$49,"Aktiv")) -> 23 | N51: =IF(COUNTIF(Stammdaten!$AD$10:$AD$30,N$8)>0,0,COUNTIF(Stammdaten!$I$10:$I$49,"Aktiv")) -> 23 | O51: =IF(COUNTIF(Stammdaten!$AD$10:$AD$30,O$8)>0,0,COUNTIF(Stammdaten!$I$10:$I$49,"Aktiv")) -> 23 | P51: =IF(COUNTIF(Stammdaten!$AD$10:$AD$30,P$8)>0,0,COUNTIF(Stammdaten!$I$10:$I$49,"Aktiv")) -> 23
B52: Belegt (inkl. Anfragen) | F52: =COUNTIF(F10:F49,"?*")-COUNTIF(F10:F49,"gesperrt")-COUNTIF(F10:F49,"Feiertag") -> 15 | G52: =COUNTIF(G10:G49,"?*")-COUNTIF(G10:G49,"gesperrt")-COUNTIF(G10:G49,"Feiertag") -> 17 | H52: =COUNTIF(H10:H49,"?*")-COUNTIF(H10:H49,"gesperrt")-COUNTIF(H10:H49,"Feiertag") -> 20 | I52: =COUNTIF(I10:I49,"?*")-COUNTIF(I10:I49,"gesperrt")-COUNTIF(I10:I49,"Feiertag") -> 16 | J52: =COUNTIF(J10:J49,"?*")-COUNTIF(J10:J49,"gesperrt")-COUNTIF(J10:J49,"Feiertag") -> 17 | L52: =COUNTIF(L10:L49,"?*")-COUNTIF(L10:L49,"gesperrt")-COUNTIF(L10:L49,"Feiertag") -> 20 | M52: =COUNTIF(M10:M49,"?*")-COUNTIF(M10:M49,"gesperrt")-COUNTIF(M10:M49,"Feiertag") -> 16 | N52: =COUNTIF(N10:N49,"?*")-COUNTIF(N10:N49,"gesperrt")-COUNTIF(N10:N49,"Feiertag") -> 15 | O52: =COUNTIF(O10:O49,"?*")-COUNTIF(O10:O49,"gesperrt")-COUNTIF(O10:O49,"Feiertag") -> 21 | P52: =COUNTIF(P10:P49,"?*")-COUNTIF(P10:P49,"gesperrt")-COUNTIF(P10:P49,"Feiertag") -> 15
B53: Frei | F53: =MAX(0,F51-F52) -> 8 | G53: =MAX(0,G51-G52) -> 6 | H53: =MAX(0,H51-H52) -> 3 | I53: =MAX(0,I51-I52) -> 7 | J53: =MAX(0,J51-J52) -> 6 | L53: =MAX(0,L51-L52) -> 3 | M53: =MAX(0,M51-M52) -> 7 | N53: =MAX(0,N51-N52) -> 8 | O53: =MAX(0,O51-O52) -> 2 | P53: =MAX(0,P51-P52) -> 8
B54: Auslastung | F54: =IF(F51=0,"–",F52/F51) -> 0.65217391 | G54: =IF(G51=0,"–",G52/G51) -> 0.73913043 | H54: =IF(H51=0,"–",H52/H51) -> 0.86956522 | I54: =IF(I51=0,"–",I52/I51) -> 0.69565217 | J54: =IF(J51=0,"–",J52/J51) -> 0.73913043 | L54: =IF(L51=0,"–",L52/L51) -> 0.86956522 | M54: =IF(M51=0,"–",M52/M51) -> 0.69565217 | N54: =IF(N51=0,"–",N52/N51) -> 0.65217391 | O54: =IF(O51=0,"–",O52/O51) -> 0.91304348 | P54: =IF(P51=0,"–",P52/P51) -> 0.65217391
B56: Ab 90 % Auslastung rot (Engpass), ab 70 % gelb, darunter grün. Filter in Zeile 9 nutzen, um nach Etage oder Bereich zu filtern.

Sheet Buchungen
B2: Buchungen | M2: DESK SHARING · 2026
B3: =Stammdaten!$C$5&" · "&Stammdaten!$C$6 -> Beispielunternehmen GmbH · Hauptsitz – Bürogebäude A
B4: Weiße Spalten ausfüllen (Dropdowns) – sandfarbene Spalten rechnen automatisch. Neue Buchungen einfach unten anfügen.
B5: Nr. | C5: Datum | D5: Tag | E5: KW | F5: Arbeitsplatz | G5: Mitarbeiter/in | H5: Zeitfenster | I5: Status | J5: Bemerkung | K5: Abteilung | L5: Bereich | M5: Prüfung | O5: Wert | P5: Key Platz | Q5: Key Platz # | R5: Key Person | S5: Key Person # | T5: Anzeige Plan | U5: Anzeige Team
B6: =IF(C6="","",ROW()-5) -> 1 | C6: 46293 | D6: =IF(C6="","",CHOOSE(WEEKDAY(C6,2),"Mo","Di","Mi","Do","Fr","Sa","So")) -> Mo | E6: =IF(C6="","",_xlfn.ISOWEEKNUM(C6)) -> 40 | F6: A-01 | G6: Marco Seidel | H6: Ganztägig | I6: Bestätigt | K6: =IF(G6="","",IFERROR(INDEX(Stammdaten!$P$10:$P$69,MATCH(G6,Stammdaten!$N$10:$N$69,0)),"–")) -> Marketing | L6: =IF(F6="","",IFERROR(INDEX(Stammdaten!$D$10:$D$49,MATCH(F6,Stammdaten!$B$10:$B$49,0)),"–")) -> Teamzone Nord | M6: =IF(C6="","",IF(OR(F6="",G6="",I6=""),"unvollständig",IF(I6="Storniert","storniert",IF(WEEKDAY(C6,2)>5,"Wochenende",IF(COUNTIF(Stammdaten!$AD$10:$AD$30,C6)>0,"Feiertag",IF(IFERROR(INDEX(Stammdaten!$I$10:$I$49,MATCH(F6,Stammdaten!$B$10:$B$49,0)),"")="Gesperrt","Platz gesperrt",IF(AND(COUNTIF($P$6:$P$605,P6)>1,NOT(AND(COUNTIF($P$6:$P$605,P6)=2,COUNTIFS($P$6:$P$605,P6,$H$6:$H$605,"Vormittag")=1,COUNTIFS($P$6:$P$605,P6,$H$6:$H$605,"Nachmittag")=1))),"Doppelbuchung",IF(AND(COUNTIF($R$6:$R$605,R6)>1,NOT(AND(COUNTIF($R$6:$R$605,R6)=2,COUNTIFS($R$6:$R$605,R6,$H$6:$H$605,"Vormittag")=1,COUNTIFS($R$6:$R$605,R6,$H$6:$H$605,"Nachmittag")=1))),"Person doppelt","OK")))))))) -> OK | O6: =IF(OR(C6="",I6<>"Bestätigt",M6="Platz gesperrt"),0,IF(H6="Ganztägig",1,0.5)) -> 1 | P6: =IF(OR(C6="",F6="",I6="Storniert"),"",F6&"|"&C6) -> A-01|46293 | Q6: =IF(P6="","",P6&"|"&COUNTIF(P$6:P6,P6)) -> A-01|46293|1 | R6: =IF(OR(C6="",G6="",I6="Storniert"),"",G6&"|"&C6) -> Marco Seidel|46293 | S6: =IF(R6="","",R6&"|"&COUNTIF(R$6:R6,R6)) -> Marco Seidel|46293|1 | T6: =IF(G6="","",IFERROR(INDEX(Stammdaten!$O$10:$O$69,MATCH(G6,Stammdaten!$N$10:$N$69,0)),G6)&IF(H6="Vormittag"," (VM)",IF(H6="Nachmittag"," (NM)",""))&IF(I6="Angefragt"," ?","")) -> M. Seidel | U6: =IF(F6="","",F6&IF(H6="Vormittag"," (VM)",IF(H6="Nachmittag"," (NM)",""))&IF(I6="Angefragt"," ?","")) -> A-01
B7: =IF(C7="","",ROW()-5) -> 2 | C7: 46293 | D7: =IF(C7="","",CHOOSE(WEEKDAY(C7,2),"Mo","Di","Mi","Do","Fr","Sa","So")) -> Mo | E7: =IF(C7="","",_xlfn.ISOWEEKNUM(C7)) -> 40 | F7: A-02 | G7: Lena Hartmann | H7: Ganztägig | I7: Bestätigt | K7: =IF(G7="","",IFERROR(INDEX(Stammdaten!$P$10:$P$69,MATCH(G7,Stammdaten!$N$10:$N$69,0)),"–")) -> Vertrieb | L7: =IF(F7="","",IFERROR(INDEX(Stammdaten!$D$10:$D$49,MATCH(F7,Stammdaten!$B$10:$B$49,0)),"–")) -> Teamzone Nord | M7: =IF(C7="","",IF(OR(F7="",G7="",I7=""),"unvollständig",IF(I7="Storniert","storniert",IF(WEEKDAY(C7,2)>5,"Wochenende",IF(COUNTIF(Stammdaten!$AD$10:$AD$30,C7)>0,"Feiertag",IF(IFERROR(INDEX(Stammdaten!$I$10:$I$49,MATCH(F7,Stammdaten!$B$10:$B$49,0)),"")="Gesperrt","Platz gesperrt",IF(AND(COUNTIF($P$6:$P$605,P7)>1,NOT(AND(COUNTIF($P$6:$P$605,P7)=2,COUNTIFS($P$6:$P$605,P7,$H$6:$H$605,"Vormittag")=1,COUNTIFS($P$6:$P$605,P7,$H$6:$H$605,"Nachmittag")=1))),"Doppelbuchung",IF(AND(COUNTIF($R$6:$R$605,R7)>1,NOT(AND(COUNTIF($R$6:$R$605,R7)=2,COUNTIFS($R$6:$R$605,R7,$H$6:$H$605,"Vormittag")=1,COUNTIFS($R$6:$R$605,R7,$H$6:$H$605,"Nachmittag")=1))),"Person doppelt","OK")))))))) -> OK | O7: =IF(OR(C7="",I7<>"Bestätigt",M7="Platz gesperrt"),0,IF(H7="Ganztägig",1,0.5)) -> 1 | P7: =IF(OR(C7="",F7="",I7="Storniert"),"",F7&"|"&C7) -> A-02|46293 | Q7: =IF(P7="","",P7&"|"&COUNTIF(P$6:P7,P7)) -> A-02|46293|1 | R7: =IF(OR(C7="",G7="",I7="Storniert"),"",G7&"|"&C7) -> Lena Hartmann|46293 | S7: =IF(R7="","",R7&"|"&COUNTIF(R$6:R7,R7)) -> Lena Hartmann|46293|1 | T7: =IF(G7="","",IFERROR(INDEX(Stammdaten!$O$10:$O$69,MATCH(G7,Stammdaten!$N$10:$N$69,0)),G7)&IF(H7="Vormittag"," (VM)",IF(H7="Nachmittag"," (NM)",""))&IF(I7="Angefragt"," ?","")) -> L. Hartmann | U7: =IF(F7="","",F7&IF(H7="Vormittag"," (VM)",IF(H7="Nachmittag"," (NM)",""))&IF(I7="Angefragt"," ?","")) -> A-02
B8: =IF(C8="","",ROW()-5) -> 3 | C8: 46293 | D8: =IF(C8="","",CHOOSE(WEEKDAY(C8,2),"Mo","Di","Mi","Do","Fr","Sa","So")) -> Mo | E8: =IF(C8="","",_xlfn.ISOWEEKNUM(C8)) -> 40 | F8: A-05 | G8: Nina Albrecht | H8: Ganztägig | I8: Bestätigt | K8: =IF(G8="","",IFERROR(INDEX(Stammdaten!$P$10:$P$69,MATCH(G8,Stammdaten!$N$10:$N$69,0)),"–")) -> Vertrieb | L8: =IF(F8="","",IFERROR(INDEX(Stammdaten!$D$10:$D$49,MATCH(F8,Stammdaten!$B$10:$B$49,0)),"–")) -> Teamzone Nord | M8: =IF(C8="","",IF(OR(F8="",G8="",I8=""),"unvollständig",IF(I8="Storniert","storniert",IF(WEEKDAY(C8,2)>5,"Wochenende",IF(COUNTIF(Stammdaten!$AD$10:$AD$30,C8)>0,"Feiertag",IF(IFERROR(INDEX(Stammdaten!$I$10:$I$49,MATCH(F8,Stammdaten!$B$10:$B$49,0)),"")="Gesperrt","Platz gesperrt",IF(AND(COUNTIF($P$6:$P$605,P8)>1,NOT(AND(COUNTIF($P$6:$P$605,P8)=2,COUNTIFS($P$6:$P$605,P8,$H$6:$H$605,"Vormittag")=1,COUNTIFS($P$6:$P$605,P8,$H$6:$H$605,"Nachmittag")=1))),"Doppelbuchung",IF(AND(COUNTIF($R$6:$R$605,R8)>1,NOT(AND(COUNTIF($R$6:$R$605,R8)=2,COUNTIFS($R$6:$R$605,R8,$H$6:$H$605,"Vormittag")=1,COUNTIFS($R$6:$R$605,R8,$H$6:$H$605,"Nachmittag")=1))),"Person doppelt","OK")))))))) -> OK | O8: =IF(OR(C8="",I8<>"Bestätigt",M8="Platz gesperrt"),0,IF(H8="Ganztägig",1,0.5)) -> 1 | P8: =IF(OR(C8="",F8="",I8="Storniert"),"",F8&"|"&C8) -> A-05|46293 | Q8: =IF(P8="","",P8&"|"&COUNTIF(P$6:P8,P8)) -> A-05|46293|1 | R8: =IF(OR(C8="",G8="",I8="Storniert"),"",G8&"|"&C8) -> Nina Albrecht|46293 | S8: =IF(R8="","",R8&"|"&COUNTIF(R$6:R8,R8)) -> Nina Albrecht|46293|1 | T8: =IF(G8="","",IFERROR(INDEX(Stammdaten!$O$10:$O$69,MATCH(G8,Stammdaten!$N$10:$N$69,0)),G8)&IF(H8="Vormittag"," (VM)",IF(H8="Nachmittag"," (NM)",""))&IF(I8="Angefragt"," ?","")) -> N. Albrecht | U8: =IF(F8="","",F8&IF(H8="Vormittag"," (VM)",IF(H8="Nachmittag"," (NM)",""))&IF(I8="Angefragt"," ?","")) -> A-05
B9: =IF(C9="","",ROW()-5) -> 4 | C9: 46293 | D9: =IF(C9="","",CHOOSE(WEEKDAY(C9,2),"Mo","Di","Mi","Do","Fr","Sa","So")) -> Mo | E9: =IF(C9="","",_xlfn.ISOWEEKNUM(C9)) -> 40 | F9: A-06 | G9: Felix Engel | H9: Ganztägig | I9: Bestätigt | K9: =IF(G9="","",IFERROR(INDEX(Stammdaten!$P$10:$P$69,MATCH(G9,Stammdaten!$N$10:$N$69,0)),"–")) -> Marketing | L9: =IF(F9="","",IFERROR(INDEX(Stammdaten!$D$10:$D$49,MATCH(F9,Stammdaten!$B$10:$B$49,0)),"–")) -> Teamzone Nord | M9: =IF(C9="","",IF(OR(F9="",G9="",I9=""),"unvollständig",IF(I9="Storniert","storniert",IF(WEEKDAY(C9,2)>5,"Wochenende",IF(COUNTIF(Stammdaten!$AD$10:$AD$30,C9)>0,"Feiertag",IF(IFERROR(INDEX(Stammdaten!$I$10:$I$49,MATCH(F9,Stammdaten!$B$10:$B$49,0)),"")="Gesperrt","Platz gesperrt",IF(AND(COUNTIF($P$6:$P$605,P9)>1,NOT(AND(COUNTIF($P$6:$P$605,P9)=2,COUNTIFS($P$6:$P$605,P9,$H$6:$H$605,"Vormittag")=1,COUNTIFS($P$6:$P$605,P9,$H$6:$H$605,"Nachmittag")=1))),"Doppelbuchung",IF(AND(COUNTIF($R$6:$R$605,R9)>1,NOT(AND(COUNTIF($R$6:$R$605,R9)=2,COUNTIFS($R$6:$R$605,R9,$H$6:$H$605,"Vormittag")=1,COUNTIFS($R$6:$R$605,R9,$H$6:$H$605,"Nachmittag")=1))),"Person doppelt","OK")))))))) -> OK | O9: =IF(OR(C9="",I9<>"Bestätigt",M9="Platz gesperrt"),0,IF(H9="Ganztägig",1,0.5)) -> 1 | P9: =IF(OR(C9="",F9="",I9="Storniert"),"",F9&"|"&C9) -> A-06|46293 | Q9: =IF(P9="","",P9&"|"&COUNTIF(P$6:P9,P9)) -> A-06|46293|1 | R9: =IF(OR(C9="",G9="",I9="Storniert"),"",G9&"|"&C9) -> Felix Engel|46293 | S9: =IF(R9="","",R9&"|"&COUNTIF(R$6:R9,R9)) -> Felix Engel|46293|1 | T9: =IF(G9="","",IFERROR(INDEX(Stammdaten!$O$10:$O$69,MATCH(G9,Stammdaten!$N$10:$N$69,0)),G9)&IF(H9="Vormittag"," (VM)",IF(H9="Nachmittag"," (NM)",""))&IF(I9="Angefragt"," ?","")) -> F. Engel | U9: =IF(F9="","",F9&IF(H9="Vormittag"," (VM)",IF(H9="Nachmittag"," (NM)",""))&IF(I9="Angefragt"," ?","")) -> A-06
B10: =IF(C10="","",ROW()-5) -> 5 | C10: 46293 | D10: =IF(C10="","",CHOOSE(WEEKDAY(C10,2),"Mo","Di","Mi","Do","Fr","Sa","So")) -> Mo | E10: =IF(C10="","",_xlfn.ISOWEEKNUM(C10)) -> 40 | F10: A-07 | G10: Miriam Krause | H10: Ganztägig | I10: Bestätigt | K10: =IF(G10="","",IFERROR(INDEX(Stammdaten!$P$10:$P$69,MATCH(G10,Stammdaten!$N$10:$N$69,0)),"–")) -> Vertrieb | L10: =IF(F10="","",IFERROR(INDEX(Stammdaten!$D$10:$D$49,MATCH(F10,Stammdaten!$B$10:$B$49,0)),"–")) -> Teamzone Nord | M10: =IF(C10="","",IF(OR(F10="",G10="",I10=""),"unvollständig",IF(I10="Storniert","storniert",IF(WEEKDAY(C10,2)>5,"Wochenende",IF(COUNTIF(Stammdaten!$AD$10:$AD$30,C10)>0,"Feiertag",IF(IFERROR(INDEX(Stammdaten!$I$10:$I$49,MATCH(F10,Stammdaten!$B$10:$B$49,0)),"")="Gesperrt","Platz gesperrt",IF(AND(COUNTIF($P$6:$P$605,P10)>1,NOT(AND(COUNTIF($P$6:$P$605,P10)=2,COUNTIFS($P$6:$P$605,P10,$H$6:$H$605,"Vormittag")=1,COUNTIFS($P$6:$P$605,P10,$H$6:$H$605,"Nachmittag")=1))),"Doppelbuchung",IF(AND(COUNTIF($R$6:$R$605,R10)>1,NOT(AND(COUNTIF($R$6:$R$605,R10)=2,COUNTIFS($R$6:$R$605,R10,$H$6:$H$605,"Vormittag")=1,COUNTIFS($R$6:$R$605,R10,$H$6:$H$605,"Nachmittag")=1))),"Person doppelt","OK")))))))) -> OK | O10: =IF(OR(C10="",I10<>"Bestätigt",M10="Platz gesperrt"),0,IF(H10="Ganztägig",1,0.5)) -> 1 | P10: =IF(OR(C10="",F10="",I10="Storniert"),"",F10&"|"&C10) -> A-07|46293 | Q10: =IF(P10="","",P10&"|"&COUNTIF(P$6:P10,P10)) -> A-07|46293|1 | R10: =IF(OR(C10="",G10="",I10="Storniert"),"",G10&"|"&C10) -> Miriam Krause|46293 | S10: =IF(R10="","",R10&"|"&COUNTIF(R$6:R10,R10)) -> Miriam Krause|46293|1 | T10: =IF(G10="","",IFERROR(INDEX(Stammdaten!$O$10:$O$69,MATCH(G10,Stammdaten!$N$10:$N$69,0)),G10)&IF(H10="Vormittag"," (VM)",IF(H10="Nachmittag"," (NM)",""))&IF(I10="Angefragt"," ?","")) -> M. Krause | U10: =IF(F10="","",F10&IF(H10="Vormittag"," (VM)",IF(H10="Nachmittag"," (NM)",""))&IF(I10="Angefragt"," ?","")) -> A-07
B11: =IF(C11="","",ROW()-5) -> 6 | C11: 46293 | D11: =IF(C11="","",CHOOSE(WEEKDAY(C11,2),"Mo","Di","Mi","Do","Fr","Sa","So")) -> Mo | E11: =IF(C11="","",_xlfn.ISOWEEKNUM(C11)) -> 40 | F11: A-08 | G11: Paul Schreiber | H11: Ganztägig | I11: Bestätigt | K11: =IF(G11="","",IFERROR(INDEX(Stammdaten!$P$10:$P$69,MATCH(G11,Stammdaten!$N$10:$N$69,0)),"–")) -> Marketing | L11: =IF(F11="","",IFERROR(INDEX(Stammdaten!$D$10:$D$49,MATCH(F11,Stammdaten!$B$10:$B$49,0)),"–")) -> Teamzone Nord | M11: =IF(C11="","",IF(OR(F11="",G11="",I11=""),"unvollständig",IF(I11="Storniert","storniert",IF(WEEKDAY(C11,2)>5,"Wochenende",IF(COUNTIF(Stammdaten!$AD$10:$AD$30,C11)>0,"Feiertag",IF(IFERROR(INDEX(Stammdaten!$I$10:$I$49,MATCH(F11,Stammdaten!$B$10:$B$49,0)),"")="Gesperrt","Platz gesperrt",IF(AND(COUNTIF($P$6:$P$605,P11)>1,NOT(AND(COUNTIF($P$6:$P$605,P11)=2,COUNTIFS($P$6:$P$605,P11,$H$6:$H$605,"Vormittag")=1,COUNTIFS($P$6:$P$605,P11,$H$6:$H$605,"Nachmittag")=1))),"Doppelbuchung",IF(AND(COUNTIF($R$6:$R$605,R11)>1,NOT(AND(COUNTIF($R$6:$R$605,R11)=2,COUNTIFS($R$6:$R$605,R11,$H$6:$H$605,"Vormittag")=1,COUNTIFS($R$6:$R$605,R11,$H$6:$H$605,"Nachmittag")=1))),"Person doppelt","OK")))))))) -> OK | O11: =IF(OR(C11="",I11<>"Bestätigt",M11="Platz gesperrt"),0,IF(H11="Ganztägig",1,0.5)) -> 1 | P11: =IF(OR(C11="",F11="",I11="Storniert"),"",F11&"|"&C11) -> A-08|46293 | Q11: =IF(P11="","",P11&"|"&COUNTIF(P$6:P11,P11)) -> A-08|46293|1 | R11: =IF(OR(C11="",G11="",I11="Storniert"),"",G11&"|"&C11) -> Paul Schreiber|46293 | S11: =IF(R11="","",R11&"|"&COUNTIF(R$6:R11,R11)) -> Paul Schreiber|46293|1 | T11: =IF(G11="","",IFERROR(INDEX(Stammdaten!$O$10:$O$69,MATCH(G11,Stammdaten!$N$10:$N$69,0)),G11)&IF(H11="Vormittag"," (VM)",IF(H11="Nachmittag"," (NM)",""))&IF(I11="Angefragt"," ?","")) -> P. Schreiber | U11: =IF(F11="","",F11&IF(H11="Vormittag"," (VM)",IF(H11="Nachmittag"," (NM)",""))&IF(I11="Angefragt"," ?","")) -> A-08
B12: =IF(C12="","",ROW()-5) -> 7 | C12: 46293 | D12: =IF(C12="","",CHOOSE(WEEKDAY(C12,2),"Mo","Di","Mi","Do","Fr","Sa","So")) -> Mo | E12: =IF(C12="","",_xlfn.ISOWEEKNUM(C12)) -> 40 | F12: A-11 | G12: Theresa Jung | H12: Ganztägig | I12: Bestätigt | K12: =IF(G12="","",IFERROR(INDEX(Stammdaten!$P$10:$P$69,MATCH(G12,Stammdaten!$N$10:$N$69,0)),"–")) -> Projektmanagement | L12: =IF(F12="","",IFERROR(INDEX(Stammdaten!$D$10:$D$49,MATCH(F12,Stammdaten!$B$10:$B$49,0)),"–")) -> Fokuszone | M12: =IF(C12="","",IF(OR(F12="",G12="",I12=""),"unvollständig",IF(I12="Storniert","storniert",IF(WEEKDAY(C12,2)>5,"Wochenende",IF(COUNTIF(Stammdaten!$AD$10:$AD$30,C12)>0,"Feiertag",IF(IFERROR(INDEX(Stammdaten!$I$10:$I$49,MATCH(F12,Stammdaten!$B$10:$B$49,0)),"")="Gesperrt","Platz gesperrt",IF(AND(COUNTIF($P$6:$P$605,P12)>1,NOT(AND(COUNTIF($P$6:$P$605,P12)=2,COUNTIFS($P$6:$P$605,P12,$H$6:$H$605,"Vormittag")=1,COUNTIFS($P$6:$P$605,P12,$H$6:$H$605,"Nachmittag")=1))),"Doppelbuchung",IF(AND(COUNTIF($R$6:$R$605,R12)>1,NOT(AND(COUNTIF($R$6:$R$605,R12)=2,COUNTIFS($R$6:$R$605,R12,$H$6:$H$605,"Vormittag")=1,COUNTIFS($R$6:$R$605,R12,$H$6:$H$605,"Nachmittag")=1))),"Person doppelt","OK")))))))) -> OK | O12: =IF(OR(C12="",I12<>"Bestätigt",M12="Platz gesperrt"),0,IF(H12="Ganztägig",1,0.5)) -> 1 | P12: =IF(OR(C12="",F12="",I12="Storniert"),"",F12&"|"&C12) -> A-11|46293 | Q12: =IF(P12="","",P12&"|"&COUNTIF(P$6:P12,P12)) -> A-11|46293|1 | R12: =IF(OR(C12="",G12="",I12="Storniert"),"",G12&"|"&C12) -> Theresa Jung|46293 | S12: =IF(R12="","",R12&"|"&COUNTIF(R$6:R12,R12)) -> Theresa Jung|46293|1 | T12: =IF(G12="","",IFERROR(INDEX(Stammdaten!$O$10:$O$69,MATCH(G12,Stammdaten!$N$10:$N$69,0)),G12)&IF(H12="Vormittag"," (VM)",IF(H12="Nachmittag"," (NM)",""))&IF(I12="Angefragt"," ?","")) -> T. Jung | U12: =IF(F12="","",F12&IF(H12="Vormittag"," (VM)",IF(H12="Nachmittag"," (NM)",""))&IF(I12="Angefragt"," ?","")) -> A-11
B13: =IF(C13="","",ROW()-5) -> 8 | C13: 46293 | D13: =IF(C13="","",CHOOSE(WEEKDAY(C13,2),"Mo","Di","Mi","Do","Fr","Sa","So")) -> Mo | E13: =IF(C13="","",_xlfn.ISOWEEKNUM(C13)) -> 40 | F13: A-12 | G13: Mara Winter | H13: Ganztägig | I13: Bestätigt | K13: =IF(G13="","",IFERROR(INDEX(Stammdaten!$P$10:$P$69,MATCH(G13,Stammdaten!$N$10:$N$69,0)),"–")) -> IT | L13: =IF(F13="","",IFERROR(INDEX(Stammdaten!$D$10:$D$49,MATCH(F13,Stammdaten!$B$10:$B$49,0)),"–")) -> Fokuszone | M13: =IF(C13="","",IF(OR(F13="",G13="",I13=""),"unvollständig",IF(I13="Storniert","storniert",IF(WEEKDAY(C13,2)>5,"Wochenende",IF(COUNTIF(Stammdaten!$AD$10:$AD$30,C13)>0,"Feiertag",IF(IFERROR(INDEX(Stammdaten!$I$10:$I$49,MATCH(F13,Stammdaten!$B$10:$B$49,0)),"")="Gesperrt","Platz gesperrt",IF(AND(COUNTIF($P$6:$P$605,P13)>1,NOT(AND(COUNTIF($P$6:$P$605,P13)=2,COUNTIFS($P$6:$P$605,P13,$H$6:$H$605,"Vormittag")=1,COUNTIFS($P$6:$P$605,P13,$H$6:$H$605,"Nachmittag")=1))),"Doppelbuchung",IF(AND(COUNTIF($R$6:$R$605,R13)>1,NOT(AND(COUNTIF($R$6:$R$605,R13)=2,COUNTIFS($R$6:$R$605,R13,$H$6:$H$605,"Vormittag")=1,COUNTIFS($R$6:$R$605,R13,$H$6:$H$605,"Nachmittag")=1))),"Person doppelt","OK")))))))) -> OK | O13: =IF(OR(C13="",I13<>"Bestätigt",M13="Platz gesperrt"),0,IF(H13="Ganztägig",1,0.5)) -> 1 | P13: =IF(OR(C13="",F13="",I13="Storniert"),"",F13&"|"&C13) -> A-12|46293 | Q13: =IF(P13="","",P13&"|"&COUNTIF(P$6:P13,P13)) -> A-12|46293|1 | R13: =IF(OR(C13="",G13="",I13="Storniert"),"",G13&"|"&C13) -> Mara Winter|46293 | S13: =IF(R13="","",R13&"|"&COUNTIF(R$6:R13,R13)) -> Mara Winter|46293|1 | T13: =IF(G13="","",IFERROR(INDEX(Stammdaten!$O$10:$O$69,MATCH(G13,Stammdaten!$N$10:$N$69,0)),G13)&IF(H13="Vormittag"," (VM)",IF(H13="Nachmittag"," (NM)",""))&IF(I13="Angefragt"," ?","")) -> M. Winter | U13: =IF(F13="","",F13&IF(H13="Vormittag"," (VM)",IF(H13="Nachmittag"," (NM)",""))&IF(I13="Angefragt"," ?","")) -> A-12
B14: =IF(C14="","",ROW()-5) -> 9 | C14: 46293 | D14: =IF(C14="","",CHOOSE(WEEKDAY(C14,2),"Mo","Di","Mi","Do","Fr","Sa","So")) -> Mo | E14: =IF(C14="","",_xlfn.ISOWEEKNUM(C14)) -> 40 | F14: B-01 | G14: Sarah Böhm | H14: Ganztägig | I14: Bestätigt | K14: =IF(G14="","",IFERROR(INDEX(Stammdaten!$P$10:$P$69,MATCH(G14,Stammdaten!$N$10:$N$69,0)),"–")) -> Finanzen | L14: =IF(F14="","",IFERROR(INDEX(Stammdaten!$D$10:$D$49,MATCH(F14,Stammdaten!$B$10:$B$49,0)),"–")) -> Teamzone Süd | M14: =IF(C14="","",IF(OR(F14="",G14="",I14=""),"unvollständig",IF(I14="Storniert","storniert",IF(WEEKDAY(C14,2)>5,"Wochenende",IF(COUNTIF(Stammdaten!$AD$10:$AD$30,C14)>0,"Feiertag",IF(IFERROR(INDEX(Stammdaten!$I$10:$I$49,MATCH(F14,Stammdaten!$B$10:$B$49,0)),"")="Gesperrt","Platz gesperrt",IF(AND(COUNTIF($P$6:$P$605,P14)>1,NOT(AND(COUNTIF($P$6:$P$605,P14)=2,COUNTIFS($P$6:$P$605,P14,$H$6:$H$605,"Vormittag")=1,COUNTIFS($P$6:$P$605,P14,$H$6:$H$605,"Nachmittag")=1))),"Doppelbuchung",IF(AND(COUNTIF($R$6:$R$605,R14)>1,NOT(AND(COUNTIF($R$6:$R$605,R14)=2,COUNTIFS($R$6:$R$605,R14,$H$6:$H$605,"Vormittag")=1,COUNTIFS($R$6:$R$605,R14,$H$6:$H$605,"Nachmittag")=1))),"Person doppelt","OK")))))))) -> OK | O14: =IF(OR(C14="",I14<>"Bestätigt",M14="Platz gesperrt"),0,IF(H14="Ganztägig",1,0.5)) -> 1 | P14: =IF(OR(C14="",F14="",I14="Storniert"),"",F14&"|"&C14) -> B-01|46293 | Q14: =IF(P14="","",P14&"|"&COUNTIF(P$6:P14,P14)) -> B-01|46293|1 | R14: =IF(OR(C14="",G14="",I14="Storniert"),"",G14&"|"&C14) -> Sarah Böhm|46293 | S14: =IF(R14="","",R14&"|"&COUNTIF(R$6:R14,R14)) -> Sarah Böhm|46293|1 | T14: =IF(G14="","",IFERROR(INDEX(Stammdaten!$O$10:$O$69,MATCH(G14,Stammdaten!$N$10:$N$69,0)),G14)&IF(H14="Vormittag"," (VM)",IF(H14="Nachmittag"," (NM)",""))&IF(I14="Angefragt"," ?","")) -> S. Böhm | U14: =IF(F14="","",F14&IF(H14="Vormittag"," (VM)",IF(H14="Nachmittag"," (NM)",""))&IF(I14="Angefragt"," ?","")) -> B-01
B15: =IF(C15="","",ROW()-5) -> 10 | C15: 46293 | D15: =IF(C15="","",CHOOSE(WEEKDAY(C15,2),"Mo","Di","Mi","Do","Fr","Sa","So")) -> Mo | E15: =IF(C15="","",_xlfn.ISOWEEKNUM(C15)) -> 40 | F15: B-02 | G15: Hanna Roth | H15: Ganztägig | I15: Bestätigt | K15: =IF(G15="","",IFERROR(INDEX(Stammdaten!$P$10:$P$69,MATCH(G15,Stammdaten!$N$10:$N$69,0)),"–")) -> Finanzen | L15: =IF(F15="","",IFERROR(INDEX(Stammdaten!$D$10:$D$49,MATCH(F15,Stammdaten!$B$10:$B$49,0)),"–")) -> Teamzone Süd | M15: =IF(C15="","",IF(OR(F15="",G15="",I15=""),"unvollständig",IF(I15="Storniert","storniert",IF(WEEKDAY(C15,2)>5,"Wochenende",IF(COUNTIF(Stammdaten!$AD$10:$AD$30,C15)>0,"Feiertag",IF(IFERROR(INDEX(Stammdaten!$I$10:$I$49,MATCH(F15,Stammdaten!$B$10:$B$49,0)),"")="Gesperrt","Platz gesperrt",IF(AND(COUNTIF($P$6:$P$605,P15)>1,NOT(AND(COUNTIF($P$6:$P$605,P15)=2,COUNTIFS($P$6:$P$605,P15,$H$6:$H$605,"Vormittag")=1,COUNTIFS($P$6:$P$605,P15,$H$6:$H$605,"Nachmittag")=1))),"Doppelbuchung",IF(AND(COUNTIF($R$6:$R$605,R15)>1,NOT(AND(COUNTIF($R$6:$R$605,R15)=2,COUNTIFS($R$6:$R$605,R15,$H$6:$H$605,"Vormittag")=1,COUNTIFS($R$6:$R$605,R15,$H$6:$H$605,"Nachmittag")=1))),"Person doppelt","OK")))))))) -> OK | O15: =IF(OR(C15="",I15<>"Bestätigt",M15="Platz gesperrt"),0,IF(H15="Ganztägig",1,0.5)) -> 1 | P15: =IF(OR(C15="",F15="",I15="Storniert"),"",F15&"|"&C15) -> B-02|46293 | Q15: =IF(P15="","",P15&"|"&COUNTIF(P$6:P15,P15)) -> B-02|46293|1 | R15: =IF(OR(C15="",G15="",I15="Storniert"),"",G15&"|"&C15) -> Hanna Roth|46293 | S15: =IF(R15="","",R15&"|"&COUNTIF(R$6:R15,R15)) -> Hanna Roth|46293|1 | T15: =IF(G15="","",IFERROR(INDEX(Stammdaten!$O$10:$O$69,MATCH(G15,Stammdaten!$N$10:$N$69,0)),G15)&IF(H15="Vormittag"," (VM)",IF(H15="Nachmittag"," (NM)",""))&IF(I15="Angefragt"," ?","")) -> H. Roth | U15: =IF(F15="","",F15&IF(H15="Vormittag"," (VM)",IF(H15="Nachmittag"," (NM)",""))&IF(I15="Angefragt"," ?","")) -> B-02
B16: =IF(C16="","",ROW()-5) -> 11 | C16: 46293 | D16: =IF(C16="","",CHOOSE(WEEKDAY(C16,2),"Mo","Di","Mi","Do","Fr","Sa","So")) -> Mo | E16: =IF(C16="","",_xlfn.ISOWEEKNUM(C16)) -> 40 | F16: B-06 | G16: Moritz Keller | H16: Ganztägig | I16: Bestätigt | K16: =IF(G16="","",IFERROR(INDEX(Stammdaten!$P$10:$P$69,MATCH(G16,Stammdaten!$N$10:$N$69,0)),"–")) -> Personal | L16: =IF(F16="","",IFERROR(INDEX(Stammdaten!$D$10:$D$49,MATCH(F16,Stammdaten!$B$10:$B$49,0)),"–")) -> Teamzone Süd | M16: =IF(C16="","",IF(OR(F16="",G16="",I16=""),"unvollständig",IF(I16="Storniert","storniert",IF(WEEKDAY(C16,2)>5,"Wochenende",IF(COUNTIF(Stammdaten!$AD$10:$AD$30,C16)>0,"Feiertag",IF(IFERROR(INDEX(Stammdaten!$I$10:$I$49,MATCH(F16,Stammdaten!$B$10:$B$49,0)),"")="Gesperrt","Platz gesperrt",IF(AND(COUNTIF($P$6:$P$605,P16)>1,NOT(AND(COUNTIF($P$6:$P$605,P16)=2,COUNTIFS($P$6:$P$605,P16,$H$6:$H$605,"Vormittag")=1,COUNTIFS($P$6:$P$605,P16,$H$6:$H$605,"Nachmittag")=1))),"Doppelbuchung",IF(AND(COUNTIF($R$6:$R$605,R16)>1,NOT(AND(COUNTIF($R$6:$R$605,R16)=2,COUNTIFS($R$6:$R$605,R16,$H$6:$H$605,"Vormittag")=1,COUNTIFS($R$6:$R$605,R16,$H$6:$H$605,"Nachmittag")=1))),"Person doppelt","OK")))))))) -> OK | O16: =IF(OR(C16="",I16<>"Bestätigt",M16="Platz gesperrt"),0,IF(H16="Ganztägig",1,0.5)) -> 1 | P16: =IF(OR(C16="",F16="",I16="Storniert"),"",F16&"|"&C16) -> B-06|46293 | Q16: =IF(P16="","",P16&"|"&COUNTIF(P$6:P16,P16)) -> B-06|46293|1 | R16: =IF(OR(C16="",G16="",I16="Storniert"),"",G16&"|"&C16) -> Moritz Keller|46293 | S16: =IF(R16="","",R16&"|"&COUNTIF(R$6:R16,R16)) -> Moritz Keller|46293|1 | T16: =IF(G16="","",IFERROR(INDEX(Stammdaten!$O$10:$O$69,MATCH(G16,Stammdaten!$N$10:$N$69,0)),G16)&IF(H16="Vormittag"," (VM)",IF(H16="Nachmittag"," (NM)",""))&IF(I16="Angefragt"," ?","")) -> M. Keller | U16: =IF(F16="","",F16&IF(H16="Vormittag"," (VM)",IF(H16="Nachmittag"," (NM)",""))&IF(I16="Angefragt"," ?","")) -> B-06
B17: =IF(C17="","",ROW()-5) -> 12 | C17: 46293 | D17: =IF(C17="","",CHOOSE(WEEKDAY(C17,2),"Mo","Di","Mi","Do","Fr","Sa","So")) -> Mo | E17: =IF(C17="","",_xlfn.ISOWEEKNUM(C17)) -> 40 | F17: B-08 | G17: Erik Neumann | H17: Ganztägig | I17: Bestätigt | K17: =IF(G17="","",IFERROR(INDEX(Stammdaten!$P$10:$P$69,MATCH(G17,Stammdaten!$N$10:$N$69,0)),"–")) -> Finanzen | L17: =IF(F17="","",IFERROR(INDEX(Stammdaten!$D$10:$D$49,MATCH(F17,Stammdaten!$B$10:$B$49,0)),"–")) -> Teamzone Süd | M17: =IF(C17="","",IF(OR(F17="",G17="",I17=""),"unvollständig",IF(I17="Storniert","storniert",IF(WEEKDAY(C17,2)>5,"Wochenende",IF(COUNTIF(Stammdaten!$AD$10:$AD$30,C17)>0,"Feiertag",IF(IFERROR(INDEX(Stammdaten!$I$10:$I$49,MATCH(F17,Stammdaten!$B$10:$B$49,0)),"")="Gesperrt","Platz gesperrt",IF(AND(COUNTIF($P$6:$P$605,P17)>1,NOT(AND(COUNTIF($P$6:$P$605,P17)=2,COUNTIFS($P$6:$P$605,P17,$H$6:$H$605,"Vormittag")=1,COUNTIFS($P$6:$P$605,P17,$H$6:$H$605,"Nachmittag")=1))),"Doppelbuchung",IF(AND(COUNTIF($R$6:$R$605,R17)>1,NOT(AND(COUNTIF($R$6:$R$605,R17)=2,COUNTIFS($R$6:$R$605,R17,$H$6:$H$605,"Vormittag")=1,COUNTIFS($R$6:$R$605,R17,$H$6:$H$605,"Nachmittag")=1))),"Person doppelt","OK")))))))) -> OK | O17: =IF(OR(C17="",I17<>"Bestätigt",M17="Platz gesperrt"),0,IF(H17="Ganztägig",1,0.5)) -> 1 | P17: =IF(OR(C17="",F17="",I17="Storniert"),"",F17&"|"&C17) -> B-08|46293 | Q17: =IF(P17="","",P17&"|"&COUNTIF(P$6:P17,P17)) -> B-08|46293|1 | R17: =IF(OR(C17="",G17="",I17="Storniert"),"",G17&"|"&C17) -> Erik Neumann|46293 | S17: =IF(R17="","",R17&"|"&COUNTIF(R$6:R17,R17)) -> Erik Neumann|46293|1 | T17: =IF(G17="","",IFERROR(INDEX(Stammdaten!$O$10:$O$69,MATCH(G17,Stammdaten!$N$10:$N$69,0)),G17)&IF(H17="Vormittag"," (VM)",IF(H17="Nachmittag"," (NM)",""))&IF(I17="Angefragt"," ?","")) -> E. Neumann | U17: =IF(F17="","",F17&IF(H17="Vormittag"," (VM)",IF(H17="Nachmittag"," (NM)",""))&IF(I17="Angefragt"," ?","")) -> B-08
... B36: =IF(C36="","",ROW()-5) -> 31 | C36: 46294 | D36: =IF(C36="","",CHOOSE(WEEKDAY(C36,2),"Mo","Di","Mi","Do","Fr","Sa","So")) -> Di | E36: =IF(C36="","",_xlfn.ISOWEEKNUM(C36)) -> 40 | F36: B-05 | G36: Niklas Wolf | H36: Ganztägig | I36: Bestätigt | K36: =IF(G36="","",IFERROR(INDEX(Stammdaten!$P$10:$P$69,MATCH(G36,Stammdaten!$N$10:$N$69,0)),"–")) -> Personal | L36: =IF(F36="","",IFERROR(INDEX(Stammdaten!$D$10:$D$49,MATCH(F36,Stammdaten!$B$10:$B$49,0)),"–")) -> Teamzone Süd | M36: =IF(C36="","",IF(OR(F36="",G36="",I36=""),"unvollständig",IF(I36="Storniert","storniert",IF(WEEKDAY(C36,2)>5,"Wochenende",IF(COUNTIF(Stammdaten!$AD$10:$AD$30,C36)>0,"Feiertag",IF(IFERROR(INDEX(Stammdaten!$I$10:$I$49,MATCH(F36,Stammdaten!$B$10:$B$49,0)),"")="Gesperrt","Platz gesperrt",IF(AND(COUNTIF($P$6:$P$605,P36)>1,NOT(AND(COUNTIF($P$6:$P$605,P36)=2,COUNTIFS($P$6:$P$605,P36,$H$6:$H$605,"Vormittag")=1,COUNTIFS($P$6:$P$605,P36,$H$6:$H$605,"Nachmittag")=1))),"Doppelbuchung",IF(AND(COUNTIF($R$6:$R$605,R36)>1,NOT(AND(COUNTIF($R$6:$R$605,R36)=2,COUNTIFS($R$6:$R$605,R36,$H$6:$H$605,"Vormittag")=1,COUNTIFS($R$6:$R$605,R36,$H$6:$H$605,"Nachmittag")=1))),"Person doppelt","OK")))))))) -> OK | O36: =IF(OR(C36="",I36<>"Bestätigt",M36="Platz gesperrt"),0,IF(H36="Ganztägig",1,0.5)) -> 1 | P36: =IF(OR(C36="",F36="",I36="Storniert"),"",F36&"|"&C36) -> B-05|46294 | Q36: =IF(P36="","",P36&"|"&COUNTIF(P$6:P36,P36)) -> B-05|46294|1 | R36: =IF(OR(C36="",G36="",I36="Storniert"),"",G36&"|"&C36) -> Niklas Wolf|46294 | S36: =IF(R36="","",R36&"|"&COUNTIF(R$6:R36,R36)) -> Niklas Wolf|46294|1 | T36: =IF(G36="","",IFERROR(INDEX(Stammdaten!$O$10:$O$69,MATCH(G36,Stammdaten!$N$10:$N$69,0)),G36)&IF(H36="Vormittag"," (VM)",IF(H36="Nachmittag"," (NM)",""))&IF(I36="Angefragt"," ?","")) -> N. Wolf | U36: =IF(F36="","",F36&IF(H36="Vormittag"," (VM)",IF(H36="Nachmittag"," (NM)",""))&IF(I36="Angefragt"," ?","")) -> B-05
B37: =IF(C37="","",ROW()-5) -> 32 | C37: 46294 | D37: =IF(C37="","",CHOOSE(WEEKDAY(C37,2),"Mo","Di","Mi","Do","Fr","Sa","So")) -> Di | E37: =IF(C37="","",_xlfn.ISOWEEKNUM(C37)) -> 40 | F37: B-06 | G37: Moritz Keller | H37: Ganztägig | I37: Bestätigt | J37: Abstimmung Projektteam | K37: =IF(G37="","",IFERROR(INDEX(Stammdaten!$P$10:$P$69,MATCH(G37,Stammdaten!$N$10:$N$69,0)),"–")) -> Personal | L37: =IF(F37="","",IFERROR(INDEX(Stammdaten!$D$10:$D$49,MATCH(F37,Stammdaten!$B$10:$B$49,0)),"–")) -> Teamzone Süd | M37: =IF(C37="","",IF(OR(F37="",G37="",I37=""),"unvollständig",IF(I37="Storniert","storniert",IF(WEEKDAY(C37,2)>5,"Wochenende",IF(COUNTIF(Stammdaten!$AD$10:$AD$30,C37)>0,"Feiertag",IF(IFERROR(INDEX(Stammdaten!$I$10:$I$49,MATCH(F37,Stammdaten!$B$10:$B$49,0)),"")="Gesperrt","Platz gesperrt",IF(AND(COUNTIF($P$6:$P$605,P37)>1,NOT(AND(COUNTIF($P$6:$P$605,P37)=2,COUNTIFS($P$6:$P$605,P37,$H$6:$H$605,"Vormittag")=1,COUNTIFS($P$6:$P$605,P37,$H$6:$H$605,"Nachmittag")=1))),"Doppelbuchung",IF(AND(COUNTIF($R$6:$R$605,R37)>1,NOT(AND(COUNTIF($R$6:$R$605,R37)=2,COUNTIFS($R$6:$R$605,R37,$H$6:$H$605,"Vormittag")=1,COUNTIFS($R$6:$R$605,R37,$H$6:$H$605,"Nachmittag")=1))),"Person doppelt","OK")))))))) -> OK | O37: =IF(OR(C37="",I37<>"Bestätigt",M37="Platz gesperrt"),0,IF(H37="Ganztägig",1,0.5)) -> 1 | P37: =IF(OR(C37="",F37="",I37="Storniert"),"",F37&"|"&C37) -> B-06|46294 | Q37: =IF(P37="","",P37&"|"&COUNTIF(P$6:P37,P37)) -> B-06|46294|1 | R37: =IF(OR(C37="",G37="",I37="Storniert"),"",G37&"|"&C37) -> Moritz Keller|46294 | S37: =IF(R37="","",R37&"|"&COUNTIF(R$6:R37,R37)) -> Moritz Keller|46294|1 | T37: =IF(G37="","",IFERROR(INDEX(Stammdaten!$O$10:$O$69,MATCH(G37,Stammdaten!$N$10:$N$69,0)),G37)&IF(H37="Vormittag"," (VM)",IF(H37="Nachmittag"," (NM)",""))&IF(I37="Angefragt"," ?","")) -> M. Keller | U37: =IF(F37="","",F37&IF(H37="Vormittag"," (VM)",IF(H37="Nachmittag"," (NM)",""))&IF(I37="Angefragt"," ?","")) -> B-06
B38: =IF(C38="","",ROW()-5) -> 33 | C38: 46294 | D38: =IF(C38="","",CHOOSE(WEEKDAY(C38,2),"Mo","Di","Mi","Do","Fr","Sa","So")) -> Di | E38: =IF(C38="","",_xlfn.ISOWEEKNUM(C38)) -> 40 | F38: B-08 | G38: Erik Neumann | H38: Ganztägig | I38: Bestätigt | K38: =IF(G38="","",IFERROR(INDEX(Stammdaten!$P$10:$P$69,MATCH(G38,Stammdaten!$N$10:$N$69,0)),"–")) -> Finanzen | L38: =IF(F38="","",IFERROR(INDEX(Stammdaten!$D$10:$D$49,MATCH(F38,Stammdaten!$B$10:$B$49,0)),"–")) -> Teamzone Süd | M38: =IF(C38="","",IF(OR(F38="",G38="",I38=""),"unvollständig",IF(I38="Storniert","storniert",IF(WEEKDAY(C38,2)>5,"Wochenende",IF(COUNTIF(Stammdaten!$AD$10:$AD$30,C38)>0,"Feiertag",IF(IFERROR(INDEX(Stammdaten!$I$10:$I$49,MATCH(F38,Stammdaten!$B$10:$B$49,0)),"")="Gesperrt","Platz gesperrt",IF(AND(COUNTIF($P$6:$P$605,P38)>1,NOT(AND(COUNTIF($P$6:$P$605,P38)=2,COUNTIFS($P$6:$P$605,P38,$H$6:$H$605,"Vormittag")=1,COUNTIFS($P$6:$P$605,P38,$H$6:$H$605,"Nachmittag")=1))),"Doppelbuchung",IF(AND(COUNTIF($R$6:$R$605,R38)>1,NOT(AND(COUNTIF($R$6:$R$605,R38)=2,COUNTIFS($R$6:$R$605,R38,$H$6:$H$605,"Vormittag")=1,COUNTIFS($R$6:$R$605,R38,$H$6:$H$605,"Nachmittag")=1))),"Person doppelt","OK")))))))) -> OK | O38: =IF(OR(C38="",I38<>"Bestätigt",M38="Platz gesperrt"),0,IF(H38="Ganztägig",1,0.5)) -> 1 | P38: =IF(OR(C38="",F38="",I38="Storniert"),"",F38&"|"&C38) -> B-08|46294 | Q38: =IF(P38="","",P38&"|"&COUNTIF(P$6:P38,P38)) -> B-08|46294|1 | R38: =IF(OR(C38="",G38="",I38="Storniert"),"",G38&"|"&C38) -> Erik Neumann|46294 | S38: =IF(R38="","",R38&"|"&COUNTIF(R$6:R38,R38)) -> Erik Neumann|46294|1 | T38: =IF(G38="","",IFERROR(INDEX(Stammdaten!$O$10:$O$69,MATCH(G38,Stammdaten!$N$10:$N$69,0)),G38)&IF(H38="Vormittag"," (VM)",IF(H38="Nachmittag"," (NM)",""))&IF(I38="Angefragt"," ?","")) -> E. Neumann | U38: =IF(F38="","",F38&IF(H38="Vormittag"," (VM)",IF(H38="Nachmittag"," (NM)",""))&IF(I38="Angefragt"," ?","")) -> B-08
B39: =IF(C39="","",ROW()-5) -> 34 | C39: 46294 | D39: =IF(C39="","",CHOOSE(WEEKDAY(C39,2),"Mo","Di","Mi","Do","Fr","Sa","So")) -> Di | E39: =IF(C39="","",_xlfn.ISOWEEKNUM(C39)) -> 40 | F39: B-09 | G39: Laura Sommer | H39: Ganztägig | I39: Bestätigt | K39: =IF(G39="","",IFERROR(INDEX(Stammdaten!$P$10:$P$69,MATCH(G39,Stammdaten!$N$10:$N$69,0)),"–")) -> IT | L39: =IF(F39="","",IFERROR(INDEX(Stammdaten!$D$10:$D$49,MATCH(F39,Stammdaten!$B$10:$B$49,0)),"–")) -> Projektfläche | M39: =IF(C39="","",IF(OR(F39="",G39="",I39=""),"unvollständig",IF(I39="Storniert","storniert",IF(WEEKDAY(C39,2)>5,"Wochenende",IF(COUNTIF(Stammdaten!$AD$10:$AD$30,C39)>0,"Feiertag",IF(IFERROR(INDEX(Stammdaten!$I$10:$I$49,MATCH(F39,Stammdaten!$B$10:$B$49,0)),"")="Gesperrt","Platz gesperrt",IF(AND(COUNTIF($P$6:$P$605,P39)>1,NOT(AND(COUNTIF($P$6:$P$605,P39)=2,COUNTIFS($P$6:$P$605,P39,$H$6:$H$605,"Vormittag")=1,COUNTIFS($P$6:$P$605,P39,$H$6:$H$605,"Nachmittag")=1))),"Doppelbuchung",IF(AND(COUNTIF($R$6:$R$605,R39)>1,NOT(AND(COUNTIF($R$6:$R$605,R39)=2,COUNTIFS($R$6:$R$605,R39,$H$6:$H$605,"Vormittag")=1,COUNTIFS($R$6:$R$605,R39,$H$6:$H$605,"Nachmittag")=1))),"Person doppelt","OK")))))))) -> OK | O39: =IF(OR(C39="",I39<>"Bestätigt",M39="Platz gesperrt"),0,IF(H39="Ganztägig",1,0.5)) -> 1 | P39: =IF(OR(C39="",F39="",I39="Storniert"),"",F39&"|"&C39) -> B-09|46294 | Q39: =IF(P39="","",P39&"|"&COUNTIF(P$6:P39,P39)) -> B-09|46294|1 | R39: =IF(OR(C39="",G39="",I39="Storniert"),"",G39&"|"&C39) -> Laura Sommer|46294 | S39: =IF(R39="","",R39&"|"&COUNTIF(R$6:R39,R39)) -> Laura Sommer|46294|1 | T39: =IF(G39="","",IFERROR(INDEX(Stammdaten!$O$10:$O$69,MATCH(G39,Stammdaten!$N$10:$N$69,0)),G39)&IF(H39="Vormittag"," (VM)",IF(H39="Nachmittag"," (NM)",""))&IF(I39="Angefragt"," ?","")) -> L. Sommer | U39: =IF(F39="","",F39&IF(H39="Vormittag"," (VM)",IF(H39="Nachmittag"," (NM)",""))&IF(I39="Angefragt"," ?","")) -> B-09
B40: =IF(C40="","",ROW()-5) -> 35 | C40: 46294 | D40: =IF(C40="","",CHOOSE(WEEKDAY(C40,2),"Mo","Di","Mi","Do","Fr","Sa","So")) -> Di | E40: =IF(C40="","",_xlfn.ISOWEEKNUM(C40)) -> 40 | F40: B-10 | G40: Katharina Busch | H40: Ganztägig | I40: Bestätigt | K40: =IF(G40="","",IFERROR(INDEX(Stammdaten!$P$10:$P$69,MATCH(G40,Stammdaten!$N$10:$N$69,0)),"–")) -> IT | L40: =IF(F40="","",IFERROR(INDEX(Stammdaten!$D$10:$D$49,MATCH(F40,Stammdaten!$B$10:$B$49,0)),"–")) -> Projektfläche | M40: =IF(C40="","",IF(OR(F40="",G40="",I40=""),"unvollständig",IF(I40="Storniert","storniert",IF(WEEKDAY(C40,2)>5,"Wochenende",IF(COUNTIF(Stammdaten!$AD$10:$AD$30,C40)>0,"Feiertag",IF(IFERROR(INDEX(Stammdaten!$I$10:$I$49,MATCH(F40,Stammdaten!$B$10:$B$49,0)),"")="Gesperrt","Platz gesperrt",IF(AND(COUNTIF($P$6:$P$605,P40)>1,NOT(AND(COUNTIF($P$6:$P$605,P40)=2,COUNTIFS($P$6:$P$605,P40,$H$6:$H$605,"Vormittag")=1,COUNTIFS($P$6:$P$605,P40,$H$6:$H$605,"Nachmittag")=1))),"Doppelbuchung",IF(AND(COUNTIF($R$6:$R$605,R40)>1,NOT(AND(COUNTIF($R$6:$R$605,R40)=2,COUNTIFS($R$6:$R$605,R40,$H$6:$H$605,"Vormittag")=1,COUNTIFS($R$6:$R$605,R40,$H$6:$H$605,"Nachmittag")=1))),"Person doppelt","OK")))))))) -> OK | O40: =IF(OR(C40="",I40<>"Bestätigt",M40="Platz gesperrt"),0,IF(H40="Ganztägig",1,0.5)) -> 1 | P40: =IF(OR(C40="",F40="",I40="Storniert"),"",F40&"|"&C40) -> B-10|46294 | Q40: =IF(P40="","",P40&"|"&COUNTIF(P$6:P40,P40)) -> B-10|46294|1 | R40: =IF(OR(C40="",G40="",I40="Storniert"),"",G40&"|"&C40) -> Katharina Busch|46294 | S40: =IF(R40="","",R40&"|"&COUNTIF(R$6:R40,R40)) -> Katharina Busch|46294|1 | T40: =IF(G40="","",IFERROR(INDEX(Stammdaten!$O$10:$O$69,MATCH(G40,Stammdaten!$N$10:$N$69,0)),G40)&IF(H40="Vormittag"," (VM)",IF(H40="Nachmittag"," (NM)",""))&IF(I40="Angefragt"," ?","")) -> K. Busch | U40: =IF(F40="","",F40&IF(H40="Vormittag"," (VM)",IF(H40="Nachmittag"," (NM)",""))&IF(I40="Angefragt"," ?","")) -> B-10
B41: =IF(C41="","",ROW()-5) -> 36 | C41: 46294 | D41: =IF(C41="","",CHOOSE(WEEKDAY(C41,2),"Mo","Di","Mi","Do","Fr","Sa","So")) -> Di | E41: =IF(C41="","",_xlfn.ISOWEEKNUM(C41)) -> 40 | F41: B-11 | G41: Mara Winter | H41: Ganztägig | I41: Bestätigt | K41: =IF(G41="","",IFERROR(INDEX(Stammdaten!$P$10:$P$69,MATCH(G41,Stammdaten!$N$10:$N$69,0)),"–")) -> IT | L41: =IF(F41="","",IFERROR(INDEX(Stammdaten!$D$10:$D$49,MATCH(F41,Stammdaten!$B$10:$B$49,0)),"–")) -> Projektfläche | M41: =IF(C41="","",IF(OR(F41="",G41="",I41=""),"unvollständig",IF(I41="Storniert","storniert",IF(WEEKDAY(C41,2)>5,"Wochenende",IF(COUNTIF(Stammdaten!$AD$10:$AD$30,C41)>0,"Feiertag",IF(IFERROR(INDEX(Stammdaten!$I$10:$I$49,MATCH(F41,Stammdaten!$B$10:$B$49,0)),"")="Gesperrt","Platz gesperrt",IF(AND(COUNTIF($P$6:$P$605,P41)>1,NOT(AND(COUNTIF($P$6:$P$605,P41)=2,COUNTIFS($P$6:$P$605,P41,$H$6:$H$605,"Vormittag")=1,COUNTIFS($P$6:$P$605,P41,$H$6:$H$605,"Nachmittag")=1))),"Doppelbuchung",IF(AND(COUNTIF($R$6:$R$605,R41)>1,NOT(AND(COUNTIF($R$6:$R$605,R41)=2,COUNTIFS($R$6:$R$605,R41,$H$6:$H$605,"Vormittag")=1,COUNTIFS($R$6:$R$605,R41,$H$6:$H$605,"Nachmittag")=1))),"Person doppelt","OK")))))))) -> OK | O41: =IF(OR(C41="",I41<>"Bestätigt",M41="Platz gesperrt"),0,IF(H41="Ganztägig",1,0.5)) -> 1 | P41: =IF(OR(C41="",F41="",I41="Storniert"),"",F41&"|"&C41) -> B-11|46294 | Q41: =IF(P41="","",P41&"|"&COUNTIF(P$6:P41,P41)) -> B-11|46294|1 | R41: =IF(OR(C41="",G41="",I41="Storniert"),"",G41&"|"&C41) -> Mara Winter|46294 | S41: =IF(R41="","",R41&"|"&COUNTIF(R$6:R41,R41)) -> Mara Winter|46294|1 | T41: =IF(G41="","",IFERROR(INDEX(Stammdaten!$O$10:$O$69,MATCH(G41,Stammdaten!$N$10:$N$69,0)),G41)&IF(H41="Vormittag"," (VM)",IF(H41="Nachmittag"," (NM)",""))&IF(I41="Angefragt"," ?","")) -> M. Winter | U41: =IF(F41="","",F41&IF(H41="Vormittag"," (VM)",IF(H41="Nachmittag"," (NM)",""))&IF(I41="Angefragt"," ?","")) -> B-11
B42: =IF(C42="","",ROW()-5) -> 37 | C42: 46294 | D42: =IF(C42="","",CHOOSE(WEEKDAY(C42,2),"Mo","Di","Mi","Do","Fr","Sa","So")) -> Di | E42: =IF(C42="","",_xlfn.ISOWEEKNUM(C42)) -> 40 | F42: B-12 | G42: Simon Graf | H42: Ganztägig | I42: Bestätigt | K42: =IF(G42="","",IFERROR(INDEX(Stammdaten!$P$10:$P$69,MATCH(G42,Stammdaten!$N$10:$N$69,0)),"–")) -> IT | L42: =IF(F42="","",IFERROR(INDEX(Stammdaten!$D$10:$D$49,MATCH(F42,Stammdaten!$B$10:$B$49,0)),"–")) -> Projektfläche | M42: =IF(C42="","",IF(OR(F42="",G42="",I42=""),"unvollständig",IF(I42="Storniert","storniert",IF(WEEKDAY(C42,2)>5,"Wochenende",IF(COUNTIF(Stammdaten!$AD$10:$AD$30,C42)>0,"Feiertag",IF(IFERROR(INDEX(Stammdaten!$I$10:$I$49,MATCH(F42,Stammdaten!$B$10:$B$49,0)),"")="Gesperrt","Platz gesperrt",IF(AND(COUNTIF($P$6:$P$605,P42)>1,NOT(AND(COUNTIF($P$6:$P$605,P42)=2,COUNTIFS($P$6:$P$605,P42,$H$6:$H$605,"Vormittag")=1,COUNTIFS($P$6:$P$605,P42,$H$6:$H$605,"Nachmittag")=1))),"Doppelbuchung",IF(AND(COUNTIF($R$6:$R$605,R42)>1,NOT(AND(COUNTIF($R$6:$R$605,R42)=2,COUNTIFS($R$6:$R$605,R42,$H$6:$H$605,"Vormittag")=1,COUNTIFS($R$6:$R$605,R42,$H$6:$H$605,"Nachmittag")=1))),"Person doppelt","OK")))))))) -> OK | O42: =IF(OR(C42="",I42<>"Bestätigt",M42="Platz gesperrt"),0,IF(H42="Ganztägig",1,0.5)) -> 1 | P42: =IF(OR(C42="",F42="",I42="Storniert"),"",F42&"|"&C42) -> B-12|46294 | Q42: =IF(P42="","",P42&"|"&COUNTIF(P$6:P42,P42)) -> B-12|46294|1 | R42: =IF(OR(C42="",G42="",I42="Storniert"),"",G42&"|"&C42) -> Simon Graf|46294 | S42: =IF(R42="","",R42&"|"&COUNTIF(R$6:R42,R42)) -> Simon Graf|46294|1 | T42: =IF(G42="","",IFERROR(INDEX(Stammdaten!$O$10:$O$69,MATCH(G42,Stammdaten!$N$10:$N$69,0)),G42)&IF(H42="Vormittag"," (VM)",IF(H42="Nachmittag"," (NM)",""))&IF(I42="Angefragt"," ?","")) -> S. Graf | U42: =IF(F42="","",F42&IF(H42="Vormittag"," (VM)",IF(H42="Nachmittag"," (NM)",""))&IF(I42="Angefragt"," ?","")) -> B-12
B43: =IF(C43="","",ROW()-5) -> 38 | C43: 46295 | D43: =IF(C43="","",CHOOSE(WEEKDAY(C43,2),"Mo","Di","Mi","Do","Fr","Sa","So")) -> Mi | E43: =IF(C43="","",_xlfn.ISOWEEKNUM(C43)) -> 40 | F43: A-01 | G43: Marco Seidel | H43: Ganztägig | I43: Bestätigt | K43: =IF(G43="","",IFERROR(INDEX(Stammdaten!$P$10:$P$69,MATCH(G43,Stammdaten!$N$10:$N$69,0)),"–")) -> Marketing | L43: =IF(F43="","",IFERROR(INDEX(Stammdaten!$D$10:$D$49,MATCH(F43,Stammdaten!$B$10:$B$49,0)),"–")) -> Teamzone Nord | M43: =IF(C43="","",IF(OR(F43="",G43="",I43=""),"unvollständig",IF(I43="Storniert","storniert",IF(WEEKDAY(C43,2)>5,"Wochenende",IF(COUNTIF(Stammdaten!$AD$10:$AD$30,C43)>0,"Feiertag",IF(IFERROR(INDEX(Stammdaten!$I$10:$I$49,MATCH(F43,Stammdaten!$B$10:$B$49,0)),"")="Gesperrt","Platz gesperrt",IF(AND(COUNTIF($P$6:$P$605,P43)>1,NOT(AND(COUNTIF($P$6:$P$605,P43)=2,COUNTIFS($P$6:$P$605,P43,$H$6:$H$605,"Vormittag")=1,COUNTIFS($P$6:$P$605,P43,$H$6:$H$605,"Nachmittag")=1))),"Doppelbuchung",IF(AND(COUNTIF($R$6:$R$605,R43)>1,NOT(AND(COUNTIF($R$6:$R$605,R43)=2,COUNTIFS($R$6:$R$605,R43,$H$6:$H$605,"Vormittag")=1,COUNTIFS($R$6:$R$605,R43,$H$6:$H$605,"Nachmittag")=1))),"Person doppelt","OK")))))))) -> OK | O43: =IF(OR(C43="",I43<>"Bestätigt",M43="Platz gesperrt"),0,IF(H43="Ganztägig",1,0.5)) -> 1 | P43: =IF(OR(C43="",F43="",I43="Storniert"),"",F43&"|"&C43) -> A-01|46295 | Q43: =IF(P43="","",P43&"|"&COUNTIF(P$6:P43,P43)) -> A-01|46295|1 | R43: =IF(OR(C43="",G43="",I43="Storniert"),"",G43&"|"&C43) -> Marco Seidel|46295 | S43: =IF(R43="","",R43&"|"&COUNTIF(R$6:R43,R43)) -> Marco Seidel|46295|1 | T43: =IF(G43="","",IFERROR(INDEX(Stammdaten!$O$10:$O$69,MATCH(G43,Stammdaten!$N$10:$N$69,0)),G43)&IF(H43="Vormittag"," (VM)",IF(H43="Nachmittag"," (NM)",""))&IF(I43="Angefragt"," ?","")) -> M. Seidel | U43: =IF(F43="","",F43&IF(H43="Vormittag"," (VM)",IF(H43="Nachmittag"," (NM)",""))&IF(I43="Angefragt"," ?","")) -> A-01
B44: =IF(C44="","",ROW()-5) -> 39 | C44: 46295 | D44: =IF(C44="","",CHOOSE(WEEKDAY(C44,2),"Mo","Di","Mi","Do","Fr","Sa","So")) -> Mi | E44: =IF(C44="","",_xlfn.ISOWEEKNUM(C44)) -> 40 | F44: A-02 | G44: Felix Engel | H44: Ganztägig | I44: Bestätigt | K44: =IF(G44="","",IFERROR(INDEX(Stammdaten!$P$10:$P$69,MATCH(G44,Stammdaten!$N$10:$N$69,0)),"–")) -> Marketing | L44: =IF(F44="","",IFERROR(INDEX(Stammdaten!$D$10:$D$49,MATCH(F44,Stammdaten!$B$10:$B$49,0)),"–")) -> Teamzone Nord | M44: =IF(C44="","",IF(OR(F44="",G44="",I44=""),"unvollständig",IF(I44="Storniert","storniert",IF(WEEKDAY(C44,2)>5,"Wochenende",IF(COUNTIF(Stammdaten!$AD$10:$AD$30,C44)>0,"Feiertag",IF(IFERROR(INDEX(Stammdaten!$I$10:$I$49,MATCH(F44,Stammdaten!$B$10:$B$49,0)),"")="Gesperrt","Platz gesperrt",IF(AND(COUNTIF($P$6:$P$605,P44)>1,NOT(AND(COUNTIF($P$6:$P$605,P44)=2,COUNTIFS($P$6:$P$605,P44,$H$6:$H$605,"Vormittag")=1,COUNTIFS($P$6:$P$605,P44,$H$6:$H$605,"Nachmittag")=1))),"Doppelbuchung",IF(AND(COUNTIF($R$6:$R$605,R44)>1,NOT(AND(COUNTIF($R$6:$R$605,R44)=2,COUNTIFS($R$6:$R$605,R44,$H$6:$H$605,"Vormittag")=1,COUNTIFS($R$6:$R$605,R44,$H$6:$H$605,"Nachmittag")=1))),"Person doppelt","OK")))))))) -> OK | O44: =IF(OR(C44="",I44<>"Bestätigt",M44="Platz gesperrt"),0,IF(H44="Ganztägig",1,0.5)) -> 1 | P44: =IF(OR(C44="",F44="",I44="Storniert"),"",F44&"|"&C44) -> A-02|46295 | Q44: =IF(P44="","",P44&"|"&COUNTIF(P$6:P44,P44)) -> A-02|46295|1 | R44: =IF(OR(C44="",G44="",I44="Storniert"),"",G44&"|"&C44) -> Felix Engel|46295 | S44: =IF(R44="","",R44&"|"&COUNTIF(R$6:R44,R44)) -> Felix Engel|46295|1 | T44: =IF(G44="","",IFERROR(INDEX(Stammdaten!$O$10:$O$69,MATCH(G44,Stammdaten!$N$10:$N$69,0)),G44)&IF(H44="Vormittag"," (VM)",IF(H44="Nachmittag"," (NM)",""))&IF(I44="Angefragt"," ?","")) -> F. Engel | U44: =IF(F44="","",F44&IF(H44="Vormittag"," (VM)",IF(H44="Nachmittag"," (NM)",""))&IF(I44="Angefragt"," ?","")) -> A-02
B45: =IF(C45="","",ROW()-5) -> 40 | C45: 46295 | D45: =IF(C45="","",CHOOSE(WEEKDAY(C45,2),"Mo","Di","Mi","Do","Fr","Sa","So")) -> Mi | E45: =IF(C45="","",_xlfn.ISOWEEKNUM(C45)) -> 40 | F45: A-03 | G45: Paul Schreiber | H45: Ganztägig | I45: Bestätigt | K45: =IF(G45="","",IFERROR(INDEX(Stammdaten!$P$10:$P$69,MATCH(G45,Stammdaten!$N$10:$N$69,0)),"–")) -> Marketing | L45: =IF(F45="","",IFERROR(INDEX(Stammdaten!$D$10:$D$49,MATCH(F45,Stammdaten!$B$10:$B$49,0)),"–")) -> Teamzone Nord | M45: =IF(C45="","",IF(OR(F45="",G45="",I45=""),"unvollständig",IF(I45="Storniert","storniert",IF(WEEKDAY(C45,2)>5,"Wochenende",IF(COUNTIF(Stammdaten!$AD$10:$AD$30,C45)>0,"Feiertag",IF(IFERROR(INDEX(Stammdaten!$I$10:$I$49,MATCH(F45,Stammdaten!$B$10:$B$49,0)),"")="Gesperrt","Platz gesperrt",IF(AND(COUNTIF($P$6:$P$605,P45)>1,NOT(AND(COUNTIF($P$6:$P$605,P45)=2,COUNTIFS($P$6:$P$605,P45,$H$6:$H$605,"Vormittag")=1,COUNTIFS($P$6:$P$605,P45,$H$6:$H$605,"Nachmittag")=1))),"Doppelbuchung",IF(AND(COUNTIF($R$6:$R$605,R45)>1,NOT(AND(COUNTIF($R$6:$R$605,R45)=2,COUNTIFS($R$6:$R$605,R45,$H$6:$H$605,"Vormittag")=1,COUNTIFS($R$6:$R$605,R45,$H$6:$H$605,"Nachmittag")=1))),"Person doppelt","OK")))))))) -> OK | O45: =IF(OR(C45="",I45<>"Bestätigt",M45="Platz gesperrt"),0,IF(H45="Ganztägig",1,0.5)) -> 1 | P45: =IF(OR(C45="",F45="",I45="Storniert"),"",F45&"|"&C45) -> A-03|46295 | Q45: =IF(P45="","",P45&"|"&COUNTIF(P$6:P45,P45)) -> A-03|46295|1 | R45: =IF(OR(C45="",G45="",I45="Storniert"),"",G45&"|"&C45) -> Paul Schreiber|46295 | S45: =IF(R45="","",R45&"|"&COUNTIF(R$6:R45,R45)) -> Paul Schreiber|46295|1 | T45: =IF(G45="","",IFERROR(INDEX(Stammdaten!$O$10:$O$69,MATCH(G45,Stammdaten!$N$10:$N$69,0)),G45)&IF(H45="Vormittag"," (VM)",IF(H45="Nachmittag"," (NM)",""))&IF(I45="Angefragt"," ?","")) -> P. Schreiber | U45: =IF(F45="","",F45&IF(H45="Vormittag"," (VM)",IF(H45="Nachmittag"," (NM)",""))&IF(I45="Angefragt"," ?","")) -> A-03
B46: =IF(C46="","",ROW()-5) -> 41 | C46: 46295 | D46: =IF(C46="","",CHOOSE(WEEKDAY(C46,2),"Mo","Di","Mi","Do","Fr","Sa","So")) -> Mi | E46: =IF(C46="","",_xlfn.ISOWEEKNUM(C46)) -> 40 | F46: A-04 | G46: Jonas Weber | H46: Ganztägig | I46: Bestätigt | K46: =IF(G46="","",IFERROR(INDEX(Stammdaten!$P$10:$P$69,MATCH(G46,Stammdaten!$N$10:$N$69,0)),"–")) -> Vertrieb | L46: =IF(F46="","",IFERROR(INDEX(Stammdaten!$D$10:$D$49,MATCH(F46,Stammdaten!$B$10:$B$49,0)),"–")) -> Teamzone Nord | M46: =IF(C46="","",IF(OR(F46="",G46="",I46=""),"unvollständig",IF(I46="Storniert","storniert",IF(WEEKDAY(C46,2)>5,"Wochenende",IF(COUNTIF(Stammdaten!$AD$10:$AD$30,C46)>0,"Feiertag",IF(IFERROR(INDEX(Stammdaten!$I$10:$I$49,MATCH(F46,Stammdaten!$B$10:$B$49,0)),"")="Gesperrt","Platz gesperrt",IF(AND(COUNTIF($P$6:$P$605,P46)>1,NOT(AND(COUNTIF($P$6:$P$605,P46)=2,COUNTIFS($P$6:$P$605,P46,$H$6:$H$605,"Vormittag")=1,COUNTIFS($P$6:$P$605,P46,$H$6:$H$605,"Nachmittag")=1))),"Doppelbuchung",IF(AND(COUNTIF($R$6:$R$605,R46)>1,NOT(AND(COUNTIF($R$6:$R$605,R46)=2,COUNTIFS($R$6:$R$605,R46,$H$6:$H$605,"Vormittag")=1,COUNTIFS($R$6:$R$605,R46,$H$6:$H$605,"Nachmittag")=1))),"Person doppelt","OK")))))))) -> OK | O46: =IF(OR(C46="",I46<>"Bestätigt",M46="Platz gesperrt"),0,IF(H46="Ganztägig",1,0.5)) -> 1 | P46: =IF(OR(C46="",F46="",I46="Storniert"),"",F46&"|"&C46) -> A-04|46295 | Q46: =IF(P46="","",P46&"|"&COUNTIF(P$6:P46,P46)) -> A-04|46295|1 | R46: =IF(OR(C46="",G46="",I46="Storniert"),"",G46&"|"&C46) -> Jonas Weber|46295 | S46: =IF(R46="","",R46&"|"&COUNTIF(R$6:R46,R46)) -> Jonas Weber|46295|1 | T46: =IF(G46="","",IFERROR(INDEX(Stammdaten!$O$10:$O$69,MATCH(G46,Stammdaten!$N$10:$N$69,0)),G46)&IF(H46="Vormittag"," (VM)",IF(H46="Nachmittag"," (NM)",""))&IF(I46="Angefragt"," ?","")) -> J. Weber | U46: =IF(F46="","",F46&IF(H46="Vormittag"," (VM)",IF(H46="Nachmittag"," (NM)",""))&IF(I46="Angefragt"," ?","")) -> A-04
B47: =IF(C47="","",ROW()-5) -> 42 | C47: 46295 | D47: =IF(C47="","",CHOOSE(WEEKDAY(C47,2),"Mo","Di","Mi","Do","Fr","Sa","So")) -> Mi | E47: =IF(C47="","",_xlfn.ISOWEEKNUM(C47)) -> 40 | F47: A-06 | G47: Tobias Lindner | H47: Ganztägig | I47: Bestätigt | K47: =IF(G47="","",IFERROR(INDEX(Stammdaten!$P$10:$P$69,MATCH(G47,Stammdaten!$N$10:$N$69,0)),"–")) -> Vertrieb | L47: =IF(F47="","",IFERROR(INDEX(Stammdaten!$D$10:$D$49,MATCH(F47,Stammdaten!$B$10:$B$49,0)),"–")) -> Teamzone Nord | M47: =IF(C47="","",IF(OR(F47="",G47="",I47=""),"unvollständig",IF(I47="Storniert","storniert",IF(WEEKDAY(C47,2)>5,"Wochenende",IF(COUNTIF(Stammdaten!$AD$10:$AD$30,C47)>0,"Feiertag",IF(IFERROR(INDEX(Stammdaten!$I$10:$I$49,MATCH(F47,Stammdaten!$B$10:$B$49,0)),"")="Gesperrt","Platz gesperrt",IF(AND(COUNTIF($P$6:$P$605,P47)>1,NOT(AND(COUNTIF($P$6:$P$605,P47)=2,COUNTIFS($P$6:$P$605,P47,$H$6:$H$605,"Vormittag")=1,COUNTIFS($P$6:$P$605,P47,$H$6:$H$605,"Nachmittag")=1))),"Doppelbuchung",IF(AND(COUNTIF($R$6:$R$605,R47)>1,NOT(AND(COUNTIF($R$6:$R$605,R47)=2,COUNTIFS($R$6:$R$605,R47,$H$6:$H$605,"Vormittag")=1,COUNTIFS($R$6:$R$605,R47,$H$6:$H$605,"Nachmittag")=1))),"Person doppelt","OK")))))))) -> OK | O47: =IF(OR(C47="",I47<>"Bestätigt",M47="Platz gesperrt"),0,IF(H47="Ganztägig",1,0.5)) -> 1 | P47: =IF(OR(C47="",F47="",I47="Storniert"),"",F47&"|"&C47) -> A-06|46295 | Q47: =IF(P47="","",P47&"|"&COUNTIF(P$6:P47,P47)) -> A-06|46295|1 | R47: =IF(OR(C47="",G47="",I47="Storniert"),"",G47&"|"&C47) -> Tobias Lindner|46295 | S47: =IF(R47="","",R47&"|"&COUNTIF(R$6:R47,R47)) -> Tobias Lindner|46295|1 | T47: =IF(G47="","",IFERROR(INDEX(Stammdaten!$O$10:$O$69,MATCH(G47,Stammdaten!$N$10:$N$69,0)),G47)&IF(H47="Vormittag"," (VM)",IF(H47="Nachmittag"," (NM)",""))&IF(I47="Angefragt"," ?","")) -> T. Lindner | U47: =IF(F47="","",F47&IF(H47="Vormittag"," (VM)",IF(H47="Nachmittag"," (NM)",""))&IF(I47="Angefragt"," ?","")) -> A-06
B48: =IF(C48="","",ROW()-5) -> 43 | C48: 46295 | D48: =IF(C48="","",CHOOSE(WEEKDAY(C48,2),"Mo","Di","Mi","Do","Fr","Sa","So")) -> Mi | E48: =IF(C48="","",_xlfn.ISOWEEKNUM(C48)) -> 40 | F48: A-07 | G48: Sophie Brandt | H48: Ganztägig | I48: Bestätigt | J48: Workshop | K48: =IF(G48="","",IFERROR(INDEX(Stammdaten!$P$10:$P$69,MATCH(G48,Stammdaten!$N$10:$N$69,0)),"–")) -> Vertrieb | L48: =IF(F48="","",IFERROR(INDEX(Stammdaten!$D$10:$D$49,MATCH(F48,Stammdaten!$B$10:$B$49,0)),"–")) -> Teamzone Nord | M48: =IF(C48="","",IF(OR(F48="",G48="",I48=""),"unvollständig",IF(I48="Storniert","storniert",IF(WEEKDAY(C48,2)>5,"Wochenende",IF(COUNTIF(Stammdaten!$AD$10:$AD$30,C48)>0,"Feiertag",IF(IFERROR(INDEX(Stammdaten!$I$10:$I$49,MATCH(F48,Stammdaten!$B$10:$B$49,0)),"")="Gesperrt","Platz gesperrt",IF(AND(COUNTIF($P$6:$P$605,P48)>1,NOT(AND(COUNTIF($P$6:$P$605,P48)=2,COUNTIFS($P$6:$P$605,P48,$H$6:$H$605,"Vormittag")=1,COUNTIFS($P$6:$P$605,P48,$H$6:$H$605,"Nachmittag")=1))),"Doppelbuchung",IF(AND(COUNTIF($R$6:$R$605,R48)>1,NOT(AND(COUNTIF($R$6:$R$605,R48)=2,COUNTIFS($R$6:$R$605,R48,$H$6:$H$605,"Vormittag")=1,COUNTIFS($R$6:$R$605,R48,$H$6:$H$605,"Nachmittag")=1))),"Person doppelt","OK")))))))) -> OK | O48: =IF(OR(C48="",I48<>"Bestätigt",M48="Platz gesperrt"),0,IF(H48="Ganztägig",1,0.5)) -> 1 | P48: =IF(OR(C48="",F48="",I48="Storniert"),"",F48&"|"&C48) -> A-07|46295 | Q48: =IF(P48="","",P48&"|"&COUNTIF(P$6:P48,P48)) -> A-07|46295|1 | R48: =IF(OR(C48="",G48="",I48="Storniert"),"",G48&"|"&C48) -> Sophie Brandt|46295 | S48: =IF(R48="","",R48&"|"&COUNTIF(R$6:R48,R48)) -> Sophie Brandt|46295|1 | T48: =IF(G48="","",IFERROR(INDEX(Stammdaten!$O$10:$O$69,MATCH(G48,Stammdaten!$N$10:$N$69,0)),G48)&IF(H48="Vormittag"," (VM)",IF(H48="Nachmittag"," (NM)",""))&IF(I48="Angefragt"," ?","")) -> S. Brandt | U48: =IF(F48="","",F48&IF(H48="Vormittag"," (VM)",IF(H48="Nachmittag"," (NM)",""))&IF(I48="Angefragt"," ?","")) -> A-07
B49: =IF(C49="","",ROW()-5) -> 44 | C49: 46295 | D49: =IF(C49="","",CHOOSE(WEEKDAY(C49,2),"Mo","Di","Mi","Do","Fr","Sa","So")) -> Mi | E49: =IF(C49="","",_xlfn.ISOWEEKNUM(C49)) -> 40 | F49: A-08 | G49: Nina Albrecht | H49: Ganztägig | I49: Bestätigt | K49: =IF(G49="","",IFERROR(INDEX(Stammdaten!$P$10:$P$69,MATCH(G49,Stammdaten!$N$10:$N$69,0)),"–")) -> Vertrieb | L49: =IF(F49="","",IFERROR(INDEX(Stammdaten!$D$10:$D$49,MATCH(F49,Stammdaten!$B$10:$B$49,0)),"–")) -> Teamzone Nord | M49: =IF(C49="","",IF(OR(F49="",G49="",I49=""),"unvollständig",IF(I49="Storniert","storniert",IF(WEEKDAY(C49,2)>5,"Wochenende",IF(COUNTIF(Stammdaten!$AD$10:$AD$30,C49)>0,"Feiertag",IF(IFERROR(INDEX(Stammdaten!$I$10:$I$49,MATCH(F49,Stammdaten!$B$10:$B$49,0)),"")="Gesperrt","Platz gesperrt",IF(AND(COUNTIF($P$6:$P$605,P49)>1,NOT(AND(COUNTIF($P$6:$P$605,P49)=2,COUNTIFS($P$6:$P$605,P49,$H$6:$H$605,"Vormittag")=1,COUNTIFS($P$6:$P$605,P49,$H$6:$H$605,"Nachmittag")=1))),"Doppelbuchung",IF(AND(COUNTIF($R$6:$R$605,R49)>1,NOT(AND(COUNTIF($R$6:$R$605,R49)=2,COUNTIFS($R$6:$R$605,R49,$H$6:$H$605,"Vormittag")=1,COUNTIFS($R$6:$R$605,R49,$H$6:$H$605,"Nachmittag")=1))),"Person doppelt","OK")))))))) -> OK | O49: =IF(OR(C49="",I49<>"Bestätigt",M49="Platz gesperrt"),0,IF(H49="Ganztägig",1,0.5)) -> 1 | P49: =IF(OR(C49="",F49="",I49="Storniert"),"",F49&"|"&C49) -> A-08|46295 | Q49: =IF(P49="","",P49&"|"&COUNTIF(P$6:P49,P49)) -> A-08|46295|1 | R49: =IF(OR(C49="",G49="",I49="Storniert"),"",G49&"|"&C49) -> Nina Albrecht|46295 | S49: =IF(R49="","",R49&"|"&COUNTIF(R$6:R49,R49)) -> Nina Albrecht|46295|1 | T49: =IF(G49="","",IFERROR(INDEX(Stammdaten!$O$10:$O$69,MATCH(G49,Stammdaten!$N$10:$N$69,0)),G49)&IF(H49="Vormittag"," (VM)",IF(H49="Nachmittag"," (NM)",""))&IF(I49="Angefragt"," ?","")) -> N. Albrecht | U49: =IF(F49="","",F49&IF(H49="Vormittag"," (VM)",IF(H49="Nachmittag"," (NM)",""))&IF(I49="Angefragt"," ?","")) -> A-08
B50: =IF(C50="","",ROW()-5) -> 45 | C50: 46295 | D50: =IF(C50="","",CHOOSE(WEEKDAY(C50,2),"Mo","Di","Mi","Do","Fr","Sa","So")) -> Mi | E50: =IF(C50="","",_xlfn.ISOWEEKNUM(C50)) -> 40 | F50: A-09 | G50: Jan Peters | H50: Ganztägig | I50: Bestätigt | J50: Workshop | K50: =IF(G50="","",IFERROR(INDEX(Stammdaten!$P$10:$P$69,MATCH(G50,Stammdaten!$N$10:$N$69,0)),"–")) -> Projektmanagement | L50: =IF(F50="","",IFERROR(INDEX(Stammdaten!$D$10:$D$49,MATCH(F50,Stammdaten!$B$10:$B$49,0)),"–")) -> Fokuszone | M50: =IF(C50="","",IF(OR(F50="",G50="",I50=""),"unvollständig",IF(I50="Storniert","storniert",IF(WEEKDAY(C50,2)>5,"Wochenende",IF(COUNTIF(Stammdaten!$AD$10:$AD$30,C50)>0,"Feiertag",IF(IFERROR(INDEX(Stammdaten!$I$10:$I$49,MATCH(F50,Stammdaten!$B$10:$B$49,0)),"")="Gesperrt","Platz gesperrt",IF(AND(COUNTIF($P$6:$P$605,P50)>1,NOT(AND(COUNTIF($P$6:$P$605,P50)=2,COUNTIFS($P$6:$P$605,P50,$H$6:$H$605,"Vormittag")=1,COUNTIFS($P$6:$P$605,P50,$H$6:$H$605,"Nachmittag")=1))),"Doppelbuchung",IF(AND(COUNTIF($R$6:$R$605,R50)>1,NOT(AND(COUNTIF($R$6:$R$605,R50)=2,COUNTIFS($R$6:$R$605,R50,$H$6:$H$605,"Vormittag")=1,COUNTIFS($R$6:$R$605,R50,$H$6:$H$605,"Nachmittag")=1))),"Person doppelt","OK")))))))) -> OK | O50: =IF(OR(C50="",I50<>"Bestätigt",M50="Platz gesperrt"),0,IF(H50="Ganztägig",1,0.5)) -> 1 | P50: =IF(OR(C50="",F50="",I50="Storniert"),"",F50&"|"&C50) -> A-09|46295 | Q50: =IF(P50="","",P50&"|"&COUNTIF(P$6:P50,P50)) -> A-09|46295|1 | R50: =IF(OR(C50="",G50="",I50="Storniert"),"",G50&"|"&C50) -> Jan Peters|46295 | S50: =IF(R50="","",R50&"|"&COUNTIF(R$6:R50,R50)) -> Jan Peters|46295|1 | T50: =IF(G50="","",IFERROR(INDEX(Stammdaten!$O$10:$O$69,MATCH(G50,Stammdaten!$N$10:$N$69,0)),G50)&IF(H50="Vormittag"," (VM)",IF(H50="Nachmittag"," (NM)",""))&IF(I50="Angefragt"," ?","")) -> J. Peters | U50: =IF(F50="","",F50&IF(H50="Vormittag"," (VM)",IF(H50="Nachmittag"," (NM)",""))&IF(I50="Angefragt"," ?","")) -> A-09
B51: =IF(C51="","",ROW()-5) -> 46 | C51: 46295 | D51: =IF(C51="","",CHOOSE(WEEKDAY(C51,2),"Mo","Di","Mi","Do","Fr","Sa","So")) -> Mi | E51: =IF(C51="","",_xlfn.ISOWEEKNUM(C51)) -> 40 | F51: A-10 | G51: Theresa Jung | H51: Ganztägig | I51: Bestätigt | K51: =IF(G51="","",IFERROR(INDEX(Stammdaten!$P$10:$P$69,MATCH(G51,Stammdaten!$N$10:$N$69,0)),"–")) -> Projektmanagement | L51: =IF(F51="","",IFERROR(INDEX(Stammdaten!$D$10:$D$49,MATCH(F51,Stammdaten!$B$10:$B$49,0)),"–")) -> Fokuszone | M51: =IF(C51="","",IF(OR(F51="",G51="",I51=""),"unvollständig",IF(I51="Storniert","storniert",IF(WEEKDAY(C51,2)>5,"Wochenende",IF(COUNTIF(Stammdaten!$AD$10:$AD$30,C51)>0,"Feiertag",IF(IFERROR(INDEX(Stammdaten!$I$10:$I$49,MATCH(F51,Stammdaten!$B$10:$B$49,0)),"")="Gesperrt","Platz gesperrt",IF(AND(COUNTIF($P$6:$P$605,P51)>1,NOT(AND(COUNTIF($P$6:$P$605,P51)=2,COUNTIFS($P$6:$P$605,P51,$H$6:$H$605,"Vormittag")=1,COUNTIFS($P$6:$P$605,P51,$H$6:$H$605,"Nachmittag")=1))),"Doppelbuchung",IF(AND(COUNTIF($R$6:$R$605,R51)>1,NOT(AND(COUNTIF($R$6:$R$605,R51)=2,COUNTIFS($R$6:$R$605,R51,$H$6:$H$605,"Vormittag")=1,COUNTIFS($R$6:$R$605,R51,$H$6:$H$605,"Nachmittag")=1))),"Person doppelt","OK")))))))) -> OK | O51: =IF(OR(C51="",I51<>"Bestätigt",M51="Platz gesperrt"),0,IF(H51="Ganztägig",1,0.5)) -> 1 | P51: =IF(OR(C51="",F51="",I51="Storniert"),"",F51&"|"&C51) -> A-10|46295 | Q51: =IF(P51="","",P51&"|"&COUNTIF(P$6:P51,P51)) -> A-10|46295|1 | R51: =IF(OR(C51="",G51="",I51="Storniert"),"",G51&"|"&C51) -> Theresa Jung|46295 | S51: =IF(R51="","",R51&"|"&COUNTIF(R$6:R51,R51)) -> Theresa Jung|46295|1 | T51: =IF(G51="","",IFERROR(INDEX(Stammdaten!$O$10:$O$69,MATCH(G51,Stammdaten!$N$10:$N$69,0)),G51)&IF(H51="Vormittag"," (VM)",IF(H51="Nachmittag"," (NM)",""))&IF(I51="Angefragt"," ?","")) -> T. Jung | U51: =IF(F51="","",F51&IF(H51="Vormittag"," (VM)",IF(H51="Nachmittag"," (NM)",""))&IF(I51="Angefragt"," ?","")) -> A-10
B52: =IF(C52="","",ROW()-5) -> 47 | C52: 46295 | D52: =IF(C52="","",CHOOSE(WEEKDAY(C52,2),"Mo","Di","Mi","Do","Fr","Sa","So")) -> Mi | E52: =IF(C52="","",_xlfn.ISOWEEKNUM(C52)) -> 40 | F52: A-11 | G52: Isabel Marx | H52: Ganztägig | I52: Bestätigt | K52: =IF(G52="","",IFERROR(INDEX(Stammdaten!$P$10:$P$69,MATCH(G52,Stammdaten!$N$10:$N$69,0)),"–")) -> Projektmanagement | L52: =IF(F52="","",IFERROR(INDEX(Stammdaten!$D$10:$D$49,MATCH(F52,Stammdaten!$B$10:$B$49,0)),"–")) -> Fokuszone | M52: =IF(C52="","",IF(OR(F52="",G52="",I52=""),"unvollständig",IF(I52="Storniert","storniert",IF(WEEKDAY(C52,2)>5,"Wochenende",IF(COUNTIF(Stammdaten!$AD$10:$AD$30,C52)>0,"Feiertag",IF(IFERROR(INDEX(Stammdaten!$I$10:$I$49,MATCH(F52,Stammdaten!$B$10:$B$49,0)),"")="Gesperrt","Platz gesperrt",IF(AND(COUNTIF($P$6:$P$605,P52)>1,NOT(AND(COUNTIF($P$6:$P$605,P52)=2,COUNTIFS($P$6:$P$605,P52,$H$6:$H$605,"Vormittag")=1,COUNTIFS($P$6:$P$605,P52,$H$6:$H$605,"Nachmittag")=1))),"Doppelbuchung",IF(AND(COUNTIF($R$6:$R$605,R52)>1,NOT(AND(COUNTIF($R$6:$R$605,R52)=2,COUNTIFS($R$6:$R$605,R52,$H$6:$H$605,"Vormittag")=1,COUNTIFS($R$6:$R$605,R52,$H$6:$H$605,"Nachmittag")=1))),"Person doppelt","OK")))))))) -> OK | O52: =IF(OR(C52="",I52<>"Bestätigt",M52="Platz gesperrt"),0,IF(H52="Ganztägig",1,0.5)) -> 1 | P52: =IF(OR(C52="",F52="",I52="Storniert"),"",F52&"|"&C52) -> A-11|46295 | Q52: =IF(P52="","",P52&"|"&COUNTIF(P$6:P52,P52)) -> A-11|46295|1 | R52: =IF(OR(C52="",G52="",I52="Storniert"),"",G52&"|"&C52) -> Isabel Marx|46295 | S52: =IF(R52="","",R52&"|"&COUNTIF(R$6:R52,R52)) -> Isabel Marx|46295|1 | T52: =IF(G52="","",IFERROR(INDEX(Stammdaten!$O$10:$O$69,MATCH(G52,Stammdaten!$N$10:$N$69,0)),G52)&IF(H52="Vormittag"," (VM)",IF(H52="Nachmittag"," (NM)",""))&IF(I52="Angefragt"," ?","")) -> I. Marx | U52: =IF(F52="","",F52&IF(H52="Vormittag"," (VM)",IF(H52="Nachmittag"," (NM)",""))&IF(I52="Angefragt"," ?","")) -> A-11
B53: =IF(C53="","",ROW()-5) -> 48 | C53: 46295 | D53: =IF(C53="","",CHOOSE(WEEKDAY(C53,2),"Mo","Di","Mi","Do","Fr","Sa","So")) -> Mi | E53: =IF(C53="","",_xlfn.ISOWEEKNUM(C53)) -> 40 | F53: A-12 | G53: Fabian Ott | H53: Ganztägig | I53: Bestätigt | K53: =IF(G53="","",IFERROR(INDEX(Stammdaten!$P$10:$P$69,MATCH(G53,Stammdaten!$N$10:$N$69,0)),"–")) -> Projektmanagement | L53: =IF(F53="","",IFERROR(INDEX(Stammdaten!$D$10:$D$49,MATCH(F53,Stammdaten!$B$10:$B$49,0)),"–")) -> Fokuszone | M53: =IF(C53="","",IF(OR(F53="",G53="",I53=""),"unvollständig",IF(I53="Storniert","storniert",IF(WEEKDAY(C53,2)>5,"Wochenende",IF(COUNTIF(Stammdaten!$AD$10:$AD$30,C53)>0,"Feiertag",IF(IFERROR(INDEX(Stammdaten!$I$10:$I$49,MATCH(F53,Stammdaten!$B$10:$B$49,0)),"")="Gesperrt","Platz gesperrt",IF(AND(COUNTIF($P$6:$P$605,P53)>1,NOT(AND(COUNTIF($P$6:$P$605,P53)=2,COUNTIFS($P$6:$P$605,P53,$H$6:$H$605,"Vormittag")=1,COUNTIFS($P$6:$P$605,P53,$H$6:$H$605,"Nachmittag")=1))),"Doppelbuchung",IF(AND(COUNTIF($R$6:$R$605,R53)>1,NOT(AND(COUNTIF($R$6:$R$605,R53)=2,COUNTIFS($R$6:$R$605,R53,$H$6:$H$605,"Vormittag")=1,COUNTIFS($R$6:$R$605,R53,$H$6:$H$605,"Nachmittag")=1))),"Person doppelt","OK")))))))) -> OK | O53: =IF(OR(C53="",I53<>"Bestätigt",M53="Platz gesperrt"),0,IF(H53="Ganztägig",1,0.5)) -> 1 | P53: =IF(OR(C53="",F53="",I53="Storniert"),"",F53&"|"&C53) -> A-12|46295 | Q53: =IF(P53="","",P53&"|"&COUNTIF(P$6:P53,P53)) -> A-12|46295|1 | R53: =IF(OR(C53="",G53="",I53="Storniert"),"",G53&"|"&C53) -> Fabian Ott|46295 | S53: =IF(R53="","",R53&"|"&COUNTIF(R$6:R53,R53)) -> Fabian Ott|46295|1 | T53: =IF(G53="","",IFERROR(INDEX(Stammdaten!$O$10:$O$69,MATCH(G53,Stammdaten!$N$10:$N$69,0)),G53)&IF(H53="Vormittag"," (VM)",IF(H53="Nachmittag"," (NM)",""))&IF(I53="Angefragt"," ?","")) -> F. Ott | U53: =IF(F53="","",F53&IF(H53="Vormittag"," (VM)",IF(H53="Nachmittag"," (NM)",""))&IF(I53="Angefragt"," ?","")) -> A-12
B54: =IF(C54="","",ROW()-5) -> 49 | C54: 46295 | D54: =IF(C54="","",CHOOSE(WEEKDAY(C54,2),"Mo","Di","Mi","Do","Fr","Sa","So")) -> Mi | E54: =IF(C54="","",_xlfn.ISOWEEKNUM(C54)) -> 40 | F54: B-01 | G54: Sarah Böhm | H54: Ganztägig | I54: Bestätigt | K54: =IF(G54="","",IFERROR(INDEX(Stammdaten!$P$10:$P$69,MATCH(G54,Stammdaten!$N$10:$N$69,0)),"–")) -> Finanzen | L54: =IF(F54="","",IFERROR(INDEX(Stammdaten!$D$10:$D$49,MATCH(F54,Stammdaten!$B$10:$B$49,0)),"–")) -> Teamzone Süd | M54: =IF(C54="","",IF(OR(F54="",G54="",I54=""),"unvollständig",IF(I54="Storniert","storniert",IF(WEEKDAY(C54,2)>5,"Wochenende",IF(COUNTIF(Stammdaten!$AD$10:$AD$30,C54)>0,"Feiertag",IF(IFERROR(INDEX(Stammdaten!$I$10:$I$49,MATCH(F54,Stammdaten!$B$10:$B$49,0)),"")="Gesperrt","Platz gesperrt",IF(AND(COUNTIF($P$6:$P$605,P54)>1,NOT(AND(COUNTIF($P$6:$P$605,P54)=2,COUNTIFS($P$6:$P$605,P54,$H$6:$H$605,"Vormittag")=1,COUNTIFS($P$6:$P$605,P54,$H$6:$H$605,"Nachmittag")=1))),"Doppelbuchung",IF(AND(COUNTIF($R$6:$R$605,R54)>1,NOT(AND(COUNTIF($R$6:$R$605,R54)=2,COUNTIFS($R$6:$R$605,R54,$H$6:$H$605,"Vormittag")=1,COUNTIFS($R$6:$R$605,R54,$H$6:$H$605,"Nachmittag")=1))),"Person doppelt","OK")))))))) -> OK | O54: =IF(OR(C54="",I54<>"Bestätigt",M54="Platz gesperrt"),0,IF(H54="Ganztägig",1,0.5)) -> 1 | P54: =IF(OR(C54="",F54="",I54="Storniert"),"",F54&"|"&C54) -> B-01|46295 | Q54: =IF(P54="","",P54&"|"&COUNTIF(P$6:P54,P54)) -> B-01|46295|1 | R54: =IF(OR(C54="",G54="",I54="Storniert"),"",G54&"|"&C54) -> Sarah Böhm|46295 | S54: =IF(R54="","",R54&"|"&COUNTIF(R$6:R54,R54)) -> Sarah Böhm|46295|1 | T54: =IF(G54="","",IFERROR(INDEX(Stammdaten!$O$10:$O$69,MATCH(G54,Stammdaten!$N$10:$N$69,0)),G54)&IF(H54="Vormittag"," (VM)",IF(H54="Nachmittag"," (NM)",""))&IF(I54="Angefragt"," ?","")) -> S. Böhm | U54: =IF(F54="","",F54&IF(H54="Vormittag"," (VM)",IF(H54="Nachmittag"," (NM)",""))&IF(I54="Angefragt"," ?","")) -> B-01
B55: =IF(C55="","",ROW()-5) -> 50 | C55: 46295 | D55: =IF(C55="","",CHOOSE(WEEKDAY(C55,2),"Mo","Di","Mi","Do","Fr","Sa","So")) -> Mi | E55: =IF(C55="","",_xlfn.ISOWEEKNUM(C55)) -> 40 | F55: B-02 | G55: Hanna Roth | H55: Ganztägig | I55: Bestätigt | K55: =IF(G55="","",IFERROR(INDEX(Stammdaten!$P$10:$P$69,MATCH(G55,Stammdaten!$N$10:$N$69,0)),"–")) -> Finanzen | L55: =IF(F55="","",IFERROR(INDEX(Stammdaten!$D$10:$D$49,MATCH(F55,Stammdaten!$B$10:$B$49,0)),"–")) -> Teamzone Süd | M55: =IF(C55="","",IF(OR(F55="",G55="",I55=""),"unvollständig",IF(I55="Storniert","storniert",IF(WEEKDAY(C55,2)>5,"Wochenende",IF(COUNTIF(Stammdaten!$AD$10:$AD$30,C55)>0,"Feiertag",IF(IFERROR(INDEX(Stammdaten!$I$10:$I$49,MATCH(F55,Stammdaten!$B$10:$B$49,0)),"")="Gesperrt","Platz gesperrt",IF(AND(COUNTIF($P$6:$P$605,P55)>1,NOT(AND(COUNTIF($P$6:$P$605,P55)=2,COUNTIFS($P$6:$P$605,P55,$H$6:$H$605,"Vormittag")=1,COUNTIFS($P$6:$P$605,P55,$H$6:$H$605,"Nachmittag")=1))),"Doppelbuchung",IF(AND(COUNTIF($R$6:$R$605,R55)>1,NOT(AND(COUNTIF($R$6:$R$605,R55)=2,COUNTIFS($R$6:$R$605,R55,$H$6:$H$605,"Vormittag")=1,COUNTIFS($R$6:$R$605,R55,$H$6:$H$605,"Nachmittag")=1))),"Person doppelt","OK")))))))) -> OK | O55: =IF(OR(C55="",I55<>"Bestätigt",M55="Platz gesperrt"),0,IF(H55="Ganztägig",1,0.5)) -> 1 | P55: =IF(OR(C55="",F55="",I55="Storniert"),"",F55&"|"&C55) -> B-02|46295 | Q55: =IF(P55="","",P55&"|"&COUNTIF(P$6:P55,P55)) -> B-02|46295|1 | R55: =IF(OR(C55="",G55="",I55="Storniert"),"",G55&"|"&C55) -> Hanna Roth|46295 | S55: =IF(R55="","",R55&"|"&COUNTIF(R$6:R55,R55)) -> Hanna Roth|46295|1 | T55: =IF(G55="","",IFERROR(INDEX(Stammdaten!$O$10:$O$69,MATCH(G55,Stammdaten!$N$10:$N$69,0)),G55)&IF(H55="Vormittag"," (VM)",IF(H55="Nachmittag"," (NM)",""))&IF(I55="Angefragt"," ?","")) -> H. Roth | U55: =IF(F55="","",F55&IF(H55="Vormittag"," (VM)",IF(H55="Nachmittag"," (NM)",""))&IF(I55="Angefragt"," ?","")) -> B-02
B56: =IF(C56="","",ROW()-5) -> 51 | C56: 46295 | D56: =IF(C56="","",CHOOSE(WEEKDAY(C56,2),"Mo","Di","Mi","Do","Fr","Sa","So")) -> Mi | E56: =IF(C56="","",_xlfn.ISOWEEKNUM(C56)) -> 40 | F56: B-05 | G56: Julia Herrmann | H56: Ganztägig | I56: Bestätigt | K56: =IF(G56="","",IFERROR(INDEX(Stammdaten!$P$10:$P$69,MATCH(G56,Stammdaten!$N$10:$N$69,0)),"–")) -> Finanzen | L56: =IF(F56="","",IFERROR(INDEX(Stammdaten!$D$10:$D$49,MATCH(F56,Stammdaten!$B$10:$B$49,0)),"–")) -> Teamzone Süd | M56: =IF(C56="","",IF(OR(F56="",G56="",I56=""),"unvollständig",IF(I56="Storniert","storniert",IF(WEEKDAY(C56,2)>5,"Wochenende",IF(COUNTIF(Stammdaten!$AD$10:$AD$30,C56)>0,"Feiertag",IF(IFERROR(INDEX(Stammdaten!$I$10:$I$49,MATCH(F56,Stammdaten!$B$10:$B$49,0)),"")="Gesperrt","Platz gesperrt",IF(AND(COUNTIF($P$6:$P$605,P56)>1,NOT(AND(COUNTIF($P$6:$P$605,P56)=2,COUNTIFS($P$6:$P$605,P56,$H$6:$H$605,"Vormittag")=1,COUNTIFS($P$6:$P$605,P56,$H$6:$H$605,"Nachmittag")=1))),"Doppelbuchung",IF(AND(COUNTIF($R$6:$R$605,R56)>1,NOT(AND(COUNTIF($R$6:$R$605,R56)=2,COUNTIFS($R$6:$R$605,R56,$H$6:$H$605,"Vormittag")=1,COUNTIFS($R$6:$R$605,R56,$H$6:$H$605,"Nachmittag")=1))),"Person doppelt","OK")))))))) -> OK | O56: =IF(OR(C56="",I56<>"Bestätigt",M56="Platz gesperrt"),0,IF(H56="Ganztägig",1,0.5)) -> 1 | P56: =IF(OR(C56="",F56="",I56="Storniert"),"",F56&"|"&C56) -> B-05|46295 | Q56: =IF(P56="","",P56&"|"&COUNTIF(P$6:P56,P56)) -> B-05|46295|1 | R56: =IF(OR(C56="",G56="",I56="Storniert"),"",G56&"|"&C56) -> Julia Herrmann|46295 | S56: =IF(R56="","",R56&"|"&COUNTIF(R$6:R56,R56)) -> Julia Herrmann|46295|1 | T56: =IF(G56="","",IFERROR(INDEX(Stammdaten!$O$10:$O$69,MATCH(G56,Stammdaten!$N$10:$N$69,0)),G56)&IF(H56="Vormittag"," (VM)",IF(H56="Nachmittag"," (NM)",""))&IF(I56="Angefragt"," ?","")) -> J. Herrmann | U56: =IF(F56="","",F56&IF(H56="Vormittag"," (VM)",IF(H56="Nachmittag"," (NM)",""))&IF(I56="Angefragt"," ?","")) -> B-05
B57: =IF(C57="","",ROW()-5) -> 52 | C57: 46295 | D57: =IF(C57="","",CHOOSE(WEEKDAY(C57,2),"Mo","Di","Mi","Do","Fr","Sa","So")) -> Mi | E57: =IF(C57="","",_xlfn.ISOWEEKNUM(C57)) -> 40 | F57: B-06 | G57: Elif Yilmaz | H57: Ganztägig | I57: Bestätigt | K57: =IF(G57="","",IFERROR(INDEX(Stammdaten!$P$10:$P$69,MATCH(G57,Stammdaten!$N$10:$N$69,0)),"–")) -> Personal | L57: =IF(F57="","",IFERROR(INDEX(Stammdaten!$D$10:$D$49,MATCH(F57,Stammdaten!$B$10:$B$49,0)),"–")) -> Teamzone Süd | M57: =IF(C57="","",IF(OR(F57="",G57="",I57=""),"unvollständig",IF(I57="Storniert","storniert",IF(WEEKDAY(C57,2)>5,"Wochenende",IF(COUNTIF(Stammdaten!$AD$10:$AD$30,C57)>0,"Feiertag",IF(IFERROR(INDEX(Stammdaten!$I$10:$I$49,MATCH(F57,Stammdaten!$B$10:$B$49,0)),"")="Gesperrt","Platz gesperrt",IF(AND(COUNTIF($P$6:$P$605,P57)>1,NOT(AND(COUNTIF($P$6:$P$605,P57)=2,COUNTIFS($P$6:$P$605,P57,$H$6:$H$605,"Vormittag")=1,COUNTIFS($P$6:$P$605,P57,$H$6:$H$605,"Nachmittag")=1))),"Doppelbuchung",IF(AND(COUNTIF($R$6:$R$605,R57)>1,NOT(AND(COUNTIF($R$6:$R$605,R57)=2,COUNTIFS($R$6:$R$605,R57,$H$6:$H$605,"Vormittag")=1,COUNTIFS($R$6:$R$605,R57,$H$6:$H$605,"Nachmittag")=1))),"Person doppelt","OK")))))))) -> OK | O57: =IF(OR(C57="",I57<>"Bestätigt",M57="Platz gesperrt"),0,IF(H57="Ganztägig",1,0.5)) -> 1 | P57: =IF(OR(C57="",F57="",I57="Storniert"),"",F57&"|"&C57) -> B-06|46295 | Q57: =IF(P57="","",P57&"|"&COUNTIF(P$6:P57,P57)) -> B-06|46295|1 | R57: =IF(OR(C57="",G57="",I57="Storniert"),"",G57&"|"&C57) -> Elif Yilmaz|46295 | S57: =IF(R57="","",R57&"|"&COUNTIF(R$6:R57,R57)) -> Elif Yilmaz|46295|1 | T57: =IF(G57="","",IFERROR(INDEX(Stammdaten!$O$10:$O$69,MATCH(G57,Stammdaten!$N$10:$N$69,0)),G57)&IF(H57="Vormittag"," (VM)",IF(H57="Nachmittag"," (NM)",""))&IF(I57="Angefragt"," ?","")) -> E. Yilmaz | U57: =IF(F57="","",F57&IF(H57="Vormittag"," (VM)",IF(H57="Nachmittag"," (NM)",""))&IF(I57="Angefragt"," ?","")) -> B-06
B58: =IF(C58="","",ROW()-5) -> 53 | C58: 46295 | D58: =IF(C58="","",CHOOSE(WEEKDAY(C58,2),"Mo","Di","Mi","Do","Fr","Sa","So")) -> Mi | E58: =IF(C58="","",_xlfn.ISOWEEKNUM(C58)) -> 40 | F58: B-08 | G58: Leon Fuchs | H58: Ganztägig | I58: Bestätigt | K58: =IF(G58="","",IFERROR(INDEX(Stammdaten!$P$10:$P$69,MATCH(G58,Stammdaten!$N$10:$N$69,0)),"–")) -> Finanzen | L58: =IF(F58="","",IFERROR(INDEX(Stammdaten!$D$10:$D$49,MATCH(F58,Stammdaten!$B$10:$B$49,0)),"–")) -> Teamzone Süd | M58: =IF(C58="","",IF(OR(F58="",G58="",I58=""),"unvollständig",IF(I58="Storniert","storniert",IF(WEEKDAY(C58,2)>5,"Wochenende",IF(COUNTIF(Stammdaten!$AD$10:$AD$30,C58)>0,"Feiertag",IF(IFERROR(INDEX(Stammdaten!$I$10:$I$49,MATCH(F58,Stammdaten!$B$10:$B$49,0)),"")="Gesperrt","Platz gesperrt",IF(AND(COUNTIF($P$6:$P$605,P58)>1,NOT(AND(COUNTIF($P$6:$P$605,P58)=2,COUNTIFS($P$6:$P$605,P58,$H$6:$H$605,"Vormittag")=1,COUNTIFS($P$6:$P$605,P58,$H$6:$H$605,"Nachmittag")=1))),"Doppelbuchung",IF(AND(COUNTIF($R$6:$R$605,R58)>1,NOT(AND(COUNTIF($R$6:$R$605,R58)=2,COUNTIFS($R$6:$R$605,R58,$H$6:$H$605,"Vormittag")=1,COUNTIFS($R$6:$R$605,R58,$H$6:$H$605,"Nachmittag")=1))),"Person doppelt","OK")))))))) -> OK | O58: =IF(OR(C58="",I58<>"Bestätigt",M58="Platz gesperrt"),0,IF(H58="Ganztägig",1,0.5)) -> 1 | P58: =IF(OR(C58="",F58="",I58="Storniert"),"",F58&"|"&C58) -> B-08|46295 | Q58: =IF(P58="","",P58&"|"&COUNTIF(P$6:P58,P58)) -> B-08|46295|1 | R58: =IF(OR(C58="",G58="",I58="Storniert"),"",G58&"|"&C58) -> Leon Fuchs|46295 | S58: =IF(R58="","",R58&"|"&COUNTIF(R$6:R58,R58)) -> Leon Fuchs|46295|1 | T58: =IF(G58="","",IFERROR(INDEX(Stammdaten!$O$10:$O$69,MATCH(G58,Stammdaten!$N$10:$N$69,0)),G58)&IF(H58="Vormittag"," (VM)",IF(H58="Nachmittag"," (NM)",""))&IF(I58="Angefragt"," ?","")) -> L. Fuchs | U58: =IF(F58="","",F58&IF(H58="Vormittag"," (VM)",IF(H58="Nachmittag"," (NM)",""))&IF(I58="Angefragt"," ?","")) -> B-08
B59: =IF(C59="","",ROW()-5) -> 54 | C59: 46295 | D59: =IF(C59="","",CHOOSE(WEEKDAY(C59,2),"Mo","Di","Mi","Do","Fr","Sa","So")) -> Mi | E59: =IF(C59="","",_xlfn.ISOWEEKNUM(C59)) -> 40 | F59: B-09 | G59: Vanessa Kraft | H59: Ganztägig | I59: Bestätigt | K59: =IF(G59="","",IFERROR(INDEX(Stammdaten!$P$10:$P$69,MATCH(G59,Stammdaten!$N$10:$N$69,0)),"–")) -> Projektmanagement | L59: =IF(F59="","",IFERROR(INDEX(Stammdaten!$D$10:$D$49,MATCH(F59,Stammdaten!$B$10:$B$49,0)),"–")) -> Projektfläche | M59: =IF(C59="","",IF(OR(F59="",G59="",I59=""),"unvollständig",IF(I59="Storniert","storniert",IF(WEEKDAY(C59,2)>5,"Wochenende",IF(COUNTIF(Stammdaten!$AD$10:$AD$30,C59)>0,"Feiertag",IF(IFERROR(INDEX(Stammdaten!$I$10:$I$49,MATCH(F59,Stammdaten!$B$10:$B$49,0)),"")="Gesperrt","Platz gesperrt",IF(AND(COUNTIF($P$6:$P$605,P59)>1,NOT(AND(COUNTIF($P$6:$P$605,P59)=2,COUNTIFS($P$6:$P$605,P59,$H$6:$H$605,"Vormittag")=1,COUNTIFS($P$6:$P$605,P59,$H$6:$H$605,"Nachmittag")=1))),"Doppelbuchung",IF(AND(COUNTIF($R$6:$R$605,R59)>1,NOT(AND(COUNTIF($R$6:$R$605,R59)=2,COUNTIFS($R$6:$R$605,R59,$H$6:$H$605,"Vormittag")=1,COUNTIFS($R$6:$R$605,R59,$H$6:$H$605,"Nachmittag")=1))),"Person doppelt","OK")))))))) -> OK | O59: =IF(OR(C59="",I59<>"Bestätigt",M59="Platz gesperrt"),0,IF(H59="Ganztägig",1,0.5)) -> 1 | P59: =IF(OR(C59="",F59="",I59="Storniert"),"",F59&"|"&C59) -> B-09|46295 | Q59: =IF(P59="","",P59&"|"&COUNTIF(P$6:P59,P59)) -> B-09|46295|1 | R59: =IF(OR(C59="",G59="",I59="Storniert"),"",G59&"|"&C59) -> Vanessa Kraft|46295 | S59: =IF(R59="","",R59&"|"&COUNTIF(R$6:R59,R59)) -> Vanessa Kraft|46295|1 | T59: =IF(G59="","",IFERROR(INDEX(Stammdaten!$O$10:$O$69,MATCH(G59,Stammdaten!$N$10:$N$69,0)),G59)&IF(H59="Vormittag"," (VM)",IF(H59="Nachmittag"," (NM)",""))&IF(I59="Angefragt"," ?","")) -> V. Kraft | U59: =IF(F59="","",F59&IF(H59="Vormittag"," (VM)",IF(H59="Nachmittag"," (NM)",""))&IF(I59="Angefragt"," ?","")) -> B-09
B60: =IF(C60="","",ROW()-5) -> 55 | C60: 46295 | D60: =IF(C60="","",CHOOSE(WEEKDAY(C60,2),"Mo","Di","Mi","Do","Fr","Sa","So")) -> Mi | E60: =IF(C60="","",_xlfn.ISOWEEKNUM(C60)) -> 40 | F60: B-10 | G60: Philipp Haas | H60: Ganztägig | I60: Bestätigt | K60: =IF(G60="","",IFERROR(INDEX(Stammdaten!$P$10:$P$69,MATCH(G60,Stammdaten!$N$10:$N$69,0)),"–")) -> Projektmanagement | L60: =IF(F60="","",IFERROR(INDEX(Stammdaten!$D$10:$D$49,MATCH(F60,Stammdaten!$B$10:$B$49,0)),"–")) -> Projektfläche | M60: =IF(C60="","",IF(OR(F60="",G60="",I60=""),"unvollständig",IF(I60="Storniert","storniert",IF(WEEKDAY(C60,2)>5,"Wochenende",IF(COUNTIF(Stammdaten!$AD$10:$AD$30,C60)>0,"Feiertag",IF(IFERROR(INDEX(Stammdaten!$I$10:$I$49,MATCH(F60,Stammdaten!$B$10:$B$49,0)),"")="Gesperrt","Platz gesperrt",IF(AND(COUNTIF($P$6:$P$605,P60)>1,NOT(AND(COUNTIF($P$6:$P$605,P60)=2,COUNTIFS($P$6:$P$605,P60,$H$6:$H$605,"Vormittag")=1,COUNTIFS($P$6:$P$605,P60,$H$6:$H$605,"Nachmittag")=1))),"Doppelbuchung",IF(AND(COUNTIF($R$6:$R$605,R60)>1,NOT(AND(COUNTIF($R$6:$R$605,R60)=2,COUNTIFS($R$6:$R$605,R60,$H$6:$H$605,"Vormittag")=1,COUNTIFS($R$6:$R$605,R60,$H$6:$H$605,"Nachmittag")=1))),"Person doppelt","OK")))))))) -> OK | O60: =IF(OR(C60="",I60<>"Bestätigt",M60="Platz gesperrt"),0,IF(H60="Ganztägig",1,0.5)) -> 1 | P60: =IF(OR(C60="",F60="",I60="Storniert"),"",F60&"|"&C60) -> B-10|46295 | Q60: =IF(P60="","",P60&"|"&COUNTIF(P$6:P60,P60)) -> B-10|46295|1 | R60: =IF(OR(C60="",G60="",I60="Storniert"),"",G60&"|"&C60) -> Philipp Haas|46295 | S60: =IF(R60="","",R60&"|"&COUNTIF(R$6:R60,R60)) -> Philipp Haas|46295|1 | T60: =IF(G60="","",IFERROR(INDEX(Stammdaten!$O$10:$O$69,MATCH(G60,Stammdaten!$N$10:$N$69,0)),G60)&IF(H60="Vormittag"," (VM)",IF(H60="Nachmittag"," (NM)",""))&IF(I60="Angefragt"," ?","")) -> P. Haas | U60: =IF(F60="","",F60&IF(H60="Vormittag"," (VM)",IF(H60="Nachmittag"," (NM)",""))&IF(I60="Angefragt"," ?","")) -> B-10
B61: =IF(C61="","",ROW()-5) -> 56 | C61: 46295 | D61: =IF(C61="","",CHOOSE(WEEKDAY(C61,2),"Mo","Di","Mi","Do","Fr","Sa","So")) -> Mi | E61: =IF(C61="","",_xlfn.ISOWEEKNUM(C61)) -> 40 | F61: B-11 | G61: Mara Winter | H61: Vormittag | I61: Bestätigt | K61: =IF(G61="","",IFERROR(INDEX(Stammdaten!$P$10:$P$69,MATCH(G61,Stammdaten!$N$10:$N$69,0)),"–")) -> IT | L61: =IF(F61="","",IFERROR(INDEX(Stammdaten!$D$10:$D$49,MATCH(F61,Stammdaten!$B$10:$B$49,0)),"–")) -> Projektfläche | M61: =IF(C61="","",IF(OR(F61="",G61="",I61=""),"unvollständig",IF(I61="Storniert","storniert",IF(WEEKDAY(C61,2)>5,"Wochenende",IF(COUNTIF(Stammdaten!$AD$10:$AD$30,C61)>0,"Feiertag",IF(IFERROR(INDEX(Stammdaten!$I$10:$I$49,MATCH(F61,Stammdaten!$B$10:$B$49,0)),"")="Gesperrt","Platz gesperrt",IF(AND(COUNTIF($P$6:$P$605,P61)>1,NOT(AND(COUNTIF($P$6:$P$605,P61)=2,COUNTIFS($P$6:$P$605,P61,$H$6:$H$605,"Vormittag")=1,COUNTIFS($P$6:$P$605,P61,$H$6:$H$605,"Nachmittag")=1))),"Doppelbuchung",IF(AND(COUNTIF($R$6:$R$605,R61)>1,NOT(AND(COUNTIF($R$6:$R$605,R61)=2,COUNTIFS($R$6:$R$605,R61,$H$6:$H$605,"Vormittag")=1,COUNTIFS($R$6:$R$605,R61,$H$6:$H$605,"Nachmittag")=1))),"Person doppelt","OK")))))))) -> OK | O61: =IF(OR(C61="",I61<>"Bestätigt",M61="Platz gesperrt"),0,IF(H61="Ganztägig",1,0.5)) -> 0.5 | P61: =IF(OR(C61="",F61="",I61="Storniert"),"",F61&"|"&C61) -> B-11|46295 | Q61: =IF(P61="","",P61&"|"&COUNTIF(P$6:P61,P61)) -> B-11|46295|1 | R61: =IF(OR(C61="",G61="",I61="Storniert"),"",G61&"|"&C61) -> Mara Winter|46295 | S61: =IF(R61="","",R61&"|"&COUNTIF(R$6:R61,R61)) -> Mara Winter|46295|1 | T61: =IF(G61="","",IFERROR(INDEX(Stammdaten!$O$10:$O$69,MATCH(G61,Stammdaten!$N$10:$N$69,0)),G61)&IF(H61="Vormittag"," (VM)",IF(H61="Nachmittag"," (NM)",""))&IF(I61="Angefragt"," ?","")) -> M. Winter (VM) | U61: =IF(F61="","",F61&IF(H61="Vormittag"," (VM)",IF(H61="Nachmittag"," (NM)",""))&IF(I61="Angefragt"," ?","")) -> B-11 (VM)
B62: =IF(C62="","",ROW()-5) -> 57 | C62: 46295 | D62: =IF(C62="","",CHOOSE(WEEKDAY(C62,2),"Mo","Di","Mi","Do","Fr","Sa","So")) -> Mi | E62: =IF(C62="","",_xlfn.ISOWEEKNUM(C62)) -> 40 | F62: B-11 | G62: Niklas Wolf | H62: Nachmittag | I62: Bestätigt | J62: Platz ab 13 Uhr geteilt | K62: =IF(G62="","",IFERROR(INDEX(Stammdaten!$P$10:$P$69,MATCH(G62,Stammdaten!$N$10:$N$69,0)),"–")) -> Personal | L62: =IF(F62="","",IFERROR(INDEX(Stammdaten!$D$10:$D$49,MATCH(F62,Stammdaten!$B$10:$B$49,0)),"–")) -> Projektfläche | M62: =IF(C62="","",IF(OR(F62="",G62="",I62=""),"unvollständig",IF(I62="Storniert","storniert",IF(WEEKDAY(C62,2)>5,"Wochenende",IF(COUNTIF(Stammdaten!$AD$10:$AD$30,C62)>0,"Feiertag",IF(IFERROR(INDEX(Stammdaten!$I$10:$I$49,MATCH(F62,Stammdaten!$B$10:$B$49,0)),"")="Gesperrt","Platz gesperrt",IF(AND(COUNTIF($P$6:$P$605,P62)>1,NOT(AND(COUNTIF($P$6:$P$605,P62)=2,COUNTIFS($P$6:$P$605,P62,$H$6:$H$605,"Vormittag")=1,COUNTIFS($P$6:$P$605,P62,$H$6:$H$605,"Nachmittag")=1))),"Doppelbuchung",IF(AND(COUNTIF($R$6:$R$605,R62)>1,NOT(AND(COUNTIF($R$6:$R$605,R62)=2,COUNTIFS($R$6:$R$605,R62,$H$6:$H$605,"Vormittag")=1,COUNTIFS($R$6:$R$605,R62,$H$6:$H$605,"Nachmittag")=1))),"Person doppelt","OK")))))))) -> OK | O62: =IF(OR(C62="",I62<>"Bestätigt",M62="Platz gesperrt"),0,IF(H62="Ganztägig",1,0.5)) -> 0.5 | P62: =IF(OR(C62="",F62="",I62="Storniert"),"",F62&"|"&C62) -> B-11|46295 | Q62: =IF(P62="","",P62&"|"&COUNTIF(P$6:P62,P62)) -> B-11|46295|2 | R62: =IF(OR(C62="",G62="",I62="Storniert"),"",G62&"|"&C62) -> Niklas Wolf|46295 | S62: =IF(R62="","",R62&"|"&COUNTIF(R$6:R62,R62)) -> Niklas Wolf|46295|1 | T62: =IF(G62="","",IFERROR(INDEX(Stammdaten!$O$10:$O$69,MATCH(G62,Stammdaten!$N$10:$N$69,0)),G62)&IF(H62="Vormittag"," (VM)",IF(H62="Nachmittag"," (NM)",""))&IF(I62="Angefragt"," ?","")) -> N. Wolf (NM) | U62: =IF(F62="","",F62&IF(H62="Vormittag"," (VM)",IF(H62="Nachmittag"," (NM)",""))&IF(I62="Angefragt"," ?","")) -> B-11 (NM)
B63: =IF(C63="","",ROW()-5) -> 58 | C63: 46295 | D63: =IF(C63="","",CHOOSE(WEEKDAY(C63,2),"Mo","Di","Mi","Do","Fr","Sa","So")) -> Mi | E63: =IF(C63="","",_xlfn.ISOWEEKNUM(C63)) -> 40 | F63: B-12 | G63: Kevin Brandl | H63: Ganztägig | I63: Bestätigt | K63: =IF(G63="","",IFERROR(INDEX(Stammdaten!$P$10:$P$69,MATCH(G63,Stammdaten!$N$10:$N$69,0)),"–")) -> Projektmanagement | L63: =IF(F63="","",IFERROR(INDEX(Stammdaten!$D$10:$D$49,MATCH(F63,Stammdaten!$B$10:$B$49,0)),"–")) -> Projektfläche | M63: =IF(C63="","",IF(OR(F63="",G63="",I63=""),"unvollständig",IF(I63="Storniert","storniert",IF(WEEKDAY(C63,2)>5,"Wochenende",IF(COUNTIF(Stammdaten!$AD$10:$AD$30,C63)>0,"Feiertag",IF(IFERROR(INDEX(Stammdaten!$I$10:$I$49,MATCH(F63,Stammdaten!$B$10:$B$49,0)),"")="Gesperrt","Platz gesperrt",IF(AND(COUNTIF($P$6:$P$605,P63)>1,NOT(AND(COUNTIF($P$6:$P$605,P63)=2,COUNTIFS($P$6:$P$605,P63,$H$6:$H$605,"Vormittag")=1,COUNTIFS($P$6:$P$605,P63,$H$6:$H$605,"Nachmittag")=1))),"Doppelbuchung",IF(AND(COUNTIF($R$6:$R$605,R63)>1,NOT(AND(COUNTIF($R$6:$R$605,R63)=2,COUNTIFS($R$6:$R$605,R63,$H$6:$H$605,"Vormittag")=1,COUNTIFS($R$6:$R$605,R63,$H$6:$H$605,"Nachmittag")=1))),"Person doppelt","OK")))))))) -> OK | O63: =IF(OR(C63="",I63<>"Bestätigt",M63="Platz gesperrt"),0,IF(H63="Ganztägig",1,0.5)) -> 1 | P63: =IF(OR(C63="",F63="",I63="Storniert"),"",F63&"|"&C63) -> B-12|46295 | Q63: =IF(P63="","",P63&"|"&COUNTIF(P$6:P63,P63)) -> B-12|46295|1 | R63: =IF(OR(C63="",G63="",I63="Storniert"),"",G63&"|"&C63) -> Kevin Brandl|46295 | S63: =IF(R63="","",R63&"|"&COUNTIF(R$6:R63,R63)) -> Kevin Brandl|46295|1 | T63: =IF(G63="","",IFERROR(INDEX(Stammdaten!$O$10:$O$69,MATCH(G63,Stammdaten!$N$10:$N$69,0)),G63)&IF(H63="Vormittag"," (VM)",IF(H63="Nachmittag"," (NM)",""))&IF(I63="Angefragt"," ?","")) -> K. Brandl | U63: =IF(F63="","",F63&IF(H63="Vormittag"," (VM)",IF(H63="Nachmittag"," (NM)",""))&IF(I63="Angefragt"," ?","")) -> B-12
B64: =IF(C64="","",ROW()-5) -> 59 | C64: 46296 | D64: =IF(C64="","",CHOOSE(WEEKDAY(C64,2),"Mo","Di","Mi","Do","Fr","Sa","So")) -> Do | E64: =IF(C64="","",_xlfn.ISOWEEKNUM(C64)) -> 40 | F64: A-01 | G64: Jonas Weber | H64: Ganztägig | I64: Bestätigt | K64: =IF(G64="","",IFERROR(INDEX(Stammdaten!$P$10:$P$69,MATCH(G64,Stammdaten!$N$10:$N$69,0)),"–")) -> Vertrieb | L64: =IF(F64="","",IFERROR(INDEX(Stammdaten!$D$10:$D$49,MATCH(F64,Stammdaten!$B$10:$B$49,0)),"–")) -> Teamzone Nord | M64: =IF(C64="","",IF(OR(F64="",G64="",I64=""),"unvollständig",IF(I64="Storniert","storniert",IF(WEEKDAY(C64,2)>5,"Wochenende",IF(COUNTIF(Stammdaten!$AD$10:$AD$30,C64)>0,"Feiertag",IF(IFERROR(INDEX(Stammdaten!$I$10:$I$49,MATCH(F64,Stammdaten!$B$10:$B$49,0)),"")="Gesperrt","Platz gesperrt",IF(AND(COUNTIF($P$6:$P$605,P64)>1,NOT(AND(COUNTIF($P$6:$P$605,P64)=2,COUNTIFS($P$6:$P$605,P64,$H$6:$H$605,"Vormittag")=1,COUNTIFS($P$6:$P$605,P64,$H$6:$H$605,"Nachmittag")=1))),"Doppelbuchung",IF(AND(COUNTIF($R$6:$R$605,R64)>1,NOT(AND(COUNTIF($R$6:$R$605,R64)=2,COUNTIFS($R$6:$R$605,R64,$H$6:$H$605,"Vormittag")=1,COUNTIFS($R$6:$R$605,R64,$H$6:$H$605,"Nachmittag")=1))),"Person doppelt","OK")))))))) -> OK | O64: =IF(OR(C64="",I64<>"Bestätigt",M64="Platz gesperrt"),0,IF(H64="Ganztägig",1,0.5)) -> 1 | P64: =IF(OR(C64="",F64="",I64="Storniert"),"",F64&"|"&C64) -> A-01|46296 | Q64: =IF(P64="","",P64&"|"&COUNTIF(P$6:P64,P64)) -> A-01|46296|1 | R64: =IF(OR(C64="",G64="",I64="Storniert"),"",G64&"|"&C64) -> Jonas Weber|46296 | S64: =IF(R64="","",R64&"|"&COUNTIF(R$6:R64,R64)) -> Jonas Weber|46296|1 | T64: =IF(G64="","",IFERROR(INDEX(Stammdaten!$O$10:$O$69,MATCH(G64,Stammdaten!$N$10:$N$69,0)),G64)&IF(H64="Vormittag"," (VM)",IF(H64="Nachmittag"," (NM)",""))&IF(I64="Angefragt"," ?","")) -> J. Weber | U64: =IF(F64="","",F64&IF(H64="Vormittag"," (VM)",IF(H64="Nachmittag"," (NM)",""))&IF(I64="Angefragt"," ?","")) -> A-01
B65: =IF(C65="","",ROW()-5) -> 60 | C65: 46296 | D65: =IF(C65="","",CHOOSE(WEEKDAY(C65,2),"Mo","Di","Mi","Do","Fr","Sa","So")) -> Do | E65: =IF(C65="","",_xlfn.ISOWEEKNUM(C65)) -> 40 | F65: A-02 | G65: Paul Schreiber | H65: Ganztägig | I65: Bestätigt | K65: =IF(G65="","",IFERROR(INDEX(Stammdaten!$P$10:$P$69,MATCH(G65,Stammdaten!$N$10:$N$69,0)),"–")) -> Marketing | L65: =IF(F65="","",IFERROR(INDEX(Stammdaten!$D$10:$D$49,MATCH(F65,Stammdaten!$B$10:$B$49,0)),"–")) -> Teamzone Nord | M65: =IF(C65="","",IF(OR(F65="",G65="",I65=""),"unvollständig",IF(I65="Storniert","storniert",IF(WEEKDAY(C65,2)>5,"Wochenende",IF(COUNTIF(Stammdaten!$AD$10:$AD$30,C65)>0,"Feiertag",IF(IFERROR(INDEX(Stammdaten!$I$10:$I$49,MATCH(F65,Stammdaten!$B$10:$B$49,0)),"")="Gesperrt","Platz gesperrt",IF(AND(COUNTIF($P$6:$P$605,P65)>1,NOT(AND(COUNTIF($P$6:$P$605,P65)=2,COUNTIFS($P$6:$P$605,P65,$H$6:$H$605,"Vormittag")=1,COUNTIFS($P$6:$P$605,P65,$H$6:$H$605,"Nachmittag")=1))),"Doppelbuchung",IF(AND(COUNTIF($R$6:$R$605,R65)>1,NOT(AND(COUNTIF($R$6:$R$605,R65)=2,COUNTIFS($R$6:$R$605,R65,$H$6:$H$605,"Vormittag")=1,COUNTIFS($R$6:$R$605,R65,$H$6:$H$605,"Nachmittag")=1))),"Person doppelt","OK")))))))) -> OK | O65: =IF(OR(C65="",I65<>"Bestätigt",M65="Platz gesperrt"),0,IF(H65="Ganztägig",1,0.5)) -> 1 | P65: =IF(OR(C65="",F65="",I65="Storniert"),"",F65&"|"&C65) -> A-02|46296 | Q65: =IF(P65="","",P65&"|"&COUNTIF(P$6:P65,P65)) -> A-02|46296|1 | R65: =IF(OR(C65="",G65="",I65="Storniert"),"",G65&"|"&C65) -> Paul Schreiber|46296 | S65: =IF(R65="","",R65&"|"&COUNTIF(R$6:R65,R65)) -> Paul Schreiber|46296|1 | T65: =IF(G65="","",IFERROR(INDEX(Stammdaten!$O$10:$O$69,MATCH(G65,Stammdaten!$N$10:$N$69,0)),G65)&IF(H65="Vormittag"," (VM)",IF(H65="Nachmittag"," (NM)",""))&IF(I65="Angefragt"," ?","")) -> P. Schreiber | U65: =IF(F65="","",F65&IF(H65="Vormittag"," (VM)",IF(H65="Nachmittag"," (NM)",""))&IF(I65="Angefragt"," ?","")) -> A-02
B66: =IF(C66="","",ROW()-5) -> 61 | C66: 46296 | D66: =IF(C66="","",CHOOSE(WEEKDAY(C66,2),"Mo","Di","Mi","Do","Fr","Sa","So")) -> Do | E66: =IF(C66="","",_xlfn.ISOWEEKNUM(C66)) -> 40 | F66: A-03 | G66: David Kühn | H66: Ganztägig | I66: Bestätigt | K66: =IF(G66="","",IFERROR(INDEX(Stammdaten!$P$10:$P$69,MATCH(G66,Stammdaten!$N$10:$N$69,0)),"–")) -> Vertrieb | L66: =IF(F66="","",IFERROR(INDEX(Stammdaten!$D$10:$D$49,MATCH(F66,Stammdaten!$B$10:$B$49,0)),"–")) -> Teamzone Nord | M66: =IF(C66="","",IF(OR(F66="",G66="",I66=""),"unvollständig",IF(I66="Storniert","storniert",IF(WEEKDAY(C66,2)>5,"Wochenende",IF(COUNTIF(Stammdaten!$AD$10:$AD$30,C66)>0,"Feiertag",IF(IFERROR(INDEX(Stammdaten!$I$10:$I$49,MATCH(F66,Stammdaten!$B$10:$B$49,0)),"")="Gesperrt","Platz gesperrt",IF(AND(COUNTIF($P$6:$P$605,P66)>1,NOT(AND(COUNTIF($P$6:$P$605,P66)=2,COUNTIFS($P$6:$P$605,P66,$H$6:$H$605,"Vormittag")=1,COUNTIFS($P$6:$P$605,P66,$H$6:$H$605,"Nachmittag")=1))),"Doppelbuchung",IF(AND(COUNTIF($R$6:$R$605,R66)>1,NOT(AND(COUNTIF($R$6:$R$605,R66)=2,COUNTIFS($R$6:$R$605,R66,$H$6:$H$605,"Vormittag")=1,COUNTIFS($R$6:$R$605,R66,$H$6:$H$605,"Nachmittag")=1))),"Person doppelt","OK")))))))) -> OK | O66: =IF(OR(C66="",I66<>"Bestätigt",M66="Platz gesperrt"),0,IF(H66="Ganztägig",1,0.5)) -> 1 | P66: =IF(OR(C66="",F66="",I66="Storniert"),"",F66&"|"&C66) -> A-03|46296 | Q66: =IF(P66="","",P66&"|"&COUNTIF(P$6:P66,P66)) -> A-03|46296|1 | R66: =IF(OR(C66="",G66="",I66="Storniert"),"",G66&"|"&C66) -> David Kühn|46296 | S66: =IF(R66="","",R66&"|"&COUNTIF(R$6:R66,R66)) -> David Kühn|46296|1 | T66: =IF(G66="","",IFERROR(INDEX(Stammdaten!$O$10:$O$69,MATCH(G66,Stammdaten!$N$10:$N$69,0)),G66)&IF(H66="Vormittag"," (VM)",IF(H66="Nachmittag"," (NM)",""))&IF(I66="Angefragt"," ?","")) -> D. Kühn | U66: =IF(F66="","",F66&IF(H66="Vormittag"," (VM)",IF(H66="Nachmittag"," (NM)",""))&IF(I66="Angefragt"," ?","")) -> A-03
B67: =IF(C67="","",ROW()-5) -> 62 | C67: 46296 | D67: =IF(C67="","",CHOOSE(WEEKDAY(C67,2),"Mo","Di","Mi","Do","Fr","Sa","So")) -> Do | E67: =IF(C67="","",_xlfn.ISOWEEKNUM(C67)) -> 40 | F67: A-04 | G67: Tobias Lindner | H67: Ganztägig | I67: Bestätigt | K67: =IF(G67="","",IFERROR(INDEX(Stammdaten!$P$10:$P$69,MATCH(G67,Stammdaten!$N$10:$N$69,0)),"–")) -> Vertrieb | L67: =IF(F67="","",IFERROR(INDEX(Stammdaten!$D$10:$D$49,MATCH(F67,Stammdaten!$B$10:$B$49,0)),"–")) -> Teamzone Nord | M67: =IF(C67="","",IF(OR(F67="",G67="",I67=""),"unvollständig",IF(I67="Storniert","storniert",IF(WEEKDAY(C67,2)>5,"Wochenende",IF(COUNTIF(Stammdaten!$AD$10:$AD$30,C67)>0,"Feiertag",IF(IFERROR(INDEX(Stammdaten!$I$10:$I$49,MATCH(F67,Stammdaten!$B$10:$B$49,0)),"")="Gesperrt","Platz gesperrt",IF(AND(COUNTIF($P$6:$P$605,P67)>1,NOT(AND(COUNTIF($P$6:$P$605,P67)=2,COUNTIFS($P$6:$P$605,P67,$H$6:$H$605,"Vormittag")=1,COUNTIFS($P$6:$P$605,P67,$H$6:$H$605,"Nachmittag")=1))),"Doppelbuchung",IF(AND(COUNTIF($R$6:$R$605,R67)>1,NOT(AND(COUNTIF($R$6:$R$605,R67)=2,COUNTIFS($R$6:$R$605,R67,$H$6:$H$605,"Vormittag")=1,COUNTIFS($R$6:$R$605,R67,$H$6:$H$605,"Nachmittag")=1))),"Person doppelt","OK")))))))) -> OK | O67: =IF(OR(C67="",I67<>"Bestätigt",M67="Platz gesperrt"),0,IF(H67="Ganztägig",1,0.5)) -> 1 | P67: =IF(OR(C67="",F67="",I67="Storniert"),"",F67&"|"&C67) -> A-04|46296 | Q67: =IF(P67="","",P67&"|"&COUNTIF(P$6:P67,P67)) -> A-04|46296|1 | R67: =IF(OR(C67="",G67="",I67="Storniert"),"",G67&"|"&C67) -> Tobias Lindner|46296 | S67: =IF(R67="","",R67&"|"&COUNTIF(R$6:R67,R67)) -> Tobias Lindner|46296|1 | T67: =IF(G67="","",IFERROR(INDEX(Stammdaten!$O$10:$O$69,MATCH(G67,Stammdaten!$N$10:$N$69,0)),G67)&IF(H67="Vormittag"," (VM)",IF(H67="Nachmittag"," (NM)",""))&IF(I67="Angefragt"," ?","")) -> T. Lindner | U67: =IF(F67="","",F67&IF(H67="Vormittag"," (VM)",IF(H67="Nachmittag"," (NM)",""))&IF(I67="Angefragt"," ?","")) -> A-04
B68: =IF(C68="","",ROW()-5) -> 63 | C68: 46296 | D68: =IF(C68="","",CHOOSE(WEEKDAY(C68,2),"Mo","Di","Mi","Do","Fr","Sa","So")) -> Do | E68: =IF(C68="","",_xlfn.ISOWEEKNUM(C68)) -> 40 | F68: A-05 | G68: Miriam Krause | H68: Ganztägig | I68: Bestätigt | K68: =IF(G68="","",IFERROR(INDEX(Stammdaten!$P$10:$P$69,MATCH(G68,Stammdaten!$N$10:$N$69,0)),"–")) -> Vertrieb | L68: =IF(F68="","",IFERROR(INDEX(Stammdaten!$D$10:$D$49,MATCH(F68,Stammdaten!$B$10:$B$49,0)),"–")) -> Teamzone Nord | M68: =IF(C68="","",IF(OR(F68="",G68="",I68=""),"unvollständig",IF(I68="Storniert","storniert",IF(WEEKDAY(C68,2)>5,"Wochenende",IF(COUNTIF(Stammdaten!$AD$10:$AD$30,C68)>0,"Feiertag",IF(IFERROR(INDEX(Stammdaten!$I$10:$I$49,MATCH(F68,Stammdaten!$B$10:$B$49,0)),"")="Gesperrt","Platz gesperrt",IF(AND(COUNTIF($P$6:$P$605,P68)>1,NOT(AND(COUNTIF($P$6:$P$605,P68)=2,COUNTIFS($P$6:$P$605,P68,$H$6:$H$605,"Vormittag")=1,COUNTIFS($P$6:$P$605,P68,$H$6:$H$605,"Nachmittag")=1))),"Doppelbuchung",IF(AND(COUNTIF($R$6:$R$605,R68)>1,NOT(AND(COUNTIF($R$6:$R$605,R68)=2,COUNTIFS($R$6:$R$605,R68,$H$6:$H$605,"Vormittag")=1,COUNTIFS($R$6:$R$605,R68,$H$6:$H$605,"Nachmittag")=1))),"Person doppelt","OK")))))))) -> OK | O68: =IF(OR(C68="",I68<>"Bestätigt",M68="Platz gesperrt"),0,IF(H68="Ganztägig",1,0.5)) -> 1 | P68: =IF(OR(C68="",F68="",I68="Storniert"),"",F68&"|"&C68) -> A-05|46296 | Q68: =IF(P68="","",P68&"|"&COUNTIF(P$6:P68,P68)) -> A-05|46296|1 | R68: =IF(OR(C68="",G68="",I68="Storniert"),"",G68&"|"&C68) -> Miriam Krause|46296 | S68: =IF(R68="","",R68&"|"&COUNTIF(R$6:R68,R68)) -> Miriam Krause|46296|1 | T68: =IF(G68="","",IFERROR(INDEX(Stammdaten!$O$10:$O$69,MATCH(G68,Stammdaten!$N$10:$N$69,0)),G68)&IF(H68="Vormittag"," (VM)",IF(H68="Nachmittag"," (NM)",""))&IF(I68="Angefragt"," ?","")) -> M. Krause | U68: =IF(F68="","",F68&IF(H68="Vormittag"," (VM)",IF(H68="Nachmittag"," (NM)",""))&IF(I68="Angefragt"," ?","")) -> A-05
B69: =IF(C69="","",ROW()-5) -> 64 | C69: 46296 | D69: =IF(C69="","",CHOOSE(WEEKDAY(C69,2),"Mo","Di","Mi","Do","Fr","Sa","So")) -> Do | E69: =IF(C69="","",_xlfn.ISOWEEKNUM(C69)) -> 40 | F69: A-07 | G69: Clara Vogt | H69: Ganztägig | I69: Bestätigt | K69: =IF(G69="","",IFERROR(INDEX(Stammdaten!$P$10:$P$69,MATCH(G69,Stammdaten!$N$10:$N$69,0)),"–")) -> Marketing | L69: =IF(F69="","",IFERROR(INDEX(Stammdaten!$D$10:$D$49,MATCH(F69,Stammdaten!$B$10:$B$49,0)),"–")) -> Teamzone Nord | M69: =IF(C69="","",IF(OR(F69="",G69="",I69=""),"unvollständig",IF(I69="Storniert","storniert",IF(WEEKDAY(C69,2)>5,"Wochenende",IF(COUNTIF(Stammdaten!$AD$10:$AD$30,C69)>0,"Feiertag",IF(IFERROR(INDEX(Stammdaten!$I$10:$I$49,MATCH(F69,Stammdaten!$B$10:$B$49,0)),"")="Gesperrt","Platz gesperrt",IF(AND(COUNTIF($P$6:$P$605,P69)>1,NOT(AND(COUNTIF($P$6:$P$605,P69)=2,COUNTIFS($P$6:$P$605,P69,$H$6:$H$605,"Vormittag")=1,COUNTIFS($P$6:$P$605,P69,$H$6:$H$605,"Nachmittag")=1))),"Doppelbuchung",IF(AND(COUNTIF($R$6:$R$605,R69)>1,NOT(AND(COUNTIF($R$6:$R$605,R69)=2,COUNTIFS($R$6:$R$605,R69,$H$6:$H$605,"Vormittag")=1,COUNTIFS($R$6:$R$605,R69,$H$6:$H$605,"Nachmittag")=1))),"Person doppelt","OK")))))))) -> OK | O69: =IF(OR(C69="",I69<>"Bestätigt",M69="Platz gesperrt"),0,IF(H69="Ganztägig",1,0.5)) -> 1 | P69: =IF(OR(C69="",F69="",I69="Storniert"),"",F69&"|"&C69) -> A-07|46296 | Q69: =IF(P69="","",P69&"|"&COUNTIF(P$6:P69,P69)) -> A-07|46296|1 | R69: =IF(OR(C69="",G69="",I69="Storniert"),"",G69&"|"&C69) -> Clara Vogt|46296 | S69: =IF(R69="","",R69&"|"&COUNTIF(R$6:R69,R69)) -> Clara Vogt|46296|1 | T69: =IF(G69="","",IFERROR(INDEX(Stammdaten!$O$10:$O$69,MATCH(G69,Stammdaten!$N$10:$N$69,0)),G69)&IF(H69="Vormittag"," (VM)",IF(H69="Nachmittag"," (NM)",""))&IF(I69="Angefragt"," ?","")) -> C. Vogt | U69: =IF(F69="","",F69&IF(H69="Vormittag"," (VM)",IF(H69="Nachmittag"," (NM)",""))&IF(I69="Angefragt"," ?","")) -> A-07
B70: =IF(C70="","",ROW()-5) -> 65 | C70: 46296 | D70: =IF(C70="","",CHOOSE(WEEKDAY(C70,2),"Mo","Di","Mi","Do","Fr","Sa","So")) -> Do | E70: =IF(C70="","",_xlfn.ISOWEEKNUM(C70)) -> 40 | F70: A-10 | G70: Isabel Marx | H70: Ganztägig | I70: Bestätigt | K70: =IF(G70="","",IFERROR(INDEX(Stammdaten!$P$10:$P$69,MATCH(G70,Stammdaten!$N$10:$N$69,0)),"–")) -> Projektmanagement | L70: =IF(F70="","",IFERROR(INDEX(Stammdaten!$D$10:$D$49,MATCH(F70,Stammdaten!$B$10:$B$49,0)),"–")) -> Fokuszone | M70: =IF(C70="","",IF(OR(F70="",G70="",I70=""),"unvollständig",IF(I70="Storniert","storniert",IF(WEEKDAY(C70,2)>5,"Wochenende",IF(COUNTIF(Stammdaten!$AD$10:$AD$30,C70)>0,"Feiertag",IF(IFERROR(INDEX(Stammdaten!$I$10:$I$49,MATCH(F70,Stammdaten!$B$10:$B$49,0)),"")="Gesperrt","Platz gesperrt",IF(AND(COUNTIF($P$6:$P$605,P70)>1,NOT(AND(COUNTIF($P$6:$P$605,P70)=2,COUNTIFS($P$6:$P$605,P70,$H$6:$H$605,"Vormittag")=1,COUNTIFS($P$6:$P$605,P70,$H$6:$H$605,"Nachmittag")=1))),"Doppelbuchung",IF(AND(COUNTIF($R$6:$R$605,R70)>1,NOT(AND(COUNTIF($R$6:$R$605,R70)=2,COUNTIFS($R$6:$R$605,R70,$H$6:$H$605,"Vormittag")=1,COUNTIFS($R$6:$R$605,R70,$H$6:$H$605,"Nachmittag")=1))),"Person doppelt","OK")))))))) -> OK | O70: =IF(OR(C70="",I70<>"Bestätigt",M70="Platz gesperrt"),0,IF(H70="Ganztägig",1,0.5)) -> 1 | P70: =IF(OR(C70="",F70="",I70="Storniert"),"",F70&"|"&C70) -> A-10|46296 | Q70: =IF(P70="","",P70&"|"&COUNTIF(P$6:P70,P70)) -> A-10|46296|1 | R70: =IF(OR(C70="",G70="",I70="Storniert"),"",G70&"|"&C70) -> Isabel Marx|46296 | S70: =IF(R70="","",R70&"|"&COUNTIF(R$6:R70,R70)) -> Isabel Marx|46296|1 | T70: =IF(G70="","",IFERROR(INDEX(Stammdaten!$O$10:$O$69,MATCH(G70,Stammdaten!$N$10:$N$69,0)),G70)&IF(H70="Vormittag"," (VM)",IF(H70="Nachmittag"," (NM)",""))&IF(I70="Angefragt"," ?","")) -> I. Marx | U70: =IF(F70="","",F70&IF(H70="Vormittag"," (VM)",IF(H70="Nachmittag"," (NM)",""))&IF(I70="Angefragt"," ?","")) -> A-10
B71: =IF(C71="","",ROW()-5) -> 66 | C71: 46296 | D71: =IF(C71="","",CHOOSE(WEEKDAY(C71,2),"Mo","Di","Mi","Do","Fr","Sa","So")) -> Do | E71: =IF(C71="","",_xlfn.ISOWEEKNUM(C71)) -> 40 | F71: A-11 | G71: Theresa Jung | H71: Ganztägig | I71: Bestätigt | K71: =IF(G71="","",IFERROR(INDEX(Stammdaten!$P$10:$P$69,MATCH(G71,Stammdaten!$N$10:$N$69,0)),"–")) -> Projektmanagement | L71: =IF(F71="","",IFERROR(INDEX(Stammdaten!$D$10:$D$49,MATCH(F71,Stammdaten!$B$10:$B$49,0)),"–")) -> Fokuszone | M71: =IF(C71="","",IF(OR(F71="",G71="",I71=""),"unvollständig",IF(I71="Storniert","storniert",IF(WEEKDAY(C71,2)>5,"Wochenende",IF(COUNTIF(Stammdaten!$AD$10:$AD$30,C71)>0,"Feiertag",IF(IFERROR(INDEX(Stammdaten!$I$10:$I$49,MATCH(F71,Stammdaten!$B$10:$B$49,0)),"")="Gesperrt","Platz gesperrt",IF(AND(COUNTIF($P$6:$P$605,P71)>1,NOT(AND(COUNTIF($P$6:$P$605,P71)=2,COUNTIFS($P$6:$P$605,P71,$H$6:$H$605,"Vormittag")=1,COUNTIFS($P$6:$P$605,P71,$H$6:$H$605,"Nachmittag")=1))),"Doppelbuchung",IF(AND(COUNTIF($R$6:$R$605,R71)>1,NOT(AND(COUNTIF($R$6:$R$605,R71)=2,COUNTIFS($R$6:$R$605,R71,$H$6:$H$605,"Vormittag")=1,COUNTIFS($R$6:$R$605,R71,$H$6:$H$605,"Nachmittag")=1))),"Person doppelt","OK")))))))) -> OK | O71: =IF(OR(C71="",I71<>"Bestätigt",M71="Platz gesperrt"),0,IF(H71="Ganztägig",1,0.5)) -> 1 | P71: =IF(OR(C71="",F71="",I71="Storniert"),"",F71&"|"&C71) -> A-11|46296 | Q71: =IF(P71="","",P71&"|"&COUNTIF(P$6:P71,P71)) -> A-11|46296|1 | R71: =IF(OR(C71="",G71="",I71="Storniert"),"",G71&"|"&C71) -> Theresa Jung|46296 | S71: =IF(R71="","",R71&"|"&COUNTIF(R$6:R71,R71)) -> Theresa Jung|46296|1 | T71: =IF(G71="","",IFERROR(INDEX(Stammdaten!$O$10:$O$69,MATCH(G71,Stammdaten!$N$10:$N$69,0)),G71)&IF(H71="Vormittag"," (VM)",IF(H71="Nachmittag"," (NM)",""))&IF(I71="Angefragt"," ?","")) -> T. Jung | U71: =IF(F71="","",F71&IF(H71="Vormittag"," (VM)",IF(H71="Nachmittag"," (NM)",""))&IF(I71="Angefragt"," ?","")) -> A-11
B72: =IF(C72="","",ROW()-5) -> 67 | C72: 46296 | D72: =IF(C72="","",CHOOSE(WEEKDAY(C72,2),"Mo","Di","Mi","Do","Fr","Sa","So")) -> Do | E72: =IF(C72="","",_xlfn.ISOWEEKNUM(C72)) -> 40 | F72: A-12 | G72: Daniel Ritter | H72: Ganztägig | I72: Storniert | J72: Dienstreise | K72: =IF(G72="","",IFERROR(INDEX(Stammdaten!$P$10:$P$69,MATCH(G72,Stammdaten!$N$10:$N$69,0)),"–")) -> IT | L72: =IF(F72="","",IFERROR(INDEX(Stammdaten!$D$10:$D$49,MATCH(F72,Stammdaten!$B$10:$B$49,0)),"–")) -> Fokuszone | M72: =IF(C72="","",IF(OR(F72="",G72="",I72=""),"unvollständig",IF(I72="Storniert","storniert",IF(WEEKDAY(C72,2)>5,"Wochenende",IF(COUNTIF(Stammdaten!$AD$10:$AD$30,C72)>0,"Feiertag",IF(IFERROR(INDEX(Stammdaten!$I$10:$I$49,MATCH(F72,Stammdaten!$B$10:$B$49,0)),"")="Gesperrt","Platz gesperrt",IF(AND(COUNTIF($P$6:$P$605,P72)>1,NOT(AND(COUNTIF($P$6:$P$605,P72)=2,COUNTIFS($P$6:$P$605,P72,$H$6:$H$605,"Vormittag")=1,COUNTIFS($P$6:$P$605,P72,$H$6:$H$605,"Nachmittag")=1))),"Doppelbuchung",IF(AND(COUNTIF($R$6:$R$605,R72)>1,NOT(AND(COUNTIF($R$6:$R$605,R72)=2,COUNTIFS($R$6:$R$605,R72,$H$6:$H$605,"Vormittag")=1,COUNTIFS($R$6:$R$605,R72,$H$6:$H$605,"Nachmittag")=1))),"Person doppelt","OK")))))))) -> storniert | O72: =IF(OR(C72="",I72<>"Bestätigt",M72="Platz gesperrt"),0,IF(H72="Ganztägig",1,0.5)) -> 0 | P72: =IF(OR(C72="",F72="",I72="Storniert"),"",F72&"|"&C72) | Q72: =IF(P72="","",P72&"|"&COUNTIF(P$6:P72,P72)) | R72: =IF(OR(C72="",G72="",I72="Storniert"),"",G72&"|"&C72) | S72: =IF(R72="","",R72&"|"&COUNTIF(R$6:R72,R72)) | T72: =IF(G72="","",IFERROR(INDEX(Stammdaten!$O$10:$O$69,MATCH(G72,Stammdaten!$N$10:$N$69,0)),G72)&IF(H72="Vormittag"," (VM)",IF(H72="Nachmittag"," (NM)",""))&IF(I72="Angefragt"," ?","")) -> D. Ritter | U72: =IF(F72="","",F72&IF(H72="Vormittag"," (VM)",IF(H72="Nachmittag"," (NM)",""))&IF(I72="Angefragt"," ?","")) -> A-12
B73: =IF(C73="","",ROW()-5) -> 68 | C73: 46296 | D73: =IF(C73="","",CHOOSE(WEEKDAY(C73,2),"Mo","Di","Mi","Do","Fr","Sa","So")) -> Do | E73: =IF(C73="","",_xlfn.ISOWEEKNUM(C73)) -> 40 | F73: B-04 | G73: Leon Fuchs | H73: Ganztägig | I73: Bestätigt | K73: =IF(G73="","",IFERROR(INDEX(Stammdaten!$P$10:$P$69,MATCH(G73,Stammdaten!$N$10:$N$69,0)),"–")) -> Finanzen | L73: =IF(F73="","",IFERROR(INDEX(Stammdaten!$D$10:$D$49,MATCH(F73,Stammdaten!$B$10:$B$49,0)),"–")) -> Teamzone Süd | M73: =IF(C73="","",IF(OR(F73="",G73="",I73=""),"unvollständig",IF(I73="Storniert","storniert",IF(WEEKDAY(C73,2)>5,"Wochenende",IF(COUNTIF(Stammdaten!$AD$10:$AD$30,C73)>0,"Feiertag",IF(IFERROR(INDEX(Stammdaten!$I$10:$I$49,MATCH(F73,Stammdaten!$B$10:$B$49,0)),"")="Gesperrt","Platz gesperrt",IF(AND(COUNTIF($P$6:$P$605,P73)>1,NOT(AND(COUNTIF($P$6:$P$605,P73)=2,COUNTIFS($P$6:$P$605,P73,$H$6:$H$605,"Vormittag")=1,COUNTIFS($P$6:$P$605,P73,$H$6:$H$605,"Nachmittag")=1))),"Doppelbuchung",IF(AND(COUNTIF($R$6:$R$605,R73)>1,NOT(AND(COUNTIF($R$6:$R$605,R73)=2,COUNTIFS($R$6:$R$605,R73,$H$6:$H$605,"Vormittag")=1,COUNTIFS($R$6:$R$605,R73,$H$6:$H$605,"Nachmittag")=1))),"Person doppelt","OK")))))))) -> OK | O73: =IF(OR(C73="",I73<>"Bestätigt",M73="Platz gesperrt"),0,IF(H73="Ganztägig",1,0.5)) -> 1 | P73: =IF(OR(C73="",F73="",I73="Storniert"),"",F73&"|"&C73) -> B-04|46296 | Q73: =IF(P73="","",P73&"|"&COUNTIF(P$6:P73,P73)) -> B-04|46296|1 | R73: =IF(OR(C73="",G73="",I73="Storniert"),"",G73&"|"&C73) -> Leon Fuchs|46296 | S73: =IF(R73="","",R73&"|"&COUNTIF(R$6:R73,R73)) -> Leon Fuchs|46296|1 | T73: =IF(G73="","",IFERROR(INDEX(Stammdaten!$O$10:$O$69,MATCH(G73,Stammdaten!$N$10:$N$69,0)),G73)&IF(H73="Vormittag"," (VM)",IF(H73="Nachmittag"," (NM)",""))&IF(I73="Angefragt"," ?","")) -> L. Fuchs | U73: =IF(F73="","",F73&IF(H73="Vormittag"," (VM)",IF(H73="Nachmittag"," (NM)",""))&IF(I73="Angefragt"," ?","")) -> B-04
B74: =IF(C74="","",ROW()-5) -> 69 | C74: 46296 | D74: =IF(C74="","",CHOOSE(WEEKDAY(C74,2),"Mo","Di","Mi","Do","Fr","Sa","So")) -> Do | E74: =IF(C74="","",_xlfn.ISOWEEKNUM(C74)) -> 40 | F74: B-05 | G74: Niklas Wolf | H74: Ganztägig | I74: Bestätigt | K74: =IF(G74="","",IFERROR(INDEX(Stammdaten!$P$10:$P$69,MATCH(G74,Stammdaten!$N$10:$N$69,0)),"–")) -> Personal | L74: =IF(F74="","",IFERROR(INDEX(Stammdaten!$D$10:$D$49,MATCH(F74,Stammdaten!$B$10:$B$49,0)),"–")) -> Teamzone Süd | M74: =IF(C74="","",IF(OR(F74="",G74="",I74=""),"unvollständig",IF(I74="Storniert","storniert",IF(WEEKDAY(C74,2)>5,"Wochenende",IF(COUNTIF(Stammdaten!$AD$10:$AD$30,C74)>0,"Feiertag",IF(IFERROR(INDEX(Stammdaten!$I$10:$I$49,MATCH(F74,Stammdaten!$B$10:$B$49,0)),"")="Gesperrt","Platz gesperrt",IF(AND(COUNTIF($P$6:$P$605,P74)>1,NOT(AND(COUNTIF($P$6:$P$605,P74)=2,COUNTIFS($P$6:$P$605,P74,$H$6:$H$605,"Vormittag")=1,COUNTIFS($P$6:$P$605,P74,$H$6:$H$605,"Nachmittag")=1))),"Doppelbuchung",IF(AND(COUNTIF($R$6:$R$605,R74)>1,NOT(AND(COUNTIF($R$6:$R$605,R74)=2,COUNTIFS($R$6:$R$605,R74,$H$6:$H$605,"Vormittag")=1,COUNTIFS($R$6:$R$605,R74,$H$6:$H$605,"Nachmittag")=1))),"Person doppelt","OK")))))))) -> OK | O74: =IF(OR(C74="",I74<>"Bestätigt",M74="Platz gesperrt"),0,IF(H74="Ganztägig",1,0.5)) -> 1 | P74: =IF(OR(C74="",F74="",I74="Storniert"),"",F74&"|"&C74) -> B-05|46296 | Q74: =IF(P74="","",P74&"|"&COUNTIF(P$6:P74,P74)) -> B-05|46296|1 | R74: =IF(OR(C74="",G74="",I74="Storniert"),"",G74&"|"&C74) -> Niklas Wolf|46296 | S74: =IF(R74="","",R74&"|"&COUNTIF(R$6:R74,R74)) -> Niklas Wolf|46296|1 | T74: =IF(G74="","",IFERROR(INDEX(Stammdaten!$O$10:$O$69,MATCH(G74,Stammdaten!$N$10:$N$69,0)),G74)&IF(H74="Vormittag"," (VM)",IF(H74="Nachmittag"," (NM)",""))&IF(I74="Angefragt"," ?","")) -> N. Wolf | U74: =IF(F74="","",F74&IF(H74="Vormittag"," (VM)",IF(H74="Nachmittag"," (NM)",""))&IF(I74="Angefragt"," ?","")) -> B-05
B75: =IF(C75="","",ROW()-5) -> 70 | C75: 46296 | D75: =IF(C75="","",CHOOSE(WEEKDAY(C75,2),"Mo","Di","Mi","Do","Fr","Sa","So")) -> Do | E75: =IF(C75="","",_xlfn.ISOWEEKNUM(C75)) -> 40 | F75: B-06 | G75: Anna Lorenz | H75: Ganztägig | I75: Bestätigt | K75: =IF(G75="","",IFERROR(INDEX(Stammdaten!$P$10:$P$69,MATCH(G75,Stammdaten!$N$10:$N$69,0)),"–")) -> Personal | L75: =IF(F75="","",IFERROR(INDEX(Stammdaten!$D$10:$D$49,MATCH(F75,Stammdaten!$B$10:$B$49,0)),"–")) -> Teamzone Süd | M75: =IF(C75="","",IF(OR(F75="",G75="",I75=""),"unvollständig",IF(I75="Storniert","storniert",IF(WEEKDAY(C75,2)>5,"Wochenende",IF(COUNTIF(Stammdaten!$AD$10:$AD$30,C75)>0,"Feiertag",IF(IFERROR(INDEX(Stammdaten!$I$10:$I$49,MATCH(F75,Stammdaten!$B$10:$B$49,0)),"")="Gesperrt","Platz gesperrt",IF(AND(COUNTIF($P$6:$P$605,P75)>1,NOT(AND(COUNTIF($P$6:$P$605,P75)=2,COUNTIFS($P$6:$P$605,P75,$H$6:$H$605,"Vormittag")=1,COUNTIFS($P$6:$P$605,P75,$H$6:$H$605,"Nachmittag")=1))),"Doppelbuchung",IF(AND(COUNTIF($R$6:$R$605,R75)>1,NOT(AND(COUNTIF($R$6:$R$605,R75)=2,COUNTIFS($R$6:$R$605,R75,$H$6:$H$605,"Vormittag")=1,COUNTIFS($R$6:$R$605,R75,$H$6:$H$605,"Nachmittag")=1))),"Person doppelt","OK")))))))) -> OK | O75: =IF(OR(C75="",I75<>"Bestätigt",M75="Platz gesperrt"),0,IF(H75="Ganztägig",1,0.5)) -> 1 | P75: =IF(OR(C75="",F75="",I75="Storniert"),"",F75&"|"&C75) -> B-06|46296 | Q75: =IF(P75="","",P75&"|"&COUNTIF(P$6:P75,P75)) -> B-06|46296|1 | R75: =IF(OR(C75="",G75="",I75="Storniert"),"",G75&"|"&C75) -> Anna Lorenz|46296 | S75: =IF(R75="","",R75&"|"&COUNTIF(R$6:R75,R75)) -> Anna Lorenz|46296|1 | T75: =IF(G75="","",IFERROR(INDEX(Stammdaten!$O$10:$O$69,MATCH(G75,Stammdaten!$N$10:$N$69,0)),G75)&IF(H75="Vormittag"," (VM)",IF(H75="Nachmittag"," (NM)",""))&IF(I75="Angefragt"," ?","")) -> A. Lorenz | U75: =IF(F75="","",F75&IF(H75="Vormittag"," (VM)",IF(H75="Nachmittag"," (NM)",""))&IF(I75="Angefragt"," ?","")) -> B-06
B76: =IF(C76="","",ROW()-5) -> 71 | C76: 46296 | D76: =IF(C76="","",CHOOSE(WEEKDAY(C76,2),"Mo","Di","Mi","Do","Fr","Sa","So")) -> Do | E76: =IF(C76="","",_xlfn.ISOWEEKNUM(C76)) -> 40 | F76: B-08 | G76: Julia Herrmann | H76: Ganztägig | I76: Bestätigt | K76: =IF(G76="","",IFERROR(INDEX(Stammdaten!$P$10:$P$69,MATCH(G76,Stammdaten!$N$10:$N$69,0)),"–")) -> Finanzen | L76: =IF(F76="","",IFERROR(INDEX(Stammdaten!$D$10:$D$49,MATCH(F76,Stammdaten!$B$10:$B$49,0)),"–")) -> Teamzone Süd | M76: =IF(C76="","",IF(OR(F76="",G76="",I76=""),"unvollständig",IF(I76="Storniert","storniert",IF(WEEKDAY(C76,2)>5,"Wochenende",IF(COUNTIF(Stammdaten!$AD$10:$AD$30,C76)>0,"Feiertag",IF(IFERROR(INDEX(Stammdaten!$I$10:$I$49,MATCH(F76,Stammdaten!$B$10:$B$49,0)),"")="Gesperrt","Platz gesperrt",IF(AND(COUNTIF($P$6:$P$605,P76)>1,NOT(AND(COUNTIF($P$6:$P$605,P76)=2,COUNTIFS($P$6:$P$605,P76,$H$6:$H$605,"Vormittag")=1,COUNTIFS($P$6:$P$605,P76,$H$6:$H$605,"Nachmittag")=1))),"Doppelbuchung",IF(AND(COUNTIF($R$6:$R$605,R76)>1,NOT(AND(COUNTIF($R$6:$R$605,R76)=2,COUNTIFS($R$6:$R$605,R76,$H$6:$H$605,"Vormittag")=1,COUNTIFS($R$6:$R$605,R76,$H$6:$H$605,"Nachmittag")=1))),"Person doppelt","OK")))))))) -> OK | O76: =IF(OR(C76="",I76<>"Bestätigt",M76="Platz gesperrt"),0,IF(H76="Ganztägig",1,0.5)) -> 1 | P76: =IF(OR(C76="",F76="",I76="Storniert"),"",F76&"|"&C76) -> B-08|46296 | Q76: =IF(P76="","",P76&"|"&COUNTIF(P$6:P76,P76)) -> B-08|46296|1 | R76: =IF(OR(C76="",G76="",I76="Storniert"),"",G76&"|"&C76) -> Julia Herrmann|46296 | S76: =IF(R76="","",R76&"|"&COUNTIF(R$6:R76,R76)) -> Julia Herrmann|46296|1 | T76: =IF(G76="","",IFERROR(INDEX(Stammdaten!$O$10:$O$69,MATCH(G76,Stammdaten!$N$10:$N$69,0)),G76)&IF(H76="Vormittag"," (VM)",IF(H76="Nachmittag"," (NM)",""))&IF(I76="Angefragt"," ?","")) -> J. Herrmann | U76: =IF(F76="","",F76&IF(H76="Vormittag"," (VM)",IF(H76="Nachmittag"," (NM)",""))&IF(I76="Angefragt"," ?","")) -> B-08
B77: =IF(C77="","",ROW()-5) -> 72 | C77: 46296 | D77: =IF(C77="","",CHOOSE(WEEKDAY(C77,2),"Mo","Di","Mi","Do","Fr","Sa","So")) -> Do | E77: =IF(C77="","",_xlfn.ISOWEEKNUM(C77)) -> 40 | F77: B-09 | G77: Laura Sommer | H77: Ganztägig | I77: Bestätigt | K77: =IF(G77="","",IFERROR(INDEX(Stammdaten!$P$10:$P$69,MATCH(G77,Stammdaten!$N$10:$N$69,0)),"–")) -> IT | L77: =IF(F77="","",IFERROR(INDEX(Stammdaten!$D$10:$D$49,MATCH(F77,Stammdaten!$B$10:$B$49,0)),"–")) -> Projektfläche | M77: =IF(C77="","",IF(OR(F77="",G77="",I77=""),"unvollständig",IF(I77="Storniert","storniert",IF(WEEKDAY(C77,2)>5,"Wochenende",IF(COUNTIF(Stammdaten!$AD$10:$AD$30,C77)>0,"Feiertag",IF(IFERROR(INDEX(Stammdaten!$I$10:$I$49,MATCH(F77,Stammdaten!$B$10:$B$49,0)),"")="Gesperrt","Platz gesperrt",IF(AND(COUNTIF($P$6:$P$605,P77)>1,NOT(AND(COUNTIF($P$6:$P$605,P77)=2,COUNTIFS($P$6:$P$605,P77,$H$6:$H$605,"Vormittag")=1,COUNTIFS($P$6:$P$605,P77,$H$6:$H$605,"Nachmittag")=1))),"Doppelbuchung",IF(AND(COUNTIF($R$6:$R$605,R77)>1,NOT(AND(COUNTIF($R$6:$R$605,R77)=2,COUNTIFS($R$6:$R$605,R77,$H$6:$H$605,"Vormittag")=1,COUNTIFS($R$6:$R$605,R77,$H$6:$H$605,"Nachmittag")=1))),"Person doppelt","OK")))))))) -> OK | O77: =IF(OR(C77="",I77<>"Bestätigt",M77="Platz gesperrt"),0,IF(H77="Ganztägig",1,0.5)) -> 1 | P77: =IF(OR(C77="",F77="",I77="Storniert"),"",F77&"|"&C77) -> B-09|46296 | Q77: =IF(P77="","",P77&"|"&COUNTIF(P$6:P77,P77)) -> B-09|46296|1 | R77: =IF(OR(C77="",G77="",I77="Storniert"),"",G77&"|"&C77) -> Laura Sommer|46296 | S77: =IF(R77="","",R77&"|"&COUNTIF(R$6:R77,R77)) -> Laura Sommer|46296|1 | T77: =IF(G77="","",IFERROR(INDEX(Stammdaten!$O$10:$O$69,MATCH(G77,Stammdaten!$N$10:$N$69,0)),G77)&IF(H77="Vormittag"," (VM)",IF(H77="Nachmittag"," (NM)",""))&IF(I77="Angefragt"," ?","")) -> L. Sommer | U77: =IF(F77="","",F77&IF(H77="Vormittag"," (VM)",IF(H77="Nachmittag"," (NM)",""))&IF(I77="Angefragt"," ?","")) -> B-09
B78: =IF(C78="","",ROW()-5) -> 73 | C78: 46296 | D78: =IF(C78="","",CHOOSE(WEEKDAY(C78,2),"Mo","Di","Mi","Do","Fr","Sa","So")) -> Do | E78: =IF(C78="","",_xlfn.ISOWEEKNUM(C78)) -> 40 | F78: B-10 | G78: Vanessa Kraft | H78: Ganztägig | I78: Bestätigt | K78: =IF(G78="","",IFERROR(INDEX(Stammdaten!$P$10:$P$69,MATCH(G78,Stammdaten!$N$10:$N$69,0)),"–")) -> Projektmanagement | L78: =IF(F78="","",IFERROR(INDEX(Stammdaten!$D$10:$D$49,MATCH(F78,Stammdaten!$B$10:$B$49,0)),"–")) -> Projektfläche | M78: =IF(C78="","",IF(OR(F78="",G78="",I78=""),"unvollständig",IF(I78="Storniert","storniert",IF(WEEKDAY(C78,2)>5,"Wochenende",IF(COUNTIF(Stammdaten!$AD$10:$AD$30,C78)>0,"Feiertag",IF(IFERROR(INDEX(Stammdaten!$I$10:$I$49,MATCH(F78,Stammdaten!$B$10:$B$49,0)),"")="Gesperrt","Platz gesperrt",IF(AND(COUNTIF($P$6:$P$605,P78)>1,NOT(AND(COUNTIF($P$6:$P$605,P78)=2,COUNTIFS($P$6:$P$605,P78,$H$6:$H$605,"Vormittag")=1,COUNTIFS($P$6:$P$605,P78,$H$6:$H$605,"Nachmittag")=1))),"Doppelbuchung",IF(AND(COUNTIF($R$6:$R$605,R78)>1,NOT(AND(COUNTIF($R$6:$R$605,R78)=2,COUNTIFS($R$6:$R$605,R78,$H$6:$H$605,"Vormittag")=1,COUNTIFS($R$6:$R$605,R78,$H$6:$H$605,"Nachmittag")=1))),"Person doppelt","OK")))))))) -> OK | O78: =IF(OR(C78="",I78<>"Bestätigt",M78="Platz gesperrt"),0,IF(H78="Ganztägig",1,0.5)) -> 1 | P78: =IF(OR(C78="",F78="",I78="Storniert"),"",F78&"|"&C78) -> B-10|46296 | Q78: =IF(P78="","",P78&"|"&COUNTIF(P$6:P78,P78)) -> B-10|46296|1 | R78: =IF(OR(C78="",G78="",I78="Storniert"),"",G78&"|"&C78) -> Vanessa Kraft|46296 | S78: =IF(R78="","",R78&"|"&COUNTIF(R$6:R78,R78)) -> Vanessa Kraft|46296|1 | T78: =IF(G78="","",IFERROR(INDEX(Stammdaten!$O$10:$O$69,MATCH(G78,Stammdaten!$N$10:$N$69,0)),G78)&IF(H78="Vormittag"," (VM)",IF(H78="Nachmittag"," (NM)",""))&IF(I78="Angefragt"," ?","")) -> V. Kraft | U78: =IF(F78="","",F78&IF(H78="Vormittag"," (VM)",IF(H78="Nachmittag"," (NM)",""))&IF(I78="Angefragt"," ?","")) -> B-10
B79: =IF(C79="","",ROW()-5) -> 74 | C79: 46296 | D79: =IF(C79="","",CHOOSE(WEEKDAY(C79,2),"Mo","Di","Mi","Do","Fr","Sa","So")) -> Do | E79: =IF(C79="","",_xlfn.ISOWEEKNUM(C79)) -> 40 | F79: B-11 | G79: Fabian Ott | H79: Ganztägig | I79: Bestätigt | K79: =IF(G79="","",IFERROR(INDEX(Stammdaten!$P$10:$P$69,MATCH(G79,Stammdaten!$N$10:$N$69,0)),"–")) -> Projektmanagement | L79: =IF(F79="","",IFERROR(INDEX(Stammdaten!$D$10:$D$49,MATCH(F79,Stammdaten!$B$10:$B$49,0)),"–")) -> Projektfläche | M79: =IF(C79="","",IF(OR(F79="",G79="",I79=""),"unvollständig",IF(I79="Storniert","storniert",IF(WEEKDAY(C79,2)>5,"Wochenende",IF(COUNTIF(Stammdaten!$AD$10:$AD$30,C79)>0,"Feiertag",IF(IFERROR(INDEX(Stammdaten!$I$10:$I$49,MATCH(F79,Stammdaten!$B$10:$B$49,0)),"")="Gesperrt","Platz gesperrt",IF(AND(COUNTIF($P$6:$P$605,P79)>1,NOT(AND(COUNTIF($P$6:$P$605,P79)=2,COUNTIFS($P$6:$P$605,P79,$H$6:$H$605,"Vormittag")=1,COUNTIFS($P$6:$P$605,P79,$H$6:$H$605,"Nachmittag")=1))),"Doppelbuchung",IF(AND(COUNTIF($R$6:$R$605,R79)>1,NOT(AND(COUNTIF($R$6:$R$605,R79)=2,COUNTIFS($R$6:$R$605,R79,$H$6:$H$605,"Vormittag")=1,COUNTIFS($R$6:$R$605,R79,$H$6:$H$605,"Nachmittag")=1))),"Person doppelt","OK")))))))) -> OK | O79: =IF(OR(C79="",I79<>"Bestätigt",M79="Platz gesperrt"),0,IF(H79="Ganztägig",1,0.5)) -> 1 | P79: =IF(OR(C79="",F79="",I79="Storniert"),"",F79&"|"&C79) -> B-11|46296 | Q79: =IF(P79="","",P79&"|"&COUNTIF(P$6:P79,P79)) -> B-11|46296|1 | R79: =IF(OR(C79="",G79="",I79="Storniert"),"",G79&"|"&C79) -> Fabian Ott|46296 | S79: =IF(R79="","",R79&"|"&COUNTIF(R$6:R79,R79)) -> Fabian Ott|46296|1 | T79: =IF(G79="","",IFERROR(INDEX(Stammdaten!$O$10:$O$69,MATCH(G79,Stammdaten!$N$10:$N$69,0)),G79)&IF(H79="Vormittag"," (VM)",IF(H79="Nachmittag"," (NM)",""))&IF(I79="Angefragt"," ?","")) -> F. Ott | U79: =IF(F79="","",F79&IF(H79="Vormittag"," (VM)",IF(H79="Nachmittag"," (NM)",""))&IF(I79="Angefragt"," ?","")) -> B-11
B80: =IF(C80="","",ROW()-5) -> 75 | C80: 46296 | D80: =IF(C80="","",CHOOSE(WEEKDAY(C80,2),"Mo","Di","Mi","Do","Fr","Sa","So")) -> Do | E80: =IF(C80="","",_xlfn.ISOWEEKNUM(C80)) -> 40 | F80: B-12 | G80: Simon Graf | H80: Ganztägig | I80: Bestätigt | K80: =IF(G80="","",IFERROR(INDEX(Stammdaten!$P$10:$P$69,MATCH(G80,Stammdaten!$N$10:$N$69,0)),"–")) -> IT | L80: =IF(F80="","",IFERROR(INDEX(Stammdaten!$D$10:$D$49,MATCH(F80,Stammdaten!$B$10:$B$49,0)),"–")) -> Projektfläche | M80: =IF(C80="","",IF(OR(F80="",G80="",I80=""),"unvollständig",IF(I80="Storniert","storniert",IF(WEEKDAY(C80,2)>5,"Wochenende",IF(COUNTIF(Stammdaten!$AD$10:$AD$30,C80)>0,"Feiertag",IF(IFERROR(INDEX(Stammdaten!$I$10:$I$49,MATCH(F80,Stammdaten!$B$10:$B$49,0)),"")="Gesperrt","Platz gesperrt",IF(AND(COUNTIF($P$6:$P$605,P80)>1,NOT(AND(COUNTIF($P$6:$P$605,P80)=2,COUNTIFS($P$6:$P$605,P80,$H$6:$H$605,"Vormittag")=1,COUNTIFS($P$6:$P$605,P80,$H$6:$H$605,"Nachmittag")=1))),"Doppelbuchung",IF(AND(COUNTIF($R$6:$R$605,R80)>1,NOT(AND(COUNTIF($R$6:$R$605,R80)=2,COUNTIFS($R$6:$R$605,R80,$H$6:$H$605,"Vormittag")=1,COUNTIFS($R$6:$R$605,R80,$H$6:$H$605,"Nachmittag")=1))),"Person doppelt","OK")))))))) -> OK | O80: =IF(OR(C80="",I80<>"Bestätigt",M80="Platz gesperrt"),0,IF(H80="Ganztägig",1,0.5)) -> 1 | P80: =IF(OR(C80="",F80="",I80="Storniert"),"",F80&"|"&C80) -> B-12|46296 | Q80: =IF(P80="","",P80&"|"&COUNTIF(P$6:P80,P80)) -> B-12|46296|1 | R80: =IF(OR(C80="",G80="",I80="Storniert"),"",G80&"|"&C80) -> Simon Graf|46296 | S80: =IF(R80="","",R80&"|"&COUNTIF(R$6:R80,R80)) -> Simon Graf|46296|1 | T80: =IF(G80="","",IFERROR(INDEX(Stammdaten!$O$10:$O$69,MATCH(G80,Stammdaten!$N$10:$N$69,0)),G80)&IF(H80="Vormittag"," (VM)",IF(H80="Nachmittag"," (NM)",""))&IF(I80="Angefragt"," ?","")) -> S. Graf | U80: =IF(F80="","",F80&IF(H80="Vormittag"," (VM)",IF(H80="Nachmittag"," (NM)",""))&IF(I80="Angefragt"," ?","")) -> B-12
B81: =IF(C81="","",ROW()-5) -> 76 | C81: 46297 | D81: =IF(C81="","",CHOOSE(WEEKDAY(C81,2),"Mo","Di","Mi","Do","Fr","Sa","So")) -> Fr | E81: =IF(C81="","",_xlfn.ISOWEEKNUM(C81)) -> 40 | F81: A-01 | G81: Sophie Brandt | H81: Ganztägig | I81: Bestätigt | K81: =IF(G81="","",IFERROR(INDEX(Stammdaten!$P$10:$P$69,MATCH(G81,Stammdaten!$N$10:$N$69,0)),"–")) -> Vertrieb | L81: =IF(F81="","",IFERROR(INDEX(Stammdaten!$D$10:$D$49,MATCH(F81,Stammdaten!$B$10:$B$49,0)),"–")) -> Teamzone Nord | M81: =IF(C81="","",IF(OR(F81="",G81="",I81=""),"unvollständig",IF(I81="Storniert","storniert",IF(WEEKDAY(C81,2)>5,"Wochenende",IF(COUNTIF(Stammdaten!$AD$10:$AD$30,C81)>0,"Feiertag",IF(IFERROR(INDEX(Stammdaten!$I$10:$I$49,MATCH(F81,Stammdaten!$B$10:$B$49,0)),"")="Gesperrt","Platz gesperrt",IF(AND(COUNTIF($P$6:$P$605,P81)>1,NOT(AND(COUNTIF($P$6:$P$605,P81)=2,COUNTIFS($P$6:$P$605,P81,$H$6:$H$605,"Vormittag")=1,COUNTIFS($P$6:$P$605,P81,$H$6:$H$605,"Nachmittag")=1))),"Doppelbuchung",IF(AND(COUNTIF($R$6:$R$605,R81)>1,NOT(AND(COUNTIF($R$6:$R$605,R81)=2,COUNTIFS($R$6:$R$605,R81,$H$6:$H$605,"Vormittag")=1,COUNTIFS($R$6:$R$605,R81,$H$6:$H$605,"Nachmittag")=1))),"Person doppelt","OK")))))))) -> OK | O81: =IF(OR(C81="",I81<>"Bestätigt",M81="Platz gesperrt"),0,IF(H81="Ganztägig",1,0.5)) -> 1 | P81: =IF(OR(C81="",F81="",I81="Storniert"),"",F81&"|"&C81) -> A-01|46297 | Q81: =IF(P81="","",P81&"|"&COUNTIF(P$6:P81,P81)) -> A-01|46297|1 | R81: =IF(OR(C81="",G81="",I81="Storniert"),"",G81&"|"&C81) -> Sophie Brandt|46297 | S81: =IF(R81="","",R81&"|"&COUNTIF(R$6:R81,R81)) -> Sophie Brandt|46297|1 | T81: =IF(G81="","",IFERROR(INDEX(Stammdaten!$O$10:$O$69,MATCH(G81,Stammdaten!$N$10:$N$69,0)),G81)&IF(H81="Vormittag"," (VM)",IF(H81="Nachmittag"," (NM)",""))&IF(I81="Angefragt"," ?","")) -> S. Brandt | U81: =IF(F81="","",F81&IF(H81="Vormittag"," (VM)",IF(H81="Nachmittag"," (NM)",""))&IF(I81="Angefragt"," ?","")) -> A-01
B82: =IF(C82="","",ROW()-5) -> 77 | C82: 46297 | D82: =IF(C82="","",CHOOSE(WEEKDAY(C82,2),"Mo","Di","Mi","Do","Fr","Sa","So")) -> Fr | E82: =IF(C82="","",_xlfn.ISOWEEKNUM(C82)) -> 40 | F82: A-02 | G82: Lena Hartmann | H82: Ganztägig | I82: Bestätigt | K82: =IF(G82="","",IFERROR(INDEX(Stammdaten!$P$10:$P$69,MATCH(G82,Stammdaten!$N$10:$N$69,0)),"–")) -> Vertrieb | L82: =IF(F82="","",IFERROR(INDEX(Stammdaten!$D$10:$D$49,MATCH(F82,Stammdaten!$B$10:$B$49,0)),"–")) -> Teamzone Nord | M82: =IF(C82="","",IF(OR(F82="",G82="",I82=""),"unvollständig",IF(I82="Storniert","storniert",IF(WEEKDAY(C82,2)>5,"Wochenende",IF(COUNTIF(Stammdaten!$AD$10:$AD$30,C82)>0,"Feiertag",IF(IFERROR(INDEX(Stammdaten!$I$10:$I$49,MATCH(F82,Stammdaten!$B$10:$B$49,0)),"")="Gesperrt","Platz gesperrt",IF(AND(COUNTIF($P$6:$P$605,P82)>1,NOT(AND(COUNTIF($P$6:$P$605,P82)=2,COUNTIFS($P$6:$P$605,P82,$H$6:$H$605,"Vormittag")=1,COUNTIFS($P$6:$P$605,P82,$H$6:$H$605,"Nachmittag")=1))),"Doppelbuchung",IF(AND(COUNTIF($R$6:$R$605,R82)>1,NOT(AND(COUNTIF($R$6:$R$605,R82)=2,COUNTIFS($R$6:$R$605,R82,$H$6:$H$605,"Vormittag")=1,COUNTIFS($R$6:$R$605,R82,$H$6:$H$605,"Nachmittag")=1))),"Person doppelt","OK")))))))) -> OK | O82: =IF(OR(C82="",I82<>"Bestätigt",M82="Platz gesperrt"),0,IF(H82="Ganztägig",1,0.5)) -> 1 | P82: =IF(OR(C82="",F82="",I82="Storniert"),"",F82&"|"&C82) -> A-02|46297 | Q82: =IF(P82="","",P82&"|"&COUNTIF(P$6:P82,P82)) -> A-02|46297|1 | R82: =IF(OR(C82="",G82="",I82="Storniert"),"",G82&"|"&C82) -> Lena Hartmann|46297 | S82: =IF(R82="","",R82&"|"&COUNTIF(R$6:R82,R82)) -> Lena Hartmann|46297|1 | T82: =IF(G82="","",IFERROR(INDEX(Stammdaten!$O$10:$O$69,MATCH(G82,Stammdaten!$N$10:$N$69,0)),G82)&IF(H82="Vormittag"," (VM)",IF(H82="Nachmittag"," (NM)",""))&IF(I82="Angefragt"," ?","")) -> L. Hartmann | U82: =IF(F82="","",F82&IF(H82="Vormittag"," (VM)",IF(H82="Nachmittag"," (NM)",""))&IF(I82="Angefragt"," ?","")) -> A-02
B83: =IF(C83="","",ROW()-5) -> 78 | C83: 46297 | D83: =IF(C83="","",CHOOSE(WEEKDAY(C83,2),"Mo","Di","Mi","Do","Fr","Sa","So")) -> Fr | E83: =IF(C83="","",_xlfn.ISOWEEKNUM(C83)) -> 40 | F83: A-03 | G83: Aylin Demir | H83: Ganztägig | I83: Bestätigt | J83: Workshop | K83: =IF(G83="","",IFERROR(INDEX(Stammdaten!$P$10:$P$69,MATCH(G83,Stammdaten!$N$10:$N$69,0)),"–")) -> Marketing | L83: =IF(F83="","",IFERROR(INDEX(Stammdaten!$D$10:$D$49,MATCH(F83,Stammdaten!$B$10:$B$49,0)),"–")) -> Teamzone Nord | M83: =IF(C83="","",IF(OR(F83="",G83="",I83=""),"unvollständig",IF(I83="Storniert","storniert",IF(WEEKDAY(C83,2)>5,"Wochenende",IF(COUNTIF(Stammdaten!$AD$10:$AD$30,C83)>0,"Feiertag",IF(IFERROR(INDEX(Stammdaten!$I$10:$I$49,MATCH(F83,Stammdaten!$B$10:$B$49,0)),"")="Gesperrt","Platz gesperrt",IF(AND(COUNTIF($P$6:$P$605,P83)>1,NOT(AND(COUNTIF($P$6:$P$605,P83)=2,COUNTIFS($P$6:$P$605,P83,$H$6:$H$605,"Vormittag")=1,COUNTIFS($P$6:$P$605,P83,$H$6:$H$605,"Nachmittag")=1))),"Doppelbuchung",IF(AND(COUNTIF($R$6:$R$605,R83)>1,NOT(AND(COUNTIF($R$6:$R$605,R83)=2,COUNTIFS($R$6:$R$605,R83,$H$6:$H$605,"Vormittag")=1,COUNTIFS($R$6:$R$605,R83,$H$6:$H$605,"Nachmittag")=1))),"Person doppelt","OK")))))))) -> OK | O83: =IF(OR(C83="",I83<>"Bestätigt",M83="Platz gesperrt"),0,IF(H83="Ganztägig",1,0.5)) -> 1 | P83: =IF(OR(C83="",F83="",I83="Storniert"),"",F83&"|"&C83) -> A-03|46297 | Q83: =IF(P83="","",P83&"|"&COUNTIF(P$6:P83,P83)) -> A-03|46297|1 | R83: =IF(OR(C83="",G83="",I83="Storniert"),"",G83&"|"&C83) -> Aylin Demir|46297 | S83: =IF(R83="","",R83&"|"&COUNTIF(R$6:R83,R83)) -> Aylin Demir|46297|1 | T83: =IF(G83="","",IFERROR(INDEX(Stammdaten!$O$10:$O$69,MATCH(G83,Stammdaten!$N$10:$N$69,0)),G83)&IF(H83="Vormittag"," (VM)",IF(H83="Nachmittag"," (NM)",""))&IF(I83="Angefragt"," ?","")) -> A. Demir | U83: =IF(F83="","",F83&IF(H83="Vormittag"," (VM)",IF(H83="Nachmittag"," (NM)",""))&IF(I83="Angefragt"," ?","")) -> A-03
B84: =IF(C84="","",ROW()-5) -> 79 | C84: 46297 | D84: =IF(C84="","",CHOOSE(WEEKDAY(C84,2),"Mo","Di","Mi","Do","Fr","Sa","So")) -> Fr | E84: =IF(C84="","",_xlfn.ISOWEEKNUM(C84)) -> 40 | F84: A-06 | G84: Miriam Krause | H84: Ganztägig | I84: Bestätigt | K84: =IF(G84="","",IFERROR(INDEX(Stammdaten!$P$10:$P$69,MATCH(G84,Stammdaten!$N$10:$N$69,0)),"–")) -> Vertrieb | L84: =IF(F84="","",IFERROR(INDEX(Stammdaten!$D$10:$D$49,MATCH(F84,Stammdaten!$B$10:$B$49,0)),"–")) -> Teamzone Nord | M84: =IF(C84="","",IF(OR(F84="",G84="",I84=""),"unvollständig",IF(I84="Storniert","storniert",IF(WEEKDAY(C84,2)>5,"Wochenende",IF(COUNTIF(Stammdaten!$AD$10:$AD$30,C84)>0,"Feiertag",IF(IFERROR(INDEX(Stammdaten!$I$10:$I$49,MATCH(F84,Stammdaten!$B$10:$B$49,0)),"")="Gesperrt","Platz gesperrt",IF(AND(COUNTIF($P$6:$P$605,P84)>1,NOT(AND(COUNTIF($P$6:$P$605,P84)=2,COUNTIFS($P$6:$P$605,P84,$H$6:$H$605,"Vormittag")=1,COUNTIFS($P$6:$P$605,P84,$H$6:$H$605,"Nachmittag")=1))),"Doppelbuchung",IF(AND(COUNTIF($R$6:$R$605,R84)>1,NOT(AND(COUNTIF($R$6:$R$605,R84)=2,COUNTIFS($R$6:$R$605,R84,$H$6:$H$605,"Vormittag")=1,COUNTIFS($R$6:$R$605,R84,$H$6:$H$605,"Nachmittag")=1))),"Person doppelt","OK")))))))) -> OK | O84: =IF(OR(C84="",I84<>"Bestätigt",M84="Platz gesperrt"),0,IF(H84="Ganztägig",1,0.5)) -> 1 | P84: =IF(OR(C84="",F84="",I84="Storniert"),"",F84&"|"&C84) -> A-06|46297 | Q84: =IF(P84="","",P84&"|"&COUNTIF(P$6:P84,P84)) -> A-06|46297|1 | R84: =IF(OR(C84="",G84="",I84="Storniert"),"",G84&"|"&C84) -> Miriam Krause|46297 | S84: =IF(R84="","",R84&"|"&COUNTIF(R$6:R84,R84)) -> Miriam Krause|46297|1 | T84: =IF(G84="","",IFERROR(INDEX(Stammdaten!$O$10:$O$69,MATCH(G84,Stammdaten!$N$10:$N$69,0)),G84)&IF(H84="Vormittag"," (VM)",IF(H84="Nachmittag"," (NM)",""))&IF(I84="Angefragt"," ?","")) -> M. Krause | U84: =IF(F84="","",F84&IF(H84="Vormittag"," (VM)",IF(H84="Nachmittag"," (NM)",""))&IF(I84="Angefragt"," ?","")) -> A-06
B85: =IF(C85="","",ROW()-5) -> 80 | C85: 46297 | D85: =IF(C85="","",CHOOSE(WEEKDAY(C85,2),"Mo","Di","Mi","Do","Fr","Sa","So")) -> Fr | E85: =IF(C85="","",_xlfn.ISOWEEKNUM(C85)) -> 40 | F85: A-07 | G85: Paul Schreiber | H85: Ganztägig | I85: Bestätigt | K85: =IF(G85="","",IFERROR(INDEX(Stammdaten!$P$10:$P$69,MATCH(G85,Stammdaten!$N$10:$N$69,0)),"–")) -> Marketing | L85: =IF(F85="","",IFERROR(INDEX(Stammdaten!$D$10:$D$49,MATCH(F85,Stammdaten!$B$10:$B$49,0)),"–")) -> Teamzone Nord | M85: =IF(C85="","",IF(OR(F85="",G85="",I85=""),"unvollständig",IF(I85="Storniert","storniert",IF(WEEKDAY(C85,2)>5,"Wochenende",IF(COUNTIF(Stammdaten!$AD$10:$AD$30,C85)>0,"Feiertag",IF(IFERROR(INDEX(Stammdaten!$I$10:$I$49,MATCH(F85,Stammdaten!$B$10:$B$49,0)),"")="Gesperrt","Platz gesperrt",IF(AND(COUNTIF($P$6:$P$605,P85)>1,NOT(AND(COUNTIF($P$6:$P$605,P85)=2,COUNTIFS($P$6:$P$605,P85,$H$6:$H$605,"Vormittag")=1,COUNTIFS($P$6:$P$605,P85,$H$6:$H$605,"Nachmittag")=1))),"Doppelbuchung",IF(AND(COUNTIF($R$6:$R$605,R85)>1,NOT(AND(COUNTIF($R$6:$R$605,R85)=2,COUNTIFS($R$6:$R$605,R85,$H$6:$H$605,"Vormittag")=1,COUNTIFS($R$6:$R$605,R85,$H$6:$H$605,"Nachmittag")=1))),"Person doppelt","OK")))))))) -> OK | O85: =IF(OR(C85="",I85<>"Bestätigt",M85="Platz gesperrt"),0,IF(H85="Ganztägig",1,0.5)) -> 1 | P85: =IF(OR(C85="",F85="",I85="Storniert"),"",F85&"|"&C85) -> A-07|46297 | Q85: =IF(P85="","",P85&"|"&COUNTIF(P$6:P85,P85)) -> A-07|46297|1 | R85: =IF(OR(C85="",G85="",I85="Storniert"),"",G85&"|"&C85) -> Paul Schreiber|46297 | S85: =IF(R85="","",R85&"|"&COUNTIF(R$6:R85,R85)) -> Paul Schreiber|46297|1 | T85: =IF(G85="","",IFERROR(INDEX(Stammdaten!$O$10:$O$69,MATCH(G85,Stammdaten!$N$10:$N$69,0)),G85)&IF(H85="Vormittag"," (VM)",IF(H85="Nachmittag"," (NM)",""))&IF(I85="Angefragt"," ?","")) -> P. Schreiber | U85: =IF(F85="","",F85&IF(H85="Vormittag"," (VM)",IF(H85="Nachmittag"," (NM)",""))&IF(I85="Angefragt"," ?","")) -> A-07
B86: =IF(C86="","",ROW()-5) -> 81 | C86: 46297 | D86: =IF(C86="","",CHOOSE(WEEKDAY(C86,2),"Mo","Di","Mi","Do","Fr","Sa","So")) -> Fr | E86: =IF(C86="","",_xlfn.ISOWEEKNUM(C86)) -> 40 | F86: A-11 | G86: Theresa Jung | H86: Ganztägig | I86: Bestätigt | K86: =IF(G86="","",IFERROR(INDEX(Stammdaten!$P$10:$P$69,MATCH(G86,Stammdaten!$N$10:$N$69,0)),"–")) -> Projektmanagement | L86: =IF(F86="","",IFERROR(INDEX(Stammdaten!$D$10:$D$49,MATCH(F86,Stammdaten!$B$10:$B$49,0)),"–")) -> Fokuszone | M86: =IF(C86="","",IF(OR(F86="",G86="",I86=""),"unvollständig",IF(I86="Storniert","storniert",IF(WEEKDAY(C86,2)>5,"Wochenende",IF(COUNTIF(Stammdaten!$AD$10:$AD$30,C86)>0,"Feiertag",IF(IFERROR(INDEX(Stammdaten!$I$10:$I$49,MATCH(F86,Stammdaten!$B$10:$B$49,0)),"")="Gesperrt","Platz gesperrt",IF(AND(COUNTIF($P$6:$P$605,P86)>1,NOT(AND(COUNTIF($P$6:$P$605,P86)=2,COUNTIFS($P$6:$P$605,P86,$H$6:$H$605,"Vormittag")=1,COUNTIFS($P$6:$P$605,P86,$H$6:$H$605,"Nachmittag")=1))),"Doppelbuchung",IF(AND(COUNTIF($R$6:$R$605,R86)>1,NOT(AND(COUNTIF($R$6:$R$605,R86)=2,COUNTIFS($R$6:$R$605,R86,$H$6:$H$605,"Vormittag")=1,COUNTIFS($R$6:$R$605,R86,$H$6:$H$605,"Nachmittag")=1))),"Person doppelt","OK")))))))) -> OK | O86: =IF(OR(C86="",I86<>"Bestätigt",M86="Platz gesperrt"),0,IF(H86="Ganztägig",1,0.5)) -> 1 | P86: =IF(OR(C86="",F86="",I86="Storniert"),"",F86&"|"&C86) -> A-11|46297 | Q86: =IF(P86="","",P86&"|"&COUNTIF(P$6:P86,P86)) -> A-11|46297|1 | R86: =IF(OR(C86="",G86="",I86="Storniert"),"",G86&"|"&C86) -> Theresa Jung|46297 | S86: =IF(R86="","",R86&"|"&COUNTIF(R$6:R86,R86)) -> Theresa Jung|46297|1 | T86: =IF(G86="","",IFERROR(INDEX(Stammdaten!$O$10:$O$69,MATCH(G86,Stammdaten!$N$10:$N$69,0)),G86)&IF(H86="Vormittag"," (VM)",IF(H86="Nachmittag"," (NM)",""))&IF(I86="Angefragt"," ?","")) -> T. Jung | U86: =IF(F86="","",F86&IF(H86="Vormittag"," (VM)",IF(H86="Nachmittag"," (NM)",""))&IF(I86="Angefragt"," ?","")) -> A-11
B87: =IF(C87="","",ROW()-5) -> 82 | C87: 46297 | D87: =IF(C87="","",CHOOSE(WEEKDAY(C87,2),"Mo","Di","Mi","Do","Fr","Sa","So")) -> Fr | E87: =IF(C87="","",_xlfn.ISOWEEKNUM(C87)) -> 40 | F87: B-02 | G87: Hanna Roth | H87: Ganztägig | I87: Bestätigt | J87: Kundentermin vor Ort | K87: =IF(G87="","",IFERROR(INDEX(Stammdaten!$P$10:$P$69,MATCH(G87,Stammdaten!$N$10:$N$69,0)),"–")) -> Finanzen | L87: =IF(F87="","",IFERROR(INDEX(Stammdaten!$D$10:$D$49,MATCH(F87,Stammdaten!$B$10:$B$49,0)),"–")) -> Teamzone Süd | M87: =IF(C87="","",IF(OR(F87="",G87="",I87=""),"unvollständig",IF(I87="Storniert","storniert",IF(WEEKDAY(C87,2)>5,"Wochenende",IF(COUNTIF(Stammdaten!$AD$10:$AD$30,C87)>0,"Feiertag",IF(IFERROR(INDEX(Stammdaten!$I$10:$I$49,MATCH(F87,Stammdaten!$B$10:$B$49,0)),"")="Gesperrt","Platz gesperrt",IF(AND(COUNTIF($P$6:$P$605,P87)>1,NOT(AND(COUNTIF($P$6:$P$605,P87)=2,COUNTIFS($P$6:$P$605,P87,$H$6:$H$605,"Vormittag")=1,COUNTIFS($P$6:$P$605,P87,$H$6:$H$605,"Nachmittag")=1))),"Doppelbuchung",IF(AND(COUNTIF($R$6:$R$605,R87)>1,NOT(AND(COUNTIF($R$6:$R$605,R87)=2,COUNTIFS($R$6:$R$605,R87,$H$6:$H$605,"Vormittag")=1,COUNTIFS($R$6:$R$605,R87,$H$6:$H$605,"Nachmittag")=1))),"Person doppelt","OK")))))))) -> OK | O87: =IF(OR(C87="",I87<>"Bestätigt",M87="Platz gesperrt"),0,IF(H87="Ganztägig",1,0.5)) -> 1 | P87: =IF(OR(C87="",F87="",I87="Storniert"),"",F87&"|"&C87) -> B-02|46297 | Q87: =IF(P87="","",P87&"|"&COUNTIF(P$6:P87,P87)) -> B-02|46297|1 | R87: =IF(OR(C87="",G87="",I87="Storniert"),"",G87&"|"&C87) -> Hanna Roth|46297 | S87: =IF(R87="","",R87&"|"&COUNTIF(R$6:R87,R87)) -> Hanna Roth|46297|1 | T87: =IF(G87="","",IFERROR(INDEX(Stammdaten!$O$10:$O$69,MATCH(G87,Stammdaten!$N$10:$N$69,0)),G87)&IF(H87="Vormittag"," (VM)",IF(H87="Nachmittag"," (NM)",""))&IF(I87="Angefragt"," ?","")) -> H. Roth | U87: =IF(F87="","",F87&IF(H87="Vormittag"," (VM)",IF(H87="Nachmittag"," (NM)",""))&IF(I87="Angefragt"," ?","")) -> B-02
B88: =IF(C88="","",ROW()-5) -> 83 | C88: 46297 | D88: =IF(C88="","",CHOOSE(WEEKDAY(C88,2),"Mo","Di","Mi","Do","Fr","Sa","So")) -> Fr | E88: =IF(C88="","",_xlfn.ISOWEEKNUM(C88)) -> 40 | F88: B-05 | G88: Niklas Wolf | H88: Ganztägig | I88: Bestätigt | K88: =IF(G88="","",IFERROR(INDEX(Stammdaten!$P$10:$P$69,MATCH(G88,Stammdaten!$N$10:$N$69,0)),"–")) -> Personal | L88: =IF(F88="","",IFERROR(INDEX(Stammdaten!$D$10:$D$49,MATCH(F88,Stammdaten!$B$10:$B$49,0)),"–")) -> Teamzone Süd | M88: =IF(C88="","",IF(OR(F88="",G88="",I88=""),"unvollständig",IF(I88="Storniert","storniert",IF(WEEKDAY(C88,2)>5,"Wochenende",IF(COUNTIF(Stammdaten!$AD$10:$AD$30,C88)>0,"Feiertag",IF(IFERROR(INDEX(Stammdaten!$I$10:$I$49,MATCH(F88,Stammdaten!$B$10:$B$49,0)),"")="Gesperrt","Platz gesperrt",IF(AND(COUNTIF($P$6:$P$605,P88)>1,NOT(AND(COUNTIF($P$6:$P$605,P88)=2,COUNTIFS($P$6:$P$605,P88,$H$6:$H$605,"Vormittag")=1,COUNTIFS($P$6:$P$605,P88,$H$6:$H$605,"Nachmittag")=1))),"Doppelbuchung",IF(AND(COUNTIF($R$6:$R$605,R88)>1,NOT(AND(COUNTIF($R$6:$R$605,R88)=2,COUNTIFS($R$6:$R$605,R88,$H$6:$H$605,"Vormittag")=1,COUNTIFS($R$6:$R$605,R88,$H$6:$H$605,"Nachmittag")=1))),"Person doppelt","OK")))))))) -> OK | O88: =IF(OR(C88="",I88<>"Bestätigt",M88="Platz gesperrt"),0,IF(H88="Ganztägig",1,0.5)) -> 1 | P88: =IF(OR(C88="",F88="",I88="Storniert"),"",F88&"|"&C88) -> B-05|46297 | Q88: =IF(P88="","",P88&"|"&COUNTIF(P$6:P88,P88)) -> B-05|46297|1 | R88: =IF(OR(C88="",G88="",I88="Storniert"),"",G88&"|"&C88) -> Niklas Wolf|46297 | S88: =IF(R88="","",R88&"|"&COUNTIF(R$6:R88,R88)) -> Niklas Wolf|46297|1 | T88: =IF(G88="","",IFERROR(INDEX(Stammdaten!$O$10:$O$69,MATCH(G88,Stammdaten!$N$10:$N$69,0)),G88)&IF(H88="Vormittag"," (VM)",IF(H88="Nachmittag"," (NM)",""))&IF(I88="Angefragt"," ?","")) -> N. Wolf | U88: =IF(F88="","",F88&IF(H88="Vormittag"," (VM)",IF(H88="Nachmittag"," (NM)",""))&IF(I88="Angefragt"," ?","")) -> B-05
B89: =IF(C89="","",ROW()-5) -> 84 | C89: 46297 | D89: =IF(C89="","",CHOOSE(WEEKDAY(C89,2),"Mo","Di","Mi","Do","Fr","Sa","So")) -> Fr | E89: =IF(C89="","",_xlfn.ISOWEEKNUM(C89)) -> 40 | F89: B-06 | G89: Moritz Keller | H89: Ganztägig | I89: Bestätigt | K89: =IF(G89="","",IFERROR(INDEX(Stammdaten!$P$10:$P$69,MATCH(G89,Stammdaten!$N$10:$N$69,0)),"–")) -> Personal | L89: =IF(F89="","",IFERROR(INDEX(Stammdaten!$D$10:$D$49,MATCH(F89,Stammdaten!$B$10:$B$49,0)),"–")) -> Teamzone Süd | M89: =IF(C89="","",IF(OR(F89="",G89="",I89=""),"unvollständig",IF(I89="Storniert","storniert",IF(WEEKDAY(C89,2)>5,"Wochenende",IF(COUNTIF(Stammdaten!$AD$10:$AD$30,C89)>0,"Feiertag",IF(IFERROR(INDEX(Stammdaten!$I$10:$I$49,MATCH(F89,Stammdaten!$B$10:$B$49,0)),"")="Gesperrt","Platz gesperrt",IF(AND(COUNTIF($P$6:$P$605,P89)>1,NOT(AND(COUNTIF($P$6:$P$605,P89)=2,COUNTIFS($P$6:$P$605,P89,$H$6:$H$605,"Vormittag")=1,COUNTIFS($P$6:$P$605,P89,$H$6:$H$605,"Nachmittag")=1))),"Doppelbuchung",IF(AND(COUNTIF($R$6:$R$605,R89)>1,NOT(AND(COUNTIF($R$6:$R$605,R89)=2,COUNTIFS($R$6:$R$605,R89,$H$6:$H$605,"Vormittag")=1,COUNTIFS($R$6:$R$605,R89,$H$6:$H$605,"Nachmittag")=1))),"Person doppelt","OK")))))))) -> OK | O89: =IF(OR(C89="",I89<>"Bestätigt",M89="Platz gesperrt"),0,IF(H89="Ganztägig",1,0.5)) -> 1 | P89: =IF(OR(C89="",F89="",I89="Storniert"),"",F89&"|"&C89) -> B-06|46297 | Q89: =IF(P89="","",P89&"|"&COUNTIF(P$6:P89,P89)) -> B-06|46297|1 | R89: =IF(OR(C89="",G89="",I89="Storniert"),"",G89&"|"&C89) -> Moritz Keller|46297 | S89: =IF(R89="","",R89&"|"&COUNTIF(R$6:R89,R89)) -> Moritz Keller|46297|1 | T89: =IF(G89="","",IFERROR(INDEX(Stammdaten!$O$10:$O$69,MATCH(G89,Stammdaten!$N$10:$N$69,0)),G89)&IF(H89="Vormittag"," (VM)",IF(H89="Nachmittag"," (NM)",""))&IF(I89="Angefragt"," ?","")) -> M. Keller | U89: =IF(F89="","",F89&IF(H89="Vormittag"," (VM)",IF(H89="Nachmittag"," (NM)",""))&IF(I89="Angefragt"," ?","")) -> B-06
B90: =IF(C90="","",ROW()-5) -> 85 | C90: 46297 | D90: =IF(C90="","",CHOOSE(WEEKDAY(C90,2),"Mo","Di","Mi","Do","Fr","Sa","So")) -> Fr | E90: =IF(C90="","",_xlfn.ISOWEEKNUM(C90)) -> 40 | F90: B-09 | G90: Katharina Busch | H90: Ganztägig | I90: Bestätigt | K90: =IF(G90="","",IFERROR(INDEX(Stammdaten!$P$10:$P$69,MATCH(G90,Stammdaten!$N$10:$N$69,0)),"–")) -> IT | L90: =IF(F90="","",IFERROR(INDEX(Stammdaten!$D$10:$D$49,MATCH(F90,Stammdaten!$B$10:$B$49,0)),"–")) -> Projektfläche | M90: =IF(C90="","",IF(OR(F90="",G90="",I90=""),"unvollständig",IF(I90="Storniert","storniert",IF(WEEKDAY(C90,2)>5,"Wochenende",IF(COUNTIF(Stammdaten!$AD$10:$AD$30,C90)>0,"Feiertag",IF(IFERROR(INDEX(Stammdaten!$I$10:$I$49,MATCH(F90,Stammdaten!$B$10:$B$49,0)),"")="Gesperrt","Platz gesperrt",IF(AND(COUNTIF($P$6:$P$605,P90)>1,NOT(AND(COUNTIF($P$6:$P$605,P90)=2,COUNTIFS($P$6:$P$605,P90,$H$6:$H$605,"Vormittag")=1,COUNTIFS($P$6:$P$605,P90,$H$6:$H$605,"Nachmittag")=1))),"Doppelbuchung",IF(AND(COUNTIF($R$6:$R$605,R90)>1,NOT(AND(COUNTIF($R$6:$R$605,R90)=2,COUNTIFS($R$6:$R$605,R90,$H$6:$H$605,"Vormittag")=1,COUNTIFS($R$6:$R$605,R90,$H$6:$H$605,"Nachmittag")=1))),"Person doppelt","OK")))))))) -> OK | O90: =IF(OR(C90="",I90<>"Bestätigt",M90="Platz gesperrt"),0,IF(H90="Ganztägig",1,0.5)) -> 1 | P90: =IF(OR(C90="",F90="",I90="Storniert"),"",F90&"|"&C90) -> B-09|46297 | Q90: =IF(P90="","",P90&"|"&COUNTIF(P$6:P90,P90)) -> B-09|46297|1 | R90: =IF(OR(C90="",G90="",I90="Storniert"),"",G90&"|"&C90) -> Katharina Busch|46297 | S90: =IF(R90="","",R90&"|"&COUNTIF(R$6:R90,R90)) -> Katharina Busch|46297|1 | T90: =IF(G90="","",IFERROR(INDEX(Stammdaten!$O$10:$O$69,MATCH(G90,Stammdaten!$N$10:$N$69,0)),G90)&IF(H90="Vormittag"," (VM)",IF(H90="Nachmittag"," (NM)",""))&IF(I90="Angefragt"," ?","")) -> K. Busch | U90: =IF(F90="","",F90&IF(H90="Vormittag"," (VM)",IF(H90="Nachmittag"," (NM)",""))&IF(I90="Angefragt"," ?","")) -> B-09
B91: =IF(C91="","",ROW()-5) -> 86 | C91: 46297 | D91: =IF(C91="","",CHOOSE(WEEKDAY(C91,2),"Mo","Di","Mi","Do","Fr","Sa","So")) -> Fr | E91: =IF(C91="","",_xlfn.ISOWEEKNUM(C91)) -> 40 | F91: B-10 | G91: Vanessa Kraft | H91: Ganztägig | I91: Bestätigt | K91: =IF(G91="","",IFERROR(INDEX(Stammdaten!$P$10:$P$69,MATCH(G91,Stammdaten!$N$10:$N$69,0)),"–")) -> Projektmanagement | L91: =IF(F91="","",IFERROR(INDEX(Stammdaten!$D$10:$D$49,MATCH(F91,Stammdaten!$B$10:$B$49,0)),"–")) -> Projektfläche | M91: =IF(C91="","",IF(OR(F91="",G91="",I91=""),"unvollständig",IF(I91="Storniert","storniert",IF(WEEKDAY(C91,2)>5,"Wochenende",IF(COUNTIF(Stammdaten!$AD$10:$AD$30,C91)>0,"Feiertag",IF(IFERROR(INDEX(Stammdaten!$I$10:$I$49,MATCH(F91,Stammdaten!$B$10:$B$49,0)),"")="Gesperrt","Platz gesperrt",IF(AND(COUNTIF($P$6:$P$605,P91)>1,NOT(AND(COUNTIF($P$6:$P$605,P91)=2,COUNTIFS($P$6:$P$605,P91,$H$6:$H$605,"Vormittag")=1,COUNTIFS($P$6:$P$605,P91,$H$6:$H$605,"Nachmittag")=1))),"Doppelbuchung",IF(AND(COUNTIF($R$6:$R$605,R91)>1,NOT(AND(COUNTIF($R$6:$R$605,R91)=2,COUNTIFS($R$6:$R$605,R91,$H$6:$H$605,"Vormittag")=1,COUNTIFS($R$6:$R$605,R91,$H$6:$H$605,"Nachmittag")=1))),"Person doppelt","OK")))))))) -> OK | O91: =IF(OR(C91="",I91<>"Bestätigt",M91="Platz gesperrt"),0,IF(H91="Ganztägig",1,0.5)) -> 1 | P91: =IF(OR(C91="",F91="",I91="Storniert"),"",F91&"|"&C91) -> B-10|46297 | Q91: =IF(P91="","",P91&"|"&COUNTIF(P$6:P91,P91)) -> B-10|46297|1 | R91: =IF(OR(C91="",G91="",I91="Storniert"),"",G91&"|"&C91) -> Vanessa Kraft|46297 | S91: =IF(R91="","",R91&"|"&COUNTIF(R$6:R91,R91)) -> Vanessa Kraft|46297|1 | T91: =IF(G91="","",IFERROR(INDEX(Stammdaten!$O$10:$O$69,MATCH(G91,Stammdaten!$N$10:$N$69,0)),G91)&IF(H91="Vormittag"," (VM)",IF(H91="Nachmittag"," (NM)",""))&IF(I91="Angefragt"," ?","")) -> V. Kraft | U91: =IF(F91="","",F91&IF(H91="Vormittag"," (VM)",IF(H91="Nachmittag"," (NM)",""))&IF(I91="Angefragt"," ?","")) -> B-10
B92: =IF(C92="","",ROW()-5) -> 87 | C92: 46297 | D92: =IF(C92="","",CHOOSE(WEEKDAY(C92,2),"Mo","Di","Mi","Do","Fr","Sa","So")) -> Fr | E92: =IF(C92="","",_xlfn.ISOWEEKNUM(C92)) -> 40 | F92: B-11 | G92: Kevin Brandl | H92: Ganztägig | I92: Bestätigt | K92: =IF(G92="","",IFERROR(INDEX(Stammdaten!$P$10:$P$69,MATCH(G92,Stammdaten!$N$10:$N$69,0)),"–")) -> Projektmanagement | L92: =IF(F92="","",IFERROR(INDEX(Stammdaten!$D$10:$D$49,MATCH(F92,Stammdaten!$B$10:$B$49,0)),"–")) -> Projektfläche | M92: =IF(C92="","",IF(OR(F92="",G92="",I92=""),"unvollständig",IF(I92="Storniert","storniert",IF(WEEKDAY(C92,2)>5,"Wochenende",IF(COUNTIF(Stammdaten!$AD$10:$AD$30,C92)>0,"Feiertag",IF(IFERROR(INDEX(Stammdaten!$I$10:$I$49,MATCH(F92,Stammdaten!$B$10:$B$49,0)),"")="Gesperrt","Platz gesperrt",IF(AND(COUNTIF($P$6:$P$605,P92)>1,NOT(AND(COUNTIF($P$6:$P$605,P92)=2,COUNTIFS($P$6:$P$605,P92,$H$6:$H$605,"Vormittag")=1,COUNTIFS($P$6:$P$605,P92,$H$6:$H$605,"Nachmittag")=1))),"Doppelbuchung",IF(AND(COUNTIF($R$6:$R$605,R92)>1,NOT(AND(COUNTIF($R$6:$R$605,R92)=2,COUNTIFS($R$6:$R$605,R92,$H$6:$H$605,"Vormittag")=1,COUNTIFS($R$6:$R$605,R92,$H$6:$H$605,"Nachmittag")=1))),"Person doppelt","OK")))))))) -> OK | O92: =IF(OR(C92="",I92<>"Bestätigt",M92="Platz gesperrt"),0,IF(H92="Ganztägig",1,0.5)) -> 1 | P92: =IF(OR(C92="",F92="",I92="Storniert"),"",F92&"|"&C92) -> B-11|46297 | Q92: =IF(P92="","",P92&"|"&COUNTIF(P$6:P92,P92)) -> B-11|46297|1 | R92: =IF(OR(C92="",G92="",I92="Storniert"),"",G92&"|"&C92) -> Kevin Brandl|46297 | S92: =IF(R92="","",R92&"|"&COUNTIF(R$6:R92,R92)) -> Kevin Brandl|46297|1 | T92: =IF(G92="","",IFERROR(INDEX(Stammdaten!$O$10:$O$69,MATCH(G92,Stammdaten!$N$10:$N$69,0)),G92)&IF(H92="Vormittag"," (VM)",IF(H92="Nachmittag"," (NM)",""))&IF(I92="Angefragt"," ?","")) -> K. Brandl | U92: =IF(F92="","",F92&IF(H92="Vormittag"," (VM)",IF(H92="Nachmittag"," (NM)",""))&IF(I92="Angefragt"," ?","")) -> B-11
B93: =IF(C93="","",ROW()-5) -> 88 | C93: 46297 | D93: =IF(C93="","",CHOOSE(WEEKDAY(C93,2),"Mo","Di","Mi","Do","Fr","Sa","So")) -> Fr | E93: =IF(C93="","",_xlfn.ISOWEEKNUM(C93)) -> 40 | F93: B-12 | G93: Lukas Pohl | H93: Ganztägig | I93: Bestätigt | K93: =IF(G93="","",IFERROR(INDEX(Stammdaten!$P$10:$P$69,MATCH(G93,Stammdaten!$N$10:$N$69,0)),"–")) -> IT | L93: =IF(F93="","",IFERROR(INDEX(Stammdaten!$D$10:$D$49,MATCH(F93,Stammdaten!$B$10:$B$49,0)),"–")) -> Projektfläche | M93: =IF(C93="","",IF(OR(F93="",G93="",I93=""),"unvollständig",IF(I93="Storniert","storniert",IF(WEEKDAY(C93,2)>5,"Wochenende",IF(COUNTIF(Stammdaten!$AD$10:$AD$30,C93)>0,"Feiertag",IF(IFERROR(INDEX(Stammdaten!$I$10:$I$49,MATCH(F93,Stammdaten!$B$10:$B$49,0)),"")="Gesperrt","Platz gesperrt",IF(AND(COUNTIF($P$6:$P$605,P93)>1,NOT(AND(COUNTIF($P$6:$P$605,P93)=2,COUNTIFS($P$6:$P$605,P93,$H$6:$H$605,"Vormittag")=1,COUNTIFS($P$6:$P$605,P93,$H$6:$H$605,"Nachmittag")=1))),"Doppelbuchung",IF(AND(COUNTIF($R$6:$R$605,R93)>1,NOT(AND(COUNTIF($R$6:$R$605,R93)=2,COUNTIFS($R$6:$R$605,R93,$H$6:$H$605,"Vormittag")=1,COUNTIFS($R$6:$R$605,R93,$H$6:$H$605,"Nachmittag")=1))),"Person doppelt","OK")))))))) -> OK | O93: =IF(OR(C93="",I93<>"Bestätigt",M93="Platz gesperrt"),0,IF(H93="Ganztägig",1,0.5)) -> 1 | P93: =IF(OR(C93="",F93="",I93="Storniert"),"",F93&"|"&C93) -> B-12|46297 | Q93: =IF(P93="","",P93&"|"&COUNTIF(P$6:P93,P93)) -> B-12|46297|1 | R93: =IF(OR(C93="",G93="",I93="Storniert"),"",G93&"|"&C93) -> Lukas Pohl|46297 | S93: =IF(R93="","",R93&"|"&COUNTIF(R$6:R93,R93)) -> Lukas Pohl|46297|1 | T93: =IF(G93="","",IFERROR(INDEX(Stammdaten!$O$10:$O$69,MATCH(G93,Stammdaten!$N$10:$N$69,0)),G93)&IF(H93="Vormittag"," (VM)",IF(H93="Nachmittag"," (NM)",""))&IF(I93="Angefragt"," ?","")) -> L. Pohl | U93: =IF(F93="","",F93&IF(H93="Vormittag"," (VM)",IF(H93="Nachmittag"," (NM)",""))&IF(I93="Angefragt"," ?","")) -> B-12
B94: =IF(C94="","",ROW()-5) -> 89 | C94: 46300 | D94: =IF(C94="","",CHOOSE(WEEKDAY(C94,2),"Mo","Di","Mi","Do","Fr","Sa","So")) -> Mo | E94: =IF(C94="","",_xlfn.ISOWEEKNUM(C94)) -> 41 | F94: A-01 | G94: Clara Vogt | H94: Ganztägig | I94: Bestätigt | K94: =IF(G94="","",IFERROR(INDEX(Stammdaten!$P$10:$P$69,MATCH(G94,Stammdaten!$N$10:$N$69,0)),"–")) -> Marketing | L94: =IF(F94="","",IFERROR(INDEX(Stammdaten!$D$10:$D$49,MATCH(F94,Stammdaten!$B$10:$B$49,0)),"–")) -> Teamzone Nord | M94: =IF(C94="","",IF(OR(F94="",G94="",I94=""),"unvollständig",IF(I94="Storniert","storniert",IF(WEEKDAY(C94,2)>5,"Wochenende",IF(COUNTIF(Stammdaten!$AD$10:$AD$30,C94)>0,"Feiertag",IF(IFERROR(INDEX(Stammdaten!$I$10:$I$49,MATCH(F94,Stammdaten!$B$10:$B$49,0)),"")="Gesperrt","Platz gesperrt",IF(AND(COUNTIF($P$6:$P$605,P94)>1,NOT(AND(COUNTIF($P$6:$P$605,P94)=2,COUNTIFS($P$6:$P$605,P94,$H$6:$H$605,"Vormittag")=1,COUNTIFS($P$6:$P$605,P94,$H$6:$H$605,"Nachmittag")=1))),"Doppelbuchung",IF(AND(COUNTIF($R$6:$R$605,R94)>1,NOT(AND(COUNTIF($R$6:$R$605,R94)=2,COUNTIFS($R$6:$R$605,R94,$H$6:$H$605,"Vormittag")=1,COUNTIFS($R$6:$R$605,R94,$H$6:$H$605,"Nachmittag")=1))),"Person doppelt","OK")))))))) -> OK | O94: =IF(OR(C94="",I94<>"Bestätigt",M94="Platz gesperrt"),0,IF(H94="Ganztägig",1,0.5)) -> 1 | P94: =IF(OR(C94="",F94="",I94="Storniert"),"",F94&"|"&C94) -> A-01|46300 | Q94: =IF(P94="","",P94&"|"&COUNTIF(P$6:P94,P94)) -> A-01|46300|1 | R94: =IF(OR(C94="",G94="",I94="Storniert"),"",G94&"|"&C94) -> Clara Vogt|46300 | S94: =IF(R94="","",R94&"|"&COUNTIF(R$6:R94,R94)) -> Clara Vogt|46300|1 | T94: =IF(G94="","",IFERROR(INDEX(Stammdaten!$O$10:$O$69,MATCH(G94,Stammdaten!$N$10:$N$69,0)),G94)&IF(H94="Vormittag"," (VM)",IF(H94="Nachmittag"," (NM)",""))&IF(I94="Angefragt"," ?","")) -> C. Vogt | U94: =IF(F94="","",F94&IF(H94="Vormittag"," (VM)",IF(H94="Nachmittag"," (NM)",""))&IF(I94="Angefragt"," ?","")) -> A-01
B95: =IF(C95="","",ROW()-5) -> 90 | C95: 46300 | D95: =IF(C95="","",CHOOSE(WEEKDAY(C95,2),"Mo","Di","Mi","Do","Fr","Sa","So")) -> Mo | E95: =IF(C95="","",_xlfn.ISOWEEKNUM(C95)) -> 41 | F95: A-02 | G95: Felix Engel | H95: Ganztägig | I95: Bestätigt | K95: =IF(G95="","",IFERROR(INDEX(Stammdaten!$P$10:$P$69,MATCH(G95,Stammdaten!$N$10:$N$69,0)),"–")) -> Marketing | L95: =IF(F95="","",IFERROR(INDEX(Stammdaten!$D$10:$D$49,MATCH(F95,Stammdaten!$B$10:$B$49,0)),"–")) -> Teamzone Nord | M95: =IF(C95="","",IF(OR(F95="",G95="",I95=""),"unvollständig",IF(I95="Storniert","storniert",IF(WEEKDAY(C95,2)>5,"Wochenende",IF(COUNTIF(Stammdaten!$AD$10:$AD$30,C95)>0,"Feiertag",IF(IFERROR(INDEX(Stammdaten!$I$10:$I$49,MATCH(F95,Stammdaten!$B$10:$B$49,0)),"")="Gesperrt","Platz gesperrt",IF(AND(COUNTIF($P$6:$P$605,P95)>1,NOT(AND(COUNTIF($P$6:$P$605,P95)=2,COUNTIFS($P$6:$P$605,P95,$H$6:$H$605,"Vormittag")=1,COUNTIFS($P$6:$P$605,P95,$H$6:$H$605,"Nachmittag")=1))),"Doppelbuchung",IF(AND(COUNTIF($R$6:$R$605,R95)>1,NOT(AND(COUNTIF($R$6:$R$605,R95)=2,COUNTIFS($R$6:$R$605,R95,$H$6:$H$605,"Vormittag")=1,COUNTIFS($R$6:$R$605,R95,$H$6:$H$605,"Nachmittag")=1))),"Person doppelt","OK")))))))) -> OK | O95: =IF(OR(C95="",I95<>"Bestätigt",M95="Platz gesperrt"),0,IF(H95="Ganztägig",1,0.5)) -> 1 | P95: =IF(OR(C95="",F95="",I95="Storniert"),"",F95&"|"&C95) -> A-02|46300 | Q95: =IF(P95="","",P95&"|"&COUNTIF(P$6:P95,P95)) -> A-02|46300|1 | R95: =IF(OR(C95="",G95="",I95="Storniert"),"",G95&"|"&C95) -> Felix Engel|46300 | S95: =IF(R95="","",R95&"|"&COUNTIF(R$6:R95,R95)) -> Felix Engel|46300|1 | T95: =IF(G95="","",IFERROR(INDEX(Stammdaten!$O$10:$O$69,MATCH(G95,Stammdaten!$N$10:$N$69,0)),G95)&IF(H95="Vormittag"," (VM)",IF(H95="Nachmittag"," (NM)",""))&IF(I95="Angefragt"," ?","")) -> F. Engel | U95: =IF(F95="","",F95&IF(H95="Vormittag"," (VM)",IF(H95="Nachmittag"," (NM)",""))&IF(I95="Angefragt"," ?","")) -> A-02
B96: =IF(C96="","",ROW()-5) -> 91 | C96: 46300 | D96: =IF(C96="","",CHOOSE(WEEKDAY(C96,2),"Mo","Di","Mi","Do","Fr","Sa","So")) -> Mo | E96: =IF(C96="","",_xlfn.ISOWEEKNUM(C96)) -> 41 | F96: A-03 | G96: Paul Schreiber | H96: Ganztägig | I96: Storniert | J96: Dienstreise | K96: =IF(G96="","",IFERROR(INDEX(Stammdaten!$P$10:$P$69,MATCH(G96,Stammdaten!$N$10:$N$69,0)),"–")) -> Marketing | L96: =IF(F96="","",IFERROR(INDEX(Stammdaten!$D$10:$D$49,MATCH(F96,Stammdaten!$B$10:$B$49,0)),"–")) -> Teamzone Nord | M96: =IF(C96="","",IF(OR(F96="",G96="",I96=""),"unvollständig",IF(I96="Storniert","storniert",IF(WEEKDAY(C96,2)>5,"Wochenende",IF(COUNTIF(Stammdaten!$AD$10:$AD$30,C96)>0,"Feiertag",IF(IFERROR(INDEX(Stammdaten!$I$10:$I$49,MATCH(F96,Stammdaten!$B$10:$B$49,0)),"")="Gesperrt","Platz gesperrt",IF(AND(COUNTIF($P$6:$P$605,P96)>1,NOT(AND(COUNTIF($P$6:$P$605,P96)=2,COUNTIFS($P$6:$P$605,P96,$H$6:$H$605,"Vormittag")=1,COUNTIFS($P$6:$P$605,P96,$H$6:$H$605,"Nachmittag")=1))),"Doppelbuchung",IF(AND(COUNTIF($R$6:$R$605,R96)>1,NOT(AND(COUNTIF($R$6:$R$605,R96)=2,COUNTIFS($R$6:$R$605,R96,$H$6:$H$605,"Vormittag")=1,COUNTIFS($R$6:$R$605,R96,$H$6:$H$605,"Nachmittag")=1))),"Person doppelt","OK")))))))) -> storniert | O96: =IF(OR(C96="",I96<>"Bestätigt",M96="Platz gesperrt"),0,IF(H96="Ganztägig",1,0.5)) -> 0 | P96: =IF(OR(C96="",F96="",I96="Storniert"),"",F96&"|"&C96) | Q96: =IF(P96="","",P96&"|"&COUNTIF(P$6:P96,P96)) | R96: =IF(OR(C96="",G96="",I96="Storniert"),"",G96&"|"&C96) | S96: =IF(R96="","",R96&"|"&COUNTIF(R$6:R96,R96)) | T96: =IF(G96="","",IFERROR(INDEX(Stammdaten!$O$10:$O$69,MATCH(G96,Stammdaten!$N$10:$N$69,0)),G96)&IF(H96="Vormittag"," (VM)",IF(H96="Nachmittag"," (NM)",""))&IF(I96="Angefragt"," ?","")) -> P. Schreiber | U96: =IF(F96="","",F96&IF(H96="Vormittag"," (VM)",IF(H96="Nachmittag"," (NM)",""))&IF(I96="Angefragt"," ?","")) -> A-03
B97: =IF(C97="","",ROW()-5) -> 92 | C97: 46300 | D97: =IF(C97="","",CHOOSE(WEEKDAY(C97,2),"Mo","Di","Mi","Do","Fr","Sa","So")) -> Mo | E97: =IF(C97="","",_xlfn.ISOWEEKNUM(C97)) -> 41 | F97: A-04 | G97: Sophie Brandt | H97: Ganztägig | I97: Bestätigt | K97: =IF(G97="","",IFERROR(INDEX(Stammdaten!$P$10:$P$69,MATCH(G97,Stammdaten!$N$10:$N$69,0)),"–")) -> Vertrieb | L97: =IF(F97="","",IFERROR(INDEX(Stammdaten!$D$10:$D$49,MATCH(F97,Stammdaten!$B$10:$B$49,0)),"–")) -> Teamzone Nord | M97: =IF(C97="","",IF(OR(F97="",G97="",I97=""),"unvollständig",IF(I97="Storniert","storniert",IF(WEEKDAY(C97,2)>5,"Wochenende",IF(COUNTIF(Stammdaten!$AD$10:$AD$30,C97)>0,"Feiertag",IF(IFERROR(INDEX(Stammdaten!$I$10:$I$49,MATCH(F97,Stammdaten!$B$10:$B$49,0)),"")="Gesperrt","Platz gesperrt",IF(AND(COUNTIF($P$6:$P$605,P97)>1,NOT(AND(COUNTIF($P$6:$P$605,P97)=2,COUNTIFS($P$6:$P$605,P97,$H$6:$H$605,"Vormittag")=1,COUNTIFS($P$6:$P$605,P97,$H$6:$H$605,"Nachmittag")=1))),"Doppelbuchung",IF(AND(COUNTIF($R$6:$R$605,R97)>1,NOT(AND(COUNTIF($R$6:$R$605,R97)=2,COUNTIFS($R$6:$R$605,R97,$H$6:$H$605,"Vormittag")=1,COUNTIFS($R$6:$R$605,R97,$H$6:$H$605,"Nachmittag")=1))),"Person doppelt","OK")))))))) -> OK | O97: =IF(OR(C97="",I97<>"Bestätigt",M97="Platz gesperrt"),0,IF(H97="Ganztägig",1,0.5)) -> 1 | P97: =IF(OR(C97="",F97="",I97="Storniert"),"",F97&"|"&C97) -> A-04|46300 | Q97: =IF(P97="","",P97&"|"&COUNTIF(P$6:P97,P97)) -> A-04|46300|1 | R97: =IF(OR(C97="",G97="",I97="Storniert"),"",G97&"|"&C97) -> Sophie Brandt|46300 | S97: =IF(R97="","",R97&"|"&COUNTIF(R$6:R97,R97)) -> Sophie Brandt|46300|1 | T97: =IF(G97="","",IFERROR(INDEX(Stammdaten!$O$10:$O$69,MATCH(G97,Stammdaten!$N$10:$N$69,0)),G97)&IF(H97="Vormittag"," (VM)",IF(H97="Nachmittag"," (NM)",""))&IF(I97="Angefragt"," ?","")) -> S. Brandt | U97: =IF(F97="","",F97&IF(H97="Vormittag"," (VM)",IF(H97="Nachmittag"," (NM)",""))&IF(I97="Angefragt"," ?","")) -> A-04
B98: =IF(C98="","",ROW()-5) -> 93 | C98: 46300 | D98: =IF(C98="","",CHOOSE(WEEKDAY(C98,2),"Mo","Di","Mi","Do","Fr","Sa","So")) -> Mo | E98: =IF(C98="","",_xlfn.ISOWEEKNUM(C98)) -> 41 | F98: A-05 | G98: Miriam Krause | H98: Ganztägig | I98: Bestätigt | K98: =IF(G98="","",IFERROR(INDEX(Stammdaten!$P$10:$P$69,MATCH(G98,Stammdaten!$N$10:$N$69,0)),"–")) -> Vertrieb | L98: =IF(F98="","",IFERROR(INDEX(Stammdaten!$D$10:$D$49,MATCH(F98,Stammdaten!$B$10:$B$49,0)),"–")) -> Teamzone Nord | M98: =IF(C98="","",IF(OR(F98="",G98="",I98=""),"unvollständig",IF(I98="Storniert","storniert",IF(WEEKDAY(C98,2)>5,"Wochenende",IF(COUNTIF(Stammdaten!$AD$10:$AD$30,C98)>0,"Feiertag",IF(IFERROR(INDEX(Stammdaten!$I$10:$I$49,MATCH(F98,Stammdaten!$B$10:$B$49,0)),"")="Gesperrt","Platz gesperrt",IF(AND(COUNTIF($P$6:$P$605,P98)>1,NOT(AND(COUNTIF($P$6:$P$605,P98)=2,COUNTIFS($P$6:$P$605,P98,$H$6:$H$605,"Vormittag")=1,COUNTIFS($P$6:$P$605,P98,$H$6:$H$605,"Nachmittag")=1))),"Doppelbuchung",IF(AND(COUNTIF($R$6:$R$605,R98)>1,NOT(AND(COUNTIF($R$6:$R$605,R98)=2,COUNTIFS($R$6:$R$605,R98,$H$6:$H$605,"Vormittag")=1,COUNTIFS($R$6:$R$605,R98,$H$6:$H$605,"Nachmittag")=1))),"Person doppelt","OK")))))))) -> OK | O98: =IF(OR(C98="",I98<>"Bestätigt",M98="Platz gesperrt"),0,IF(H98="Ganztägig",1,0.5)) -> 1 | P98: =IF(OR(C98="",F98="",I98="Storniert"),"",F98&"|"&C98) -> A-05|46300 | Q98: =IF(P98="","",P98&"|"&COUNTIF(P$6:P98,P98)) -> A-05|46300|1 | R98: =IF(OR(C98="",G98="",I98="Storniert"),"",G98&"|"&C98) -> Miriam Krause|46300 | S98: =IF(R98="","",R98&"|"&COUNTIF(R$6:R98,R98)) -> Miriam Krause|46300|1 | T98: =IF(G98="","",IFERROR(INDEX(Stammdaten!$O$10:$O$69,MATCH(G98,Stammdaten!$N$10:$N$69,0)),G98)&IF(H98="Vormittag"," (VM)",IF(H98="Nachmittag"," (NM)",""))&IF(I98="Angefragt"," ?","")) -> M. Krause | U98: =IF(F98="","",F98&IF(H98="Vormittag"," (VM)",IF(H98="Nachmittag"," (NM)",""))&IF(I98="Angefragt"," ?","")) -> A-05
B99: =IF(C99="","",ROW()-5) -> 94 | C99: 46300 | D99: =IF(C99="","",CHOOSE(WEEKDAY(C99,2),"Mo","Di","Mi","Do","Fr","Sa","So")) -> Mo | E99: =IF(C99="","",_xlfn.ISOWEEKNUM(C99)) -> 41 | F99: A-06 | G99: Nina Albrecht | H99: Ganztägig | I99: Bestätigt | K99: =IF(G99="","",IFERROR(INDEX(Stammdaten!$P$10:$P$69,MATCH(G99,Stammdaten!$N$10:$N$69,0)),"–")) -> Vertrieb | L99: =IF(F99="","",IFERROR(INDEX(Stammdaten!$D$10:$D$49,MATCH(F99,Stammdaten!$B$10:$B$49,0)),"–")) -> Teamzone Nord | M99: =IF(C99="","",IF(OR(F99="",G99="",I99=""),"unvollständig",IF(I99="Storniert","storniert",IF(WEEKDAY(C99,2)>5,"Wochenende",IF(COUNTIF(Stammdaten!$AD$10:$AD$30,C99)>0,"Feiertag",IF(IFERROR(INDEX(Stammdaten!$I$10:$I$49,MATCH(F99,Stammdaten!$B$10:$B$49,0)),"")="Gesperrt","Platz gesperrt",IF(AND(COUNTIF($P$6:$P$605,P99)>1,NOT(AND(COUNTIF($P$6:$P$605,P99)=2,COUNTIFS($P$6:$P$605,P99,$H$6:$H$605,"Vormittag")=1,COUNTIFS($P$6:$P$605,P99,$H$6:$H$605,"Nachmittag")=1))),"Doppelbuchung",IF(AND(COUNTIF($R$6:$R$605,R99)>1,NOT(AND(COUNTIF($R$6:$R$605,R99)=2,COUNTIFS($R$6:$R$605,R99,$H$6:$H$605,"Vormittag")=1,COUNTIFS($R$6:$R$605,R99,$H$6:$H$605,"Nachmittag")=1))),"Person doppelt","OK")))))))) -> OK | O99: =IF(OR(C99="",I99<>"Bestätigt",M99="Platz gesperrt"),0,IF(H99="Ganztägig",1,0.5)) -> 1 | P99: =IF(OR(C99="",F99="",I99="Storniert"),"",F99&"|"&C99) -> A-06|46300 | Q99: =IF(P99="","",P99&"|"&COUNTIF(P$6:P99,P99)) -> A-06|46300|1 | R99: =IF(OR(C99="",G99="",I99="Storniert"),"",G99&"|"&C99) -> Nina Albrecht|46300 | S99: =IF(R99="","",R99&"|"&COUNTIF(R$6:R99,R99)) -> Nina Albrecht|46300|1 | T99: =IF(G99="","",IFERROR(INDEX(Stammdaten!$O$10:$O$69,MATCH(G99,Stammdaten!$N$10:$N$69,0)),G99)&IF(H99="Vormittag"," (VM)",IF(H99="Nachmittag"," (NM)",""))&IF(I99="Angefragt"," ?","")) -> N. Albrecht | U99: =IF(F99="","",F99&IF(H99="Vormittag"," (VM)",IF(H99="Nachmittag"," (NM)",""))&IF(I99="Angefragt"," ?","")) -> A-06
B100: =IF(C100="","",ROW()-5) -> 95 | C100: 46300 | D100: =IF(C100="","",CHOOSE(WEEKDAY(C100,2),"Mo","Di","Mi","Do","Fr","Sa","So")) -> Mo | E100: =IF(C100="","",_xlfn.ISOWEEKNUM(C100)) -> 41 | F100: A-07 | G100: Marco Seidel | H100: Ganztägig | I100: Bestätigt | J100: Abstimmung Projektteam | K100: =IF(G100="","",IFERROR(INDEX(Stammdaten!$P$10:$P$69,MATCH(G100,Stammdaten!$N$10:$N$69,0)),"–")) -> Marketing | L100: =IF(F100="","",IFERROR(INDEX(Stammdaten!$D$10:$D$49,MATCH(F100,Stammdaten!$B$10:$B$49,0)),"–")) -> Teamzone Nord | M100: =IF(C100="","",IF(OR(F100="",G100="",I100=""),"unvollständig",IF(I100="Storniert","storniert",IF(WEEKDAY(C100,2)>5,"Wochenende",IF(COUNTIF(Stammdaten!$AD$10:$AD$30,C100)>0,"Feiertag",IF(IFERROR(INDEX(Stammdaten!$I$10:$I$49,MATCH(F100,Stammdaten!$B$10:$B$49,0)),"")="Gesperrt","Platz gesperrt",IF(AND(COUNTIF($P$6:$P$605,P100)>1,NOT(AND(COUNTIF($P$6:$P$605,P100)=2,COUNTIFS($P$6:$P$605,P100,$H$6:$H$605,"Vormittag")=1,COUNTIFS($P$6:$P$605,P100,$H$6:$H$605,"Nachmittag")=1))),"Doppelbuchung",IF(AND(COUNTIF($R$6:$R$605,R100)>1,NOT(AND(COUNTIF($R$6:$R$605,R100)=2,COUNTIFS($R$6:$R$605,R100,$H$6:$H$605,"Vormittag")=1,COUNTIFS($R$6:$R$605,R100,$H$6:$H$605,"Nachmittag")=1))),"Person doppelt","OK")))))))) -> OK | O100: =IF(OR(C100="",I100<>"Bestätigt",M100="Platz gesperrt"),0,IF(H100="Ganztägig",1,0.5)) -> 1 | P100: =IF(OR(C100="",F100="",I100="Storniert"),"",F100&"|"&C100) -> A-07|46300 | Q100: =IF(P100="","",P100&"|"&COUNTIF(P$6:P100,P100)) -> A-07|46300|1 | R100: =IF(OR(C100="",G100="",I100="Storniert"),"",G100&"|"&C100) -> Marco Seidel|46300 | S100: =IF(R100="","",R100&"|"&COUNTIF(R$6:R100,R100)) -> Marco Seidel|46300|1 | T100: =IF(G100="","",IFERROR(INDEX(Stammdaten!$O$10:$O$69,MATCH(G100,Stammdaten!$N$10:$N$69,0)),G100)&IF(H100="Vormittag"," (VM)",IF(H100="Nachmittag"," (NM)",""))&IF(I100="Angefragt"," ?","")) -> M. Seidel | U100: =IF(F100="","",F100&IF(H100="Vormittag"," (VM)",IF(H100="Nachmittag"," (NM)",""))&IF(I100="Angefragt"," ?","")) -> A-07
B101: =IF(C101="","",ROW()-5) -> 96 | C101: 46300 | D101: =IF(C101="","",CHOOSE(WEEKDAY(C101,2),"Mo","Di","Mi","Do","Fr","Sa","So")) -> Mo | E101: =IF(C101="","",_xlfn.ISOWEEKNUM(C101)) -> 41 | F101: A-08 | G101: Aylin Demir | H101: Ganztägig | I101: Bestätigt | K101: =IF(G101="","",IFERROR(INDEX(Stammdaten!$P$10:$P$69,MATCH(G101,Stammdaten!$N$10:$N$69,0)),"–")) -> Marketing | L101: =IF(F101="","",IFERROR(INDEX(Stammdaten!$D$10:$D$49,MATCH(F101,Stammdaten!$B$10:$B$49,0)),"–")) -> Teamzone Nord | M101: =IF(C101="","",IF(OR(F101="",G101="",I101=""),"unvollständig",IF(I101="Storniert","storniert",IF(WEEKDAY(C101,2)>5,"Wochenende",IF(COUNTIF(Stammdaten!$AD$10:$AD$30,C101)>0,"Feiertag",IF(IFERROR(INDEX(Stammdaten!$I$10:$I$49,MATCH(F101,Stammdaten!$B$10:$B$49,0)),"")="Gesperrt","Platz gesperrt",IF(AND(COUNTIF($P$6:$P$605,P101)>1,NOT(AND(COUNTIF($P$6:$P$605,P101)=2,COUNTIFS($P$6:$P$605,P101,$H$6:$H$605,"Vormittag")=1,COUNTIFS($P$6:$P$605,P101,$H$6:$H$605,"Nachmittag")=1))),"Doppelbuchung",IF(AND(COUNTIF($R$6:$R$605,R101)>1,NOT(AND(COUNTIF($R$6:$R$605,R101)=2,COUNTIFS($R$6:$R$605,R101,$H$6:$H$605,"Vormittag")=1,COUNTIFS($R$6:$R$605,R101,$H$6:$H$605,"Nachmittag")=1))),"Person doppelt","OK")))))))) -> OK | O101: =IF(OR(C101="",I101<>"Bestätigt",M101="Platz gesperrt"),0,IF(H101="Ganztägig",1,0.5)) -> 1 | P101: =IF(OR(C101="",F101="",I101="Storniert"),"",F101&"|"&C101) -> A-08|46300 | Q101: =IF(P101="","",P101&"|"&COUNTIF(P$6:P101,P101)) -> A-08|46300|1 | R101: =IF(OR(C101="",G101="",I101="Storniert"),"",G101&"|"&C101) -> Aylin Demir|46300 | S101: =IF(R101="","",R101&"|"&COUNTIF(R$6:R101,R101)) -> Aylin Demir|46300|1 | T101: =IF(G101="","",IFERROR(INDEX(Stammdaten!$O$10:$O$69,MATCH(G101,Stammdaten!$N$10:$N$69,0)),G101)&IF(H101="Vormittag"," (VM)",IF(H101="Nachmittag"," (NM)",""))&IF(I101="Angefragt"," ?","")) -> A. Demir | U101: =IF(F101="","",F101&IF(H101="Vormittag"," (VM)",IF(H101="Nachmittag"," (NM)",""))&IF(I101="Angefragt"," ?","")) -> A-08
