Workbook

Sheet Belegungsplan
B2: Desk Sharing - Belegungsplan | P2: DESK SHARING · 2026
B3: =Stammdaten!$C$5&" · "&Stammdaten!$C$6 -> Beispielunternehmen GmbH · Hauptsitz – Bürogebäude A
B5: Startdatum | C5: 46307 | E5: → Plan startet am Montag dieser Woche (2 Arbeitswochen) | I5: Legende: | J5: Belegt | L5: Angefragt ? | M5: Konflikt | N5: Gesperrt | O5: Feiertag | P5: Heute
F7: ="KALENDERWOCHE "&_xlfn.ISOWEEKNUM(F8) -> KALENDERWOCHE 42 | L7: ="KALENDERWOCHE "&_xlfn.ISOWEEKNUM(L8) -> KALENDERWOCHE 43
B8: Arbeitsplatz | F8: =$C$5-WEEKDAY($C$5,2)+1 -> 46307 | G8: =$F$8+1 -> 46308 | H8: =$F$8+2 -> 46309 | I8: =$F$8+3 -> 46310 | J8: =$F$8+4 -> 46311 | L8: =$F$8+7 -> 46314 | M8: =$F$8+8 -> 46315 | N8: =$F$8+9 -> 46316 | O8: =$F$8+10 -> 46317 | P8: =$F$8+11 -> 46318
B9: Platz | C9: Etage | D9: Bereich | E9: Ausstattung | F9: =CHOOSE(WEEKDAY(F$8,2),"Montag","Dienstag","Mittwoch","Donnerstag","Freitag","Samstag","Sonntag") -> Montag | G9: =CHOOSE(WEEKDAY(G$8,2),"Montag","Dienstag","Mittwoch","Donnerstag","Freitag","Samstag","Sonntag") -> Dienstag | H9: =CHOOSE(WEEKDAY(H$8,2),"Montag","Dienstag","Mittwoch","Donnerstag","Freitag","Samstag","Sonntag") -> Mittwoch | I9: =CHOOSE(WEEKDAY(I$8,2),"Montag","Dienstag","Mittwoch","Donnerstag","Freitag","Samstag","Sonntag") -> Donnerstag | J9: =CHOOSE(WEEKDAY(J$8,2),"Montag","Dienstag","Mittwoch","Donnerstag","Freitag","Samstag","Sonntag") -> Freitag | L9: =CHOOSE(WEEKDAY(L$8,2),"Montag","Dienstag","Mittwoch","Donnerstag","Freitag","Samstag","Sonntag") -> Montag | M9: =CHOOSE(WEEKDAY(M$8,2),"Montag","Dienstag","Mittwoch","Donnerstag","Freitag","Samstag","Sonntag") -> Dienstag | N9: =CHOOSE(WEEKDAY(N$8,2),"Montag","Dienstag","Mittwoch","Donnerstag","Freitag","Samstag","Sonntag") -> Mittwoch | O9: =CHOOSE(WEEKDAY(O$8,2),"Montag","Dienstag","Mittwoch","Donnerstag","Freitag","Samstag","Sonntag") -> Donnerstag | P9: =CHOOSE(WEEKDAY(P$8,2),"Montag","Dienstag","Mittwoch","Donnerstag","Freitag","Samstag","Sonntag") -> Freitag
B10: =IF(Stammdaten!$B10="","",Stammdaten!$B10) -> A-01 | C10: =IF($B10="","",Stammdaten!$C10) -> 1. OG | D10: =IF($B10="","",Stammdaten!$D10) -> Teamzone Nord | E10: =IF($B10="","",Stammdaten!$F10&" Mon."&IF(Stammdaten!$G10="Ja"," · Dock","")&IF(Stammdaten!$H10="Ja"," · HV","")) -> 2 Mon. · Dock | F10: =IF($B10="","",IF(Stammdaten!$I10="Gesperrt","gesperrt",IF(COUNTIF(Stammdaten!$AD$10:$AD$30,F$8)>0,"Feiertag",IFERROR(INDEX(Buchungen!$T$6:$T$605,MATCH($B10&"|"&F$8&"|1",Buchungen!$Q$6:$Q$605,0)),"")&IFERROR(" / "&INDEX(Buchungen!$T$6:$T$605,MATCH($B10&"|"&F$8&"|2",Buchungen!$Q$6:$Q$605,0)),"")))) -> J. Weber | G10: =IF($B10="","",IF(Stammdaten!$I10="Gesperrt","gesperrt",IF(COUNTIF(Stammdaten!$AD$10:$AD$30,G$8)>0,"Feiertag",IFERROR(INDEX(Buchungen!$T$6:$T$605,MATCH($B10&"|"&G$8&"|1",Buchungen!$Q$6:$Q$605,0)),"")&IFERROR(" / "&INDEX(Buchungen!$T$6:$T$605,MATCH($B10&"|"&G$8&"|2",Buchungen!$Q$6:$Q$605,0)),"")))) | H10: =IF($B10="","",IF(Stammdaten!$I10="Gesperrt","gesperrt",IF(COUNTIF(Stammdaten!$AD$10:$AD$30,H$8)>0,"Feiertag",IFERROR(INDEX(Buchungen!$T$6:$T$605,MATCH($B10&"|"&H$8&"|1",Buchungen!$Q$6:$Q$605,0)),"")&IFERROR(" / "&INDEX(Buchungen!$T$6:$T$605,MATCH($B10&"|"&H$8&"|2",Buchungen!$Q$6:$Q$605,0)),"")))) -> J. Weber | I10: =IF($B10="","",IF(Stammdaten!$I10="Gesperrt","gesperrt",IF(COUNTIF(Stammdaten!$AD$10:$AD$30,I$8)>0,"Feiertag",IFERROR(INDEX(Buchungen!$T$6:$T$605,MATCH($B10&"|"&I$8&"|1",Buchungen!$Q$6:$Q$605,0)),"")&IFERROR(" / "&INDEX(Buchungen!$T$6:$T$605,MATCH($B10&"|"&I$8&"|2",Buchungen!$Q$6:$Q$605,0)),"")))) -> M. Seidel | J10: =IF($B10="","",IF(Stammdaten!$I10="Gesperrt","gesperrt",IF(COUNTIF(Stammdaten!$AD$10:$AD$30,J$8)>0,"Feiertag",IFERROR(INDEX(Buchungen!$T$6:$T$605,MATCH($B10&"|"&J$8&"|1",Buchungen!$Q$6:$Q$605,0)),"")&IFERROR(" / "&INDEX(Buchungen!$T$6:$T$605,MATCH($B10&"|"&J$8&"|2",Buchungen!$Q$6:$Q$605,0)),"")))) -> F. Engel | L10: =IF($B10="","",IF(Stammdaten!$I10="Gesperrt","gesperrt",IF(COUNTIF(Stammdaten!$AD$10:$AD$30,L$8)>0,"Feiertag",IFERROR(INDEX(Buchungen!$T$6:$T$605,MATCH($B10&"|"&L$8&"|1",Buchungen!$Q$6:$Q$605,0)),"")&IFERROR(" / "&INDEX(Buchungen!$T$6:$T$605,MATCH($B10&"|"&L$8&"|2",Buchungen!$Q$6:$Q$605,0)),"")))) -> M. Seidel | M10: =IF($B10="","",IF(Stammdaten!$I10="Gesperrt","gesperrt",IF(COUNTIF(Stammdaten!$AD$10:$AD$30,M$8)>0,"Feiertag",IFERROR(INDEX(Buchungen!$T$6:$T$605,MATCH($B10&"|"&M$8&"|1",Buchungen!$Q$6:$Q$605,0)),"")&IFERROR(" / "&INDEX(Buchungen!$T$6:$T$605,MATCH($B10&"|"&M$8&"|2",Buchungen!$Q$6:$Q$605,0)),"")))) -> M. Seidel | N10: =IF($B10="","",IF(Stammdaten!$I10="Gesperrt","gesperrt",IF(COUNTIF(Stammdaten!$AD$10:$AD$30,N$8)>0,"Feiertag",IFERROR(INDEX(Buchungen!$T$6:$T$605,MATCH($B10&"|"&N$8&"|1",Buchungen!$Q$6:$Q$605,0)),"")&IFERROR(" / "&INDEX(Buchungen!$T$6:$T$605,MATCH($B10&"|"&N$8&"|2",Buchungen!$Q$6:$Q$605,0)),"")))) | O10: =IF($B10="","",IF(Stammdaten!$I10="Gesperrt","gesperrt",IF(COUNTIF(Stammdaten!$AD$10:$AD$30,O$8)>0,"Feiertag",IFERROR(INDEX(Buchungen!$T$6:$T$605,MATCH($B10&"|"&O$8&"|1",Buchungen!$Q$6:$Q$605,0)),"")&IFERROR(" / "&INDEX(Buchungen!$T$6:$T$605,MATCH($B10&"|"&O$8&"|2",Buchungen!$Q$6:$Q$605,0)),"")))) -> A. Demir | P10: =IF($B10="","",IF(Stammdaten!$I10="Gesperrt","gesperrt",IF(COUNTIF(Stammdaten!$AD$10:$AD$30,P$8)>0,"Feiertag",IFERROR(INDEX(Buchungen!$T$6:$T$605,MATCH($B10&"|"&P$8&"|1",Buchungen!$Q$6:$Q$605,0)),"")&IFERROR(" / "&INDEX(Buchungen!$T$6:$T$605,MATCH($B10&"|"&P$8&"|2",Buchungen!$Q$6:$Q$605,0)),"")))) -> M. Seidel
B11: =IF(Stammdaten!$B11="","",Stammdaten!$B11) -> A-02 | C11: =IF($B11="","",Stammdaten!$C11) -> 1. OG | D11: =IF($B11="","",Stammdaten!$D11) -> Teamzone Nord | E11: =IF($B11="","",Stammdaten!$F11&" Mon."&IF(Stammdaten!$G11="Ja"," · Dock","")&IF(Stammdaten!$H11="Ja"," · HV","")) -> 2 Mon. · Dock | F11: =IF($B11="","",IF(Stammdaten!$I11="Gesperrt","gesperrt",IF(COUNTIF(Stammdaten!$AD$10:$AD$30,F$8)>0,"Feiertag",IFERROR(INDEX(Buchungen!$T$6:$T$605,MATCH($B11&"|"&F$8&"|1",Buchungen!$Q$6:$Q$605,0)),"")&IFERROR(" / "&INDEX(Buchungen!$T$6:$T$605,MATCH($B11&"|"&F$8&"|2",Buchungen!$Q$6:$Q$605,0)),"")))) -> P. Schreiber | G11: =IF($B11="","",IF(Stammdaten!$I11="Gesperrt","gesperrt",IF(COUNTIF(Stammdaten!$AD$10:$AD$30,G$8)>0,"Feiertag",IFERROR(INDEX(Buchungen!$T$6:$T$605,MATCH($B11&"|"&G$8&"|1",Buchungen!$Q$6:$Q$605,0)),"")&IFERROR(" / "&INDEX(Buchungen!$T$6:$T$605,MATCH($B11&"|"&G$8&"|2",Buchungen!$Q$6:$Q$605,0)),"")))) -> F. Engel | H11: =IF($B11="","",IF(Stammdaten!$I11="Gesperrt","gesperrt",IF(COUNTIF(Stammdaten!$AD$10:$AD$30,H$8)>0,"Feiertag",IFERROR(INDEX(Buchungen!$T$6:$T$605,MATCH($B11&"|"&H$8&"|1",Buchungen!$Q$6:$Q$605,0)),"")&IFERROR(" / "&INDEX(Buchungen!$T$6:$T$605,MATCH($B11&"|"&H$8&"|2",Buchungen!$Q$6:$Q$605,0)),"")))) -> N. Albrecht | I11: =IF($B11="","",IF(Stammdaten!$I11="Gesperrt","gesperrt",IF(COUNTIF(Stammdaten!$AD$10:$AD$30,I$8)>0,"Feiertag",IFERROR(INDEX(Buchungen!$T$6:$T$605,MATCH($B11&"|"&I$8&"|1",Buchungen!$Q$6:$Q$605,0)),"")&IFERROR(" / "&INDEX(Buchungen!$T$6:$T$605,MATCH($B11&"|"&I$8&"|2",Buchungen!$Q$6:$Q$605,0)),"")))) -> L. Hartmann | J11: =IF($B11="","",IF(Stammdaten!$I11="Gesperrt","gesperrt",IF(COUNTIF(Stammdaten!$AD$10:$AD$30,J$8)>0,"Feiertag",IFERROR(INDEX(Buchungen!$T$6:$T$605,MATCH($B11&"|"&J$8&"|1",Buchungen!$Q$6:$Q$605,0)),"")&IFERROR(" / "&INDEX(Buchungen!$T$6:$T$605,MATCH($B11&"|"&J$8&"|2",Buchungen!$Q$6:$Q$605,0)),"")))) -> L. Hartmann | L11: =IF($B11="","",IF(Stammdaten!$I11="Gesperrt","gesperrt",IF(COUNTIF(Stammdaten!$AD$10:$AD$30,L$8)>0,"Feiertag",IFERROR(INDEX(Buchungen!$T$6:$T$605,MATCH($B11&"|"&L$8&"|1",Buchungen!$Q$6:$Q$605,0)),"")&IFERROR(" / "&INDEX(Buchungen!$T$6:$T$605,MATCH($B11&"|"&L$8&"|2",Buchungen!$Q$6:$Q$605,0)),"")))) -> N. Albrecht | M11: =IF($B11="","",IF(Stammdaten!$I11="Gesperrt","gesperrt",IF(COUNTIF(Stammdaten!$AD$10:$AD$30,M$8)>0,"Feiertag",IFERROR(INDEX(Buchungen!$T$6:$T$605,MATCH($B11&"|"&M$8&"|1",Buchungen!$Q$6:$Q$605,0)),"")&IFERROR(" / "&INDEX(Buchungen!$T$6:$T$605,MATCH($B11&"|"&M$8&"|2",Buchungen!$Q$6:$Q$605,0)),"")))) -> P. Schreiber | N11: =IF($B11="","",IF(Stammdaten!$I11="Gesperrt","gesperrt",IF(COUNTIF(Stammdaten!$AD$10:$AD$30,N$8)>0,"Feiertag",IFERROR(INDEX(Buchungen!$T$6:$T$605,MATCH($B11&"|"&N$8&"|1",Buchungen!$Q$6:$Q$605,0)),"")&IFERROR(" / "&INDEX(Buchungen!$T$6:$T$605,MATCH($B11&"|"&N$8&"|2",Buchungen!$Q$6:$Q$605,0)),"")))) -> L. Hartmann | O11: =IF($B11="","",IF(Stammdaten!$I11="Gesperrt","gesperrt",IF(COUNTIF(Stammdaten!$AD$10:$AD$30,O$8)>0,"Feiertag",IFERROR(INDEX(Buchungen!$T$6:$T$605,MATCH($B11&"|"&O$8&"|1",Buchungen!$Q$6:$Q$605,0)),"")&IFERROR(" / "&INDEX(Buchungen!$T$6:$T$605,MATCH($B11&"|"&O$8&"|2",Buchungen!$Q$6:$Q$605,0)),"")))) -> N. Albrecht | P11: =IF($B11="","",IF(Stammdaten!$I11="Gesperrt","gesperrt",IF(COUNTIF(Stammdaten!$AD$10:$AD$30,P$8)>0,"Feiertag",IFERROR(INDEX(Buchungen!$T$6:$T$605,MATCH($B11&"|"&P$8&"|1",Buchungen!$Q$6:$Q$605,0)),"")&IFERROR(" / "&INDEX(Buchungen!$T$6:$T$605,MATCH($B11&"|"&P$8&"|2",Buchungen!$Q$6:$Q$605,0)),"")))) -> F. Engel
B12: =IF(Stammdaten!$B12="","",Stammdaten!$B12) -> A-03 | C12: =IF($B12="","",Stammdaten!$C12) -> 1. OG | D12: =IF($B12="","",Stammdaten!$D12) -> Teamzone Nord | E12: =IF($B12="","",Stammdaten!$F12&" Mon."&IF(Stammdaten!$G12="Ja"," · Dock","")&IF(Stammdaten!$H12="Ja"," · HV","")) -> 2 Mon. · Dock · HV | F12: =IF($B12="","",IF(Stammdaten!$I12="Gesperrt","gesperrt",IF(COUNTIF(Stammdaten!$AD$10:$AD$30,F$8)>0,"Feiertag",IFERROR(INDEX(Buchungen!$T$6:$T$605,MATCH($B12&"|"&F$8&"|1",Buchungen!$Q$6:$Q$605,0)),"")&IFERROR(" / "&INDEX(Buchungen!$T$6:$T$605,MATCH($B12&"|"&F$8&"|2",Buchungen!$Q$6:$Q$605,0)),"")))) | G12: =IF($B12="","",IF(Stammdaten!$I12="Gesperrt","gesperrt",IF(COUNTIF(Stammdaten!$AD$10:$AD$30,G$8)>0,"Feiertag",IFERROR(INDEX(Buchungen!$T$6:$T$605,MATCH($B12&"|"&G$8&"|1",Buchungen!$Q$6:$Q$605,0)),"")&IFERROR(" / "&INDEX(Buchungen!$T$6:$T$605,MATCH($B12&"|"&G$8&"|2",Buchungen!$Q$6:$Q$605,0)),"")))) | H12: =IF($B12="","",IF(Stammdaten!$I12="Gesperrt","gesperrt",IF(COUNTIF(Stammdaten!$AD$10:$AD$30,H$8)>0,"Feiertag",IFERROR(INDEX(Buchungen!$T$6:$T$605,MATCH($B12&"|"&H$8&"|1",Buchungen!$Q$6:$Q$605,0)),"")&IFERROR(" / "&INDEX(Buchungen!$T$6:$T$605,MATCH($B12&"|"&H$8&"|2",Buchungen!$Q$6:$Q$605,0)),"")))) -> M. Krause | I12: =IF($B12="","",IF(Stammdaten!$I12="Gesperrt","gesperrt",IF(COUNTIF(Stammdaten!$AD$10:$AD$30,I$8)>0,"Feiertag",IFERROR(INDEX(Buchungen!$T$6:$T$605,MATCH($B12&"|"&I$8&"|1",Buchungen!$Q$6:$Q$605,0)),"")&IFERROR(" / "&INDEX(Buchungen!$T$6:$T$605,MATCH($B12&"|"&I$8&"|2",Buchungen!$Q$6:$Q$605,0)),"")))) | J12: =IF($B12="","",IF(Stammdaten!$I12="Gesperrt","gesperrt",IF(COUNTIF(Stammdaten!$AD$10:$AD$30,J$8)>0,"Feiertag",IFERROR(INDEX(Buchungen!$T$6:$T$605,MATCH($B12&"|"&J$8&"|1",Buchungen!$Q$6:$Q$605,0)),"")&IFERROR(" / "&INDEX(Buchungen!$T$6:$T$605,MATCH($B12&"|"&J$8&"|2",Buchungen!$Q$6:$Q$605,0)),"")))) -> A. Demir | L12: =IF($B12="","",IF(Stammdaten!$I12="Gesperrt","gesperrt",IF(COUNTIF(Stammdaten!$AD$10:$AD$30,L$8)>0,"Feiertag",IFERROR(INDEX(Buchungen!$T$6:$T$605,MATCH($B12&"|"&L$8&"|1",Buchungen!$Q$6:$Q$605,0)),"")&IFERROR(" / "&INDEX(Buchungen!$T$6:$T$605,MATCH($B12&"|"&L$8&"|2",Buchungen!$Q$6:$Q$605,0)),"")))) -> P. Schreiber | M12: =IF($B12="","",IF(Stammdaten!$I12="Gesperrt","gesperrt",IF(COUNTIF(Stammdaten!$AD$10:$AD$30,M$8)>0,"Feiertag",IFERROR(INDEX(Buchungen!$T$6:$T$605,MATCH($B12&"|"&M$8&"|1",Buchungen!$Q$6:$Q$605,0)),"")&IFERROR(" / "&INDEX(Buchungen!$T$6:$T$605,MATCH($B12&"|"&M$8&"|2",Buchungen!$Q$6:$Q$605,0)),"")))) | N12: =IF($B12="","",IF(Stammdaten!$I12="Gesperrt","gesperrt",IF(COUNTIF(Stammdaten!$AD$10:$AD$30,N$8)>0,"Feiertag",IFERROR(INDEX(Buchungen!$T$6:$T$605,MATCH($B12&"|"&N$8&"|1",Buchungen!$Q$6:$Q$605,0)),"")&IFERROR(" / "&INDEX(Buchungen!$T$6:$T$605,MATCH($B12&"|"&N$8&"|2",Buchungen!$Q$6:$Q$605,0)),"")))) -> T. Lindner | O12: =IF($B12="","",IF(Stammdaten!$I12="Gesperrt","gesperrt",IF(COUNTIF(Stammdaten!$AD$10:$AD$30,O$8)>0,"Feiertag",IFERROR(INDEX(Buchungen!$T$6:$T$605,MATCH($B12&"|"&O$8&"|1",Buchungen!$Q$6:$Q$605,0)),"")&IFERROR(" / "&INDEX(Buchungen!$T$6:$T$605,MATCH($B12&"|"&O$8&"|2",Buchungen!$Q$6:$Q$605,0)),"")))) -> M. Keller | P12: =IF($B12="","",IF(Stammdaten!$I12="Gesperrt","gesperrt",IF(COUNTIF(Stammdaten!$AD$10:$AD$30,P$8)>0,"Feiertag",IFERROR(INDEX(Buchungen!$T$6:$T$605,MATCH($B12&"|"&P$8&"|1",Buchungen!$Q$6:$Q$605,0)),"")&IFERROR(" / "&INDEX(Buchungen!$T$6:$T$605,MATCH($B12&"|"&P$8&"|2",Buchungen!$Q$6:$Q$605,0)),""))))
B13: =IF(Stammdaten!$B13="","",Stammdaten!$B13) -> A-04 | C13: =IF($B13="","",Stammdaten!$C13) -> 1. OG | D13: =IF($B13="","",Stammdaten!$D13) -> Teamzone Nord | E13: =IF($B13="","",Stammdaten!$F13&" Mon."&IF(Stammdaten!$G13="Ja"," · Dock","")&IF(Stammdaten!$H13="Ja"," · HV","")) -> 2 Mon. · Dock | F13: =IF($B13="","",IF(Stammdaten!$I13="Gesperrt","gesperrt",IF(COUNTIF(Stammdaten!$AD$10:$AD$30,F$8)>0,"Feiertag",IFERROR(INDEX(Buchungen!$T$6:$T$605,MATCH($B13&"|"&F$8&"|1",Buchungen!$Q$6:$Q$605,0)),"")&IFERROR(" / "&INDEX(Buchungen!$T$6:$T$605,MATCH($B13&"|"&F$8&"|2",Buchungen!$Q$6:$Q$605,0)),"")))) -> M. Krause | G13: =IF($B13="","",IF(Stammdaten!$I13="Gesperrt","gesperrt",IF(COUNTIF(Stammdaten!$AD$10:$AD$30,G$8)>0,"Feiertag",IFERROR(INDEX(Buchungen!$T$6:$T$605,MATCH($B13&"|"&G$8&"|1",Buchungen!$Q$6:$Q$605,0)),"")&IFERROR(" / "&INDEX(Buchungen!$T$6:$T$605,MATCH($B13&"|"&G$8&"|2",Buchungen!$Q$6:$Q$605,0)),"")))) -> T. Lindner | H13: =IF($B13="","",IF(Stammdaten!$I13="Gesperrt","gesperrt",IF(COUNTIF(Stammdaten!$AD$10:$AD$30,H$8)>0,"Feiertag",IFERROR(INDEX(Buchungen!$T$6:$T$605,MATCH($B13&"|"&H$8&"|1",Buchungen!$Q$6:$Q$605,0)),"")&IFERROR(" / "&INDEX(Buchungen!$T$6:$T$605,MATCH($B13&"|"&H$8&"|2",Buchungen!$Q$6:$Q$605,0)),"")))) -> C. Vogt | I13: =IF($B13="","",IF(Stammdaten!$I13="Gesperrt","gesperrt",IF(COUNTIF(Stammdaten!$AD$10:$AD$30,I$8)>0,"Feiertag",IFERROR(INDEX(Buchungen!$T$6:$T$605,MATCH($B13&"|"&I$8&"|1",Buchungen!$Q$6:$Q$605,0)),"")&IFERROR(" / "&INDEX(Buchungen!$T$6:$T$605,MATCH($B13&"|"&I$8&"|2",Buchungen!$Q$6:$Q$605,0)),"")))) | J13: =IF($B13="","",IF(Stammdaten!$I13="Gesperrt","gesperrt",IF(COUNTIF(Stammdaten!$AD$10:$AD$30,J$8)>0,"Feiertag",IFERROR(INDEX(Buchungen!$T$6:$T$605,MATCH($B13&"|"&J$8&"|1",Buchungen!$Q$6:$Q$605,0)),"")&IFERROR(" / "&INDEX(Buchungen!$T$6:$T$605,MATCH($B13&"|"&J$8&"|2",Buchungen!$Q$6:$Q$605,0)),"")))) -> T. Lindner | L13: =IF($B13="","",IF(Stammdaten!$I13="Gesperrt","gesperrt",IF(COUNTIF(Stammdaten!$AD$10:$AD$30,L$8)>0,"Feiertag",IFERROR(INDEX(Buchungen!$T$6:$T$605,MATCH($B13&"|"&L$8&"|1",Buchungen!$Q$6:$Q$605,0)),"")&IFERROR(" / "&INDEX(Buchungen!$T$6:$T$605,MATCH($B13&"|"&L$8&"|2",Buchungen!$Q$6:$Q$605,0)),"")))) -> S. Brandt | M13: =IF($B13="","",IF(Stammdaten!$I13="Gesperrt","gesperrt",IF(COUNTIF(Stammdaten!$AD$10:$AD$30,M$8)>0,"Feiertag",IFERROR(INDEX(Buchungen!$T$6:$T$605,MATCH($B13&"|"&M$8&"|1",Buchungen!$Q$6:$Q$605,0)),"")&IFERROR(" / "&INDEX(Buchungen!$T$6:$T$605,MATCH($B13&"|"&M$8&"|2",Buchungen!$Q$6:$Q$605,0)),"")))) -> L. Hartmann | N13: =IF($B13="","",IF(Stammdaten!$I13="Gesperrt","gesperrt",IF(COUNTIF(Stammdaten!$AD$10:$AD$30,N$8)>0,"Feiertag",IFERROR(INDEX(Buchungen!$T$6:$T$605,MATCH($B13&"|"&N$8&"|1",Buchungen!$Q$6:$Q$605,0)),"")&IFERROR(" / "&INDEX(Buchungen!$T$6:$T$605,MATCH($B13&"|"&N$8&"|2",Buchungen!$Q$6:$Q$605,0)),"")))) -> D. Kühn | O13: =IF($B13="","",IF(Stammdaten!$I13="Gesperrt","gesperrt",IF(COUNTIF(Stammdaten!$AD$10:$AD$30,O$8)>0,"Feiertag",IFERROR(INDEX(Buchungen!$T$6:$T$605,MATCH($B13&"|"&O$8&"|1",Buchungen!$Q$6:$Q$605,0)),"")&IFERROR(" / "&INDEX(Buchungen!$T$6:$T$605,MATCH($B13&"|"&O$8&"|2",Buchungen!$Q$6:$Q$605,0)),"")))) -> J. Weber | P13: =IF($B13="","",IF(Stammdaten!$I13="Gesperrt","gesperrt",IF(COUNTIF(Stammdaten!$AD$10:$AD$30,P$8)>0,"Feiertag",IFERROR(INDEX(Buchungen!$T$6:$T$605,MATCH($B13&"|"&P$8&"|1",Buchungen!$Q$6:$Q$605,0)),"")&IFERROR(" / "&INDEX(Buchungen!$T$6:$T$605,MATCH($B13&"|"&P$8&"|2",Buchungen!$Q$6:$Q$605,0)),"")))) -> S. Brandt
B14: =IF(Stammdaten!$B14="","",Stammdaten!$B14) -> A-05 | C14: =IF($B14="","",Stammdaten!$C14) -> 1. OG | D14: =IF($B14="","",Stammdaten!$D14) -> Teamzone Nord | E14: =IF($B14="","",Stammdaten!$F14&" Mon."&IF(Stammdaten!$G14="Ja"," · Dock","")&IF(Stammdaten!$H14="Ja"," · HV","")) -> 2 Mon. · Dock | F14: =IF($B14="","",IF(Stammdaten!$I14="Gesperrt","gesperrt",IF(COUNTIF(Stammdaten!$AD$10:$AD$30,F$8)>0,"Feiertag",IFERROR(INDEX(Buchungen!$T$6:$T$605,MATCH($B14&"|"&F$8&"|1",Buchungen!$Q$6:$Q$605,0)),"")&IFERROR(" / "&INDEX(Buchungen!$T$6:$T$605,MATCH($B14&"|"&F$8&"|2",Buchungen!$Q$6:$Q$605,0)),"")))) -> F. Engel | G14: =IF($B14="","",IF(Stammdaten!$I14="Gesperrt","gesperrt",IF(COUNTIF(Stammdaten!$AD$10:$AD$30,G$8)>0,"Feiertag",IFERROR(INDEX(Buchungen!$T$6:$T$605,MATCH($B14&"|"&G$8&"|1",Buchungen!$Q$6:$Q$605,0)),"")&IFERROR(" / "&INDEX(Buchungen!$T$6:$T$605,MATCH($B14&"|"&G$8&"|2",Buchungen!$Q$6:$Q$605,0)),"")))) -> M. Krause | H14: =IF($B14="","",IF(Stammdaten!$I14="Gesperrt","gesperrt",IF(COUNTIF(Stammdaten!$AD$10:$AD$30,H$8)>0,"Feiertag",IFERROR(INDEX(Buchungen!$T$6:$T$605,MATCH($B14&"|"&H$8&"|1",Buchungen!$Q$6:$Q$605,0)),"")&IFERROR(" / "&INDEX(Buchungen!$T$6:$T$605,MATCH($B14&"|"&H$8&"|2",Buchungen!$Q$6:$Q$605,0)),"")))) -> L. Hartmann | I14: =IF($B14="","",IF(Stammdaten!$I14="Gesperrt","gesperrt",IF(COUNTIF(Stammdaten!$AD$10:$AD$30,I$8)>0,"Feiertag",IFERROR(INDEX(Buchungen!$T$6:$T$605,MATCH($B14&"|"&I$8&"|1",Buchungen!$Q$6:$Q$605,0)),"")&IFERROR(" / "&INDEX(Buchungen!$T$6:$T$605,MATCH($B14&"|"&I$8&"|2",Buchungen!$Q$6:$Q$605,0)),"")))) -> M. Krause | J14: =IF($B14="","",IF(Stammdaten!$I14="Gesperrt","gesperrt",IF(COUNTIF(Stammdaten!$AD$10:$AD$30,J$8)>0,"Feiertag",IFERROR(INDEX(Buchungen!$T$6:$T$605,MATCH($B14&"|"&J$8&"|1",Buchungen!$Q$6:$Q$605,0)),"")&IFERROR(" / "&INDEX(Buchungen!$T$6:$T$605,MATCH($B14&"|"&J$8&"|2",Buchungen!$Q$6:$Q$605,0)),"")))) -> D. Kühn | L14: =IF($B14="","",IF(Stammdaten!$I14="Gesperrt","gesperrt",IF(COUNTIF(Stammdaten!$AD$10:$AD$30,L$8)>0,"Feiertag",IFERROR(INDEX(Buchungen!$T$6:$T$605,MATCH($B14&"|"&L$8&"|1",Buchungen!$Q$6:$Q$605,0)),"")&IFERROR(" / "&INDEX(Buchungen!$T$6:$T$605,MATCH($B14&"|"&L$8&"|2",Buchungen!$Q$6:$Q$605,0)),"")))) -> F. Engel | M14: =IF($B14="","",IF(Stammdaten!$I14="Gesperrt","gesperrt",IF(COUNTIF(Stammdaten!$AD$10:$AD$30,M$8)>0,"Feiertag",IFERROR(INDEX(Buchungen!$T$6:$T$605,MATCH($B14&"|"&M$8&"|1",Buchungen!$Q$6:$Q$605,0)),"")&IFERROR(" / "&INDEX(Buchungen!$T$6:$T$605,MATCH($B14&"|"&M$8&"|2",Buchungen!$Q$6:$Q$605,0)),"")))) -> M. Krause (VM) / J. Weber (NM) | N14: =IF($B14="","",IF(Stammdaten!$I14="Gesperrt","gesperrt",IF(COUNTIF(Stammdaten!$AD$10:$AD$30,N$8)>0,"Feiertag",IFERROR(INDEX(Buchungen!$T$6:$T$605,MATCH($B14&"|"&N$8&"|1",Buchungen!$Q$6:$Q$605,0)),"")&IFERROR(" / "&INDEX(Buchungen!$T$6:$T$605,MATCH($B14&"|"&N$8&"|2",Buchungen!$Q$6:$Q$605,0)),"")))) -> M. Krause ? | O14: =IF($B14="","",IF(Stammdaten!$I14="Gesperrt","gesperrt",IF(COUNTIF(Stammdaten!$AD$10:$AD$30,O$8)>0,"Feiertag",IFERROR(INDEX(Buchungen!$T$6:$T$605,MATCH($B14&"|"&O$8&"|1",Buchungen!$Q$6:$Q$605,0)),"")&IFERROR(" / "&INDEX(Buchungen!$T$6:$T$605,MATCH($B14&"|"&O$8&"|2",Buchungen!$Q$6:$Q$605,0)),"")))) -> M. Krause ? | P14: =IF($B14="","",IF(Stammdaten!$I14="Gesperrt","gesperrt",IF(COUNTIF(Stammdaten!$AD$10:$AD$30,P$8)>0,"Feiertag",IFERROR(INDEX(Buchungen!$T$6:$T$605,MATCH($B14&"|"&P$8&"|1",Buchungen!$Q$6:$Q$605,0)),"")&IFERROR(" / "&INDEX(Buchungen!$T$6:$T$605,MATCH($B14&"|"&P$8&"|2",Buchungen!$Q$6:$Q$605,0)),"")))) -> C. Vogt ?
B15: =IF(Stammdaten!$B15="","",Stammdaten!$B15) -> A-06 | C15: =IF($B15="","",Stammdaten!$C15) -> 1. OG | D15: =IF($B15="","",Stammdaten!$D15) -> Teamzone Nord | E15: =IF($B15="","",Stammdaten!$F15&" Mon."&IF(Stammdaten!$G15="Ja"," · Dock","")&IF(Stammdaten!$H15="Ja"," · HV","")) -> 2 Mon. · Dock · HV | F15: =IF($B15="","",IF(Stammdaten!$I15="Gesperrt","gesperrt",IF(COUNTIF(Stammdaten!$AD$10:$AD$30,F$8)>0,"Feiertag",IFERROR(INDEX(Buchungen!$T$6:$T$605,MATCH($B15&"|"&F$8&"|1",Buchungen!$Q$6:$Q$605,0)),"")&IFERROR(" / "&INDEX(Buchungen!$T$6:$T$605,MATCH($B15&"|"&F$8&"|2",Buchungen!$Q$6:$Q$605,0)),"")))) | G15: =IF($B15="","",IF(Stammdaten!$I15="Gesperrt","gesperrt",IF(COUNTIF(Stammdaten!$AD$10:$AD$30,G$8)>0,"Feiertag",IFERROR(INDEX(Buchungen!$T$6:$T$605,MATCH($B15&"|"&G$8&"|1",Buchungen!$Q$6:$Q$605,0)),"")&IFERROR(" / "&INDEX(Buchungen!$T$6:$T$605,MATCH($B15&"|"&G$8&"|2",Buchungen!$Q$6:$Q$605,0)),"")))) -> P. Schreiber | H15: =IF($B15="","",IF(Stammdaten!$I15="Gesperrt","gesperrt",IF(COUNTIF(Stammdaten!$AD$10:$AD$30,H$8)>0,"Feiertag",IFERROR(INDEX(Buchungen!$T$6:$T$605,MATCH($B15&"|"&H$8&"|1",Buchungen!$Q$6:$Q$605,0)),"")&IFERROR(" / "&INDEX(Buchungen!$T$6:$T$605,MATCH($B15&"|"&H$8&"|2",Buchungen!$Q$6:$Q$605,0)),"")))) -> M. Seidel | I15: =IF($B15="","",IF(Stammdaten!$I15="Gesperrt","gesperrt",IF(COUNTIF(Stammdaten!$AD$10:$AD$30,I$8)>0,"Feiertag",IFERROR(INDEX(Buchungen!$T$6:$T$605,MATCH($B15&"|"&I$8&"|1",Buchungen!$Q$6:$Q$605,0)),"")&IFERROR(" / "&INDEX(Buchungen!$T$6:$T$605,MATCH($B15&"|"&I$8&"|2",Buchungen!$Q$6:$Q$605,0)),"")))) | J15: =IF($B15="","",IF(Stammdaten!$I15="Gesperrt","gesperrt",IF(COUNTIF(Stammdaten!$AD$10:$AD$30,J$8)>0,"Feiertag",IFERROR(INDEX(Buchungen!$T$6:$T$605,MATCH($B15&"|"&J$8&"|1",Buchungen!$Q$6:$Q$605,0)),"")&IFERROR(" / "&INDEX(Buchungen!$T$6:$T$605,MATCH($B15&"|"&J$8&"|2",Buchungen!$Q$6:$Q$605,0)),"")))) -> P. Schreiber | L15: =IF($B15="","",IF(Stammdaten!$I15="Gesperrt","gesperrt",IF(COUNTIF(Stammdaten!$AD$10:$AD$30,L$8)>0,"Feiertag",IFERROR(INDEX(Buchungen!$T$6:$T$605,MATCH($B15&"|"&L$8&"|1",Buchungen!$Q$6:$Q$605,0)),"")&IFERROR(" / "&INDEX(Buchungen!$T$6:$T$605,MATCH($B15&"|"&L$8&"|2",Buchungen!$Q$6:$Q$605,0)),"")))) -> J. Weber | M15: =IF($B15="","",IF(Stammdaten!$I15="Gesperrt","gesperrt",IF(COUNTIF(Stammdaten!$AD$10:$AD$30,M$8)>0,"Feiertag",IFERROR(INDEX(Buchungen!$T$6:$T$605,MATCH($B15&"|"&M$8&"|1",Buchungen!$Q$6:$Q$605,0)),"")&IFERROR(" / "&INDEX(Buchungen!$T$6:$T$605,MATCH($B15&"|"&M$8&"|2",Buchungen!$Q$6:$Q$605,0)),"")))) | N15: =IF($B15="","",IF(Stammdaten!$I15="Gesperrt","gesperrt",IF(COUNTIF(Stammdaten!$AD$10:$AD$30,N$8)>0,"Feiertag",IFERROR(INDEX(Buchungen!$T$6:$T$605,MATCH($B15&"|"&N$8&"|1",Buchungen!$Q$6:$Q$605,0)),"")&IFERROR(" / "&INDEX(Buchungen!$T$6:$T$605,MATCH($B15&"|"&N$8&"|2",Buchungen!$Q$6:$Q$605,0)),"")))) -> P. Schreiber | O15: =IF($B15="","",IF(Stammdaten!$I15="Gesperrt","gesperrt",IF(COUNTIF(Stammdaten!$AD$10:$AD$30,O$8)>0,"Feiertag",IFERROR(INDEX(Buchungen!$T$6:$T$605,MATCH($B15&"|"&O$8&"|1",Buchungen!$Q$6:$Q$605,0)),"")&IFERROR(" / "&INDEX(Buchungen!$T$6:$T$605,MATCH($B15&"|"&O$8&"|2",Buchungen!$Q$6:$Q$605,0)),"")))) | P15: =IF($B15="","",IF(Stammdaten!$I15="Gesperrt","gesperrt",IF(COUNTIF(Stammdaten!$AD$10:$AD$30,P$8)>0,"Feiertag",IFERROR(INDEX(Buchungen!$T$6:$T$605,MATCH($B15&"|"&P$8&"|1",Buchungen!$Q$6:$Q$605,0)),"")&IFERROR(" / "&INDEX(Buchungen!$T$6:$T$605,MATCH($B15&"|"&P$8&"|2",Buchungen!$Q$6:$Q$605,0)),""))))
B16: =IF(Stammdaten!$B16="","",Stammdaten!$B16) -> A-07 | C16: =IF($B16="","",Stammdaten!$C16) -> 1. OG | D16: =IF($B16="","",Stammdaten!$D16) -> Teamzone Nord | E16: =IF($B16="","",Stammdaten!$F16&" Mon."&IF(Stammdaten!$G16="Ja"," · Dock","")&IF(Stammdaten!$H16="Ja"," · HV","")) -> 2 Mon. · Dock | F16: =IF($B16="","",IF(Stammdaten!$I16="Gesperrt","gesperrt",IF(COUNTIF(Stammdaten!$AD$10:$AD$30,F$8)>0,"Feiertag",IFERROR(INDEX(Buchungen!$T$6:$T$605,MATCH($B16&"|"&F$8&"|1",Buchungen!$Q$6:$Q$605,0)),"")&IFERROR(" / "&INDEX(Buchungen!$T$6:$T$605,MATCH($B16&"|"&F$8&"|2",Buchungen!$Q$6:$Q$605,0)),"")))) -> M. Seidel | G16: =IF($B16="","",IF(Stammdaten!$I16="Gesperrt","gesperrt",IF(COUNTIF(Stammdaten!$AD$10:$AD$30,G$8)>0,"Feiertag",IFERROR(INDEX(Buchungen!$T$6:$T$605,MATCH($B16&"|"&G$8&"|1",Buchungen!$Q$6:$Q$605,0)),"")&IFERROR(" / "&INDEX(Buchungen!$T$6:$T$605,MATCH($B16&"|"&G$8&"|2",Buchungen!$Q$6:$Q$605,0)),"")))) -> C. Vogt (VM) / P. Haas (NM) | H16: =IF($B16="","",IF(Stammdaten!$I16="Gesperrt","gesperrt",IF(COUNTIF(Stammdaten!$AD$10:$AD$30,H$8)>0,"Feiertag",IFERROR(INDEX(Buchungen!$T$6:$T$605,MATCH($B16&"|"&H$8&"|1",Buchungen!$Q$6:$Q$605,0)),"")&IFERROR(" / "&INDEX(Buchungen!$T$6:$T$605,MATCH($B16&"|"&H$8&"|2",Buchungen!$Q$6:$Q$605,0)),"")))) -> P. Schreiber | I16: =IF($B16="","",IF(Stammdaten!$I16="Gesperrt","gesperrt",IF(COUNTIF(Stammdaten!$AD$10:$AD$30,I$8)>0,"Feiertag",IFERROR(INDEX(Buchungen!$T$6:$T$605,MATCH($B16&"|"&I$8&"|1",Buchungen!$Q$6:$Q$605,0)),"")&IFERROR(" / "&INDEX(Buchungen!$T$6:$T$605,MATCH($B16&"|"&I$8&"|2",Buchungen!$Q$6:$Q$605,0)),"")))) | J16: =IF($B16="","",IF(Stammdaten!$I16="Gesperrt","gesperrt",IF(COUNTIF(Stammdaten!$AD$10:$AD$30,J$8)>0,"Feiertag",IFERROR(INDEX(Buchungen!$T$6:$T$605,MATCH($B16&"|"&J$8&"|1",Buchungen!$Q$6:$Q$605,0)),"")&IFERROR(" / "&INDEX(Buchungen!$T$6:$T$605,MATCH($B16&"|"&J$8&"|2",Buchungen!$Q$6:$Q$605,0)),"")))) -> N. Albrecht | L16: =IF($B16="","",IF(Stammdaten!$I16="Gesperrt","gesperrt",IF(COUNTIF(Stammdaten!$AD$10:$AD$30,L$8)>0,"Feiertag",IFERROR(INDEX(Buchungen!$T$6:$T$605,MATCH($B16&"|"&L$8&"|1",Buchungen!$Q$6:$Q$605,0)),"")&IFERROR(" / "&INDEX(Buchungen!$T$6:$T$605,MATCH($B16&"|"&L$8&"|2",Buchungen!$Q$6:$Q$605,0)),"")))) -> L. Hartmann | M16: =IF($B16="","",IF(Stammdaten!$I16="Gesperrt","gesperrt",IF(COUNTIF(Stammdaten!$AD$10:$AD$30,M$8)>0,"Feiertag",IFERROR(INDEX(Buchungen!$T$6:$T$605,MATCH($B16&"|"&M$8&"|1",Buchungen!$Q$6:$Q$605,0)),"")&IFERROR(" / "&INDEX(Buchungen!$T$6:$T$605,MATCH($B16&"|"&M$8&"|2",Buchungen!$Q$6:$Q$605,0)),"")))) | N16: =IF($B16="","",IF(Stammdaten!$I16="Gesperrt","gesperrt",IF(COUNTIF(Stammdaten!$AD$10:$AD$30,N$8)>0,"Feiertag",IFERROR(INDEX(Buchungen!$T$6:$T$605,MATCH($B16&"|"&N$8&"|1",Buchungen!$Q$6:$Q$605,0)),"")&IFERROR(" / "&INDEX(Buchungen!$T$6:$T$605,MATCH($B16&"|"&N$8&"|2",Buchungen!$Q$6:$Q$605,0)),"")))) -> F. Engel | O16: =IF($B16="","",IF(Stammdaten!$I16="Gesperrt","gesperrt",IF(COUNTIF(Stammdaten!$AD$10:$AD$30,O$8)>0,"Feiertag",IFERROR(INDEX(Buchungen!$T$6:$T$605,MATCH($B16&"|"&O$8&"|1",Buchungen!$Q$6:$Q$605,0)),"")&IFERROR(" / "&INDEX(Buchungen!$T$6:$T$605,MATCH($B16&"|"&O$8&"|2",Buchungen!$Q$6:$Q$605,0)),"")))) -> C. Vogt | P16: =IF($B16="","",IF(Stammdaten!$I16="Gesperrt","gesperrt",IF(COUNTIF(Stammdaten!$AD$10:$AD$30,P$8)>0,"Feiertag",IFERROR(INDEX(Buchungen!$T$6:$T$605,MATCH($B16&"|"&P$8&"|1",Buchungen!$Q$6:$Q$605,0)),"")&IFERROR(" / "&INDEX(Buchungen!$T$6:$T$605,MATCH($B16&"|"&P$8&"|2",Buchungen!$Q$6:$Q$605,0)),"")))) -> P. Schreiber
B17: =IF(Stammdaten!$B17="","",Stammdaten!$B17) -> A-08 | C17: =IF($B17="","",Stammdaten!$C17) -> 1. OG | D17: =IF($B17="","",Stammdaten!$D17) -> Teamzone Nord | E17: =IF($B17="","",Stammdaten!$F17&" Mon."&IF(Stammdaten!$G17="Ja"," · Dock","")&IF(Stammdaten!$H17="Ja"," · HV","")) -> 2 Mon. · Dock | F17: =IF($B17="","",IF(Stammdaten!$I17="Gesperrt","gesperrt",IF(COUNTIF(Stammdaten!$AD$10:$AD$30,F$8)>0,"Feiertag",IFERROR(INDEX(Buchungen!$T$6:$T$605,MATCH($B17&"|"&F$8&"|1",Buchungen!$Q$6:$Q$605,0)),"")&IFERROR(" / "&INDEX(Buchungen!$T$6:$T$605,MATCH($B17&"|"&F$8&"|2",Buchungen!$Q$6:$Q$605,0)),"")))) | G17: =IF($B17="","",IF(Stammdaten!$I17="Gesperrt","gesperrt",IF(COUNTIF(Stammdaten!$AD$10:$AD$30,G$8)>0,"Feiertag",IFERROR(INDEX(Buchungen!$T$6:$T$605,MATCH($B17&"|"&G$8&"|1",Buchungen!$Q$6:$Q$605,0)),"")&IFERROR(" / "&INDEX(Buchungen!$T$6:$T$605,MATCH($B17&"|"&G$8&"|2",Buchungen!$Q$6:$Q$605,0)),"")))) -> S. Brandt | H17: =IF($B17="","",IF(Stammdaten!$I17="Gesperrt","gesperrt",IF(COUNTIF(Stammdaten!$AD$10:$AD$30,H$8)>0,"Feiertag",IFERROR(INDEX(Buchungen!$T$6:$T$605,MATCH($B17&"|"&H$8&"|1",Buchungen!$Q$6:$Q$605,0)),"")&IFERROR(" / "&INDEX(Buchungen!$T$6:$T$605,MATCH($B17&"|"&H$8&"|2",Buchungen!$Q$6:$Q$605,0)),"")))) -> A. Demir | I17: =IF($B17="","",IF(Stammdaten!$I17="Gesperrt","gesperrt",IF(COUNTIF(Stammdaten!$AD$10:$AD$30,I$8)>0,"Feiertag",IFERROR(INDEX(Buchungen!$T$6:$T$605,MATCH($B17&"|"&I$8&"|1",Buchungen!$Q$6:$Q$605,0)),"")&IFERROR(" / "&INDEX(Buchungen!$T$6:$T$605,MATCH($B17&"|"&I$8&"|2",Buchungen!$Q$6:$Q$605,0)),"")))) -> N. Albrecht | J17: =IF($B17="","",IF(Stammdaten!$I17="Gesperrt","gesperrt",IF(COUNTIF(Stammdaten!$AD$10:$AD$30,J$8)>0,"Feiertag",IFERROR(INDEX(Buchungen!$T$6:$T$605,MATCH($B17&"|"&J$8&"|1",Buchungen!$Q$6:$Q$605,0)),"")&IFERROR(" / "&INDEX(Buchungen!$T$6:$T$605,MATCH($B17&"|"&J$8&"|2",Buchungen!$Q$6:$Q$605,0)),"")))) | L17: =IF($B17="","",IF(Stammdaten!$I17="Gesperrt","gesperrt",IF(COUNTIF(Stammdaten!$AD$10:$AD$30,L$8)>0,"Feiertag",IFERROR(INDEX(Buchungen!$T$6:$T$605,MATCH($B17&"|"&L$8&"|1",Buchungen!$Q$6:$Q$605,0)),"")&IFERROR(" / "&INDEX(Buchungen!$T$6:$T$605,MATCH($B17&"|"&L$8&"|2",Buchungen!$Q$6:$Q$605,0)),"")))) -> A. Demir | M17: =IF($B17="","",IF(Stammdaten!$I17="Gesperrt","gesperrt",IF(COUNTIF(Stammdaten!$AD$10:$AD$30,M$8)>0,"Feiertag",IFERROR(INDEX(Buchungen!$T$6:$T$605,MATCH($B17&"|"&M$8&"|1",Buchungen!$Q$6:$Q$605,0)),"")&IFERROR(" / "&INDEX(Buchungen!$T$6:$T$605,MATCH($B17&"|"&M$8&"|2",Buchungen!$Q$6:$Q$605,0)),"")))) | N17: =IF($B17="","",IF(Stammdaten!$I17="Gesperrt","gesperrt",IF(COUNTIF(Stammdaten!$AD$10:$AD$30,N$8)>0,"Feiertag",IFERROR(INDEX(Buchungen!$T$6:$T$605,MATCH($B17&"|"&N$8&"|1",Buchungen!$Q$6:$Q$605,0)),"")&IFERROR(" / "&INDEX(Buchungen!$T$6:$T$605,MATCH($B17&"|"&N$8&"|2",Buchungen!$Q$6:$Q$605,0)),"")))) -> N. Albrecht ? | O17: =IF($B17="","",IF(Stammdaten!$I17="Gesperrt","gesperrt",IF(COUNTIF(Stammdaten!$AD$10:$AD$30,O$8)>0,"Feiertag",IFERROR(INDEX(Buchungen!$T$6:$T$605,MATCH($B17&"|"&O$8&"|1",Buchungen!$Q$6:$Q$605,0)),"")&IFERROR(" / "&INDEX(Buchungen!$T$6:$T$605,MATCH($B17&"|"&O$8&"|2",Buchungen!$Q$6:$Q$605,0)),"")))) -> S. Brandt | P17: =IF($B17="","",IF(Stammdaten!$I17="Gesperrt","gesperrt",IF(COUNTIF(Stammdaten!$AD$10:$AD$30,P$8)>0,"Feiertag",IFERROR(INDEX(Buchungen!$T$6:$T$605,MATCH($B17&"|"&P$8&"|1",Buchungen!$Q$6:$Q$605,0)),"")&IFERROR(" / "&INDEX(Buchungen!$T$6:$T$605,MATCH($B17&"|"&P$8&"|2",Buchungen!$Q$6:$Q$605,0)),""))))
B18: =IF(Stammdaten!$B18="","",Stammdaten!$B18) -> A-09 | C18: =IF($B18="","",Stammdaten!$C18) -> 1. OG | D18: =IF($B18="","",Stammdaten!$D18) -> Fokuszone | E18: =IF($B18="","",Stammdaten!$F18&" Mon."&IF(Stammdaten!$G18="Ja"," · Dock","")&IF(Stammdaten!$H18="Ja"," · HV","")) -> 1 Mon. · Dock | F18: =IF($B18="","",IF(Stammdaten!$I18="Gesperrt","gesperrt",IF(COUNTIF(Stammdaten!$AD$10:$AD$30,F$8)>0,"Feiertag",IFERROR(INDEX(Buchungen!$T$6:$T$605,MATCH($B18&"|"&F$8&"|1",Buchungen!$Q$6:$Q$605,0)),"")&IFERROR(" / "&INDEX(Buchungen!$T$6:$T$605,MATCH($B18&"|"&F$8&"|2",Buchungen!$Q$6:$Q$605,0)),"")))) | G18: =IF($B18="","",IF(Stammdaten!$I18="Gesperrt","gesperrt",IF(COUNTIF(Stammdaten!$AD$10:$AD$30,G$8)>0,"Feiertag",IFERROR(INDEX(Buchungen!$T$6:$T$605,MATCH($B18&"|"&G$8&"|1",Buchungen!$Q$6:$Q$605,0)),"")&IFERROR(" / "&INDEX(Buchungen!$T$6:$T$605,MATCH($B18&"|"&G$8&"|2",Buchungen!$Q$6:$Q$605,0)),"")))) -> I. Marx | H18: =IF($B18="","",IF(Stammdaten!$I18="Gesperrt","gesperrt",IF(COUNTIF(Stammdaten!$AD$10:$AD$30,H$8)>0,"Feiertag",IFERROR(INDEX(Buchungen!$T$6:$T$605,MATCH($B18&"|"&H$8&"|1",Buchungen!$Q$6:$Q$605,0)),"")&IFERROR(" / "&INDEX(Buchungen!$T$6:$T$605,MATCH($B18&"|"&H$8&"|2",Buchungen!$Q$6:$Q$605,0)),"")))) -> S. Brandt | I18: =IF($B18="","",IF(Stammdaten!$I18="Gesperrt","gesperrt",IF(COUNTIF(Stammdaten!$AD$10:$AD$30,I$8)>0,"Feiertag",IFERROR(INDEX(Buchungen!$T$6:$T$605,MATCH($B18&"|"&I$8&"|1",Buchungen!$Q$6:$Q$605,0)),"")&IFERROR(" / "&INDEX(Buchungen!$T$6:$T$605,MATCH($B18&"|"&I$8&"|2",Buchungen!$Q$6:$Q$605,0)),"")))) -> T. Jung | J18: =IF($B18="","",IF(Stammdaten!$I18="Gesperrt","gesperrt",IF(COUNTIF(Stammdaten!$AD$10:$AD$30,J$8)>0,"Feiertag",IFERROR(INDEX(Buchungen!$T$6:$T$605,MATCH($B18&"|"&J$8&"|1",Buchungen!$Q$6:$Q$605,0)),"")&IFERROR(" / "&INDEX(Buchungen!$T$6:$T$605,MATCH($B18&"|"&J$8&"|2",Buchungen!$Q$6:$Q$605,0)),"")))) -> J. Peters | L18: =IF($B18="","",IF(Stammdaten!$I18="Gesperrt","gesperrt",IF(COUNTIF(Stammdaten!$AD$10:$AD$30,L$8)>0,"Feiertag",IFERROR(INDEX(Buchungen!$T$6:$T$605,MATCH($B18&"|"&L$8&"|1",Buchungen!$Q$6:$Q$605,0)),"")&IFERROR(" / "&INDEX(Buchungen!$T$6:$T$605,MATCH($B18&"|"&L$8&"|2",Buchungen!$Q$6:$Q$605,0)),"")))) -> M. Krause | M18: =IF($B18="","",IF(Stammdaten!$I18="Gesperrt","gesperrt",IF(COUNTIF(Stammdaten!$AD$10:$AD$30,M$8)>0,"Feiertag",IFERROR(INDEX(Buchungen!$T$6:$T$605,MATCH($B18&"|"&M$8&"|1",Buchungen!$Q$6:$Q$605,0)),"")&IFERROR(" / "&INDEX(Buchungen!$T$6:$T$605,MATCH($B18&"|"&M$8&"|2",Buchungen!$Q$6:$Q$605,0)),"")))) -> S. Graf | N18: =IF($B18="","",IF(Stammdaten!$I18="Gesperrt","gesperrt",IF(COUNTIF(Stammdaten!$AD$10:$AD$30,N$8)>0,"Feiertag",IFERROR(INDEX(Buchungen!$T$6:$T$605,MATCH($B18&"|"&N$8&"|1",Buchungen!$Q$6:$Q$605,0)),"")&IFERROR(" / "&INDEX(Buchungen!$T$6:$T$605,MATCH($B18&"|"&N$8&"|2",Buchungen!$Q$6:$Q$605,0)),"")))) -> J. Peters | O18: =IF($B18="","",IF(Stammdaten!$I18="Gesperrt","gesperrt",IF(COUNTIF(Stammdaten!$AD$10:$AD$30,O$8)>0,"Feiertag",IFERROR(INDEX(Buchungen!$T$6:$T$605,MATCH($B18&"|"&O$8&"|1",Buchungen!$Q$6:$Q$605,0)),"")&IFERROR(" / "&INDEX(Buchungen!$T$6:$T$605,MATCH($B18&"|"&O$8&"|2",Buchungen!$Q$6:$Q$605,0)),"")))) | P18: =IF($B18="","",IF(Stammdaten!$I18="Gesperrt","gesperrt",IF(COUNTIF(Stammdaten!$AD$10:$AD$30,P$8)>0,"Feiertag",IFERROR(INDEX(Buchungen!$T$6:$T$605,MATCH($B18&"|"&P$8&"|1",Buchungen!$Q$6:$Q$605,0)),"")&IFERROR(" / "&INDEX(Buchungen!$T$6:$T$605,MATCH($B18&"|"&P$8&"|2",Buchungen!$Q$6:$Q$605,0)),""))))
B19: =IF(Stammdaten!$B19="","",Stammdaten!$B19) -> A-10 | C19: =IF($B19="","",Stammdaten!$C19) -> 1. OG | D19: =IF($B19="","",Stammdaten!$D19) -> Fokuszone | E19: =IF($B19="","",Stammdaten!$F19&" Mon."&IF(Stammdaten!$G19="Ja"," · Dock","")&IF(Stammdaten!$H19="Ja"," · HV","")) -> 2 Mon. · Dock · HV | F19: =IF($B19="","",IF(Stammdaten!$I19="Gesperrt","gesperrt",IF(COUNTIF(Stammdaten!$AD$10:$AD$30,F$8)>0,"Feiertag",IFERROR(INDEX(Buchungen!$T$6:$T$605,MATCH($B19&"|"&F$8&"|1",Buchungen!$Q$6:$Q$605,0)),"")&IFERROR(" / "&INDEX(Buchungen!$T$6:$T$605,MATCH($B19&"|"&F$8&"|2",Buchungen!$Q$6:$Q$605,0)),"")))) -> P. Haas | G19: =IF($B19="","",IF(Stammdaten!$I19="Gesperrt","gesperrt",IF(COUNTIF(Stammdaten!$AD$10:$AD$30,G$8)>0,"Feiertag",IFERROR(INDEX(Buchungen!$T$6:$T$605,MATCH($B19&"|"&G$8&"|1",Buchungen!$Q$6:$Q$605,0)),"")&IFERROR(" / "&INDEX(Buchungen!$T$6:$T$605,MATCH($B19&"|"&G$8&"|2",Buchungen!$Q$6:$Q$605,0)),"")))) | H19: =IF($B19="","",IF(Stammdaten!$I19="Gesperrt","gesperrt",IF(COUNTIF(Stammdaten!$AD$10:$AD$30,H$8)>0,"Feiertag",IFERROR(INDEX(Buchungen!$T$6:$T$605,MATCH($B19&"|"&H$8&"|1",Buchungen!$Q$6:$Q$605,0)),"")&IFERROR(" / "&INDEX(Buchungen!$T$6:$T$605,MATCH($B19&"|"&H$8&"|2",Buchungen!$Q$6:$Q$605,0)),"")))) -> I. Marx | I19: =IF($B19="","",IF(Stammdaten!$I19="Gesperrt","gesperrt",IF(COUNTIF(Stammdaten!$AD$10:$AD$30,I$8)>0,"Feiertag",IFERROR(INDEX(Buchungen!$T$6:$T$605,MATCH($B19&"|"&I$8&"|1",Buchungen!$Q$6:$Q$605,0)),"")&IFERROR(" / "&INDEX(Buchungen!$T$6:$T$605,MATCH($B19&"|"&I$8&"|2",Buchungen!$Q$6:$Q$605,0)),"")))) | J19: =IF($B19="","",IF(Stammdaten!$I19="Gesperrt","gesperrt",IF(COUNTIF(Stammdaten!$AD$10:$AD$30,J$8)>0,"Feiertag",IFERROR(INDEX(Buchungen!$T$6:$T$605,MATCH($B19&"|"&J$8&"|1",Buchungen!$Q$6:$Q$605,0)),"")&IFERROR(" / "&INDEX(Buchungen!$T$6:$T$605,MATCH($B19&"|"&J$8&"|2",Buchungen!$Q$6:$Q$605,0)),"")))) -> L. Sommer | L19: =IF($B19="","",IF(Stammdaten!$I19="Gesperrt","gesperrt",IF(COUNTIF(Stammdaten!$AD$10:$AD$30,L$8)>0,"Feiertag",IFERROR(INDEX(Buchungen!$T$6:$T$605,MATCH($B19&"|"&L$8&"|1",Buchungen!$Q$6:$Q$605,0)),"")&IFERROR(" / "&INDEX(Buchungen!$T$6:$T$605,MATCH($B19&"|"&L$8&"|2",Buchungen!$Q$6:$Q$605,0)),"")))) -> I. Marx | M19: =IF($B19="","",IF(Stammdaten!$I19="Gesperrt","gesperrt",IF(COUNTIF(Stammdaten!$AD$10:$AD$30,M$8)>0,"Feiertag",IFERROR(INDEX(Buchungen!$T$6:$T$605,MATCH($B19&"|"&M$8&"|1",Buchungen!$Q$6:$Q$605,0)),"")&IFERROR(" / "&INDEX(Buchungen!$T$6:$T$605,MATCH($B19&"|"&M$8&"|2",Buchungen!$Q$6:$Q$605,0)),"")))) -> I. Marx | N19: =IF($B19="","",IF(Stammdaten!$I19="Gesperrt","gesperrt",IF(COUNTIF(Stammdaten!$AD$10:$AD$30,N$8)>0,"Feiertag",IFERROR(INDEX(Buchungen!$T$6:$T$605,MATCH($B19&"|"&N$8&"|1",Buchungen!$Q$6:$Q$605,0)),"")&IFERROR(" / "&INDEX(Buchungen!$T$6:$T$605,MATCH($B19&"|"&N$8&"|2",Buchungen!$Q$6:$Q$605,0)),"")))) | O19: =IF($B19="","",IF(Stammdaten!$I19="Gesperrt","gesperrt",IF(COUNTIF(Stammdaten!$AD$10:$AD$30,O$8)>0,"Feiertag",IFERROR(INDEX(Buchungen!$T$6:$T$605,MATCH($B19&"|"&O$8&"|1",Buchungen!$Q$6:$Q$605,0)),"")&IFERROR(" / "&INDEX(Buchungen!$T$6:$T$605,MATCH($B19&"|"&O$8&"|2",Buchungen!$Q$6:$Q$605,0)),"")))) -> I. Marx | P19: =IF($B19="","",IF(Stammdaten!$I19="Gesperrt","gesperrt",IF(COUNTIF(Stammdaten!$AD$10:$AD$30,P$8)>0,"Feiertag",IFERROR(INDEX(Buchungen!$T$6:$T$605,MATCH($B19&"|"&P$8&"|1",Buchungen!$Q$6:$Q$605,0)),"")&IFERROR(" / "&INDEX(Buchungen!$T$6:$T$605,MATCH($B19&"|"&P$8&"|2",Buchungen!$Q$6:$Q$605,0)),"")))) -> K. Brandl ?
B20: =IF(Stammdaten!$B20="","",Stammdaten!$B20) -> A-11 | C20: =IF($B20="","",Stammdaten!$C20) -> 1. OG | D20: =IF($B20="","",Stammdaten!$D20) -> Fokuszone | E20: =IF($B20="","",Stammdaten!$F20&" Mon."&IF(Stammdaten!$G20="Ja"," · Dock","")&IF(Stammdaten!$H20="Ja"," · HV","")) -> 1 Mon. · Dock | F20: =IF($B20="","",IF(Stammdaten!$I20="Gesperrt","gesperrt",IF(COUNTIF(Stammdaten!$AD$10:$AD$30,F$8)>0,"Feiertag",IFERROR(INDEX(Buchungen!$T$6:$T$605,MATCH($B20&"|"&F$8&"|1",Buchungen!$Q$6:$Q$605,0)),"")&IFERROR(" / "&INDEX(Buchungen!$T$6:$T$605,MATCH($B20&"|"&F$8&"|2",Buchungen!$Q$6:$Q$605,0)),"")))) -> T. Jung | G20: =IF($B20="","",IF(Stammdaten!$I20="Gesperrt","gesperrt",IF(COUNTIF(Stammdaten!$AD$10:$AD$30,G$8)>0,"Feiertag",IFERROR(INDEX(Buchungen!$T$6:$T$605,MATCH($B20&"|"&G$8&"|1",Buchungen!$Q$6:$Q$605,0)),"")&IFERROR(" / "&INDEX(Buchungen!$T$6:$T$605,MATCH($B20&"|"&G$8&"|2",Buchungen!$Q$6:$Q$605,0)),"")))) -> T. Jung | H20: =IF($B20="","",IF(Stammdaten!$I20="Gesperrt","gesperrt",IF(COUNTIF(Stammdaten!$AD$10:$AD$30,H$8)>0,"Feiertag",IFERROR(INDEX(Buchungen!$T$6:$T$605,MATCH($B20&"|"&H$8&"|1",Buchungen!$Q$6:$Q$605,0)),"")&IFERROR(" / "&INDEX(Buchungen!$T$6:$T$605,MATCH($B20&"|"&H$8&"|2",Buchungen!$Q$6:$Q$605,0)),"")))) -> L. Sommer | I20: =IF($B20="","",IF(Stammdaten!$I20="Gesperrt","gesperrt",IF(COUNTIF(Stammdaten!$AD$10:$AD$30,I$8)>0,"Feiertag",IFERROR(INDEX(Buchungen!$T$6:$T$605,MATCH($B20&"|"&I$8&"|1",Buchungen!$Q$6:$Q$605,0)),"")&IFERROR(" / "&INDEX(Buchungen!$T$6:$T$605,MATCH($B20&"|"&I$8&"|2",Buchungen!$Q$6:$Q$605,0)),"")))) -> I. Marx / F. Engel | J20: =IF($B20="","",IF(Stammdaten!$I20="Gesperrt","gesperrt",IF(COUNTIF(Stammdaten!$AD$10:$AD$30,J$8)>0,"Feiertag",IFERROR(INDEX(Buchungen!$T$6:$T$605,MATCH($B20&"|"&J$8&"|1",Buchungen!$Q$6:$Q$605,0)),"")&IFERROR(" / "&INDEX(Buchungen!$T$6:$T$605,MATCH($B20&"|"&J$8&"|2",Buchungen!$Q$6:$Q$605,0)),"")))) -> T. Jung | L20: =IF($B20="","",IF(Stammdaten!$I20="Gesperrt","gesperrt",IF(COUNTIF(Stammdaten!$AD$10:$AD$30,L$8)>0,"Feiertag",IFERROR(INDEX(Buchungen!$T$6:$T$605,MATCH($B20&"|"&L$8&"|1",Buchungen!$Q$6:$Q$605,0)),"")&IFERROR(" / "&INDEX(Buchungen!$T$6:$T$605,MATCH($B20&"|"&L$8&"|2",Buchungen!$Q$6:$Q$605,0)),"")))) -> T. Jung | M20: =IF($B20="","",IF(Stammdaten!$I20="Gesperrt","gesperrt",IF(COUNTIF(Stammdaten!$AD$10:$AD$30,M$8)>0,"Feiertag",IFERROR(INDEX(Buchungen!$T$6:$T$605,MATCH($B20&"|"&M$8&"|1",Buchungen!$Q$6:$Q$605,0)),"")&IFERROR(" / "&INDEX(Buchungen!$T$6:$T$605,MATCH($B20&"|"&M$8&"|2",Buchungen!$Q$6:$Q$605,0)),"")))) -> T. Jung | N20: =IF($B20="","",IF(Stammdaten!$I20="Gesperrt","gesperrt",IF(COUNTIF(Stammdaten!$AD$10:$AD$30,N$8)>0,"Feiertag",IFERROR(INDEX(Buchungen!$T$6:$T$605,MATCH($B20&"|"&N$8&"|1",Buchungen!$Q$6:$Q$605,0)),"")&IFERROR(" / "&INDEX(Buchungen!$T$6:$T$605,MATCH($B20&"|"&N$8&"|2",Buchungen!$Q$6:$Q$605,0)),"")))) -> T. Jung | O20: =IF($B20="","",IF(Stammdaten!$I20="Gesperrt","gesperrt",IF(COUNTIF(Stammdaten!$AD$10:$AD$30,O$8)>0,"Feiertag",IFERROR(INDEX(Buchungen!$T$6:$T$605,MATCH($B20&"|"&O$8&"|1",Buchungen!$Q$6:$Q$605,0)),"")&IFERROR(" / "&INDEX(Buchungen!$T$6:$T$605,MATCH($B20&"|"&O$8&"|2",Buchungen!$Q$6:$Q$605,0)),"")))) -> T. Jung | P20: =IF($B20="","",IF(Stammdaten!$I20="Gesperrt","gesperrt",IF(COUNTIF(Stammdaten!$AD$10:$AD$30,P$8)>0,"Feiertag",IFERROR(INDEX(Buchungen!$T$6:$T$605,MATCH($B20&"|"&P$8&"|1",Buchungen!$Q$6:$Q$605,0)),"")&IFERROR(" / "&INDEX(Buchungen!$T$6:$T$605,MATCH($B20&"|"&P$8&"|2",Buchungen!$Q$6:$Q$605,0)),""))))
B21: =IF(Stammdaten!$B21="","",Stammdaten!$B21) -> A-12 | C21: =IF($B21="","",Stammdaten!$C21) -> 1. OG | D21: =IF($B21="","",Stammdaten!$D21) -> Fokuszone | E21: =IF($B21="","",Stammdaten!$F21&" Mon."&IF(Stammdaten!$G21="Ja"," · Dock","")&IF(Stammdaten!$H21="Ja"," · HV","")) -> 2 Mon. · Dock · HV | F21: =IF($B21="","",IF(Stammdaten!$I21="Gesperrt","gesperrt",IF(COUNTIF(Stammdaten!$AD$10:$AD$30,F$8)>0,"Feiertag",IFERROR(INDEX(Buchungen!$T$6:$T$605,MATCH($B21&"|"&F$8&"|1",Buchungen!$Q$6:$Q$605,0)),"")&IFERROR(" / "&INDEX(Buchungen!$T$6:$T$605,MATCH($B21&"|"&F$8&"|2",Buchungen!$Q$6:$Q$605,0)),"")))) | G21: =IF($B21="","",IF(Stammdaten!$I21="Gesperrt","gesperrt",IF(COUNTIF(Stammdaten!$AD$10:$AD$30,G$8)>0,"Feiertag",IFERROR(INDEX(Buchungen!$T$6:$T$605,MATCH($B21&"|"&G$8&"|1",Buchungen!$Q$6:$Q$605,0)),"")&IFERROR(" / "&INDEX(Buchungen!$T$6:$T$605,MATCH($B21&"|"&G$8&"|2",Buchungen!$Q$6:$Q$605,0)),"")))) | H21: =IF($B21="","",IF(Stammdaten!$I21="Gesperrt","gesperrt",IF(COUNTIF(Stammdaten!$AD$10:$AD$30,H$8)>0,"Feiertag",IFERROR(INDEX(Buchungen!$T$6:$T$605,MATCH($B21&"|"&H$8&"|1",Buchungen!$Q$6:$Q$605,0)),"")&IFERROR(" / "&INDEX(Buchungen!$T$6:$T$605,MATCH($B21&"|"&H$8&"|2",Buchungen!$Q$6:$Q$605,0)),"")))) | I21: =IF($B21="","",IF(Stammdaten!$I21="Gesperrt","gesperrt",IF(COUNTIF(Stammdaten!$AD$10:$AD$30,I$8)>0,"Feiertag",IFERROR(INDEX(Buchungen!$T$6:$T$605,MATCH($B21&"|"&I$8&"|1",Buchungen!$Q$6:$Q$605,0)),"")&IFERROR(" / "&INDEX(Buchungen!$T$6:$T$605,MATCH($B21&"|"&I$8&"|2",Buchungen!$Q$6:$Q$605,0)),"")))) -> J. Peters | J21: =IF($B21="","",IF(Stammdaten!$I21="Gesperrt","gesperrt",IF(COUNTIF(Stammdaten!$AD$10:$AD$30,J$8)>0,"Feiertag",IFERROR(INDEX(Buchungen!$T$6:$T$605,MATCH($B21&"|"&J$8&"|1",Buchungen!$Q$6:$Q$605,0)),"")&IFERROR(" / "&INDEX(Buchungen!$T$6:$T$605,MATCH($B21&"|"&J$8&"|2",Buchungen!$Q$6:$Q$605,0)),"")))) -> K. Busch | L21: =IF($B21="","",IF(Stammdaten!$I21="Gesperrt","gesperrt",IF(COUNTIF(Stammdaten!$AD$10:$AD$30,L$8)>0,"Feiertag",IFERROR(INDEX(Buchungen!$T$6:$T$605,MATCH($B21&"|"&L$8&"|1",Buchungen!$Q$6:$Q$605,0)),"")&IFERROR(" / "&INDEX(Buchungen!$T$6:$T$605,MATCH($B21&"|"&L$8&"|2",Buchungen!$Q$6:$Q$605,0)),"")))) -> T. Lindner | M21: =IF($B21="","",IF(Stammdaten!$I21="Gesperrt","gesperrt",IF(COUNTIF(Stammdaten!$AD$10:$AD$30,M$8)>0,"Feiertag",IFERROR(INDEX(Buchungen!$T$6:$T$605,MATCH($B21&"|"&M$8&"|1",Buchungen!$Q$6:$Q$605,0)),"")&IFERROR(" / "&INDEX(Buchungen!$T$6:$T$605,MATCH($B21&"|"&M$8&"|2",Buchungen!$Q$6:$Q$605,0)),"")))) -> K. Brandl ? | N21: =IF($B21="","",IF(Stammdaten!$I21="Gesperrt","gesperrt",IF(COUNTIF(Stammdaten!$AD$10:$AD$30,N$8)>0,"Feiertag",IFERROR(INDEX(Buchungen!$T$6:$T$605,MATCH($B21&"|"&N$8&"|1",Buchungen!$Q$6:$Q$605,0)),"")&IFERROR(" / "&INDEX(Buchungen!$T$6:$T$605,MATCH($B21&"|"&N$8&"|2",Buchungen!$Q$6:$Q$605,0)),"")))) | O21: =IF($B21="","",IF(Stammdaten!$I21="Gesperrt","gesperrt",IF(COUNTIF(Stammdaten!$AD$10:$AD$30,O$8)>0,"Feiertag",IFERROR(INDEX(Buchungen!$T$6:$T$605,MATCH($B21&"|"&O$8&"|1",Buchungen!$Q$6:$Q$605,0)),"")&IFERROR(" / "&INDEX(Buchungen!$T$6:$T$605,MATCH($B21&"|"&O$8&"|2",Buchungen!$Q$6:$Q$605,0)),"")))) -> J. Peters | P21: =IF($B21="","",IF(Stammdaten!$I21="Gesperrt","gesperrt",IF(COUNTIF(Stammdaten!$AD$10:$AD$30,P$8)>0,"Feiertag",IFERROR(INDEX(Buchungen!$T$6:$T$605,MATCH($B21&"|"&P$8&"|1",Buchungen!$Q$6:$Q$605,0)),"")&IFERROR(" / "&INDEX(Buchungen!$T$6:$T$605,MATCH($B21&"|"&P$8&"|2",Buchungen!$Q$6:$Q$605,0)),"")))) -> M. Winter
... B49: =IF(Stammdaten!$B49="","",Stammdaten!$B49) | C49: =IF($B49="","",Stammdaten!$C49) | D49: =IF($B49="","",Stammdaten!$D49) | E49: =IF($B49="","",Stammdaten!$F49&" Mon."&IF(Stammdaten!$G49="Ja"," · Dock","")&IF(Stammdaten!$H49="Ja"," · HV","")) | F49: =IF($B49="","",IF(Stammdaten!$I49="Gesperrt","gesperrt",IF(COUNTIF(Stammdaten!$AD$10:$AD$30,F$8)>0,"Feiertag",IFERROR(INDEX(Buchungen!$T$6:$T$605,MATCH($B49&"|"&F$8&"|1",Buchungen!$Q$6:$Q$605,0)),"")&IFERROR(" / "&INDEX(Buchungen!$T$6:$T$605,MATCH($B49&"|"&F$8&"|2",Buchungen!$Q$6:$Q$605,0)),"")))) | G49: =IF($B49="","",IF(Stammdaten!$I49="Gesperrt","gesperrt",IF(COUNTIF(Stammdaten!$AD$10:$AD$30,G$8)>0,"Feiertag",IFERROR(INDEX(Buchungen!$T$6:$T$605,MATCH($B49&"|"&G$8&"|1",Buchungen!$Q$6:$Q$605,0)),"")&IFERROR(" / "&INDEX(Buchungen!$T$6:$T$605,MATCH($B49&"|"&G$8&"|2",Buchungen!$Q$6:$Q$605,0)),"")))) | H49: =IF($B49="","",IF(Stammdaten!$I49="Gesperrt","gesperrt",IF(COUNTIF(Stammdaten!$AD$10:$AD$30,H$8)>0,"Feiertag",IFERROR(INDEX(Buchungen!$T$6:$T$605,MATCH($B49&"|"&H$8&"|1",Buchungen!$Q$6:$Q$605,0)),"")&IFERROR(" / "&INDEX(Buchungen!$T$6:$T$605,MATCH($B49&"|"&H$8&"|2",Buchungen!$Q$6:$Q$605,0)),"")))) | I49: =IF($B49="","",IF(Stammdaten!$I49="Gesperrt","gesperrt",IF(COUNTIF(Stammdaten!$AD$10:$AD$30,I$8)>0,"Feiertag",IFERROR(INDEX(Buchungen!$T$6:$T$605,MATCH($B49&"|"&I$8&"|1",Buchungen!$Q$6:$Q$605,0)),"")&IFERROR(" / "&INDEX(Buchungen!$T$6:$T$605,MATCH($B49&"|"&I$8&"|2",Buchungen!$Q$6:$Q$605,0)),"")))) | J49: =IF($B49="","",IF(Stammdaten!$I49="Gesperrt","gesperrt",IF(COUNTIF(Stammdaten!$AD$10:$AD$30,J$8)>0,"Feiertag",IFERROR(INDEX(Buchungen!$T$6:$T$605,MATCH($B49&"|"&J$8&"|1",Buchungen!$Q$6:$Q$605,0)),"")&IFERROR(" / "&INDEX(Buchungen!$T$6:$T$605,MATCH($B49&"|"&J$8&"|2",Buchungen!$Q$6:$Q$605,0)),"")))) | L49: =IF($B49="","",IF(Stammdaten!$I49="Gesperrt","gesperrt",IF(COUNTIF(Stammdaten!$AD$10:$AD$30,L$8)>0,"Feiertag",IFERROR(INDEX(Buchungen!$T$6:$T$605,MATCH($B49&"|"&L$8&"|1",Buchungen!$Q$6:$Q$605,0)),"")&IFERROR(" / "&INDEX(Buchungen!$T$6:$T$605,MATCH($B49&"|"&L$8&"|2",Buchungen!$Q$6:$Q$605,0)),"")))) | M49: =IF($B49="","",IF(Stammdaten!$I49="Gesperrt","gesperrt",IF(COUNTIF(Stammdaten!$AD$10:$AD$30,M$8)>0,"Feiertag",IFERROR(INDEX(Buchungen!$T$6:$T$605,MATCH($B49&"|"&M$8&"|1",Buchungen!$Q$6:$Q$605,0)),"")&IFERROR(" / "&INDEX(Buchungen!$T$6:$T$605,MATCH($B49&"|"&M$8&"|2",Buchungen!$Q$6:$Q$605,0)),"")))) | N49: =IF($B49="","",IF(Stammdaten!$I49="Gesperrt","gesperrt",IF(COUNTIF(Stammdaten!$AD$10:$AD$30,N$8)>0,"Feiertag",IFERROR(INDEX(Buchungen!$T$6:$T$605,MATCH($B49&"|"&N$8&"|1",Buchungen!$Q$6:$Q$605,0)),"")&IFERROR(" / "&INDEX(Buchungen!$T$6:$T$605,MATCH($B49&"|"&N$8&"|2",Buchungen!$Q$6:$Q$605,0)),"")))) | O49: =IF($B49="","",IF(Stammdaten!$I49="Gesperrt","gesperrt",IF(COUNTIF(Stammdaten!$AD$10:$AD$30,O$8)>0,"Feiertag",IFERROR(INDEX(Buchungen!$T$6:$T$605,MATCH($B49&"|"&O$8&"|1",Buchungen!$Q$6:$Q$605,0)),"")&IFERROR(" / "&INDEX(Buchungen!$T$6:$T$605,MATCH($B49&"|"&O$8&"|2",Buchungen!$Q$6:$Q$605,0)),"")))) | P49: =IF($B49="","",IF(Stammdaten!$I49="Gesperrt","gesperrt",IF(COUNTIF(Stammdaten!$AD$10:$AD$30,P$8)>0,"Feiertag",IFERROR(INDEX(Buchungen!$T$6:$T$605,MATCH($B49&"|"&P$8&"|1",Buchungen!$Q$6:$Q$605,0)),"")&IFERROR(" / "&INDEX(Buchungen!$T$6:$T$605,MATCH($B49&"|"&P$8&"|2",Buchungen!$Q$6:$Q$605,0)),""))))
B51: Verfügbare Plätze | F51: =IF(COUNTIF(Stammdaten!$AD$10:$AD$30,F$8)>0,0,COUNTIF(Stammdaten!$I$10:$I$49,"Aktiv")) -> 23 | G51: =IF(COUNTIF(Stammdaten!$AD$10:$AD$30,G$8)>0,0,COUNTIF(Stammdaten!$I$10:$I$49,"Aktiv")) -> 23 | H51: =IF(COUNTIF(Stammdaten!$AD$10:$AD$30,H$8)>0,0,COUNTIF(Stammdaten!$I$10:$I$49,"Aktiv")) -> 23 | I51: =IF(COUNTIF(Stammdaten!$AD$10:$AD$30,I$8)>0,0,COUNTIF(Stammdaten!$I$10:$I$49,"Aktiv")) -> 23 | J51: =IF(COUNTIF(Stammdaten!$AD$10:$AD$30,J$8)>0,0,COUNTIF(Stammdaten!$I$10:$I$49,"Aktiv")) -> 23 | L51: =IF(COUNTIF(Stammdaten!$AD$10:$AD$30,L$8)>0,0,COUNTIF(Stammdaten!$I$10:$I$49,"Aktiv")) -> 23 | M51: =IF(COUNTIF(Stammdaten!$AD$10:$AD$30,M$8)>0,0,COUNTIF(Stammdaten!$I$10:$I$49,"Aktiv")) -> 23 | N51: =IF(COUNTIF(Stammdaten!$AD$10:$AD$30,N$8)>0,0,COUNTIF(Stammdaten!$I$10:$I$49,"Aktiv")) -> 23 | O51: =IF(COUNTIF(Stammdaten!$AD$10:$AD$30,O$8)>0,0,COUNTIF(Stammdaten!$I$10:$I$49,"Aktiv")) -> 23 | P51: =IF(COUNTIF(Stammdaten!$AD$10:$AD$30,P$8)>0,0,COUNTIF(Stammdaten!$I$10:$I$49,"Aktiv")) -> 23
B52: Belegt (inkl. Anfragen) | F52: =COUNTIF(F10:F49,"?*")-COUNTIF(F10:F49,"gesperrt")-COUNTIF(F10:F49,"Feiertag") -> 15 | G52: =COUNTIF(G10:G49,"?*")-COUNTIF(G10:G49,"gesperrt")-COUNTIF(G10:G49,"Feiertag") -> 17 | H52: =COUNTIF(H10:H49,"?*")-COUNTIF(H10:H49,"gesperrt")-COUNTIF(H10:H49,"Feiertag") -> 20 | I52: =COUNTIF(I10:I49,"?*")-COUNTIF(I10:I49,"gesperrt")-COUNTIF(I10:I49,"Feiertag") -> 16 | J52: =COUNTIF(J10:J49,"?*")-COUNTIF(J10:J49,"gesperrt")-COUNTIF(J10:J49,"Feiertag") -> 17 | L52: =COUNTIF(L10:L49,"?*")-COUNTIF(L10:L49,"gesperrt")-COUNTIF(L10:L49,"Feiertag") -> 20 | M52: =COUNTIF(M10:M49,"?*")-COUNTIF(M10:M49,"gesperrt")-COUNTIF(M10:M49,"Feiertag") -> 16 | N52: =COUNTIF(N10:N49,"?*")-COUNTIF(N10:N49,"gesperrt")-COUNTIF(N10:N49,"Feiertag") -> 15 | O52: =COUNTIF(O10:O49,"?*")-COUNTIF(O10:O49,"gesperrt")-COUNTIF(O10:O49,"Feiertag") -> 21 | P52: =COUNTIF(P10:P49,"?*")-COUNTIF(P10:P49,"gesperrt")-COUNTIF(P10:P49,"Feiertag") -> 15
B53: Frei | F53: =MAX(0,F51-F52) -> 8 | G53: =MAX(0,G51-G52) -> 6 | H53: =MAX(0,H51-H52) -> 3 | I53: =MAX(0,I51-I52) -> 7 | J53: =MAX(0,J51-J52) -> 6 | L53: =MAX(0,L51-L52) -> 3 | M53: =MAX(0,M51-M52) -> 7 | N53: =MAX(0,N51-N52) -> 8 | O53: =MAX(0,O51-O52) -> 2 | P53: =MAX(0,P51-P52) -> 8
B54: Auslastung | F54: =IF(F51=0,"–",F52/F51) -> 0.65217391 | G54: =IF(G51=0,"–",G52/G51) -> 0.73913043 | H54: =IF(H51=0,"–",H52/H51) -> 0.86956522 | I54: =IF(I51=0,"–",I52/I51) -> 0.69565217 | J54: =IF(J51=0,"–",J52/J51) -> 0.73913043 | L54: =IF(L51=0,"–",L52/L51) -> 0.86956522 | M54: =IF(M51=0,"–",M52/M51) -> 0.69565217 | N54: =IF(N51=0,"–",N52/N51) -> 0.65217391 | O54: =IF(O51=0,"–",O52/O51) -> 0.91304348 | P54: =IF(P51=0,"–",P52/P51) -> 0.65217391
B56: Ab 90 % Auslastung rot (Engpass), ab 70 % gelb, darunter grün. Filter in Zeile 9 nutzen, um nach Etage oder Bereich zu filtern.

Sheet Buchungen
B2: Buchungen | M2: DESK SHARING · 2026
B3: =Stammdaten!$C$5&" · "&Stammdaten!$C$6 -> Beispielunternehmen GmbH · Hauptsitz – Bürogebäude A
B4: Weiße Spalten ausfüllen (Dropdowns) – sandfarbene Spalten rechnen automatisch. Neue Buchungen einfach unten anfügen.
B5: Nr. | C5: Datum | D5: Tag | E5: KW | F5: Arbeitsplatz | G5: Mitarbeiter/in | H5: Zeitfenster | I5: Status | J5: Bemerkung | K5: Abteilung | L5: Bereich | M5: Prüfung | O5: Wert | P5: Key Platz | Q5: Key Platz # | R5: Key Person | S5: Key Person # | T5: Anzeige Plan | U5: Anzeige Team
B6: =IF(C6="","",ROW()-5) -> 1 | C6: 46293 | D6: =IF(C6="","",CHOOSE(WEEKDAY(C6,2),"Mo","Di","Mi","Do","Fr","Sa","So")) -> Mo | E6: =IF(C6="","",_xlfn.ISOWEEKNUM(C6)) -> 40 | F6: A-01 | G6: Marco Seidel | H6: Ganztägig | I6: Bestätigt | K6: =IF(G6="","",IFERROR(INDEX(Stammdaten!$P$10:$P$69,MATCH(G6,Stammdaten!$N$10:$N$69,0)),"–")) -> Marketing | L6: =IF(F6="","",IFERROR(INDEX(Stammdaten!$D$10:$D$49,MATCH(F6,Stammdaten!$B$10:$B$49,0)),"–")) -> Teamzone Nord | M6: =IF(C6="","",IF(OR(F6="",G6="",I6=""),"unvollständig",IF(I6="Storniert","storniert",IF(WEEKDAY(C6,2)>5,"Wochenende",IF(COUNTIF(Stammdaten!$AD$10:$AD$30,C6)>0,"Feiertag",IF(IFERROR(INDEX(Stammdaten!$I$10:$I$49,MATCH(F6,Stammdaten!$B$10:$B$49,0)),"")="Gesperrt","Platz gesperrt",IF(AND(COUNTIF($P$6:$P$605,P6)>1,NOT(AND(COUNTIF($P$6:$P$605,P6)=2,COUNTIFS($P$6:$P$605,P6,$H$6:$H$605,"Vormittag")=1,COUNTIFS($P$6:$P$605,P6,$H$6:$H$605,"Nachmittag")=1))),"Doppelbuchung",IF(AND(COUNTIF($R$6:$R$605,R6)>1,NOT(AND(COUNTIF($R$6:$R$605,R6)=2,COUNTIFS($R$6:$R$605,R6,$H$6:$H$605,"Vormittag")=1,COUNTIFS($R$6:$R$605,R6,$H$6:$H$605,"Nachmittag")=1))),"Person doppelt","OK")))))))) -> OK | O6: =IF(OR(C6="",I6<>"Bestätigt",M6="Platz gesperrt"),0,IF(H6="Ganztägig",1,0.5)) -> 1 | P6: =IF(OR(C6="",F6="",I6="Storniert"),"",F6&"|"&C6) -> A-01|46293 | Q6: =IF(P6="","",P6&"|"&COUNTIF(P$6:P6,P6)) -> A-01|46293|1 | R6: =IF(OR(C6="",G6="",I6="Storniert"),"",G6&"|"&C6) -> Marco Seidel|46293 | S6: =IF(R6="","",R6&"|"&COUNTIF(R$6:R6,R6)) -> Marco Seidel|46293|1 | T6: =IF(G6="","",IFERROR(INDEX(Stammdaten!$O$10:$O$69,MATCH(G6,Stammdaten!$N$10:$N$69,0)),G6)&IF(H6="Vormittag"," (VM)",IF(H6="Nachmittag"," (NM)",""))&IF(I6="Angefragt"," ?","")) -> M. Seidel | U6: =IF(F6="","",F6&IF(H6="Vormittag"," (VM)",IF(H6="Nachmittag"," (NM)",""))&IF(I6="Angefragt"," ?","")) -> A-01
B7: =IF(C7="","",ROW()-5) -> 2 | C7: 46293 | D7: =IF(C7="","",CHOOSE(WEEKDAY(C7,2),"Mo","Di","Mi","Do","Fr","Sa","So")) -> Mo | E7: =IF(C7="","",_xlfn.ISOWEEKNUM(C7)) -> 40 | F7: A-02 | G7: Lena Hartmann | H7: Ganztägig | I7: Bestätigt | K7: =IF(G7="","",IFERROR(INDEX(Stammdaten!$P$10:$P$69,MATCH(G7,Stammdaten!$N$10:$N$69,0)),"–")) -> Vertrieb | L7: =IF(F7="","",IFERROR(INDEX(Stammdaten!$D$10:$D$49,MATCH(F7,Stammdaten!$B$10:$B$49,0)),"–")) -> Teamzone Nord | M7: =IF(C7="","",IF(OR(F7="",G7="",I7=""),"unvollständig",IF(I7="Storniert","storniert",IF(WEEKDAY(C7,2)>5,"Wochenende",IF(COUNTIF(Stammdaten!$AD$10:$AD$30,C7)>0,"Feiertag",IF(IFERROR(INDEX(Stammdaten!$I$10:$I$49,MATCH(F7,Stammdaten!$B$10:$B$49,0)),"")="Gesperrt","Platz gesperrt",IF(AND(COUNTIF($P$6:$P$605,P7)>1,NOT(AND(COUNTIF($P$6:$P$605,P7)=2,COUNTIFS($P$6:$P$605,P7,$H$6:$H$605,"Vormittag")=1,COUNTIFS($P$6:$P$605,P7,$H$6:$H$605,"Nachmittag")=1))),"Doppelbuchung",IF(AND(COUNTIF($R$6:$R$605,R7)>1,NOT(AND(COUNTIF($R$6:$R$605,R7)=2,COUNTIFS($R$6:$R$605,R7,$H$6:$H$605,"Vormittag")=1,COUNTIFS($R$6:$R$605,R7,$H$6:$H$605,"Nachmittag")=1))),"Person doppelt","OK")))))))) -> OK | O7: =IF(OR(C7="",I7<>"Bestätigt",M7="Platz gesperrt"),0,IF(H7="Ganztägig",1,0.5)) -> 1 | P7: =IF(OR(C7="",F7="",I7="Storniert"),"",F7&"|"&C7) -> A-02|46293 | Q7: =IF(P7="","",P7&"|"&COUNTIF(P$6:P7,P7)) -> A-02|46293|1 | R7: =IF(OR(C7="",G7="",I7="Storniert"),"",G7&"|"&C7) -> Lena Hartmann|46293 | S7: =IF(R7="","",R7&"|"&COUNTIF(R$6:R7,R7)) -> Lena Hartmann|46293|1 | T7: =IF(G7="","",IFERROR(INDEX(Stammdaten!$O$10:$O$69,MATCH(G7,Stammdaten!$N$10:$N$69,0)),G7)&IF(H7="Vormittag"," (VM)",IF(H7="Nachmittag"," (NM)",""))&IF(I7="Angefragt"," ?","")) -> L. Hartmann | U7: =IF(F7="","",F7&IF(H7="Vormittag"," (VM)",IF(H7="Nachmittag"," (NM)",""))&IF(I7="Angefragt"," ?","")) -> A-02
B8: =IF(C8="","",ROW()-5) -> 3 | C8: 46293 | D8: =IF(C8="","",CHOOSE(WEEKDAY(C8,2),"Mo","Di","Mi","Do","Fr","Sa","So")) -> Mo | E8: =IF(C8="","",_xlfn.ISOWEEKNUM(C8)) -> 40 | F8: A-05 | G8: Nina Albrecht | H8: Ganztägig | I8: Bestätigt | K8: =IF(G8="","",IFERROR(INDEX(Stammdaten!$P$10:$P$69,MATCH(G8,Stammdaten!$N$10:$N$69,0)),"–")) -> Vertrieb | L8: =IF(F8="","",IFERROR(INDEX(Stammdaten!$D$10:$D$49,MATCH(F8,Stammdaten!$B$10:$B$49,0)),"–")) -> Teamzone Nord | M8: =IF(C8="","",IF(OR(F8="",G8="",I8=""),"unvollständig",IF(I8="Storniert","storniert",IF(WEEKDAY(C8,2)>5,"Wochenende",IF(COUNTIF(Stammdaten!$AD$10:$AD$30,C8)>0,"Feiertag",IF(IFERROR(INDEX(Stammdaten!$I$10:$I$49,MATCH(F8,Stammdaten!$B$10:$B$49,0)),"")="Gesperrt","Platz gesperrt",IF(AND(COUNTIF($P$6:$P$605,P8)>1,NOT(AND(COUNTIF($P$6:$P$605,P8)=2,COUNTIFS($P$6:$P$605,P8,$H$6:$H$605,"Vormittag")=1,COUNTIFS($P$6:$P$605,P8,$H$6:$H$605,"Nachmittag")=1))),"Doppelbuchung",IF(AND(COUNTIF($R$6:$R$605,R8)>1,NOT(AND(COUNTIF($R$6:$R$605,R8)=2,COUNTIFS($R$6:$R$605,R8,$H$6:$H$605,"Vormittag")=1,COUNTIFS($R$6:$R$605,R8,$H$6:$H$605,"Nachmittag")=1))),"Person doppelt","OK")))))))) -> OK | O8: =IF(OR(C8="",I8<>"Bestätigt",M8="Platz gesperrt"),0,IF(H8="Ganztägig",1,0.5)) -> 1 | P8: =IF(OR(C8="",F8="",I8="Storniert"),"",F8&"|"&C8) -> A-05|46293 | Q8: =IF(P8="","",P8&"|"&COUNTIF(P$6:P8,P8)) -> A-05|46293|1 | R8: =IF(OR(C8="",G8="",I8="Storniert"),"",G8&"|"&C8) -> Nina Albrecht|46293 | S8: =IF(R8="","",R8&"|"&COUNTIF(R$6:R8,R8)) -> Nina Albrecht|46293|1 | T8: =IF(G8="","",IFERROR(INDEX(Stammdaten!$O$10:$O$69,MATCH(G8,Stammdaten!$N$10:$N$69,0)),G8)&IF(H8="Vormittag"," (VM)",IF(H8="Nachmittag"," (NM)",""))&IF(I8="Angefragt"," ?","")) -> N. Albrecht | U8: =IF(F8="","",F8&IF(H8="Vormittag"," (VM)",IF(H8="Nachmittag"," (NM)",""))&IF(I8="Angefragt"," ?","")) -> A-05
B9: =IF(C9="","",ROW()-5) -> 4 | C9: 46293 | D9: =IF(C9="","",CHOOSE(WEEKDAY(C9,2),"Mo","Di","Mi","Do","Fr","Sa","So")) -> Mo | E9: =IF(C9="","",_xlfn.ISOWEEKNUM(C9)) -> 40 | F9: A-06 | G9: Felix Engel | H9: Ganztägig | I9: Bestätigt | K9: =IF(G9="","",IFERROR(INDEX(Stammdaten!$P$10:$P$69,MATCH(G9,Stammdaten!$N$10:$N$69,0)),"–")) -> Marketing | L9: =IF(F9="","",IFERROR(INDEX(Stammdaten!$D$10:$D$49,MATCH(F9,Stammdaten!$B$10:$B$49,0)),"–")) -> Teamzone Nord | M9: =IF(C9="","",IF(OR(F9="",G9="",I9=""),"unvollständig",IF(I9="Storniert","storniert",IF(WEEKDAY(C9,2)>5,"Wochenende",IF(COUNTIF(Stammdaten!$AD$10:$AD$30,C9)>0,"Feiertag",IF(IFERROR(INDEX(Stammdaten!$I$10:$I$49,MATCH(F9,Stammdaten!$B$10:$B$49,0)),"")="Gesperrt","Platz gesperrt",IF(AND(COUNTIF($P$6:$P$605,P9)>1,NOT(AND(COUNTIF($P$6:$P$605,P9)=2,COUNTIFS($P$6:$P$605,P9,$H$6:$H$605,"Vormittag")=1,COUNTIFS($P$6:$P$605,P9,$H$6:$H$605,"Nachmittag")=1))),"Doppelbuchung",IF(AND(COUNTIF($R$6:$R$605,R9)>1,NOT(AND(COUNTIF($R$6:$R$605,R9)=2,COUNTIFS($R$6:$R$605,R9,$H$6:$H$605,"Vormittag")=1,COUNTIFS($R$6:$R$605,R9,$H$6:$H$605,"Nachmittag")=1))),"Person doppelt","OK")))))))) -> OK | O9: =IF(OR(C9="",I9<>"Bestätigt",M9="Platz gesperrt"),0,IF(H9="Ganztägig",1,0.5)) -> 1 | P9: =IF(OR(C9="",F9="",I9="Storniert"),"",F9&"|"&C9) -> A-06|46293 | Q9: =IF(P9="","",P9&"|"&COUNTIF(P$6:P9,P9)) -> A-06|46293|1 | R9: =IF(OR(C9="",G9="",I9="Storniert"),"",G9&"|"&C9) -> Felix Engel|46293 | S9: =IF(R9="","",R9&"|"&COUNTIF(R$6:R9,R9)) -> Felix Engel|46293|1 | T9: =IF(G9="","",IFERROR(INDEX(Stammdaten!$O$10:$O$69,MATCH(G9,Stammdaten!$N$10:$N$69,0)),G9)&IF(H9="Vormittag"," (VM)",IF(H9="Nachmittag"," (NM)",""))&IF(I9="Angefragt"," ?","")) -> F. Engel | U9: =IF(F9="","",F9&IF(H9="Vormittag"," (VM)",IF(H9="Nachmittag"," (NM)",""))&IF(I9="Angefragt"," ?","")) -> A-06
B10: =IF(C10="","",ROW()-5) -> 5 | C10: 46293 | D10: =IF(C10="","",CHOOSE(WEEKDAY(C10,2),"Mo","Di","Mi","Do","Fr","Sa","So")) -> Mo | E10: =IF(C10="","",_xlfn.ISOWEEKNUM(C10)) -> 40 | F10: A-07 | G10: Miriam Krause | H10: Ganztägig | I10: Bestätigt | K10: =IF(G10="","",IFERROR(INDEX(Stammdaten!$P$10:$P$69,MATCH(G10,Stammdaten!$N$10:$N$69,0)),"–")) -> Vertrieb | L10: =IF(F10="","",IFERROR(INDEX(Stammdaten!$D$10:$D$49,MATCH(F10,Stammdaten!$B$10:$B$49,0)),"–")) -> Teamzone Nord | M10: =IF(C10="","",IF(OR(F10="",G10="",I10=""),"unvollständig",IF(I10="Storniert","storniert",IF(WEEKDAY(C10,2)>5,"Wochenende",IF(COUNTIF(Stammdaten!$AD$10:$AD$30,C10)>0,"Feiertag",IF(IFERROR(INDEX(Stammdaten!$I$10:$I$49,MATCH(F10,Stammdaten!$B$10:$B$49,0)),"")="Gesperrt","Platz gesperrt",IF(AND(COUNTIF($P$6:$P$605,P10)>1,NOT(AND(COUNTIF($P$6:$P$605,P10)=2,COUNTIFS($P$6:$P$605,P10,$H$6:$H$605,"Vormittag")=1,COUNTIFS($P$6:$P$605,P10,$H$6:$H$605,"Nachmittag")=1))),"Doppelbuchung",IF(AND(COUNTIF($R$6:$R$605,R10)>1,NOT(AND(COUNTIF($R$6:$R$605,R10)=2,COUNTIFS($R$6:$R$605,R10,$H$6:$H$605,"Vormittag")=1,COUNTIFS($R$6:$R$605,R10,$H$6:$H$605,"Nachmittag")=1))),"Person doppelt","OK")))))))) -> OK | O10: =IF(OR(C10="",I10<>"Bestätigt",M10="Platz gesperrt"),0,IF(H10="Ganztägig",1,0.5)) -> 1 | P10: =IF(OR(C10="",F10="",I10="Storniert"),"",F10&"|"&C10) -> A-07|46293 | Q10: =IF(P10="","",P10&"|"&COUNTIF(P$6:P10,P10)) -> A-07|46293|1 | R10: =IF(OR(C10="",G10="",I10="Storniert"),"",G10&"|"&C10) -> Miriam Krause|46293 | S10: =IF(R10="","",R10&"|"&COUNTIF(R$6:R10,R10)) -> Miriam Krause|46293|1 | T10: =IF(G10="","",IFERROR(INDEX(Stammdaten!$O$10:$O$69,MATCH(G10,Stammdaten!$N$10:$N$69,0)),G10)&IF(H10="Vormittag"," (VM)",IF(H10="Nachmittag"," (NM)",""))&IF(I10="Angefragt"," ?","")) -> M. Krause | U10: =IF(F10="","",F10&IF(H10="Vormittag"," (VM)",IF(H10="Nachmittag"," (NM)",""))&IF(I10="Angefragt"," ?","")) -> A-07
