Workbook

Sheet Zeiterfassung
A1: Lohndaten aus Arbeitszeiten · Zeiterfassung
A2: Tägliche Arbeitszeiten erfassen – Stunden, Zuschläge und Bruttolohn werden automatisch berechnet.
A4: Mitarbeiter/in | C4: Nico Reinhardt | G4: Abrechnungszeitraum | I4: April 2026 | L4: Sollstunden / Monat | N4: 160
A5: Personal-Nr. | C5: PN-10427 | G5: Grundstundenlohn (€/h) | I5: 18.5 | L5: Mindestlohn-Check | N5: =IF($I$5>=Listen!$D$12,"erfüllt","unterschritten!") -> erfüllt
A6: Kostenstelle | C6: KST 300 – Fertigung | G6: Arbeitgeber | I6: Berg & Voss Handwerk GmbH
A8: Arbeitszeiten
A9: Tag | B9: Datum | C9: Wochen- tag | D9: Tätigkeit / Projekt | E9: Beginn | F9: Ende | G9: Pause (Min) | H9: Arbeits- zeit (h) | I9: Kategorie | J9: Zu- schlag | K9: Stunden- lohn (€) | L9: Grund- lohn (€) | M9: Zuschlag (€) | N9: Brutto- lohn (€) | O9: Bemerkung
A10: 1 | B10: 46113 | C10: =IF(B10="","",CHOOSE(WEEKDAY(B10,2),"Montag","Dienstag","Mittwoch","Donnerstag","Freitag","Samstag","Sonntag")) -> Mittwoch | D10: Produktion | E10: 0.29166667 | F10: 0.64583333 | G10: 30 | H10: =IF(AND(E10<>"",F10<>""),ROUND((F10-E10+IF(F10<E10,1,0))*24-IF(G10="",0,G10)/60,2),"") -> 8 | I10: Normalarbeit | J10: =IFERROR(INDEX(Listen!$C$4:$C$9,MATCH(I10,Listen!$B$4:$B$9,0)),"") -> 0 | K10: =IF(H10="","",$I$5) -> 18.5 | L10: =IF(H10="","",H10*K10) -> 148 | M10: =IF(L10="","",L10*J10) -> 0 | N10: =IF(L10="","",L10+M10) -> 148
A11: 2 | B11: 46114 | C11: =IF(B11="","",CHOOSE(WEEKDAY(B11,2),"Montag","Dienstag","Mittwoch","Donnerstag","Freitag","Samstag","Sonntag")) -> Donnerstag | D11: Montage | E11: 0.29166667 | F11: 0.70833333 | G11: 45 | H11: =IF(AND(E11<>"",F11<>""),ROUND((F11-E11+IF(F11<E11,1,0))*24-IF(G11="",0,G11)/60,2),"") -> 9.25 | I11: Überstunde | J11: =IFERROR(INDEX(Listen!$C$4:$C$9,MATCH(I11,Listen!$B$4:$B$9,0)),"") -> 0.25 | K11: =IF(H11="","",$I$5) -> 18.5 | L11: =IF(H11="","",H11*K11) -> 171.125 | M11: =IF(L11="","",L11*J11) -> 42.78125 | N11: =IF(L11="","",L11+M11) -> 213.90625 | O11: Auftrag Fertigstellung
A12: 3 | B12: 46115 | C12: =IF(B12="","",CHOOSE(WEEKDAY(B12,2),"Montag","Dienstag","Mittwoch","Donnerstag","Freitag","Samstag","Sonntag")) -> Freitag | D12: Wartung | E12: 0.33333333 | F12: 0.58333333 | G12: 30 | H12: =IF(AND(E12<>"",F12<>""),ROUND((F12-E12+IF(F12<E12,1,0))*24-IF(G12="",0,G12)/60,2),"") -> 5.5 | I12: Feiertagsarbeit | J12: =IFERROR(INDEX(Listen!$C$4:$C$9,MATCH(I12,Listen!$B$4:$B$9,0)),"") -> 1.25 | K12: =IF(H12="","",$I$5) -> 18.5 | L12: =IF(H12="","",H12*K12) -> 101.75 | M12: =IF(L12="","",L12*J12) -> 127.1875 | N12: =IF(L12="","",L12+M12) -> 228.9375 | O12: Karfreitag
A13: 4 | B13: 46118 | C13: =IF(B13="","",CHOOSE(WEEKDAY(B13,2),"Montag","Dienstag","Mittwoch","Donnerstag","Freitag","Samstag","Sonntag")) -> Montag | D13: Kundendienst | E13: 0.375 | F13: 0.58333333 | G13: 30 | H13: =IF(AND(E13<>"",F13<>""),ROUND((F13-E13+IF(F13<E13,1,0))*24-IF(G13="",0,G13)/60,2),"") -> 4.5 | I13: Feiertagsarbeit | J13: =IFERROR(INDEX(Listen!$C$4:$C$9,MATCH(I13,Listen!$B$4:$B$9,0)),"") -> 1.25 | K13: =IF(H13="","",$I$5) -> 18.5 | L13: =IF(H13="","",H13*K13) -> 83.25 | M13: =IF(L13="","",L13*J13) -> 104.0625 | N13: =IF(L13="","",L13+M13) -> 187.3125 | O13: Ostermontag – Notdienst
A14: 5 | B14: 46119 | C14: =IF(B14="","",CHOOSE(WEEKDAY(B14,2),"Montag","Dienstag","Mittwoch","Donnerstag","Freitag","Samstag","Sonntag")) -> Dienstag | D14: Produktion | E14: 0.29166667 | F14: 0.64583333 | G14: 30 | H14: =IF(AND(E14<>"",F14<>""),ROUND((F14-E14+IF(F14<E14,1,0))*24-IF(G14="",0,G14)/60,2),"") -> 8 | I14: Normalarbeit | J14: =IFERROR(INDEX(Listen!$C$4:$C$9,MATCH(I14,Listen!$B$4:$B$9,0)),"") -> 0 | K14: =IF(H14="","",$I$5) -> 18.5 | L14: =IF(H14="","",H14*K14) -> 148 | M14: =IF(L14="","",L14*J14) -> 0 | N14: =IF(L14="","",L14+M14) -> 148
A15: 6 | B15: 46120 | C15: =IF(B15="","",CHOOSE(WEEKDAY(B15,2),"Montag","Dienstag","Mittwoch","Donnerstag","Freitag","Samstag","Sonntag")) -> Mittwoch | D15: Montage | E15: 0.29166667 | F15: 0.66666667 | G15: 45 | H15: =IF(AND(E15<>"",F15<>""),ROUND((F15-E15+IF(F15<E15,1,0))*24-IF(G15="",0,G15)/60,2),"") -> 8.25 | I15: Normalarbeit | J15: =IFERROR(INDEX(Listen!$C$4:$C$9,MATCH(I15,Listen!$B$4:$B$9,0)),"") -> 0 | K15: =IF(H15="","",$I$5) -> 18.5 | L15: =IF(H15="","",H15*K15) -> 152.625 | M15: =IF(L15="","",L15*J15) -> 0 | N15: =IF(L15="","",L15+M15) -> 152.625
A16: 7 | B16: 46121 | C16: =IF(B16="","",CHOOSE(WEEKDAY(B16,2),"Montag","Dienstag","Mittwoch","Donnerstag","Freitag","Samstag","Sonntag")) -> Donnerstag | D16: Lager | E16: 0.29166667 | F16: 0.54166667 | G16: 15 | H16: =IF(AND(E16<>"",F16<>""),ROUND((F16-E16+IF(F16<E16,1,0))*24-IF(G16="",0,G16)/60,2),"") -> 5.75 | I16: Normalarbeit | J16: =IFERROR(INDEX(Listen!$C$4:$C$9,MATCH(I16,Listen!$B$4:$B$9,0)),"") -> 0 | K16: =IF(H16="","",$I$5) -> 18.5 | L16: =IF(H16="","",H16*K16) -> 106.375 | M16: =IF(L16="","",L16*J16) -> 0 | N16: =IF(L16="","",L16+M16) -> 106.375
A17: 8 | B17: 46122 | C17: =IF(B17="","",CHOOSE(WEEKDAY(B17,2),"Montag","Dienstag","Mittwoch","Donnerstag","Freitag","Samstag","Sonntag")) -> Freitag | D17: Produktion | E17: 0.29166667 | F17: 0.66666667 | G17: 30 | H17: =IF(AND(E17<>"",F17<>""),ROUND((F17-E17+IF(F17<E17,1,0))*24-IF(G17="",0,G17)/60,2),"") -> 8.5 | I17: Überstunde | J17: =IFERROR(INDEX(Listen!$C$4:$C$9,MATCH(I17,Listen!$B$4:$B$9,0)),"") -> 0.25 | K17: =IF(H17="","",$I$5) -> 18.5 | L17: =IF(H17="","",H17*K17) -> 157.25 | M17: =IF(L17="","",L17*J17) -> 39.3125 | N17: =IF(L17="","",L17+M17) -> 196.5625 | O17: Mehrbedarf
A18: 9 | B18: 46123 | C18: =IF(B18="","",CHOOSE(WEEKDAY(B18,2),"Montag","Dienstag","Mittwoch","Donnerstag","Freitag","Samstag","Sonntag")) -> Samstag | D18: Projektarbeit | E18: 0.33333333 | F18: 0.54166667 | G18: 0 | H18: =IF(AND(E18<>"",F18<>""),ROUND((F18-E18+IF(F18<E18,1,0))*24-IF(G18="",0,G18)/60,2),"") -> 5 | I18: Samstagsarbeit | J18: =IFERROR(INDEX(Listen!$C$4:$C$9,MATCH(I18,Listen!$B$4:$B$9,0)),"") -> 0.2 | K18: =IF(H18="","",$I$5) -> 18.5 | L18: =IF(H18="","",H18*K18) -> 92.5 | M18: =IF(L18="","",L18*J18) -> 18.5 | N18: =IF(L18="","",L18+M18) -> 111
A19: 10 | B19: 46124 | C19: =IF(B19="","",CHOOSE(WEEKDAY(B19,2),"Montag","Dienstag","Mittwoch","Donnerstag","Freitag","Samstag","Sonntag")) -> Sonntag | D19: Kundendienst | E19: 0.375 | F19: 0.58333333 | G19: 0 | H19: =IF(AND(E19<>"",F19<>""),ROUND((F19-E19+IF(F19<E19,1,0))*24-IF(G19="",0,G19)/60,2),"") -> 5 | I19: Sonntagsarbeit | J19: =IFERROR(INDEX(Listen!$C$4:$C$9,MATCH(I19,Listen!$B$4:$B$9,0)),"") -> 0.5 | K19: =IF(H19="","",$I$5) -> 18.5 | L19: =IF(H19="","",H19*K19) -> 92.5 | M19: =IF(L19="","",L19*J19) -> 46.25 | N19: =IF(L19="","",L19+M19) -> 138.75 | O19: Bereitschaft
A20: 11 | B20: 46125 | C20: =IF(B20="","",CHOOSE(WEEKDAY(B20,2),"Montag","Dienstag","Mittwoch","Donnerstag","Freitag","Samstag","Sonntag")) -> Montag | D20: Produktion | E20: 0.29166667 | F20: 0.64583333 | G20: 30 | H20: =IF(AND(E20<>"",F20<>""),ROUND((F20-E20+IF(F20<E20,1,0))*24-IF(G20="",0,G20)/60,2),"") -> 8 | I20: Normalarbeit | J20: =IFERROR(INDEX(Listen!$C$4:$C$9,MATCH(I20,Listen!$B$4:$B$9,0)),"") -> 0 | K20: =IF(H20="","",$I$5) -> 18.5 | L20: =IF(H20="","",H20*K20) -> 148 | M20: =IF(L20="","",L20*J20) -> 0 | N20: =IF(L20="","",L20+M20) -> 148
A21: 12 | B21: 46126 | C21: =IF(B21="","",CHOOSE(WEEKDAY(B21,2),"Montag","Dienstag","Mittwoch","Donnerstag","Freitag","Samstag","Sonntag")) -> Dienstag | D21: Nachtschicht | E21: 0.91666667 | F21: 0.25 | G21: 45 | H21: =IF(AND(E21<>"",F21<>""),ROUND((F21-E21+IF(F21<E21,1,0))*24-IF(G21="",0,G21)/60,2),"") -> 7.25 | I21: Nachtarbeit | J21: =IFERROR(INDEX(Listen!$C$4:$C$9,MATCH(I21,Listen!$B$4:$B$9,0)),"") -> 0.25 | K21: =IF(H21="","",$I$5) -> 18.5 | L21: =IF(H21="","",H21*K21) -> 134.125 | M21: =IF(L21="","",L21*J21) -> 33.53125 | N21: =IF(L21="","",L21+M21) -> 167.65625 | O21: Schichtbetrieb
A22: 13 | B22: 46127 | C22: =IF(B22="","",CHOOSE(WEEKDAY(B22,2),"Montag","Dienstag","Mittwoch","Donnerstag","Freitag","Samstag","Sonntag")) -> Mittwoch | D22: Produktion | E22: 0.29166667 | F22: 0.64583333 | G22: 30 | H22: =IF(AND(E22<>"",F22<>""),ROUND((F22-E22+IF(F22<E22,1,0))*24-IF(G22="",0,G22)/60,2),"") -> 8 | I22: Normalarbeit | J22: =IFERROR(INDEX(Listen!$C$4:$C$9,MATCH(I22,Listen!$B$4:$B$9,0)),"") -> 0 | K22: =IF(H22="","",$I$5) -> 18.5 | L22: =IF(H22="","",H22*K22) -> 148 | M22: =IF(L22="","",L22*J22) -> 0 | N22: =IF(L22="","",L22+M22) -> 148
A23: 14 | B23: 46128 | C23: =IF(B23="","",CHOOSE(WEEKDAY(B23,2),"Montag","Dienstag","Mittwoch","Donnerstag","Freitag","Samstag","Sonntag")) -> Donnerstag | D23: Verwaltung | E23: 0.33333333 | F23: 0.60416667 | G23: 30 | H23: =IF(AND(E23<>"",F23<>""),ROUND((F23-E23+IF(F23<E23,1,0))*24-IF(G23="",0,G23)/60,2),"") -> 6 | I23: Normalarbeit | J23: =IFERROR(INDEX(Listen!$C$4:$C$9,MATCH(I23,Listen!$B$4:$B$9,0)),"") -> 0 | K23: =IF(H23="","",$I$5) -> 18.5 | L23: =IF(H23="","",H23*K23) -> 111 | M23: =IF(L23="","",L23*J23) -> 0 | N23: =IF(L23="","",L23+M23) -> 111
A24: 15 | B24: 46129 | C24: =IF(B24="","",CHOOSE(WEEKDAY(B24,2),"Montag","Dienstag","Mittwoch","Donnerstag","Freitag","Samstag","Sonntag")) -> Freitag | D24: Montage | E24: 0.29166667 | F24: 0.64583333 | G24: 30 | H24: =IF(AND(E24<>"",F24<>""),ROUND((F24-E24+IF(F24<E24,1,0))*24-IF(G24="",0,G24)/60,2),"") -> 8 | I24: Normalarbeit | J24: =IFERROR(INDEX(Listen!$C$4:$C$9,MATCH(I24,Listen!$B$4:$B$9,0)),"") -> 0 | K24: =IF(H24="","",$I$5) -> 18.5 | L24: =IF(H24="","",H24*K24) -> 148 | M24: =IF(L24="","",L24*J24) -> 0 | N24: =IF(L24="","",L24+M24) -> 148
A25: 16 | B25: 46130 | C25: =IF(B25="","",CHOOSE(WEEKDAY(B25,2),"Montag","Dienstag","Mittwoch","Donnerstag","Freitag","Samstag","Sonntag")) -> Samstag | D25: Wartung | E25: 0.33333333 | F25: 0.5 | G25: 0 | H25: =IF(AND(E25<>"",F25<>""),ROUND((F25-E25+IF(F25<E25,1,0))*24-IF(G25="",0,G25)/60,2),"") -> 4 | I25: Samstagsarbeit | J25: =IFERROR(INDEX(Listen!$C$4:$C$9,MATCH(I25,Listen!$B$4:$B$9,0)),"") -> 0.2 | K25: =IF(H25="","",$I$5) -> 18.5 | L25: =IF(H25="","",H25*K25) -> 74 | M25: =IF(L25="","",L25*J25) -> 14.8 | N25: =IF(L25="","",L25+M25) -> 88.8
A26: 17 | B26: 46132 | C26: =IF(B26="","",CHOOSE(WEEKDAY(B26,2),"Montag","Dienstag","Mittwoch","Donnerstag","Freitag","Samstag","Sonntag")) -> Montag | D26: Produktion | E26: 0.25 | F26: 0.58333333 | G26: 30 | H26: =IF(AND(E26<>"",F26<>""),ROUND((F26-E26+IF(F26<E26,1,0))*24-IF(G26="",0,G26)/60,2),"") -> 7.5 | I26: Normalarbeit | J26: =IFERROR(INDEX(Listen!$C$4:$C$9,MATCH(I26,Listen!$B$4:$B$9,0)),"") -> 0 | K26: =IF(H26="","",$I$5) -> 18.5 | L26: =IF(H26="","",H26*K26) -> 138.75 | M26: =IF(L26="","",L26*J26) -> 0 | N26: =IF(L26="","",L26+M26) -> 138.75
A27: 18 | B27: 46133 | C27: =IF(B27="","",CHOOSE(WEEKDAY(B27,2),"Montag","Dienstag","Mittwoch","Donnerstag","Freitag","Samstag","Sonntag")) -> Dienstag | D27: Nachtschicht | E27: 0.875 | F27: 0.20833333 | G27: 45 | H27: =IF(AND(E27<>"",F27<>""),ROUND((F27-E27+IF(F27<E27,1,0))*24-IF(G27="",0,G27)/60,2),"") -> 7.25 | I27: Nachtarbeit | J27: =IFERROR(INDEX(Listen!$C$4:$C$9,MATCH(I27,Listen!$B$4:$B$9,0)),"") -> 0.25 | K27: =IF(H27="","",$I$5) -> 18.5 | L27: =IF(H27="","",H27*K27) -> 134.125 | M27: =IF(L27="","",L27*J27) -> 33.53125 | N27: =IF(L27="","",L27+M27) -> 167.65625 | O27: Schichtbetrieb
C28: =IF(B28="","",CHOOSE(WEEKDAY(B28,2),"Montag","Dienstag","Mittwoch","Donnerstag","Freitag","Samstag","Sonntag")) | H28: =IF(AND(E28<>"",F28<>""),ROUND((F28-E28+IF(F28<E28,1,0))*24-IF(G28="",0,G28)/60,2),"") | J28: =IFERROR(INDEX(Listen!$C$4:$C$9,MATCH(I28,Listen!$B$4:$B$9,0)),"") | K28: =IF(H28="","",$I$5) | L28: =IF(H28="","",H28*K28) | M28: =IF(L28="","",L28*J28) | N28: =IF(L28="","",L28+M28)
C29: =IF(B29="","",CHOOSE(WEEKDAY(B29,2),"Montag","Dienstag","Mittwoch","Donnerstag","Freitag","Samstag","Sonntag")) | H29: =IF(AND(E29<>"",F29<>""),ROUND((F29-E29+IF(F29<E29,1,0))*24-IF(G29="",0,G29)/60,2),"") | J29: =IFERROR(INDEX(Listen!$C$4:$C$9,MATCH(I29,Listen!$B$4:$B$9,0)),"") | K29: =IF(H29="","",$I$5) | L29: =IF(H29="","",H29*K29) | M29: =IF(L29="","",L29*J29) | N29: =IF(L29="","",L29+M29)
C30: =IF(B30="","",CHOOSE(WEEKDAY(B30,2),"Montag","Dienstag","Mittwoch","Donnerstag","Freitag","Samstag","Sonntag")) | H30: =IF(AND(E30<>"",F30<>""),ROUND((F30-E30+IF(F30<E30,1,0))*24-IF(G30="",0,G30)/60,2),"") | J30: =IFERROR(INDEX(Listen!$C$4:$C$9,MATCH(I30,Listen!$B$4:$B$9,0)),"") | K30: =IF(H30="","",$I$5) | L30: =IF(H30="","",H30*K30) | M30: =IF(L30="","",L30*J30) | N30: =IF(L30="","",L30+M30)
A31: Gesamt (Abrechnungszeitraum) | H31: =SUM(H10:H27) -> 123.75 | L31: =SUM(L10:L27) -> 2289.375 | M31: =SUM(M10:M27) -> 459.95625 | N31: =SUM(N10:N27) -> 2749.3313

Sheet Lohndaten
A1: Lohndaten · Abrechnungsgrundlage
A2: =Zeiterfassung!C4&" · "&Zeiterfassung!I4&" · "&Zeiterfassung!C5 -> Nico Reinhardt · April 2026 · PN-10427
B5: GESAMT-ARBEITSSTUNDEN | E5: GRUNDLOHN GESAMT | I5: ZUSCHLÄGE GESAMT | K5: BRUTTOLOHN (LOHNDATEN)
B6: =Zeiterfassung!H31 -> 123.75 | E6: =Zeiterfassung!L31 -> 2289.375 | I6: =Zeiterfassung!M31 -> 459.95625 | K6: =Zeiterfassung!N31 -> 2749.3313
B9: Aufschlüsselung nach Kategorie
B10: Kategorie | C10: Stunden | D10: Grundlohn | E10: Zuschlag | F10: steuerfrei | G10: Bruttolohn
B11: =Listen!B4 -> Normalarbeit | C11: =SUMIF(Zeiterfassung!$I$10:$I$27,$B11,Zeiterfassung!$H$10:$H$27) -> 67.5 | D11: =SUMIF(Zeiterfassung!$I$10:$I$27,$B11,Zeiterfassung!$L$10:$L$27) -> 1248.75 | E11: =SUMIF(Zeiterfassung!$I$10:$I$27,$B11,Zeiterfassung!$M$10:$M$27) -> 0 | F11: =Listen!D4 -> – | G11: =SUMIF(Zeiterfassung!$I$10:$I$27,$B11,Zeiterfassung!$N$10:$N$27) -> 1248.75
B12: =Listen!B5 -> Überstunde | C12: =SUMIF(Zeiterfassung!$I$10:$I$27,$B12,Zeiterfassung!$H$10:$H$27) -> 17.75 | D12: =SUMIF(Zeiterfassung!$I$10:$I$27,$B12,Zeiterfassung!$L$10:$L$27) -> 328.375 | E12: =SUMIF(Zeiterfassung!$I$10:$I$27,$B12,Zeiterfassung!$M$10:$M$27) -> 82.09375 | F12: =Listen!D5 -> nein | G12: =SUMIF(Zeiterfassung!$I$10:$I$27,$B12,Zeiterfassung!$N$10:$N$27) -> 410.46875
B13: =Listen!B6 -> Nachtarbeit | C13: =SUMIF(Zeiterfassung!$I$10:$I$27,$B13,Zeiterfassung!$H$10:$H$27) -> 14.5 | D13: =SUMIF(Zeiterfassung!$I$10:$I$27,$B13,Zeiterfassung!$L$10:$L$27) -> 268.25 | E13: =SUMIF(Zeiterfassung!$I$10:$I$27,$B13,Zeiterfassung!$M$10:$M$27) -> 67.0625 | F13: =Listen!D6 -> ja | G13: =SUMIF(Zeiterfassung!$I$10:$I$27,$B13,Zeiterfassung!$N$10:$N$27) -> 335.3125
B14: =Listen!B7 -> Samstagsarbeit | C14: =SUMIF(Zeiterfassung!$I$10:$I$27,$B14,Zeiterfassung!$H$10:$H$27) -> 9 | D14: =SUMIF(Zeiterfassung!$I$10:$I$27,$B14,Zeiterfassung!$L$10:$L$27) -> 166.5 | E14: =SUMIF(Zeiterfassung!$I$10:$I$27,$B14,Zeiterfassung!$M$10:$M$27) -> 33.3 | F14: =Listen!D7 -> nein | G14: =SUMIF(Zeiterfassung!$I$10:$I$27,$B14,Zeiterfassung!$N$10:$N$27) -> 199.8
B15: =Listen!B8 -> Sonntagsarbeit | C15: =SUMIF(Zeiterfassung!$I$10:$I$27,$B15,Zeiterfassung!$H$10:$H$27) -> 5 | D15: =SUMIF(Zeiterfassung!$I$10:$I$27,$B15,Zeiterfassung!$L$10:$L$27) -> 92.5 | E15: =SUMIF(Zeiterfassung!$I$10:$I$27,$B15,Zeiterfassung!$M$10:$M$27) -> 46.25 | F15: =Listen!D8 -> ja | G15: =SUMIF(Zeiterfassung!$I$10:$I$27,$B15,Zeiterfassung!$N$10:$N$27) -> 138.75
B16: =Listen!B9 -> Feiertagsarbeit | C16: =SUMIF(Zeiterfassung!$I$10:$I$27,$B16,Zeiterfassung!$H$10:$H$27) -> 10 | D16: =SUMIF(Zeiterfassung!$I$10:$I$27,$B16,Zeiterfassung!$L$10:$L$27) -> 185 | E16: =SUMIF(Zeiterfassung!$I$10:$I$27,$B16,Zeiterfassung!$M$10:$M$27) -> 231.25 | F16: =Listen!D9 -> ja | G16: =SUMIF(Zeiterfassung!$I$10:$I$27,$B16,Zeiterfassung!$N$10:$N$27) -> 416.25
B17: Summe | C17: =SUM(C11:C16) -> 123.75 | D17: =SUM(D11:D16) -> 2289.375 | E17: =SUM(E11:E16) -> 459.95625 | G17: =SUM(G11:G16) -> 2749.3313
B19: Steuerliche Einordnung
B20: Bruttolohn gesamt | D20: =G17 -> 2749.3313
B21: davon steuerfreie Zuschläge (§ 3b) | D21: =SUMPRODUCT(($F11:$F16="ja")*($E11:$E16)) -> 344.5625
B22: Steuerpflichtiger Bruttolohn | D22: =D20-D21 -> 2404.7688
B25: Diese Lohndaten dienen als Grundlage zur Übergabe an die Lohnbuchhaltung / das Lohnbüro. Die eigentliche Entgeltabrechnung (Abzug von Lohnsteuer, Soli, Kirchensteuer und Sozialversicherung, Brutto → Netto) erfolgt separat. Alle Werte beziehen sich auf 2026 – gesetzliche Sätze (Mindestlohn, § 3b-Höchstsätze) bitte vor der Abrechnung prüfen.

Sheet Listen
B2: Listen & Parameter
B3: Kategorie | C3: Zuschlag | D3: steuerfrei (§ 3b) | F3: Tätigkeit / Projekt
B4: Normalarbeit | C4: 0 | D4: – | F4: Produktion
B5: Überstunde | C5: 0.25 | D5: nein | F5: Montage
B6: Nachtarbeit | C6: 0.25 | D6: ja | F6: Lager
B7: Samstagsarbeit | C7: 0.2 | D7: nein | F7: Kundendienst
B8: Sonntagsarbeit | C8: 0.5 | D8: ja | F8: Wartung
B9: Feiertagsarbeit | C9: 1.25 | D9: ja | F9: Projektarbeit
F10: Verwaltung
F11: Nachtschicht
B12: Gesetzl. Mindestlohn 2026 (€/h) | D12: 13.9 | F12: Sonstiges
B13: Stand: 01.01.2026 (BMAS) – bitte aktuellen Wert prüfen.
B15: Legende & Hinweise
C16: Eingabefeld – hier trägst du Werte ein (Datum, Zeiten, Pause, Kategorie …).
C17: Automatisches Feld / Formel – nicht überschreiben (wird berechnet).
C18: Pflichtangabe fehlt oder Wert unplausibel (z. B. Mindestlohn unterschritten).
C19: Hinweis: Zuschlagsarbeit (Nacht/Sonntag/Feiertag) bzw. lange Arbeitszeit.
C20: Prüfung erfüllt / Zielwert eingehalten.
B22: • Zuschlagssätze sind branchen-/tarifübliche Beispielwerte und frei anpassbar.
B23: • Steuerfreie Zuschläge nach § 3b EStG gelten nur bis zu gesetzlichen Höchstsätzen – Einzelfall prüfen.
B24: • Diese Vorlage bereitet Lohndaten vor; die eigentliche Lohnabrechnung (Brutto→Netto) erfolgt separat.
