Workbook

Sheet Lohnabrechnung
B2: LOHNABRECHNUNG AUS ARBEITSZEITEN
B3: Lohndaten aus Arbeitszeiten · automatische Monatsauswertung
B5: Arbeitgeber | D5: Muster GmbH | I5: Monat (Nr.) | K5: 1 | M5: Jahr | O5: 2026
B6: Arbeitnehmer | D6: Max Mustermann | I6: Abrechnungszeitraum | K6: =CHOOSE($K$5,"Januar","Februar","März","April","Mai","Juni","Juli","August","September","Oktober","November","Dezember")&" "&$O$5 -> Januar 2026
B7: Personalnummer | D7: 10042 | I7: Stundensatz (€/Std) | K7: =Einstellungen!$C$6 -> 18.5 | M7: Sollstd./Tag | O7: =Einstellungen!$C$7 -> 8
B8: Tätigkeit | D8: Lagerlogistik
B9: Legende: Gold = Eingabefelder · Petrol = automatische Berechnung · Sonntage und Feiertage werden automatisch erkannt und farblich markiert
B10: Datum | C10: Tag | D10: Beginn | E10: Ende | F10: Pause (Min) | G10: Arbeitszeit (Std) | H10: Normal (Std) | I10: Über (Std) | J10: Nacht (Std) | K10: Sonntag | L10: Feiertag | M10: Grundlohn | N10: Zuschläge | O10: Tageslohn | P10: Bemerkung
B11: =IFERROR(IF(DAY(DATE($O$5,$K$5,ROW()-10))=ROW()-10,DATE($O$5,$K$5,ROW()-10),""),"") -> 46023 | C11: =IF($B11="","",CHOOSE(WEEKDAY($B11,2),"Mo","Di","Mi","Do","Fr","Sa","So")) -> Do | D11: 0.375 | E11: 0.625 | F11: 30 | G11: =IF(OR($B11="",$D11="",$E11=""),"",MOD($E11-$D11,1)*24-IF($F11="",0,$F11)/60) -> 5.5 | H11: =IF($G11="","",MIN($G11,Einstellungen!$C$7)) -> 5.5 | I11: =IF($G11="","",MAX(0,$G11-Einstellungen!$C$7)) -> 0 | K11: =IF($B11="","",IF(WEEKDAY($B11,2)=7,"Ja","–")) -> – | L11: =IF($B11="","",IF(COUNTIF(Einstellungen!$B$15:$B$23,$B11)>0,"Ja","–")) -> Ja | M11: =IF($G11="","",$G11*Einstellungen!$C$6) -> 101.75 | N11: =IF($G11="","",$R11+$S11+$T11+$U11) -> 127.1875 | O11: =IF($G11="","",$M11+$N11) -> 228.9375 | P11: Feiertagsdienst | R11: =IF($G11="","",$I11*Einstellungen!$C$6*Einstellungen!$C$8) -> 0 | S11: =IF($G11="","",IF($J11="",0,$J11)*Einstellungen!$C$6*Einstellungen!$C$9) -> 0 | T11: =IF($G11="","",IF(AND(WEEKDAY($B11,2)=7,COUNTIF(Einstellungen!$B$15:$B$23,$B11)=0),$G11*Einstellungen!$C$6*Einstellungen!$C$10,0)) -> 0 | U11: =IF($G11="","",IF(COUNTIF(Einstellungen!$B$15:$B$23,$B11)>0,$G11*Einstellungen!$C$6*Einstellungen!$C$11,0)) -> 127.1875
B12: =IFERROR(IF(DAY(DATE($O$5,$K$5,ROW()-10))=ROW()-10,DATE($O$5,$K$5,ROW()-10),""),"") -> 46024 | C12: =IF($B12="","",CHOOSE(WEEKDAY($B12,2),"Mo","Di","Mi","Do","Fr","Sa","So")) -> Fr | D12: 0.33333333 | E12: 0.6875 | F12: 30 | G12: =IF(OR($B12="",$D12="",$E12=""),"",MOD($E12-$D12,1)*24-IF($F12="",0,$F12)/60) -> 8 | H12: =IF($G12="","",MIN($G12,Einstellungen!$C$7)) -> 8 | I12: =IF($G12="","",MAX(0,$G12-Einstellungen!$C$7)) -> 8.8817842e-15 | K12: =IF($B12="","",IF(WEEKDAY($B12,2)=7,"Ja","–")) -> – | L12: =IF($B12="","",IF(COUNTIF(Einstellungen!$B$15:$B$23,$B12)>0,"Ja","–")) -> – | M12: =IF($G12="","",$G12*Einstellungen!$C$6) -> 148 | N12: =IF($G12="","",$R12+$S12+$T12+$U12) -> 4.1078252e-14 | O12: =IF($G12="","",$M12+$N12) -> 148 | R12: =IF($G12="","",$I12*Einstellungen!$C$6*Einstellungen!$C$8) -> 4.1078252e-14 | S12: =IF($G12="","",IF($J12="",0,$J12)*Einstellungen!$C$6*Einstellungen!$C$9) -> 0 | T12: =IF($G12="","",IF(AND(WEEKDAY($B12,2)=7,COUNTIF(Einstellungen!$B$15:$B$23,$B12)=0),$G12*Einstellungen!$C$6*Einstellungen!$C$10,0)) -> 0 | U12: =IF($G12="","",IF(COUNTIF(Einstellungen!$B$15:$B$23,$B12)>0,$G12*Einstellungen!$C$6*Einstellungen!$C$11,0)) -> 0
B13: =IFERROR(IF(DAY(DATE($O$5,$K$5,ROW()-10))=ROW()-10,DATE($O$5,$K$5,ROW()-10),""),"") -> 46025 | C13: =IF($B13="","",CHOOSE(WEEKDAY($B13,2),"Mo","Di","Mi","Do","Fr","Sa","So")) -> Sa | G13: =IF(OR($B13="",$D13="",$E13=""),"",MOD($E13-$D13,1)*24-IF($F13="",0,$F13)/60) | H13: =IF($G13="","",MIN($G13,Einstellungen!$C$7)) | I13: =IF($G13="","",MAX(0,$G13-Einstellungen!$C$7)) | K13: =IF($B13="","",IF(WEEKDAY($B13,2)=7,"Ja","–")) -> – | L13: =IF($B13="","",IF(COUNTIF(Einstellungen!$B$15:$B$23,$B13)>0,"Ja","–")) -> – | M13: =IF($G13="","",$G13*Einstellungen!$C$6) | N13: =IF($G13="","",$R13+$S13+$T13+$U13) | O13: =IF($G13="","",$M13+$N13) | R13: =IF($G13="","",$I13*Einstellungen!$C$6*Einstellungen!$C$8) | S13: =IF($G13="","",IF($J13="",0,$J13)*Einstellungen!$C$6*Einstellungen!$C$9) | T13: =IF($G13="","",IF(AND(WEEKDAY($B13,2)=7,COUNTIF(Einstellungen!$B$15:$B$23,$B13)=0),$G13*Einstellungen!$C$6*Einstellungen!$C$10,0)) | U13: =IF($G13="","",IF(COUNTIF(Einstellungen!$B$15:$B$23,$B13)>0,$G13*Einstellungen!$C$6*Einstellungen!$C$11,0))
B14: =IFERROR(IF(DAY(DATE($O$5,$K$5,ROW()-10))=ROW()-10,DATE($O$5,$K$5,ROW()-10),""),"") -> 46026 | C14: =IF($B14="","",CHOOSE(WEEKDAY($B14,2),"Mo","Di","Mi","Do","Fr","Sa","So")) -> So | G14: =IF(OR($B14="",$D14="",$E14=""),"",MOD($E14-$D14,1)*24-IF($F14="",0,$F14)/60) | H14: =IF($G14="","",MIN($G14,Einstellungen!$C$7)) | I14: =IF($G14="","",MAX(0,$G14-Einstellungen!$C$7)) | K14: =IF($B14="","",IF(WEEKDAY($B14,2)=7,"Ja","–")) -> Ja | L14: =IF($B14="","",IF(COUNTIF(Einstellungen!$B$15:$B$23,$B14)>0,"Ja","–")) -> – | M14: =IF($G14="","",$G14*Einstellungen!$C$6) | N14: =IF($G14="","",$R14+$S14+$T14+$U14) | O14: =IF($G14="","",$M14+$N14) | R14: =IF($G14="","",$I14*Einstellungen!$C$6*Einstellungen!$C$8) | S14: =IF($G14="","",IF($J14="",0,$J14)*Einstellungen!$C$6*Einstellungen!$C$9) | T14: =IF($G14="","",IF(AND(WEEKDAY($B14,2)=7,COUNTIF(Einstellungen!$B$15:$B$23,$B14)=0),$G14*Einstellungen!$C$6*Einstellungen!$C$10,0)) | U14: =IF($G14="","",IF(COUNTIF(Einstellungen!$B$15:$B$23,$B14)>0,$G14*Einstellungen!$C$6*Einstellungen!$C$11,0))
B15: =IFERROR(IF(DAY(DATE($O$5,$K$5,ROW()-10))=ROW()-10,DATE($O$5,$K$5,ROW()-10),""),"") -> 46027 | C15: =IF($B15="","",CHOOSE(WEEKDAY($B15,2),"Mo","Di","Mi","Do","Fr","Sa","So")) -> Mo | D15: 0.33333333 | E15: 0.70833333 | F15: 45 | G15: =IF(OR($B15="",$D15="",$E15=""),"",MOD($E15-$D15,1)*24-IF($F15="",0,$F15)/60) -> 8.25 | H15: =IF($G15="","",MIN($G15,Einstellungen!$C$7)) -> 8 | I15: =IF($G15="","",MAX(0,$G15-Einstellungen!$C$7)) -> 0.25 | K15: =IF($B15="","",IF(WEEKDAY($B15,2)=7,"Ja","–")) -> – | L15: =IF($B15="","",IF(COUNTIF(Einstellungen!$B$15:$B$23,$B15)>0,"Ja","–")) -> – | M15: =IF($G15="","",$G15*Einstellungen!$C$6) -> 152.625 | N15: =IF($G15="","",$R15+$S15+$T15+$U15) -> 1.15625 | O15: =IF($G15="","",$M15+$N15) -> 153.78125 | R15: =IF($G15="","",$I15*Einstellungen!$C$6*Einstellungen!$C$8) -> 1.15625 | S15: =IF($G15="","",IF($J15="",0,$J15)*Einstellungen!$C$6*Einstellungen!$C$9) -> 0 | T15: =IF($G15="","",IF(AND(WEEKDAY($B15,2)=7,COUNTIF(Einstellungen!$B$15:$B$23,$B15)=0),$G15*Einstellungen!$C$6*Einstellungen!$C$10,0)) -> 0 | U15: =IF($G15="","",IF(COUNTIF(Einstellungen!$B$15:$B$23,$B15)>0,$G15*Einstellungen!$C$6*Einstellungen!$C$11,0)) -> 0
B16: =IFERROR(IF(DAY(DATE($O$5,$K$5,ROW()-10))=ROW()-10,DATE($O$5,$K$5,ROW()-10),""),"") -> 46028 | C16: =IF($B16="","",CHOOSE(WEEKDAY($B16,2),"Mo","Di","Mi","Do","Fr","Sa","So")) -> Di | D16: 0.33333333 | E16: 0.6875 | F16: 30 | G16: =IF(OR($B16="",$D16="",$E16=""),"",MOD($E16-$D16,1)*24-IF($F16="",0,$F16)/60) -> 8 | H16: =IF($G16="","",MIN($G16,Einstellungen!$C$7)) -> 8 | I16: =IF($G16="","",MAX(0,$G16-Einstellungen!$C$7)) -> 8.8817842e-15 | K16: =IF($B16="","",IF(WEEKDAY($B16,2)=7,"Ja","–")) -> – | L16: =IF($B16="","",IF(COUNTIF(Einstellungen!$B$15:$B$23,$B16)>0,"Ja","–")) -> – | M16: =IF($G16="","",$G16*Einstellungen!$C$6) -> 148 | N16: =IF($G16="","",$R16+$S16+$T16+$U16) -> 4.1078252e-14 | O16: =IF($G16="","",$M16+$N16) -> 148 | R16: =IF($G16="","",$I16*Einstellungen!$C$6*Einstellungen!$C$8) -> 4.1078252e-14 | S16: =IF($G16="","",IF($J16="",0,$J16)*Einstellungen!$C$6*Einstellungen!$C$9) -> 0 | T16: =IF($G16="","",IF(AND(WEEKDAY($B16,2)=7,COUNTIF(Einstellungen!$B$15:$B$23,$B16)=0),$G16*Einstellungen!$C$6*Einstellungen!$C$10,0)) -> 0 | U16: =IF($G16="","",IF(COUNTIF(Einstellungen!$B$15:$B$23,$B16)>0,$G16*Einstellungen!$C$6*Einstellungen!$C$11,0)) -> 0
B17: =IFERROR(IF(DAY(DATE($O$5,$K$5,ROW()-10))=ROW()-10,DATE($O$5,$K$5,ROW()-10),""),"") -> 46029 | C17: =IF($B17="","",CHOOSE(WEEKDAY($B17,2),"Mo","Di","Mi","Do","Fr","Sa","So")) -> Mi | D17: 0.33333333 | E17: 0.75 | F17: 45 | G17: =IF(OR($B17="",$D17="",$E17=""),"",MOD($E17-$D17,1)*24-IF($F17="",0,$F17)/60) -> 9.25 | H17: =IF($G17="","",MIN($G17,Einstellungen!$C$7)) -> 8 | I17: =IF($G17="","",MAX(0,$G17-Einstellungen!$C$7)) -> 1.25 | K17: =IF($B17="","",IF(WEEKDAY($B17,2)=7,"Ja","–")) -> – | L17: =IF($B17="","",IF(COUNTIF(Einstellungen!$B$15:$B$23,$B17)>0,"Ja","–")) -> – | M17: =IF($G17="","",$G17*Einstellungen!$C$6) -> 171.125 | N17: =IF($G17="","",$R17+$S17+$T17+$U17) -> 5.78125 | O17: =IF($G17="","",$M17+$N17) -> 176.90625 | P17: Mehrarbeit | R17: =IF($G17="","",$I17*Einstellungen!$C$6*Einstellungen!$C$8) -> 5.78125 | S17: =IF($G17="","",IF($J17="",0,$J17)*Einstellungen!$C$6*Einstellungen!$C$9) -> 0 | T17: =IF($G17="","",IF(AND(WEEKDAY($B17,2)=7,COUNTIF(Einstellungen!$B$15:$B$23,$B17)=0),$G17*Einstellungen!$C$6*Einstellungen!$C$10,0)) -> 0 | U17: =IF($G17="","",IF(COUNTIF(Einstellungen!$B$15:$B$23,$B17)>0,$G17*Einstellungen!$C$6*Einstellungen!$C$11,0)) -> 0
B18: =IFERROR(IF(DAY(DATE($O$5,$K$5,ROW()-10))=ROW()-10,DATE($O$5,$K$5,ROW()-10),""),"") -> 46030 | C18: =IF($B18="","",CHOOSE(WEEKDAY($B18,2),"Mo","Di","Mi","Do","Fr","Sa","So")) -> Do | D18: 0.33333333 | E18: 0.6875 | F18: 30 | G18: =IF(OR($B18="",$D18="",$E18=""),"",MOD($E18-$D18,1)*24-IF($F18="",0,$F18)/60) -> 8 | H18: =IF($G18="","",MIN($G18,Einstellungen!$C$7)) -> 8 | I18: =IF($G18="","",MAX(0,$G18-Einstellungen!$C$7)) -> 8.8817842e-15 | K18: =IF($B18="","",IF(WEEKDAY($B18,2)=7,"Ja","–")) -> – | L18: =IF($B18="","",IF(COUNTIF(Einstellungen!$B$15:$B$23,$B18)>0,"Ja","–")) -> – | M18: =IF($G18="","",$G18*Einstellungen!$C$6) -> 148 | N18: =IF($G18="","",$R18+$S18+$T18+$U18) -> 4.1078252e-14 | O18: =IF($G18="","",$M18+$N18) -> 148 | R18: =IF($G18="","",$I18*Einstellungen!$C$6*Einstellungen!$C$8) -> 4.1078252e-14 | S18: =IF($G18="","",IF($J18="",0,$J18)*Einstellungen!$C$6*Einstellungen!$C$9) -> 0 | T18: =IF($G18="","",IF(AND(WEEKDAY($B18,2)=7,COUNTIF(Einstellungen!$B$15:$B$23,$B18)=0),$G18*Einstellungen!$C$6*Einstellungen!$C$10,0)) -> 0 | U18: =IF($G18="","",IF(COUNTIF(Einstellungen!$B$15:$B$23,$B18)>0,$G18*Einstellungen!$C$6*Einstellungen!$C$11,0)) -> 0
B19: =IFERROR(IF(DAY(DATE($O$5,$K$5,ROW()-10))=ROW()-10,DATE($O$5,$K$5,ROW()-10),""),"") -> 46031 | C19: =IF($B19="","",CHOOSE(WEEKDAY($B19,2),"Mo","Di","Mi","Do","Fr","Sa","So")) -> Fr | D19: 0.33333333 | E19: 0.66666667 | F19: 30 | G19: =IF(OR($B19="",$D19="",$E19=""),"",MOD($E19-$D19,1)*24-IF($F19="",0,$F19)/60) -> 7.5 | H19: =IF($G19="","",MIN($G19,Einstellungen!$C$7)) -> 7.5 | I19: =IF($G19="","",MAX(0,$G19-Einstellungen!$C$7)) -> 0 | K19: =IF($B19="","",IF(WEEKDAY($B19,2)=7,"Ja","–")) -> – | L19: =IF($B19="","",IF(COUNTIF(Einstellungen!$B$15:$B$23,$B19)>0,"Ja","–")) -> – | M19: =IF($G19="","",$G19*Einstellungen!$C$6) -> 138.75 | N19: =IF($G19="","",$R19+$S19+$T19+$U19) -> 0 | O19: =IF($G19="","",$M19+$N19) -> 138.75 | R19: =IF($G19="","",$I19*Einstellungen!$C$6*Einstellungen!$C$8) -> 0 | S19: =IF($G19="","",IF($J19="",0,$J19)*Einstellungen!$C$6*Einstellungen!$C$9) -> 0 | T19: =IF($G19="","",IF(AND(WEEKDAY($B19,2)=7,COUNTIF(Einstellungen!$B$15:$B$23,$B19)=0),$G19*Einstellungen!$C$6*Einstellungen!$C$10,0)) -> 0 | U19: =IF($G19="","",IF(COUNTIF(Einstellungen!$B$15:$B$23,$B19)>0,$G19*Einstellungen!$C$6*Einstellungen!$C$11,0)) -> 0
B20: =IFERROR(IF(DAY(DATE($O$5,$K$5,ROW()-10))=ROW()-10,DATE($O$5,$K$5,ROW()-10),""),"") -> 46032 | C20: =IF($B20="","",CHOOSE(WEEKDAY($B20,2),"Mo","Di","Mi","Do","Fr","Sa","So")) -> Sa | G20: =IF(OR($B20="",$D20="",$E20=""),"",MOD($E20-$D20,1)*24-IF($F20="",0,$F20)/60) | H20: =IF($G20="","",MIN($G20,Einstellungen!$C$7)) | I20: =IF($G20="","",MAX(0,$G20-Einstellungen!$C$7)) | K20: =IF($B20="","",IF(WEEKDAY($B20,2)=7,"Ja","–")) -> – | L20: =IF($B20="","",IF(COUNTIF(Einstellungen!$B$15:$B$23,$B20)>0,"Ja","–")) -> – | M20: =IF($G20="","",$G20*Einstellungen!$C$6) | N20: =IF($G20="","",$R20+$S20+$T20+$U20) | O20: =IF($G20="","",$M20+$N20) | R20: =IF($G20="","",$I20*Einstellungen!$C$6*Einstellungen!$C$8) | S20: =IF($G20="","",IF($J20="",0,$J20)*Einstellungen!$C$6*Einstellungen!$C$9) | T20: =IF($G20="","",IF(AND(WEEKDAY($B20,2)=7,COUNTIF(Einstellungen!$B$15:$B$23,$B20)=0),$G20*Einstellungen!$C$6*Einstellungen!$C$10,0)) | U20: =IF($G20="","",IF(COUNTIF(Einstellungen!$B$15:$B$23,$B20)>0,$G20*Einstellungen!$C$6*Einstellungen!$C$11,0))
B21: =IFERROR(IF(DAY(DATE($O$5,$K$5,ROW()-10))=ROW()-10,DATE($O$5,$K$5,ROW()-10),""),"") -> 46033 | C21: =IF($B21="","",CHOOSE(WEEKDAY($B21,2),"Mo","Di","Mi","Do","Fr","Sa","So")) -> So | D21: 0.41666667 | E21: 0.625 | F21: 30 | G21: =IF(OR($B21="",$D21="",$E21=""),"",MOD($E21-$D21,1)*24-IF($F21="",0,$F21)/60) -> 4.5 | H21: =IF($G21="","",MIN($G21,Einstellungen!$C$7)) -> 4.5 | I21: =IF($G21="","",MAX(0,$G21-Einstellungen!$C$7)) -> 0 | K21: =IF($B21="","",IF(WEEKDAY($B21,2)=7,"Ja","–")) -> Ja | L21: =IF($B21="","",IF(COUNTIF(Einstellungen!$B$15:$B$23,$B21)>0,"Ja","–")) -> – | M21: =IF($G21="","",$G21*Einstellungen!$C$6) -> 83.25 | N21: =IF($G21="","",$R21+$S21+$T21+$U21) -> 41.625 | O21: =IF($G21="","",$M21+$N21) -> 124.875 | P21: Sonderschicht | R21: =IF($G21="","",$I21*Einstellungen!$C$6*Einstellungen!$C$8) -> 0 | S21: =IF($G21="","",IF($J21="",0,$J21)*Einstellungen!$C$6*Einstellungen!$C$9) -> 0 | T21: =IF($G21="","",IF(AND(WEEKDAY($B21,2)=7,COUNTIF(Einstellungen!$B$15:$B$23,$B21)=0),$G21*Einstellungen!$C$6*Einstellungen!$C$10,0)) -> 41.625 | U21: =IF($G21="","",IF(COUNTIF(Einstellungen!$B$15:$B$23,$B21)>0,$G21*Einstellungen!$C$6*Einstellungen!$C$11,0)) -> 0
B22: =IFERROR(IF(DAY(DATE($O$5,$K$5,ROW()-10))=ROW()-10,DATE($O$5,$K$5,ROW()-10),""),"") -> 46034 | C22: =IF($B22="","",CHOOSE(WEEKDAY($B22,2),"Mo","Di","Mi","Do","Fr","Sa","So")) -> Mo | D22: 0.25 | E22: 0.60416667 | F22: 30 | G22: =IF(OR($B22="",$D22="",$E22=""),"",MOD($E22-$D22,1)*24-IF($F22="",0,$F22)/60) -> 8 | H22: =IF($G22="","",MIN($G22,Einstellungen!$C$7)) -> 8 | I22: =IF($G22="","",MAX(0,$G22-Einstellungen!$C$7)) -> 7.1054274e-15 | K22: =IF($B22="","",IF(WEEKDAY($B22,2)=7,"Ja","–")) -> – | L22: =IF($B22="","",IF(COUNTIF(Einstellungen!$B$15:$B$23,$B22)>0,"Ja","–")) -> – | M22: =IF($G22="","",$G22*Einstellungen!$C$6) -> 148 | N22: =IF($G22="","",$R22+$S22+$T22+$U22) -> 3.2862602e-14 | O22: =IF($G22="","",$M22+$N22) -> 148 | R22: =IF($G22="","",$I22*Einstellungen!$C$6*Einstellungen!$C$8) -> 3.2862602e-14 | S22: =IF($G22="","",IF($J22="",0,$J22)*Einstellungen!$C$6*Einstellungen!$C$9) -> 0 | T22: =IF($G22="","",IF(AND(WEEKDAY($B22,2)=7,COUNTIF(Einstellungen!$B$15:$B$23,$B22)=0),$G22*Einstellungen!$C$6*Einstellungen!$C$10,0)) -> 0 | U22: =IF($G22="","",IF(COUNTIF(Einstellungen!$B$15:$B$23,$B22)>0,$G22*Einstellungen!$C$6*Einstellungen!$C$11,0)) -> 0
B23: =IFERROR(IF(DAY(DATE($O$5,$K$5,ROW()-10))=ROW()-10,DATE($O$5,$K$5,ROW()-10),""),"") -> 46035 | C23: =IF($B23="","",CHOOSE(WEEKDAY($B23,2),"Mo","Di","Mi","Do","Fr","Sa","So")) -> Di | D23: 0.33333333 | E23: 0.6875 | F23: 30 | G23: =IF(OR($B23="",$D23="",$E23=""),"",MOD($E23-$D23,1)*24-IF($F23="",0,$F23)/60) -> 8 | H23: =IF($G23="","",MIN($G23,Einstellungen!$C$7)) -> 8 | I23: =IF($G23="","",MAX(0,$G23-Einstellungen!$C$7)) -> 8.8817842e-15 | K23: =IF($B23="","",IF(WEEKDAY($B23,2)=7,"Ja","–")) -> – | L23: =IF($B23="","",IF(COUNTIF(Einstellungen!$B$15:$B$23,$B23)>0,"Ja","–")) -> – | M23: =IF($G23="","",$G23*Einstellungen!$C$6) -> 148 | N23: =IF($G23="","",$R23+$S23+$T23+$U23) -> 4.1078252e-14 | O23: =IF($G23="","",$M23+$N23) -> 148 | R23: =IF($G23="","",$I23*Einstellungen!$C$6*Einstellungen!$C$8) -> 4.1078252e-14 | S23: =IF($G23="","",IF($J23="",0,$J23)*Einstellungen!$C$6*Einstellungen!$C$9) -> 0 | T23: =IF($G23="","",IF(AND(WEEKDAY($B23,2)=7,COUNTIF(Einstellungen!$B$15:$B$23,$B23)=0),$G23*Einstellungen!$C$6*Einstellungen!$C$10,0)) -> 0 | U23: =IF($G23="","",IF(COUNTIF(Einstellungen!$B$15:$B$23,$B23)>0,$G23*Einstellungen!$C$6*Einstellungen!$C$11,0)) -> 0
B24: =IFERROR(IF(DAY(DATE($O$5,$K$5,ROW()-10))=ROW()-10,DATE($O$5,$K$5,ROW()-10),""),"") -> 46036 | C24: =IF($B24="","",CHOOSE(WEEKDAY($B24,2),"Mo","Di","Mi","Do","Fr","Sa","So")) -> Mi | D24: 0.33333333 | E24: 0.6875 | F24: 30 | G24: =IF(OR($B24="",$D24="",$E24=""),"",MOD($E24-$D24,1)*24-IF($F24="",0,$F24)/60) -> 8 | H24: =IF($G24="","",MIN($G24,Einstellungen!$C$7)) -> 8 | I24: =IF($G24="","",MAX(0,$G24-Einstellungen!$C$7)) -> 8.8817842e-15 | K24: =IF($B24="","",IF(WEEKDAY($B24,2)=7,"Ja","–")) -> – | L24: =IF($B24="","",IF(COUNTIF(Einstellungen!$B$15:$B$23,$B24)>0,"Ja","–")) -> – | M24: =IF($G24="","",$G24*Einstellungen!$C$6) -> 148 | N24: =IF($G24="","",$R24+$S24+$T24+$U24) -> 4.1078252e-14 | O24: =IF($G24="","",$M24+$N24) -> 148 | R24: =IF($G24="","",$I24*Einstellungen!$C$6*Einstellungen!$C$8) -> 4.1078252e-14 | S24: =IF($G24="","",IF($J24="",0,$J24)*Einstellungen!$C$6*Einstellungen!$C$9) -> 0 | T24: =IF($G24="","",IF(AND(WEEKDAY($B24,2)=7,COUNTIF(Einstellungen!$B$15:$B$23,$B24)=0),$G24*Einstellungen!$C$6*Einstellungen!$C$10,0)) -> 0 | U24: =IF($G24="","",IF(COUNTIF(Einstellungen!$B$15:$B$23,$B24)>0,$G24*Einstellungen!$C$6*Einstellungen!$C$11,0)) -> 0
B25: =IFERROR(IF(DAY(DATE($O$5,$K$5,ROW()-10))=ROW()-10,DATE($O$5,$K$5,ROW()-10),""),"") -> 46037 | C25: =IF($B25="","",CHOOSE(WEEKDAY($B25,2),"Mo","Di","Mi","Do","Fr","Sa","So")) -> Do | D25: 0.91666667 | E25: 0.25 | F25: 45 | G25: =IF(OR($B25="",$D25="",$E25=""),"",MOD($E25-$D25,1)*24-IF($F25="",0,$F25)/60) -> 7.25 | H25: =IF($G25="","",MIN($G25,Einstellungen!$C$7)) -> 7.25 | I25: =IF($G25="","",MAX(0,$G25-Einstellungen!$C$7)) -> 0 | J25: 7 | K25: =IF($B25="","",IF(WEEKDAY($B25,2)=7,"Ja","–")) -> – | L25: =IF($B25="","",IF(COUNTIF(Einstellungen!$B$15:$B$23,$B25)>0,"Ja","–")) -> – | M25: =IF($G25="","",$G25*Einstellungen!$C$6) -> 134.125 | N25: =IF($G25="","",$R25+$S25+$T25+$U25) -> 32.375 | O25: =IF($G25="","",$M25+$N25) -> 166.5 | P25: Nachtschicht | R25: =IF($G25="","",$I25*Einstellungen!$C$6*Einstellungen!$C$8) -> 0 | S25: =IF($G25="","",IF($J25="",0,$J25)*Einstellungen!$C$6*Einstellungen!$C$9) -> 32.375 | T25: =IF($G25="","",IF(AND(WEEKDAY($B25,2)=7,COUNTIF(Einstellungen!$B$15:$B$23,$B25)=0),$G25*Einstellungen!$C$6*Einstellungen!$C$10,0)) -> 0 | U25: =IF($G25="","",IF(COUNTIF(Einstellungen!$B$15:$B$23,$B25)>0,$G25*Einstellungen!$C$6*Einstellungen!$C$11,0)) -> 0
B26: =IFERROR(IF(DAY(DATE($O$5,$K$5,ROW()-10))=ROW()-10,DATE($O$5,$K$5,ROW()-10),""),"") -> 46038 | C26: =IF($B26="","",CHOOSE(WEEKDAY($B26,2),"Mo","Di","Mi","Do","Fr","Sa","So")) -> Fr | D26: 0.33333333 | E26: 0.6875 | F26: 30 | G26: =IF(OR($B26="",$D26="",$E26=""),"",MOD($E26-$D26,1)*24-IF($F26="",0,$F26)/60) -> 8 | H26: =IF($G26="","",MIN($G26,Einstellungen!$C$7)) -> 8 | I26: =IF($G26="","",MAX(0,$G26-Einstellungen!$C$7)) -> 8.8817842e-15 | K26: =IF($B26="","",IF(WEEKDAY($B26,2)=7,"Ja","–")) -> – | L26: =IF($B26="","",IF(COUNTIF(Einstellungen!$B$15:$B$23,$B26)>0,"Ja","–")) -> – | M26: =IF($G26="","",$G26*Einstellungen!$C$6) -> 148 | N26: =IF($G26="","",$R26+$S26+$T26+$U26) -> 4.1078252e-14 | O26: =IF($G26="","",$M26+$N26) -> 148 | R26: =IF($G26="","",$I26*Einstellungen!$C$6*Einstellungen!$C$8) -> 4.1078252e-14 | S26: =IF($G26="","",IF($J26="",0,$J26)*Einstellungen!$C$6*Einstellungen!$C$9) -> 0 | T26: =IF($G26="","",IF(AND(WEEKDAY($B26,2)=7,COUNTIF(Einstellungen!$B$15:$B$23,$B26)=0),$G26*Einstellungen!$C$6*Einstellungen!$C$10,0)) -> 0 | U26: =IF($G26="","",IF(COUNTIF(Einstellungen!$B$15:$B$23,$B26)>0,$G26*Einstellungen!$C$6*Einstellungen!$C$11,0)) -> 0
B27: =IFERROR(IF(DAY(DATE($O$5,$K$5,ROW()-10))=ROW()-10,DATE($O$5,$K$5,ROW()-10),""),"") -> 46039 | C27: =IF($B27="","",CHOOSE(WEEKDAY($B27,2),"Mo","Di","Mi","Do","Fr","Sa","So")) -> Sa | G27: =IF(OR($B27="",$D27="",$E27=""),"",MOD($E27-$D27,1)*24-IF($F27="",0,$F27)/60) | H27: =IF($G27="","",MIN($G27,Einstellungen!$C$7)) | I27: =IF($G27="","",MAX(0,$G27-Einstellungen!$C$7)) | K27: =IF($B27="","",IF(WEEKDAY($B27,2)=7,"Ja","–")) -> – | L27: =IF($B27="","",IF(COUNTIF(Einstellungen!$B$15:$B$23,$B27)>0,"Ja","–")) -> – | M27: =IF($G27="","",$G27*Einstellungen!$C$6) | N27: =IF($G27="","",$R27+$S27+$T27+$U27) | O27: =IF($G27="","",$M27+$N27) | R27: =IF($G27="","",$I27*Einstellungen!$C$6*Einstellungen!$C$8) | S27: =IF($G27="","",IF($J27="",0,$J27)*Einstellungen!$C$6*Einstellungen!$C$9) | T27: =IF($G27="","",IF(AND(WEEKDAY($B27,2)=7,COUNTIF(Einstellungen!$B$15:$B$23,$B27)=0),$G27*Einstellungen!$C$6*Einstellungen!$C$10,0)) | U27: =IF($G27="","",IF(COUNTIF(Einstellungen!$B$15:$B$23,$B27)>0,$G27*Einstellungen!$C$6*Einstellungen!$C$11,0))
B28: =IFERROR(IF(DAY(DATE($O$5,$K$5,ROW()-10))=ROW()-10,DATE($O$5,$K$5,ROW()-10),""),"") -> 46040 | C28: =IF($B28="","",CHOOSE(WEEKDAY($B28,2),"Mo","Di","Mi","Do","Fr","Sa","So")) -> So | G28: =IF(OR($B28="",$D28="",$E28=""),"",MOD($E28-$D28,1)*24-IF($F28="",0,$F28)/60) | H28: =IF($G28="","",MIN($G28,Einstellungen!$C$7)) | I28: =IF($G28="","",MAX(0,$G28-Einstellungen!$C$7)) | K28: =IF($B28="","",IF(WEEKDAY($B28,2)=7,"Ja","–")) -> Ja | L28: =IF($B28="","",IF(COUNTIF(Einstellungen!$B$15:$B$23,$B28)>0,"Ja","–")) -> – | M28: =IF($G28="","",$G28*Einstellungen!$C$6) | N28: =IF($G28="","",$R28+$S28+$T28+$U28) | O28: =IF($G28="","",$M28+$N28) | R28: =IF($G28="","",$I28*Einstellungen!$C$6*Einstellungen!$C$8) | S28: =IF($G28="","",IF($J28="",0,$J28)*Einstellungen!$C$6*Einstellungen!$C$9) | T28: =IF($G28="","",IF(AND(WEEKDAY($B28,2)=7,COUNTIF(Einstellungen!$B$15:$B$23,$B28)=0),$G28*Einstellungen!$C$6*Einstellungen!$C$10,0)) | U28: =IF($G28="","",IF(COUNTIF(Einstellungen!$B$15:$B$23,$B28)>0,$G28*Einstellungen!$C$6*Einstellungen!$C$11,0))
B29: =IFERROR(IF(DAY(DATE($O$5,$K$5,ROW()-10))=ROW()-10,DATE($O$5,$K$5,ROW()-10),""),"") -> 46041 | C29: =IF($B29="","",CHOOSE(WEEKDAY($B29,2),"Mo","Di","Mi","Do","Fr","Sa","So")) -> Mo | D29: 0.33333333 | E29: 0.72916667 | F29: 45 | G29: =IF(OR($B29="",$D29="",$E29=""),"",MOD($E29-$D29,1)*24-IF($F29="",0,$F29)/60) -> 8.75 | H29: =IF($G29="","",MIN($G29,Einstellungen!$C$7)) -> 8 | I29: =IF($G29="","",MAX(0,$G29-Einstellungen!$C$7)) -> 0.75 | K29: =IF($B29="","",IF(WEEKDAY($B29,2)=7,"Ja","–")) -> – | L29: =IF($B29="","",IF(COUNTIF(Einstellungen!$B$15:$B$23,$B29)>0,"Ja","–")) -> – | M29: =IF($G29="","",$G29*Einstellungen!$C$6) -> 161.875 | N29: =IF($G29="","",$R29+$S29+$T29+$U29) -> 3.46875 | O29: =IF($G29="","",$M29+$N29) -> 165.34375 | R29: =IF($G29="","",$I29*Einstellungen!$C$6*Einstellungen!$C$8) -> 3.46875 | S29: =IF($G29="","",IF($J29="",0,$J29)*Einstellungen!$C$6*Einstellungen!$C$9) -> 0 | T29: =IF($G29="","",IF(AND(WEEKDAY($B29,2)=7,COUNTIF(Einstellungen!$B$15:$B$23,$B29)=0),$G29*Einstellungen!$C$6*Einstellungen!$C$10,0)) -> 0 | U29: =IF($G29="","",IF(COUNTIF(Einstellungen!$B$15:$B$23,$B29)>0,$G29*Einstellungen!$C$6*Einstellungen!$C$11,0)) -> 0
B30: =IFERROR(IF(DAY(DATE($O$5,$K$5,ROW()-10))=ROW()-10,DATE($O$5,$K$5,ROW()-10),""),"") -> 46042 | C30: =IF($B30="","",CHOOSE(WEEKDAY($B30,2),"Mo","Di","Mi","Do","Fr","Sa","So")) -> Di | D30: 0.33333333 | E30: 0.6875 | F30: 30 | G30: =IF(OR($B30="",$D30="",$E30=""),"",MOD($E30-$D30,1)*24-IF($F30="",0,$F30)/60) -> 8 | H30: =IF($G30="","",MIN($G30,Einstellungen!$C$7)) -> 8 | I30: =IF($G30="","",MAX(0,$G30-Einstellungen!$C$7)) -> 8.8817842e-15 | K30: =IF($B30="","",IF(WEEKDAY($B30,2)=7,"Ja","–")) -> – | L30: =IF($B30="","",IF(COUNTIF(Einstellungen!$B$15:$B$23,$B30)>0,"Ja","–")) -> – | M30: =IF($G30="","",$G30*Einstellungen!$C$6) -> 148 | N30: =IF($G30="","",$R30+$S30+$T30+$U30) -> 4.1078252e-14 | O30: =IF($G30="","",$M30+$N30) -> 148 | R30: =IF($G30="","",$I30*Einstellungen!$C$6*Einstellungen!$C$8) -> 4.1078252e-14 | S30: =IF($G30="","",IF($J30="",0,$J30)*Einstellungen!$C$6*Einstellungen!$C$9) -> 0 | T30: =IF($G30="","",IF(AND(WEEKDAY($B30,2)=7,COUNTIF(Einstellungen!$B$15:$B$23,$B30)=0),$G30*Einstellungen!$C$6*Einstellungen!$C$10,0)) -> 0 | U30: =IF($G30="","",IF(COUNTIF(Einstellungen!$B$15:$B$23,$B30)>0,$G30*Einstellungen!$C$6*Einstellungen!$C$11,0)) -> 0
B31: =IFERROR(IF(DAY(DATE($O$5,$K$5,ROW()-10))=ROW()-10,DATE($O$5,$K$5,ROW()-10),""),"") -> 46043 | C31: =IF($B31="","",CHOOSE(WEEKDAY($B31,2),"Mo","Di","Mi","Do","Fr","Sa","So")) -> Mi | D31: 0.33333333 | E31: 0.6875 | F31: 30 | G31: =IF(OR($B31="",$D31="",$E31=""),"",MOD($E31-$D31,1)*24-IF($F31="",0,$F31)/60) -> 8 | H31: =IF($G31="","",MIN($G31,Einstellungen!$C$7)) -> 8 | I31: =IF($G31="","",MAX(0,$G31-Einstellungen!$C$7)) -> 8.8817842e-15 | K31: =IF($B31="","",IF(WEEKDAY($B31,2)=7,"Ja","–")) -> – | L31: =IF($B31="","",IF(COUNTIF(Einstellungen!$B$15:$B$23,$B31)>0,"Ja","–")) -> – | M31: =IF($G31="","",$G31*Einstellungen!$C$6) -> 148 | N31: =IF($G31="","",$R31+$S31+$T31+$U31) -> 4.1078252e-14 | O31: =IF($G31="","",$M31+$N31) -> 148 | R31: =IF($G31="","",$I31*Einstellungen!$C$6*Einstellungen!$C$8) -> 4.1078252e-14 | S31: =IF($G31="","",IF($J31="",0,$J31)*Einstellungen!$C$6*Einstellungen!$C$9) -> 0 | T31: =IF($G31="","",IF(AND(WEEKDAY($B31,2)=7,COUNTIF(Einstellungen!$B$15:$B$23,$B31)=0),$G31*Einstellungen!$C$6*Einstellungen!$C$10,0)) -> 0 | U31: =IF($G31="","",IF(COUNTIF(Einstellungen!$B$15:$B$23,$B31)>0,$G31*Einstellungen!$C$6*Einstellungen!$C$11,0)) -> 0
B32: =IFERROR(IF(DAY(DATE($O$5,$K$5,ROW()-10))=ROW()-10,DATE($O$5,$K$5,ROW()-10),""),"") -> 46044 | C32: =IF($B32="","",CHOOSE(WEEKDAY($B32,2),"Mo","Di","Mi","Do","Fr","Sa","So")) -> Do | D32: 0.33333333 | E32: 0.6875 | F32: 30 | G32: =IF(OR($B32="",$D32="",$E32=""),"",MOD($E32-$D32,1)*24-IF($F32="",0,$F32)/60) -> 8 | H32: =IF($G32="","",MIN($G32,Einstellungen!$C$7)) -> 8 | I32: =IF($G32="","",MAX(0,$G32-Einstellungen!$C$7)) -> 8.8817842e-15 | K32: =IF($B32="","",IF(WEEKDAY($B32,2)=7,"Ja","–")) -> – | L32: =IF($B32="","",IF(COUNTIF(Einstellungen!$B$15:$B$23,$B32)>0,"Ja","–")) -> – | M32: =IF($G32="","",$G32*Einstellungen!$C$6) -> 148 | N32: =IF($G32="","",$R32+$S32+$T32+$U32) -> 4.1078252e-14 | O32: =IF($G32="","",$M32+$N32) -> 148 | R32: =IF($G32="","",$I32*Einstellungen!$C$6*Einstellungen!$C$8) -> 4.1078252e-14 | S32: =IF($G32="","",IF($J32="",0,$J32)*Einstellungen!$C$6*Einstellungen!$C$9) -> 0 | T32: =IF($G32="","",IF(AND(WEEKDAY($B32,2)=7,COUNTIF(Einstellungen!$B$15:$B$23,$B32)=0),$G32*Einstellungen!$C$6*Einstellungen!$C$10,0)) -> 0 | U32: =IF($G32="","",IF(COUNTIF(Einstellungen!$B$15:$B$23,$B32)>0,$G32*Einstellungen!$C$6*Einstellungen!$C$11,0)) -> 0
B33: =IFERROR(IF(DAY(DATE($O$5,$K$5,ROW()-10))=ROW()-10,DATE($O$5,$K$5,ROW()-10),""),"") -> 46045 | C33: =IF($B33="","",CHOOSE(WEEKDAY($B33,2),"Mo","Di","Mi","Do","Fr","Sa","So")) -> Fr | D33: 0.33333333 | E33: 0.625 | F33: 30 | G33: =IF(OR($B33="",$D33="",$E33=""),"",MOD($E33-$D33,1)*24-IF($F33="",0,$F33)/60) -> 6.5 | H33: =IF($G33="","",MIN($G33,Einstellungen!$C$7)) -> 6.5 | I33: =IF($G33="","",MAX(0,$G33-Einstellungen!$C$7)) -> 0 | K33: =IF($B33="","",IF(WEEKDAY($B33,2)=7,"Ja","–")) -> – | L33: =IF($B33="","",IF(COUNTIF(Einstellungen!$B$15:$B$23,$B33)>0,"Ja","–")) -> – | M33: =IF($G33="","",$G33*Einstellungen!$C$6) -> 120.25 | N33: =IF($G33="","",$R33+$S33+$T33+$U33) -> 0 | O33: =IF($G33="","",$M33+$N33) -> 120.25 | P33: Gleitzeit | R33: =IF($G33="","",$I33*Einstellungen!$C$6*Einstellungen!$C$8) -> 0 | S33: =IF($G33="","",IF($J33="",0,$J33)*Einstellungen!$C$6*Einstellungen!$C$9) -> 0 | T33: =IF($G33="","",IF(AND(WEEKDAY($B33,2)=7,COUNTIF(Einstellungen!$B$15:$B$23,$B33)=0),$G33*Einstellungen!$C$6*Einstellungen!$C$10,0)) -> 0 | U33: =IF($G33="","",IF(COUNTIF(Einstellungen!$B$15:$B$23,$B33)>0,$G33*Einstellungen!$C$6*Einstellungen!$C$11,0)) -> 0
B34: =IFERROR(IF(DAY(DATE($O$5,$K$5,ROW()-10))=ROW()-10,DATE($O$5,$K$5,ROW()-10),""),"") -> 46046 | C34: =IF($B34="","",CHOOSE(WEEKDAY($B34,2),"Mo","Di","Mi","Do","Fr","Sa","So")) -> Sa | G34: =IF(OR($B34="",$D34="",$E34=""),"",MOD($E34-$D34,1)*24-IF($F34="",0,$F34)/60) | H34: =IF($G34="","",MIN($G34,Einstellungen!$C$7)) | I34: =IF($G34="","",MAX(0,$G34-Einstellungen!$C$7)) | K34: =IF($B34="","",IF(WEEKDAY($B34,2)=7,"Ja","–")) -> – | L34: =IF($B34="","",IF(COUNTIF(Einstellungen!$B$15:$B$23,$B34)>0,"Ja","–")) -> – | M34: =IF($G34="","",$G34*Einstellungen!$C$6) | N34: =IF($G34="","",$R34+$S34+$T34+$U34) | O34: =IF($G34="","",$M34+$N34) | R34: =IF($G34="","",$I34*Einstellungen!$C$6*Einstellungen!$C$8) | S34: =IF($G34="","",IF($J34="",0,$J34)*Einstellungen!$C$6*Einstellungen!$C$9) | T34: =IF($G34="","",IF(AND(WEEKDAY($B34,2)=7,COUNTIF(Einstellungen!$B$15:$B$23,$B34)=0),$G34*Einstellungen!$C$6*Einstellungen!$C$10,0)) | U34: =IF($G34="","",IF(COUNTIF(Einstellungen!$B$15:$B$23,$B34)>0,$G34*Einstellungen!$C$6*Einstellungen!$C$11,0))
B35: =IFERROR(IF(DAY(DATE($O$5,$K$5,ROW()-10))=ROW()-10,DATE($O$5,$K$5,ROW()-10),""),"") -> 46047 | C35: =IF($B35="","",CHOOSE(WEEKDAY($B35,2),"Mo","Di","Mi","Do","Fr","Sa","So")) -> So | G35: =IF(OR($B35="",$D35="",$E35=""),"",MOD($E35-$D35,1)*24-IF($F35="",0,$F35)/60) | H35: =IF($G35="","",MIN($G35,Einstellungen!$C$7)) | I35: =IF($G35="","",MAX(0,$G35-Einstellungen!$C$7)) | K35: =IF($B35="","",IF(WEEKDAY($B35,2)=7,"Ja","–")) -> Ja | L35: =IF($B35="","",IF(COUNTIF(Einstellungen!$B$15:$B$23,$B35)>0,"Ja","–")) -> – | M35: =IF($G35="","",$G35*Einstellungen!$C$6) | N35: =IF($G35="","",$R35+$S35+$T35+$U35) | O35: =IF($G35="","",$M35+$N35) | R35: =IF($G35="","",$I35*Einstellungen!$C$6*Einstellungen!$C$8) | S35: =IF($G35="","",IF($J35="",0,$J35)*Einstellungen!$C$6*Einstellungen!$C$9) | T35: =IF($G35="","",IF(AND(WEEKDAY($B35,2)=7,COUNTIF(Einstellungen!$B$15:$B$23,$B35)=0),$G35*Einstellungen!$C$6*Einstellungen!$C$10,0)) | U35: =IF($G35="","",IF(COUNTIF(Einstellungen!$B$15:$B$23,$B35)>0,$G35*Einstellungen!$C$6*Einstellungen!$C$11,0))
B36: =IFERROR(IF(DAY(DATE($O$5,$K$5,ROW()-10))=ROW()-10,DATE($O$5,$K$5,ROW()-10),""),"") -> 46048 | C36: =IF($B36="","",CHOOSE(WEEKDAY($B36,2),"Mo","Di","Mi","Do","Fr","Sa","So")) -> Mo | G36: =IF(OR($B36="",$D36="",$E36=""),"",MOD($E36-$D36,1)*24-IF($F36="",0,$F36)/60) | H36: =IF($G36="","",MIN($G36,Einstellungen!$C$7)) | I36: =IF($G36="","",MAX(0,$G36-Einstellungen!$C$7)) | K36: =IF($B36="","",IF(WEEKDAY($B36,2)=7,"Ja","–")) -> – | L36: =IF($B36="","",IF(COUNTIF(Einstellungen!$B$15:$B$23,$B36)>0,"Ja","–")) -> – | M36: =IF($G36="","",$G36*Einstellungen!$C$6) | N36: =IF($G36="","",$R36+$S36+$T36+$U36) | O36: =IF($G36="","",$M36+$N36) | P36: Urlaub | R36: =IF($G36="","",$I36*Einstellungen!$C$6*Einstellungen!$C$8) | S36: =IF($G36="","",IF($J36="",0,$J36)*Einstellungen!$C$6*Einstellungen!$C$9) | T36: =IF($G36="","",IF(AND(WEEKDAY($B36,2)=7,COUNTIF(Einstellungen!$B$15:$B$23,$B36)=0),$G36*Einstellungen!$C$6*Einstellungen!$C$10,0)) | U36: =IF($G36="","",IF(COUNTIF(Einstellungen!$B$15:$B$23,$B36)>0,$G36*Einstellungen!$C$6*Einstellungen!$C$11,0))
B37: =IFERROR(IF(DAY(DATE($O$5,$K$5,ROW()-10))=ROW()-10,DATE($O$5,$K$5,ROW()-10),""),"") -> 46049 | C37: =IF($B37="","",CHOOSE(WEEKDAY($B37,2),"Mo","Di","Mi","Do","Fr","Sa","So")) -> Di | G37: =IF(OR($B37="",$D37="",$E37=""),"",MOD($E37-$D37,1)*24-IF($F37="",0,$F37)/60) | H37: =IF($G37="","",MIN($G37,Einstellungen!$C$7)) | I37: =IF($G37="","",MAX(0,$G37-Einstellungen!$C$7)) | K37: =IF($B37="","",IF(WEEKDAY($B37,2)=7,"Ja","–")) -> – | L37: =IF($B37="","",IF(COUNTIF(Einstellungen!$B$15:$B$23,$B37)>0,"Ja","–")) -> – | M37: =IF($G37="","",$G37*Einstellungen!$C$6) | N37: =IF($G37="","",$R37+$S37+$T37+$U37) | O37: =IF($G37="","",$M37+$N37) | P37: Urlaub | R37: =IF($G37="","",$I37*Einstellungen!$C$6*Einstellungen!$C$8) | S37: =IF($G37="","",IF($J37="",0,$J37)*Einstellungen!$C$6*Einstellungen!$C$9) | T37: =IF($G37="","",IF(AND(WEEKDAY($B37,2)=7,COUNTIF(Einstellungen!$B$15:$B$23,$B37)=0),$G37*Einstellungen!$C$6*Einstellungen!$C$10,0)) | U37: =IF($G37="","",IF(COUNTIF(Einstellungen!$B$15:$B$23,$B37)>0,$G37*Einstellungen!$C$6*Einstellungen!$C$11,0))
B38: =IFERROR(IF(DAY(DATE($O$5,$K$5,ROW()-10))=ROW()-10,DATE($O$5,$K$5,ROW()-10),""),"") -> 46050 | C38: =IF($B38="","",CHOOSE(WEEKDAY($B38,2),"Mo","Di","Mi","Do","Fr","Sa","So")) -> Mi | D38: 0.33333333 | E38: 0.6875 | F38: 30 | G38: =IF(OR($B38="",$D38="",$E38=""),"",MOD($E38-$D38,1)*24-IF($F38="",0,$F38)/60) -> 8 | H38: =IF($G38="","",MIN($G38,Einstellungen!$C$7)) -> 8 | I38: =IF($G38="","",MAX(0,$G38-Einstellungen!$C$7)) -> 8.8817842e-15 | K38: =IF($B38="","",IF(WEEKDAY($B38,2)=7,"Ja","–")) -> – | L38: =IF($B38="","",IF(COUNTIF(Einstellungen!$B$15:$B$23,$B38)>0,"Ja","–")) -> – | M38: =IF($G38="","",$G38*Einstellungen!$C$6) -> 148 | N38: =IF($G38="","",$R38+$S38+$T38+$U38) -> 4.1078252e-14 | O38: =IF($G38="","",$M38+$N38) -> 148 | R38: =IF($G38="","",$I38*Einstellungen!$C$6*Einstellungen!$C$8) -> 4.1078252e-14 | S38: =IF($G38="","",IF($J38="",0,$J38)*Einstellungen!$C$6*Einstellungen!$C$9) -> 0 | T38: =IF($G38="","",IF(AND(WEEKDAY($B38,2)=7,COUNTIF(Einstellungen!$B$15:$B$23,$B38)=0),$G38*Einstellungen!$C$6*Einstellungen!$C$10,0)) -> 0 | U38: =IF($G38="","",IF(COUNTIF(Einstellungen!$B$15:$B$23,$B38)>0,$G38*Einstellungen!$C$6*Einstellungen!$C$11,0)) -> 0
B39: =IFERROR(IF(DAY(DATE($O$5,$K$5,ROW()-10))=ROW()-10,DATE($O$5,$K$5,ROW()-10),""),"") -> 46051 | C39: =IF($B39="","",CHOOSE(WEEKDAY($B39,2),"Mo","Di","Mi","Do","Fr","Sa","So")) -> Do | D39: 0.33333333 | E39: 0.77083333 | F39: 45 | G39: =IF(OR($B39="",$D39="",$E39=""),"",MOD($E39-$D39,1)*24-IF($F39="",0,$F39)/60) -> 9.75 | H39: =IF($G39="","",MIN($G39,Einstellungen!$C$7)) -> 8 | I39: =IF($G39="","",MAX(0,$G39-Einstellungen!$C$7)) -> 1.75 | K39: =IF($B39="","",IF(WEEKDAY($B39,2)=7,"Ja","–")) -> – | L39: =IF($B39="","",IF(COUNTIF(Einstellungen!$B$15:$B$23,$B39)>0,"Ja","–")) -> – | M39: =IF($G39="","",$G39*Einstellungen!$C$6) -> 180.375 | N39: =IF($G39="","",$R39+$S39+$T39+$U39) -> 8.09375 | O39: =IF($G39="","",$M39+$N39) -> 188.46875 | P39: Mehrarbeit | R39: =IF($G39="","",$I39*Einstellungen!$C$6*Einstellungen!$C$8) -> 8.09375 | S39: =IF($G39="","",IF($J39="",0,$J39)*Einstellungen!$C$6*Einstellungen!$C$9) -> 0 | T39: =IF($G39="","",IF(AND(WEEKDAY($B39,2)=7,COUNTIF(Einstellungen!$B$15:$B$23,$B39)=0),$G39*Einstellungen!$C$6*Einstellungen!$C$10,0)) -> 0 | U39: =IF($G39="","",IF(COUNTIF(Einstellungen!$B$15:$B$23,$B39)>0,$G39*Einstellungen!$C$6*Einstellungen!$C$11,0)) -> 0
B40: =IFERROR(IF(DAY(DATE($O$5,$K$5,ROW()-10))=ROW()-10,DATE($O$5,$K$5,ROW()-10),""),"") -> 46052 | C40: =IF($B40="","",CHOOSE(WEEKDAY($B40,2),"Mo","Di","Mi","Do","Fr","Sa","So")) -> Fr | D40: 0.33333333 | E40: 0.6875 | F40: 30 | G40: =IF(OR($B40="",$D40="",$E40=""),"",MOD($E40-$D40,1)*24-IF($F40="",0,$F40)/60) -> 8 | H40: =IF($G40="","",MIN($G40,Einstellungen!$C$7)) -> 8 | I40: =IF($G40="","",MAX(0,$G40-Einstellungen!$C$7)) -> 8.8817842e-15 | K40: =IF($B40="","",IF(WEEKDAY($B40,2)=7,"Ja","–")) -> – | L40: =IF($B40="","",IF(COUNTIF(Einstellungen!$B$15:$B$23,$B40)>0,"Ja","–")) -> – | M40: =IF($G40="","",$G40*Einstellungen!$C$6) -> 148 | N40: =IF($G40="","",$R40+$S40+$T40+$U40) -> 4.1078252e-14 | O40: =IF($G40="","",$M40+$N40) -> 148 | R40: =IF($G40="","",$I40*Einstellungen!$C$6*Einstellungen!$C$8) -> 4.1078252e-14 | S40: =IF($G40="","",IF($J40="",0,$J40)*Einstellungen!$C$6*Einstellungen!$C$9) -> 0 | T40: =IF($G40="","",IF(AND(WEEKDAY($B40,2)=7,COUNTIF(Einstellungen!$B$15:$B$23,$B40)=0),$G40*Einstellungen!$C$6*Einstellungen!$C$10,0)) -> 0 | U40: =IF($G40="","",IF(COUNTIF(Einstellungen!$B$15:$B$23,$B40)>0,$G40*Einstellungen!$C$6*Einstellungen!$C$11,0)) -> 0
B41: =IFERROR(IF(DAY(DATE($O$5,$K$5,ROW()-10))=ROW()-10,DATE($O$5,$K$5,ROW()-10),""),"") -> 46053 | C41: =IF($B41="","",CHOOSE(WEEKDAY($B41,2),"Mo","Di","Mi","Do","Fr","Sa","So")) -> Sa | G41: =IF(OR($B41="",$D41="",$E41=""),"",MOD($E41-$D41,1)*24-IF($F41="",0,$F41)/60) | H41: =IF($G41="","",MIN($G41,Einstellungen!$C$7)) | I41: =IF($G41="","",MAX(0,$G41-Einstellungen!$C$7)) | K41: =IF($B41="","",IF(WEEKDAY($B41,2)=7,"Ja","–")) -> – | L41: =IF($B41="","",IF(COUNTIF(Einstellungen!$B$15:$B$23,$B41)>0,"Ja","–")) -> – | M41: =IF($G41="","",$G41*Einstellungen!$C$6) | N41: =IF($G41="","",$R41+$S41+$T41+$U41) | O41: =IF($G41="","",$M41+$N41) | R41: =IF($G41="","",$I41*Einstellungen!$C$6*Einstellungen!$C$8) | S41: =IF($G41="","",IF($J41="",0,$J41)*Einstellungen!$C$6*Einstellungen!$C$9) | T41: =IF($G41="","",IF(AND(WEEKDAY($B41,2)=7,COUNTIF(Einstellungen!$B$15:$B$23,$B41)=0),$G41*Einstellungen!$C$6*Einstellungen!$C$10,0)) | U41: =IF($G41="","",IF(COUNTIF(Einstellungen!$B$15:$B$23,$B41)>0,$G41*Einstellungen!$C$6*Einstellungen!$C$11,0))
B44: AUSWERTUNG · LOHNDATEN AUS ARBEITSZEITEN
...

Sheet Einstellungen
B2: EINSTELLUNGEN
B3: Zentrale Parameter für die Lohnberechnung – hier anpassen
B5: LOHNPARAMETER
B6: Stundensatz (€/Std) | C6: 18.5 | D6: Grundlohn je geleisteter Arbeitsstunde
B7: Sollstunden pro Tag | C7: 8 | D7: Ab dieser Grenze gelten Stunden als Überstunden
B8: Überstundenzuschlag | C8: 0.25 | D8: Aufschlag auf die Überstunden
B9: Nachtzuschlag | C9: 0.25 | D9: Aufschlag auf gemeldete Nachtstunden
B10: Sonntagszuschlag | C10: 0.5 | D10: Aufschlag für Arbeit an Sonntagen
B11: Feiertagszuschlag | C11: 1.25 | D11: Aufschlag für Arbeit an Feiertagen (Vorrang vor Sonntag)
B13: GESETZLICHE FEIERTAGE (BUNDESWEIT) 2026
B14: Datum | C14: Nr. | D14: Feiertag
B15: 46023 | C15: 1 | D15: Neujahr
B16: 46115 | C16: 2 | D16: Karfreitag
B17: 46118 | C17: 3 | D17: Ostermontag
B18: 46143 | C18: 4 | D18: Tag der Arbeit
B19: 46156 | C19: 5 | D19: Christi Himmelfahrt
B20: 46167 | C20: 6 | D20: Pfingstmontag
B21: 46298 | C21: 7 | D21: Tag der Deutschen Einheit
B22: 46381 | C22: 8 | D22: 1. Weihnachtstag
B23: 46382 | C23: 9 | D23: 2. Weihnachtstag
B25: Hinweis: Bei einem anderen Bundesland bzw. Jahr die Feiertagsliste anpassen. Die Zuschlagssätze sind Richtwerte und können nach Tarif- oder Arbeitsvertrag abweichen. Alle Berechnungen der Vorlage greifen auf diese Werte zu.
