Workbook
Name ListeGeschlecht: Personen!$AG$8:$AG$10
Name ListeLinie: Personen!$AH$8:$AH$13
Name Personenauswahl: Personen!$Y$8:$Y$47

Sheet Stammbaum
B2: STAMMBAUM · AHNENTAFEL
B3: Vier Generationen, automatisch aufgebaut aus dem Blatt „Personen“ · Vorlage · sämtliche Namen, Daten und Orte sind frei erfunden
B5: FAMILIENNAME / PROJEKT | G5: BEARBEITET VON | L5: STAND DER RECHERCHE | Q5: PROBAND/IN ▼ (AUSWAHL)
B6: Familie Brenneke | G6: L. Brenneke | L6: =TODAY() -> 46244 | Q6: P-26 · Lukas Brenneke
B8: ERFASSTE PERSONEN | G8: DAVON LEBEND | L8: DAVON VERSTORBEN | Q8: Ø LEBENSALTER (VERSTORBEN)
B9: =COUNTIF(Personen!$B$8:$B$47,"?*") -> 32 | G9: =COUNTIF(Personen!$L$8:$L$47,"lebend") -> 12 | L9: =COUNTIF(Personen!$L$8:$L$47,"verstorben") -> 19 | Q9: =IFERROR(ROUND(AVERAGEIFS(Personen!$K$8:$K$47,Personen!$L$8:$L$47,"verstorben"),0),"—") -> —
B11: FRÜHESTER JAHRGANG | G11: SPANNE DER GENERATIONEN | L11: AHNEN GEFUNDEN | Q11: OFFENE PRÜFHINWEISE
B12: =IFERROR(YEAR(MIN(Personen!$G$8:$G$47)),"—") -> — | G12: =IFERROR(YEAR(MAX(Personen!$G$8:$G$47))-YEAR(MIN(Personen!$G$8:$G$47)),"—") -> — | L12: =COUNTIF($H$53:$H$67,"?*") -> 15 | Q12: =COUNTIFS(Personen!$B$8:$B$47,"?*",Personen!$V$8:$V$47,"<>OK") -> 1
B14: AHNENTAFEL – VIER GENERATIONEN
Q16: 8 · URGROSSVATER
Q17: =$J$60 -> Wilhelm Brenneke
L18: 4 · GROSSVATER (VÄTERL.) | Q18: =IF($H$60="","Noch nicht erfasst",IF($O$60="","* unbekannt","* "&YEAR($O$60))&IF($Q$60<>""," † "&YEAR($Q$60),IF($O$60<>""," · lebend",""))&IF($S$60="",""," · "&$S$60&" J.")) -> * 1901 † 1968 · 67 J.
L19: =$J$56 -> Friedrich Brenneke
L20: =IF($H$56="","Noch nicht erfasst",IF($O$56="","* unbekannt","* "&YEAR($O$56))&IF($Q$56<>""," † "&YEAR($Q$56),IF($O$56<>""," · lebend",""))&IF($S$56="",""," · "&$S$56&" J.")) -> * 1932 † 2011 · 78 J. | Q20: 9 · URGROSSMUTTER
Q21: =$J$61 -> Martha Brenneke geb. Steinkamp
G22: 2 · VATER | Q22: =IF($H$61="","Noch nicht erfasst",IF($O$61="","* unbekannt","* "&YEAR($O$61))&IF($Q$61<>""," † "&YEAR($Q$61),IF($O$61<>""," · lebend",""))&IF($S$61="",""," · "&$S$61&" J.")) -> * 1905 † 1982 · 76 J.
G23: =$J$54 -> Thomas Brenneke
G24: =IF($H$54="","Noch nicht erfasst",IF($O$54="","* unbekannt","* "&YEAR($O$54))&IF($Q$54<>""," † "&YEAR($Q$54),IF($O$54<>""," · lebend",""))&IF($S$54="",""," · "&$S$54&" J.")) -> * 1961 · lebend · 65 J. | Q24: 10 · URGROSSVATER
Q25: =$J$62 -> Otto Lindemann
L26: 5 · GROSSMUTTER (VÄTERL.) | Q26: =IF($H$62="","Noch nicht erfasst",IF($O$62="","* unbekannt","* "&YEAR($O$62))&IF($Q$62<>""," † "&YEAR($Q$62),IF($O$62<>""," · lebend",""))&IF($S$62="",""," · "&$S$62&" J.")) -> * 1903 † 1971 · 68 J.
L27: =$J$57 -> Ingeborg Brenneke geb. Lindemann
L28: =IF($H$57="","Noch nicht erfasst",IF($O$57="","* unbekannt","* "&YEAR($O$57))&IF($Q$57<>""," † "&YEAR($Q$57),IF($O$57<>""," · lebend",""))&IF($S$57="",""," · "&$S$57&" J.")) -> * 1936 † 2018 · 81 J. | Q28: 11 · URGROSSMUTTER
Q29: =$J$63 -> Frieda Lindemann geb. Kaltenbach
B30: 1 · PROBAND/IN | Q30: =IF($H$63="","Noch nicht erfasst",IF($O$63="","* unbekannt","* "&YEAR($O$63))&IF($Q$63<>""," † "&YEAR($Q$63),IF($O$63<>""," · lebend",""))&IF($S$63="",""," · "&$S$63&" J.")) -> * 1907 † 1990 · 82 J.
B31: =$J$53 -> Lukas Brenneke
B32: =IF($H$53="","Noch nicht erfasst",IF($O$53="","* unbekannt","* "&YEAR($O$53))&IF($Q$53<>""," † "&YEAR($Q$53),IF($O$53<>""," · lebend",""))&IF($S$53="",""," · "&$S$53&" J.")) -> * 1988 · lebend · 38 J. | Q32: 12 · URGROSSVATER
Q33: =$J$64 -> Gustav Weidner
L34: 6 · GROSSVATER (MÜTTERL.) | Q34: =IF($H$64="","Noch nicht erfasst",IF($O$64="","* unbekannt","* "&YEAR($O$64))&IF($Q$64<>""," † "&YEAR($Q$64),IF($O$64<>""," · lebend",""))&IF($S$64="",""," · "&$S$64&" J.")) -> #NUM!
L35: =$J$58 -> Werner Weidner
L36: =IF($H$58="","Noch nicht erfasst",IF($O$58="","* unbekannt","* "&YEAR($O$58))&IF($Q$58<>""," † "&YEAR($Q$58),IF($O$58<>""," · lebend",""))&IF($S$58="",""," · "&$S$58&" J.")) -> * 1934 † 2009 · 74 J. | Q36: 13 · URGROSSMUTTER
Q37: =$J$65 -> Helene Weidner geb. Sturm
G38: 3 · MUTTER | Q38: =IF($H$65="","Noch nicht erfasst",IF($O$65="","* unbekannt","* "&YEAR($O$65))&IF($Q$65<>""," † "&YEAR($Q$65),IF($O$65<>""," · lebend",""))&IF($S$65="",""," · "&$S$65&" J.")) -> * 1904 † 1988 · 84 J.
G39: =$J$55 -> Susanne Brenneke geb. Weidner
G40: =IF($H$55="","Noch nicht erfasst",IF($O$55="","* unbekannt","* "&YEAR($O$55))&IF($Q$55<>""," † "&YEAR($Q$55),IF($O$55<>""," · lebend",""))&IF($S$55="",""," · "&$S$55&" J.")) -> * 1964 · lebend · 61 J. | Q40: 14 · URGROSSVATER
Q41: =$J$66 -> Albert Rossbach
L42: 7 · GROSSMUTTER (MÜTTERL.) | Q42: =IF($H$66="","Noch nicht erfasst",IF($O$66="","* unbekannt","* "&YEAR($O$66))&IF($Q$66<>""," † "&YEAR($Q$66),IF($O$66<>""," · lebend",""))&IF($S$66="",""," · "&$S$66&" J.")) -> * 1906 † 1979 · 73 J.
L43: =$J$59 -> Gertrud Weidner geb. Rossbach
L44: =IF($H$59="","Noch nicht erfasst",IF($O$59="","* unbekannt","* "&YEAR($O$59))&IF($Q$59<>""," † "&YEAR($Q$59),IF($O$59<>""," · lebend",""))&IF($S$59="",""," · "&$S$59&" J.")) -> * 1939 · lebend · 87 J. | Q44: 15 · URGROSSMUTTER
Q45: =$J$67 -> Klara Rossbach geb. Pohlmann
Q46: =IF($H$67="","Noch nicht erfasst",IF($O$67="","* unbekannt","* "&YEAR($O$67))&IF($Q$67<>""," † "&YEAR($Q$67),IF($O$67<>""," · lebend",""))&IF($S$67="",""," · "&$S$67&" J.")) -> * 1910 † 1994 · 84 J.
C48: Proband/in | H48: Väterliche Linie | M48: Mütterliche Linie | R48: Noch nicht erfasst
B50: AHNENTAFEL NACH KEKULÉ-NUMMERIERUNG – VATER = NR. × 2, MUTTER = NR. × 2 + 1
B52: Nr. | C52: Gen. | D52: Beziehung | H52: Personen-ID | J52: Name | O52: geboren | Q52: gestorben | S52: Alter | T52: Status
B53: 1 | C53: 1 | D53: Proband/in | H53: =IFERROR(LEFT($Q$6,SEARCH(" · ",$Q$6)-1),"") -> P-26 | J53: =IFERROR(INDEX(Personen!$X$8:$X$47,MATCH($H53,Personen!$B$8:$B$47,0)),"—") -> Lukas Brenneke | O53: =IF($H53="","",IFERROR(IF(INDEX(Personen!$G$8:$G$47,MATCH($H53,Personen!$B$8:$B$47,0))="","",INDEX(Personen!$G$8:$G$47,MATCH($H53,Personen!$B$8:$B$47,0))),"")) -> 32216 | Q53: =IF($H53="","",IFERROR(IF(INDEX(Personen!$I$8:$I$47,MATCH($H53,Personen!$B$8:$B$47,0))="","",INDEX(Personen!$I$8:$I$47,MATCH($H53,Personen!$B$8:$B$47,0))),"")) | S53: =IF($H53="","",IFERROR(INDEX(Personen!$K$8:$K$47,MATCH($H53,Personen!$B$8:$B$47,0)),"")) -> 38 | T53: =IF($H53="","fehlt","erfasst") -> erfasst
B54: 2 | C54: 2 | D54: Vater | H54: =IFERROR(INDEX(Personen!$Z$8:$Z$47,MATCH($H$53,Personen!$B$8:$B$47,0)),"") -> P-22 | J54: =IFERROR(INDEX(Personen!$X$8:$X$47,MATCH($H54,Personen!$B$8:$B$47,0)),"—") -> Thomas Brenneke | O54: =IF($H54="","",IFERROR(IF(INDEX(Personen!$G$8:$G$47,MATCH($H54,Personen!$B$8:$B$47,0))="","",INDEX(Personen!$G$8:$G$47,MATCH($H54,Personen!$B$8:$B$47,0))),"")) -> 22317 | Q54: =IF($H54="","",IFERROR(IF(INDEX(Personen!$I$8:$I$47,MATCH($H54,Personen!$B$8:$B$47,0))="","",INDEX(Personen!$I$8:$I$47,MATCH($H54,Personen!$B$8:$B$47,0))),"")) | S54: =IF($H54="","",IFERROR(INDEX(Personen!$K$8:$K$47,MATCH($H54,Personen!$B$8:$B$47,0)),"")) -> 65 | T54: =IF($H54="","fehlt","erfasst") -> erfasst
B55: 3 | C55: 2 | D55: Mutter | H55: =IFERROR(INDEX(Personen!$AA$8:$AA$47,MATCH($H$53,Personen!$B$8:$B$47,0)),"") -> P-23 | J55: =IFERROR(INDEX(Personen!$X$8:$X$47,MATCH($H55,Personen!$B$8:$B$47,0)),"—") -> Susanne Brenneke geb. Weidner | O55: =IF($H55="","",IFERROR(IF(INDEX(Personen!$G$8:$G$47,MATCH($H55,Personen!$B$8:$B$47,0))="","",INDEX(Personen!$G$8:$G$47,MATCH($H55,Personen!$B$8:$B$47,0))),"")) -> 23698 | Q55: =IF($H55="","",IFERROR(IF(INDEX(Personen!$I$8:$I$47,MATCH($H55,Personen!$B$8:$B$47,0))="","",INDEX(Personen!$I$8:$I$47,MATCH($H55,Personen!$B$8:$B$47,0))),"")) | S55: =IF($H55="","",IFERROR(INDEX(Personen!$K$8:$K$47,MATCH($H55,Personen!$B$8:$B$47,0)),"")) -> 61 | T55: =IF($H55="","fehlt","erfasst") -> erfasst
B56: 4 | C56: 3 | D56: Großvater (väterlich) | H56: =IFERROR(INDEX(Personen!$Z$8:$Z$47,MATCH($H$54,Personen!$B$8:$B$47,0)),"") -> P-17 | J56: =IFERROR(INDEX(Personen!$X$8:$X$47,MATCH($H56,Personen!$B$8:$B$47,0)),"—") -> Friedrich Brenneke | O56: =IF($H56="","",IFERROR(IF(INDEX(Personen!$G$8:$G$47,MATCH($H56,Personen!$B$8:$B$47,0))="","",INDEX(Personen!$G$8:$G$47,MATCH($H56,Personen!$B$8:$B$47,0))),"")) -> 11852 | Q56: =IF($H56="","",IFERROR(IF(INDEX(Personen!$I$8:$I$47,MATCH($H56,Personen!$B$8:$B$47,0))="","",INDEX(Personen!$I$8:$I$47,MATCH($H56,Personen!$B$8:$B$47,0))),"")) -> 40602 | S56: =IF($H56="","",IFERROR(INDEX(Personen!$K$8:$K$47,MATCH($H56,Personen!$B$8:$B$47,0)),"")) -> 78 | T56: =IF($H56="","fehlt","erfasst") -> erfasst
B57: 5 | C57: 3 | D57: Großmutter (väterlich) | H57: =IFERROR(INDEX(Personen!$AA$8:$AA$47,MATCH($H$54,Personen!$B$8:$B$47,0)),"") -> P-18 | J57: =IFERROR(INDEX(Personen!$X$8:$X$47,MATCH($H57,Personen!$B$8:$B$47,0)),"—") -> Ingeborg Brenneke geb. Lindemann | O57: =IF($H57="","",IFERROR(IF(INDEX(Personen!$G$8:$G$47,MATCH($H57,Personen!$B$8:$B$47,0))="","",INDEX(Personen!$G$8:$G$47,MATCH($H57,Personen!$B$8:$B$47,0))),"")) -> 13450 | Q57: =IF($H57="","",IFERROR(IF(INDEX(Personen!$I$8:$I$47,MATCH($H57,Personen!$B$8:$B$47,0))="","",INDEX(Personen!$I$8:$I$47,MATCH($H57,Personen!$B$8:$B$47,0))),"")) -> 43235 | S57: =IF($H57="","",IFERROR(INDEX(Personen!$K$8:$K$47,MATCH($H57,Personen!$B$8:$B$47,0)),"")) -> 81 | T57: =IF($H57="","fehlt","erfasst") -> erfasst
B58: 6 | C58: 3 | D58: Großvater (mütterlich) | H58: =IFERROR(INDEX(Personen!$Z$8:$Z$47,MATCH($H$55,Personen!$B$8:$B$47,0)),"") -> P-19 | J58: =IFERROR(INDEX(Personen!$X$8:$X$47,MATCH($H58,Personen!$B$8:$B$47,0)),"—") -> Werner Weidner | O58: =IF($H58="","",IFERROR(IF(INDEX(Personen!$G$8:$G$47,MATCH($H58,Personen!$B$8:$B$47,0))="","",INDEX(Personen!$G$8:$G$47,MATCH($H58,Personen!$B$8:$B$47,0))),"")) -> 12681 | Q58: =IF($H58="","",IFERROR(IF(INDEX(Personen!$I$8:$I$47,MATCH($H58,Personen!$B$8:$B$47,0))="","",INDEX(Personen!$I$8:$I$47,MATCH($H58,Personen!$B$8:$B$47,0))),"")) -> 39820 | S58: =IF($H58="","",IFERROR(INDEX(Personen!$K$8:$K$47,MATCH($H58,Personen!$B$8:$B$47,0)),"")) -> 74 | T58: =IF($H58="","fehlt","erfasst") -> erfasst
B59: 7 | C59: 3 | D59: Großmutter (mütterlich) | H59: =IFERROR(INDEX(Personen!$AA$8:$AA$47,MATCH($H$55,Personen!$B$8:$B$47,0)),"") -> P-20 | J59: =IFERROR(INDEX(Personen!$X$8:$X$47,MATCH($H59,Personen!$B$8:$B$47,0)),"—") -> Gertrud Weidner geb. Rossbach | O59: =IF($H59="","",IFERROR(IF(INDEX(Personen!$G$8:$G$47,MATCH($H59,Personen!$B$8:$B$47,0))="","",INDEX(Personen!$G$8:$G$47,MATCH($H59,Personen!$B$8:$B$47,0))),"")) -> 14343 | Q59: =IF($H59="","",IFERROR(IF(INDEX(Personen!$I$8:$I$47,MATCH($H59,Personen!$B$8:$B$47,0))="","",INDEX(Personen!$I$8:$I$47,MATCH($H59,Personen!$B$8:$B$47,0))),"")) | S59: =IF($H59="","",IFERROR(INDEX(Personen!$K$8:$K$47,MATCH($H59,Personen!$B$8:$B$47,0)),"")) -> 87 | T59: =IF($H59="","fehlt","erfasst") -> erfasst
B60: 8 | C60: 4 | D60: Urgroßvater (väterl. GV) | H60: =IFERROR(INDEX(Personen!$Z$8:$Z$47,MATCH($H$56,Personen!$B$8:$B$47,0)),"") -> P-09 | J60: =IFERROR(INDEX(Personen!$X$8:$X$47,MATCH($H60,Personen!$B$8:$B$47,0)),"—") -> Wilhelm Brenneke | O60: =IF($H60="","",IFERROR(IF(INDEX(Personen!$G$8:$G$47,MATCH($H60,Personen!$B$8:$B$47,0))="","",INDEX(Personen!$G$8:$G$47,MATCH($H60,Personen!$B$8:$B$47,0))),"")) -> 443 | Q60: =IF($H60="","",IFERROR(IF(INDEX(Personen!$I$8:$I$47,MATCH($H60,Personen!$B$8:$B$47,0))="","",INDEX(Personen!$I$8:$I$47,MATCH($H60,Personen!$B$8:$B$47,0))),"")) -> 25148 | S60: =IF($H60="","",IFERROR(INDEX(Personen!$K$8:$K$47,MATCH($H60,Personen!$B$8:$B$47,0)),"")) -> 67 | T60: =IF($H60="","fehlt","erfasst") -> erfasst
B61: 9 | C61: 4 | D61: Urgroßmutter (väterl. GV) | H61: =IFERROR(INDEX(Personen!$AA$8:$AA$47,MATCH($H$56,Personen!$B$8:$B$47,0)),"") -> P-10 | J61: =IFERROR(INDEX(Personen!$X$8:$X$47,MATCH($H61,Personen!$B$8:$B$47,0)),"—") -> Martha Brenneke geb. Steinkamp | O61: =IF($H61="","",IFERROR(IF(INDEX(Personen!$G$8:$G$47,MATCH($H61,Personen!$B$8:$B$47,0))="","",INDEX(Personen!$G$8:$G$47,MATCH($H61,Personen!$B$8:$B$47,0))),"")) -> 2030 | Q61: =IF($H61="","",IFERROR(IF(INDEX(Personen!$I$8:$I$47,MATCH($H61,Personen!$B$8:$B$47,0))="","",INDEX(Personen!$I$8:$I$47,MATCH($H61,Personen!$B$8:$B$47,0))),"")) -> 29996 | S61: =IF($H61="","",IFERROR(INDEX(Personen!$K$8:$K$47,MATCH($H61,Personen!$B$8:$B$47,0)),"")) -> 76 | T61: =IF($H61="","fehlt","erfasst") -> erfasst
B62: 10 | C62: 4 | D62: Urgroßvater (väterl. GM) | H62: =IFERROR(INDEX(Personen!$Z$8:$Z$47,MATCH($H$57,Personen!$B$8:$B$47,0)),"") -> P-11 | J62: =IFERROR(INDEX(Personen!$X$8:$X$47,MATCH($H62,Personen!$B$8:$B$47,0)),"—") -> Otto Lindemann | O62: =IF($H62="","",IFERROR(IF(INDEX(Personen!$G$8:$G$47,MATCH($H62,Personen!$B$8:$B$47,0))="","",INDEX(Personen!$G$8:$G$47,MATCH($H62,Personen!$B$8:$B$47,0))),"")) -> 1105 | Q62: =IF($H62="","",IFERROR(IF(INDEX(Personen!$I$8:$I$47,MATCH($H62,Personen!$B$8:$B$47,0))="","",INDEX(Personen!$I$8:$I$47,MATCH($H62,Personen!$B$8:$B$47,0))),"")) -> 26114 | S62: =IF($H62="","",IFERROR(INDEX(Personen!$K$8:$K$47,MATCH($H62,Personen!$B$8:$B$47,0)),"")) -> 68 | T62: =IF($H62="","fehlt","erfasst") -> erfasst
B63: 11 | C63: 4 | D63: Urgroßmutter (väterl. GM) | H63: =IFERROR(INDEX(Personen!$AA$8:$AA$47,MATCH($H$57,Personen!$B$8:$B$47,0)),"") -> P-12 | J63: =IFERROR(INDEX(Personen!$X$8:$X$47,MATCH($H63,Personen!$B$8:$B$47,0)),"—") -> Frieda Lindemann geb. Kaltenbach | O63: =IF($H63="","",IFERROR(IF(INDEX(Personen!$G$8:$G$47,MATCH($H63,Personen!$B$8:$B$47,0))="","",INDEX(Personen!$G$8:$G$47,MATCH($H63,Personen!$B$8:$B$47,0))),"")) -> 2833 | Q63: =IF($H63="","",IFERROR(IF(INDEX(Personen!$I$8:$I$47,MATCH($H63,Personen!$B$8:$B$47,0))="","",INDEX(Personen!$I$8:$I$47,MATCH($H63,Personen!$B$8:$B$47,0))),"")) -> 32984 | S63: =IF($H63="","",IFERROR(INDEX(Personen!$K$8:$K$47,MATCH($H63,Personen!$B$8:$B$47,0)),"")) -> 82 | T63: =IF($H63="","fehlt","erfasst") -> erfasst
B64: 12 | C64: 4 | D64: Urgroßvater (mütterl. GV) | H64: =IFERROR(INDEX(Personen!$Z$8:$Z$47,MATCH($H$58,Personen!$B$8:$B$47,0)),"") -> P-13 | J64: =IFERROR(INDEX(Personen!$X$8:$X$47,MATCH($H64,Personen!$B$8:$B$47,0)),"—") -> Gustav Weidner | O64: =IF($H64="","",IFERROR(IF(INDEX(Personen!$G$8:$G$47,MATCH($H64,Personen!$B$8:$B$47,0))="","",INDEX(Personen!$G$8:$G$47,MATCH($H64,Personen!$B$8:$B$47,0))),"")) -> -35 | Q64: =IF($H64="","",IFERROR(IF(INDEX(Personen!$I$8:$I$47,MATCH($H64,Personen!$B$8:$B$47,0))="","",INDEX(Personen!$I$8:$I$47,MATCH($H64,Personen!$B$8:$B$47,0))),"")) -> 23809 | S64: =IF($H64="","",IFERROR(INDEX(Personen!$K$8:$K$47,MATCH($H64,Personen!$B$8:$B$47,0)),"")) | T64: =IF($H64="","fehlt","erfasst") -> erfasst
B65: 13 | C65: 4 | D65: Urgroßmutter (mütterl. GV) | H65: =IFERROR(INDEX(Personen!$AA$8:$AA$47,MATCH($H$58,Personen!$B$8:$B$47,0)),"") -> P-14 | J65: =IFERROR(INDEX(Personen!$X$8:$X$47,MATCH($H65,Personen!$B$8:$B$47,0)),"—") -> Helene Weidner geb. Sturm | O65: =IF($H65="","",IFERROR(IF(INDEX(Personen!$G$8:$G$47,MATCH($H65,Personen!$B$8:$B$47,0))="","",INDEX(Personen!$G$8:$G$47,MATCH($H65,Personen!$B$8:$B$47,0))),"")) -> 1596 | Q65: =IF($H65="","",IFERROR(IF(INDEX(Personen!$I$8:$I$47,MATCH($H65,Personen!$B$8:$B$47,0))="","",INDEX(Personen!$I$8:$I$47,MATCH($H65,Personen!$B$8:$B$47,0))),"")) -> 32435 | S65: =IF($H65="","",IFERROR(INDEX(Personen!$K$8:$K$47,MATCH($H65,Personen!$B$8:$B$47,0)),"")) -> 84 | T65: =IF($H65="","fehlt","erfasst") -> erfasst
B66: 14 | C66: 4 | D66: Urgroßvater (mütterl. GM) | H66: =IFERROR(INDEX(Personen!$Z$8:$Z$47,MATCH($H$59,Personen!$B$8:$B$47,0)),"") -> P-15 | J66: =IFERROR(INDEX(Personen!$X$8:$X$47,MATCH($H66,Personen!$B$8:$B$47,0)),"—") -> Albert Rossbach | O66: =IF($H66="","",IFERROR(IF(INDEX(Personen!$G$8:$G$47,MATCH($H66,Personen!$B$8:$B$47,0))="","",INDEX(Personen!$G$8:$G$47,MATCH($H66,Personen!$B$8:$B$47,0))),"")) -> 2411 | Q66: =IF($H66="","",IFERROR(IF(INDEX(Personen!$I$8:$I$47,MATCH($H66,Personen!$B$8:$B$47,0))="","",INDEX(Personen!$I$8:$I$47,MATCH($H66,Personen!$B$8:$B$47,0))),"")) -> 29212 | S66: =IF($H66="","",IFERROR(INDEX(Personen!$K$8:$K$47,MATCH($H66,Personen!$B$8:$B$47,0)),"")) -> 73 | T66: =IF($H66="","fehlt","erfasst") -> erfasst
B67: 15 | C67: 4 | D67: Urgroßmutter (mütterl. GM) | H67: =IFERROR(INDEX(Personen!$AA$8:$AA$47,MATCH($H$59,Personen!$B$8:$B$47,0)),"") -> P-16 | J67: =IFERROR(INDEX(Personen!$X$8:$X$47,MATCH($H67,Personen!$B$8:$B$47,0)),"—") -> Klara Rossbach geb. Pohlmann | O67: =IF($H67="","",IFERROR(IF(INDEX(Personen!$G$8:$G$47,MATCH($H67,Personen!$B$8:$B$47,0))="","",INDEX(Personen!$G$8:$G$47,MATCH($H67,Personen!$B$8:$B$47,0))),"")) -> 3686 | Q67: =IF($H67="","",IFERROR(IF(INDEX(Personen!$I$8:$I$47,MATCH($H67,Personen!$B$8:$B$47,0))="","",INDEX(Personen!$I$8:$I$47,MATCH($H67,Personen!$B$8:$B$47,0))),"")) -> 34526 | S67: =IF($H67="","",IFERROR(INDEX(Personen!$K$8:$K$47,MATCH($H67,Personen!$B$8:$B$47,0)),"")) -> 84 | T67: =IF($H67="","fehlt","erfasst") -> erfasst
B69: SO ARBEITEN SIE MIT DER VORLAGE
B70: 1. Im Blatt „Personen“ jede Person in eine eigene Zeile eintragen und ihr eine eindeutige ID vergeben (P-01, P-02, P-33 …).
B71: 2. Vater, Mutter und Partner/in nicht abtippen, sondern aus der Auswahlliste der Zelle wählen – nur so verbindet die Vorlage die Generationen.
B72: 3. Oben rechts die Person auswählen, deren Tafel gezeigt werden soll. Tafel, Kennzahlen und Kekulé-Liste bauen sich sofort neu auf.
B73: 4. Angezeigt werden vier Generationen (15 Plätze). Ältere Vorfahren bleiben gespeichert und erscheinen, sobald Sie eine ältere Person als Proband/in wählen.
B74: 5. Grau gerasterte Felder sind offene Zweige – hier lohnt die weitere Recherche in Standesamts- und Kirchenbüchern.
B75: 6. Die Spalte „Prüfung“ meldet Lücken und Widersprüche: fehlende Geburtsdaten, Sterbedatum vor Geburt, unplausibler Altersabstand oder ein falsch verknüpftes Elternteil.
B76: 7. Beispieldaten einfach überschreiben oder Zeilen löschen – alle Berechnungen bleiben erhalten. Für mehr als 40 Personen die Zeilen innerhalb der Tabelle einfügen.
B78: Stammbaum-Vorlage 2026 · Ahnentafel über vier Generationen · alle Namen, Daten, Orte und Berufe sind frei erfunden und dienen ausschließlich der Veranschaulichung.

Sheet Personen
A2: PERSONENVERZEICHNIS
A3: Datenbasis der Vorlage · jede Person genau einmal erfassen · Vater, Mutter und Partner/in über die Auswahllisten verknüpfen
A5: HINWEIS Weiße Zellen ausfüllen · graue Spalten (Alter, Status, Kinder, Prüfung) berechnen sich selbst · die Ahnentafel im Blatt „Stammbaum“ baut sich aus diesen Zeilen automatisch auf. Alle Einträge sind frei erfundene Beispieldaten.
X6: HILFSSPALTEN – WERDEN BERECHNET, BITTE NICHT ÜBERSCHREIBEN | AG6: AUSWAHLLISTEN
A7: Nr. | B7: ID | C7: Vorname | D7: Nachname | E7: Geburtsname | F7: Geschlecht | G7: geboren am | H7: Geburtsort | I7: gestorben am | J7: Sterbeort | K7: Alter (Jahre) | L7: Status | M7: Vater | N7: Mutter | O7: Partner/in | P7: Heirat am | Q7: Beruf | R7: Wohnort | S7: Linie | T7: Kinder | U7: Quelle / Notiz | V7: Prüfung | X7: Voller Name | Y7: Schlüssel (Auswahl) | Z7: Vater-ID | AA7: Mutter-ID | AB7: Vater geb. | AC7: Mutter geb. | AD7: Vater Geschl. | AE7: Mutter Geschl. | AG7: Geschlecht | AH7: Linie
A8: =IF($B8="","",ROW()-7) -> 1 | B8: P-01 | C8: Heinrich | D8: Brenneke | F8: männlich | G8: -9250 | H8: Celle | I8: 15723 | J8: Celle | K8: =IF($B8="","",IF($G8="","",IF($I8="",DATEDIF($G8,TODAY(),"Y"),IF($I8<$G8,"",DATEDIF($G8,$I8,"Y"))))) -> #NUM! | L8: =IF($B8="","",IF($I8<>"","verstorben",IF($G8="","unbekannt","lebend"))) -> verstorben | O8: P-02 · Auguste Brenneke | P8: -72 | Q8: Stellmacher | R8: Celle | S8: väterliche Linie | T8: =IF($B8="","",COUNTIF($Z$8:$Z$47,$B8)+COUNTIF($AA$8:$AA$47,$B8)) -> 1 | U8: Kirchenbuch Celle, Bd. 4 | V8: =IF($B8="","",IF(OR($C8="",$D8=""),"Name unvollständig",IF(AND($G8<>"",$I8<>"",$I8<$G8),"Sterbedatum vor Geburt",IF(OR(AND($G8<>"",$G8>TODAY()),AND($I8<>"",$I8>TODAY())),"Datum in der Zukunft",IF(AND($M8<>"",$M8=$N8),"Vater und Mutter identisch",IF(OR($Z8=$B8,$AA8=$B8),"Verweis auf sich selbst",IF(AND($AD8<>"",$AD8<>"männlich"),"Vater: Geschlecht prüfen",IF(AND($AE8<>"",$AE8<>"weiblich"),"Mutter: Geschlecht prüfen",IF(IF(OR($G8="",$AB8=""),FALSE(),$G8-$AB8<5110),"Abstand zum Vater prüfen",IF(IF(OR($G8="",$AC8=""),FALSE(),$G8-$AC8<5110),"Abstand zur Mutter prüfen",IF($G8="","Geburtsdatum fehlt","OK"))))))))))) -> OK | X8: =IF($B8="","",TRIM($C8&" "&$D8&IF($E8=""," "," geb. "&$E8))) -> Heinrich Brenneke | Y8: =IF($B8="","",$B8&" · "&TRIM($C8&" "&$D8)) -> P-01 · Heinrich Brenneke | Z8: =IFERROR(LEFT($M8,SEARCH(" · ",$M8)-1),"") | AA8: =IFERROR(LEFT($N8,SEARCH(" · ",$N8)-1),"") | AB8: =IFERROR(IF(INDEX($G$8:$G$47,MATCH($Z8,$B$8:$B$47,0))="","",INDEX($G$8:$G$47,MATCH($Z8,$B$8:$B$47,0))),"") | AC8: =IFERROR(IF(INDEX($G$8:$G$47,MATCH($AA8,$B$8:$B$47,0))="","",INDEX($G$8:$G$47,MATCH($AA8,$B$8:$B$47,0))),"") | AD8: =IFERROR(INDEX($F$8:$F$47,MATCH($Z8,$B$8:$B$47,0)),"") | AE8: =IFERROR(INDEX($F$8:$F$47,MATCH($AA8,$B$8:$B$47,0)),"") | AG8: männlich | AH8: Proband
A9: =IF($B9="","",ROW()-7) -> 2 | B9: P-02 | C9: Auguste | D9: Brenneke | E9: Wienhold | F9: weiblich | G9: -7903 | H9: Celle | I9: 18843 | J9: Celle | K9: =IF($B9="","",IF($G9="","",IF($I9="",DATEDIF($G9,TODAY(),"Y"),IF($I9<$G9,"",DATEDIF($G9,$I9,"Y"))))) -> #NUM! | L9: =IF($B9="","",IF($I9<>"","verstorben",IF($G9="","unbekannt","lebend"))) -> verstorben | O9: P-01 · Heinrich Brenneke | P9: -72 | Q9: Näherin | R9: Celle | S9: väterliche Linie | T9: =IF($B9="","",COUNTIF($Z$8:$Z$47,$B9)+COUNTIF($AA$8:$AA$47,$B9)) -> 1 | U9: Kirchenbuch Celle, Bd. 4 | V9: =IF($B9="","",IF(OR($C9="",$D9=""),"Name unvollständig",IF(AND($G9<>"",$I9<>"",$I9<$G9),"Sterbedatum vor Geburt",IF(OR(AND($G9<>"",$G9>TODAY()),AND($I9<>"",$I9>TODAY())),"Datum in der Zukunft",IF(AND($M9<>"",$M9=$N9),"Vater und Mutter identisch",IF(OR($Z9=$B9,$AA9=$B9),"Verweis auf sich selbst",IF(AND($AD9<>"",$AD9<>"männlich"),"Vater: Geschlecht prüfen",IF(AND($AE9<>"",$AE9<>"weiblich"),"Mutter: Geschlecht prüfen",IF(IF(OR($G9="",$AB9=""),FALSE(),$G9-$AB9<5110),"Abstand zum Vater prüfen",IF(IF(OR($G9="",$AC9=""),FALSE(),$G9-$AC9<5110),"Abstand zur Mutter prüfen",IF($G9="","Geburtsdatum fehlt","OK"))))))))))) -> OK | X9: =IF($B9="","",TRIM($C9&" "&$D9&IF($E9=""," "," geb. "&$E9))) -> Auguste Brenneke geb. Wienhold | Y9: =IF($B9="","",$B9&" · "&TRIM($C9&" "&$D9)) -> P-02 · Auguste Brenneke | Z9: =IFERROR(LEFT($M9,SEARCH(" · ",$M9)-1),"") | AA9: =IFERROR(LEFT($N9,SEARCH(" · ",$N9)-1),"") | AB9: =IFERROR(IF(INDEX($G$8:$G$47,MATCH($Z9,$B$8:$B$47,0))="","",INDEX($G$8:$G$47,MATCH($Z9,$B$8:$B$47,0))),"") | AC9: =IFERROR(IF(INDEX($G$8:$G$47,MATCH($AA9,$B$8:$B$47,0))="","",INDEX($G$8:$G$47,MATCH($AA9,$B$8:$B$47,0))),"") | AD9: =IFERROR(INDEX($F$8:$F$47,MATCH($Z9,$B$8:$B$47,0)),"") | AE9: =IFERROR(INDEX($F$8:$F$47,MATCH($AA9,$B$8:$B$47,0)),"") | AG9: weiblich | AH9: väterliche Linie
A10: =IF($B10="","",ROW()-7) -> 3 | B10: P-03 | C10: Ludwig | D10: Steinkamp | F10: männlich | G10: -8286 | H10: Verden | I10: 14945 | J10: Verden | K10: =IF($B10="","",IF($G10="","",IF($I10="",DATEDIF($G10,TODAY(),"Y"),IF($I10<$G10,"",DATEDIF($G10,$I10,"Y"))))) -> #NUM! | L10: =IF($B10="","",IF($I10<>"","verstorben",IF($G10="","unbekannt","lebend"))) -> verstorben | O10: P-04 · Emilie Steinkamp | P10: 889 | Q10: Müller | R10: Verden | S10: väterliche Linie | T10: =IF($B10="","",COUNTIF($Z$8:$Z$47,$B10)+COUNTIF($AA$8:$AA$47,$B10)) -> 1 | U10: Standesamt Verden | V10: =IF($B10="","",IF(OR($C10="",$D10=""),"Name unvollständig",IF(AND($G10<>"",$I10<>"",$I10<$G10),"Sterbedatum vor Geburt",IF(OR(AND($G10<>"",$G10>TODAY()),AND($I10<>"",$I10>TODAY())),"Datum in der Zukunft",IF(AND($M10<>"",$M10=$N10),"Vater und Mutter identisch",IF(OR($Z10=$B10,$AA10=$B10),"Verweis auf sich selbst",IF(AND($AD10<>"",$AD10<>"männlich"),"Vater: Geschlecht prüfen",IF(AND($AE10<>"",$AE10<>"weiblich"),"Mutter: Geschlecht prüfen",IF(IF(OR($G10="",$AB10=""),FALSE(),$G10-$AB10<5110),"Abstand zum Vater prüfen",IF(IF(OR($G10="",$AC10=""),FALSE(),$G10-$AC10<5110),"Abstand zur Mutter prüfen",IF($G10="","Geburtsdatum fehlt","OK"))))))))))) -> OK | X10: =IF($B10="","",TRIM($C10&" "&$D10&IF($E10=""," "," geb. "&$E10))) -> Ludwig Steinkamp | Y10: =IF($B10="","",$B10&" · "&TRIM($C10&" "&$D10)) -> P-03 · Ludwig Steinkamp | Z10: =IFERROR(LEFT($M10,SEARCH(" · ",$M10)-1),"") | AA10: =IFERROR(LEFT($N10,SEARCH(" · ",$N10)-1),"") | AB10: =IFERROR(IF(INDEX($G$8:$G$47,MATCH($Z10,$B$8:$B$47,0))="","",INDEX($G$8:$G$47,MATCH($Z10,$B$8:$B$47,0))),"") | AC10: =IFERROR(IF(INDEX($G$8:$G$47,MATCH($AA10,$B$8:$B$47,0))="","",INDEX($G$8:$G$47,MATCH($AA10,$B$8:$B$47,0))),"") | AD10: =IFERROR(INDEX($F$8:$F$47,MATCH($Z10,$B$8:$B$47,0)),"") | AE10: =IFERROR(INDEX($F$8:$F$47,MATCH($AA10,$B$8:$B$47,0)),"") | AG10: unbekannt | AH10: mütterliche Linie
A11: =IF($B11="","",ROW()-7) -> 4 | B11: P-04 | C11: Emilie | D11: Steinkamp | E11: Rohde | F11: weiblich | G11: -6597 | H11: Verden | I11: 21600 | J11: Verden | K11: =IF($B11="","",IF($G11="","",IF($I11="",DATEDIF($G11,TODAY(),"Y"),IF($I11<$G11,"",DATEDIF($G11,$I11,"Y"))))) -> #NUM! | L11: =IF($B11="","",IF($I11<>"","verstorben",IF($G11="","unbekannt","lebend"))) -> verstorben | O11: P-03 · Ludwig Steinkamp | P11: 889 | Q11: Landwirtin | R11: Verden | S11: väterliche Linie | T11: =IF($B11="","",COUNTIF($Z$8:$Z$47,$B11)+COUNTIF($AA$8:$AA$47,$B11)) -> 1 | U11: Standesamt Verden | V11: =IF($B11="","",IF(OR($C11="",$D11=""),"Name unvollständig",IF(AND($G11<>"",$I11<>"",$I11<$G11),"Sterbedatum vor Geburt",IF(OR(AND($G11<>"",$G11>TODAY()),AND($I11<>"",$I11>TODAY())),"Datum in der Zukunft",IF(AND($M11<>"",$M11=$N11),"Vater und Mutter identisch",IF(OR($Z11=$B11,$AA11=$B11),"Verweis auf sich selbst",IF(AND($AD11<>"",$AD11<>"männlich"),"Vater: Geschlecht prüfen",IF(AND($AE11<>"",$AE11<>"weiblich"),"Mutter: Geschlecht prüfen",IF(IF(OR($G11="",$AB11=""),FALSE(),$G11-$AB11<5110),"Abstand zum Vater prüfen",IF(IF(OR($G11="",$AC11=""),FALSE(),$G11-$AC11<5110),"Abstand zur Mutter prüfen",IF($G11="","Geburtsdatum fehlt","OK"))))))))))) -> OK | X11: =IF($B11="","",TRIM($C11&" "&$D11&IF($E11=""," "," geb. "&$E11))) -> Emilie Steinkamp geb. Rohde | Y11: =IF($B11="","",$B11&" · "&TRIM($C11&" "&$D11)) -> P-04 · Emilie Steinkamp | Z11: =IFERROR(LEFT($M11,SEARCH(" · ",$M11)-1),"") | AA11: =IFERROR(LEFT($N11,SEARCH(" · ",$N11)-1),"") | AB11: =IFERROR(IF(INDEX($G$8:$G$47,MATCH($Z11,$B$8:$B$47,0))="","",INDEX($G$8:$G$47,MATCH($Z11,$B$8:$B$47,0))),"") | AC11: =IFERROR(IF(INDEX($G$8:$G$47,MATCH($AA11,$B$8:$B$47,0))="","",INDEX($G$8:$G$47,MATCH($AA11,$B$8:$B$47,0))),"") | AD11: =IFERROR(INDEX($F$8:$F$47,MATCH($Z11,$B$8:$B$47,0)),"") | AE11: =IFERROR(INDEX($F$8:$F$47,MATCH($AA11,$B$8:$B$47,0)),"") | AH11: Nachkommen
A12: =IF($B12="","",ROW()-7) -> 5 | B12: P-05 | C12: Josef | D12: Kaltenbach | F12: männlich | H12: Goslar | J12: Goslar | K12: =IF($B12="","",IF($G12="","",IF($I12="",DATEDIF($G12,TODAY(),"Y"),IF($I12<$G12,"",DATEDIF($G12,$I12,"Y"))))) | L12: =IF($B12="","",IF($I12<>"","verstorben",IF($G12="","unbekannt","lebend"))) -> unbekannt | O12: P-06 · Rosa Kaltenbach | P12: 1872 | Q12: Bergmann | R12: Goslar | S12: väterliche Linie | T12: =IF($B12="","",COUNTIF($Z$8:$Z$47,$B12)+COUNTIF($AA$8:$AA$47,$B12)) -> 1 | U12: nur Jahrgang 1880 bekannt – Urkunde fehlt | V12: =IF($B12="","",IF(OR($C12="",$D12=""),"Name unvollständig",IF(AND($G12<>"",$I12<>"",$I12<$G12),"Sterbedatum vor Geburt",IF(OR(AND($G12<>"",$G12>TODAY()),AND($I12<>"",$I12>TODAY())),"Datum in der Zukunft",IF(AND($M12<>"",$M12=$N12),"Vater und Mutter identisch",IF(OR($Z12=$B12,$AA12=$B12),"Verweis auf sich selbst",IF(AND($AD12<>"",$AD12<>"männlich"),"Vater: Geschlecht prüfen",IF(AND($AE12<>"",$AE12<>"weiblich"),"Mutter: Geschlecht prüfen",IF(IF(OR($G12="",$AB12=""),FALSE(),$G12-$AB12<5110),"Abstand zum Vater prüfen",IF(IF(OR($G12="",$AC12=""),FALSE(),$G12-$AC12<5110),"Abstand zur Mutter prüfen",IF($G12="","Geburtsdatum fehlt","OK"))))))))))) -> Geburtsdatum fehlt | X12: =IF($B12="","",TRIM($C12&" "&$D12&IF($E12=""," "," geb. "&$E12))) -> Josef Kaltenbach | Y12: =IF($B12="","",$B12&" · "&TRIM($C12&" "&$D12)) -> P-05 · Josef Kaltenbach | Z12: =IFERROR(LEFT($M12,SEARCH(" · ",$M12)-1),"") | AA12: =IFERROR(LEFT($N12,SEARCH(" · ",$N12)-1),"") | AB12: =IFERROR(IF(INDEX($G$8:$G$47,MATCH($Z12,$B$8:$B$47,0))="","",INDEX($G$8:$G$47,MATCH($Z12,$B$8:$B$47,0))),"") | AC12: =IFERROR(IF(INDEX($G$8:$G$47,MATCH($AA12,$B$8:$B$47,0))="","",INDEX($G$8:$G$47,MATCH($AA12,$B$8:$B$47,0))),"") | AD12: =IFERROR(INDEX($F$8:$F$47,MATCH($Z12,$B$8:$B$47,0)),"") | AE12: =IFERROR(INDEX($F$8:$F$47,MATCH($AA12,$B$8:$B$47,0)),"") | AH12: Seitenlinie
A13: =IF($B13="","",ROW()-7) -> 6 | B13: P-06 | C13: Rosa | D13: Kaltenbach | E13: Frei | F13: weiblich | G13: -5675 | H13: Goslar | I13: 22917 | J13: Goslar | K13: =IF($B13="","",IF($G13="","",IF($I13="",DATEDIF($G13,TODAY(),"Y"),IF($I13<$G13,"",DATEDIF($G13,$I13,"Y"))))) -> #NUM! | L13: =IF($B13="","",IF($I13<>"","verstorben",IF($G13="","unbekannt","lebend"))) -> verstorben | O13: P-05 · Josef Kaltenbach | P13: 1872 | Q13: Weberin | R13: Goslar | S13: väterliche Linie | T13: =IF($B13="","",COUNTIF($Z$8:$Z$47,$B13)+COUNTIF($AA$8:$AA$47,$B13)) -> 1 | U13: Familienchronik, S. 12 | V13: =IF($B13="","",IF(OR($C13="",$D13=""),"Name unvollständig",IF(AND($G13<>"",$I13<>"",$I13<$G13),"Sterbedatum vor Geburt",IF(OR(AND($G13<>"",$G13>TODAY()),AND($I13<>"",$I13>TODAY())),"Datum in der Zukunft",IF(AND($M13<>"",$M13=$N13),"Vater und Mutter identisch",IF(OR($Z13=$B13,$AA13=$B13),"Verweis auf sich selbst",IF(AND($AD13<>"",$AD13<>"männlich"),"Vater: Geschlecht prüfen",IF(AND($AE13<>"",$AE13<>"weiblich"),"Mutter: Geschlecht prüfen",IF(IF(OR($G13="",$AB13=""),FALSE(),$G13-$AB13<5110),"Abstand zum Vater prüfen",IF(IF(OR($G13="",$AC13=""),FALSE(),$G13-$AC13<5110),"Abstand zur Mutter prüfen",IF($G13="","Geburtsdatum fehlt","OK"))))))))))) -> OK | X13: =IF($B13="","",TRIM($C13&" "&$D13&IF($E13=""," "," geb. "&$E13))) -> Rosa Kaltenbach geb. Frei | Y13: =IF($B13="","",$B13&" · "&TRIM($C13&" "&$D13)) -> P-06 · Rosa Kaltenbach | Z13: =IFERROR(LEFT($M13,SEARCH(" · ",$M13)-1),"") | AA13: =IFERROR(LEFT($N13,SEARCH(" · ",$N13)-1),"") | AB13: =IFERROR(IF(INDEX($G$8:$G$47,MATCH($Z13,$B$8:$B$47,0))="","",INDEX($G$8:$G$47,MATCH($Z13,$B$8:$B$47,0))),"") | AC13: =IFERROR(IF(INDEX($G$8:$G$47,MATCH($AA13,$B$8:$B$47,0))="","",INDEX($G$8:$G$47,MATCH($AA13,$B$8:$B$47,0))),"") | AD13: =IFERROR(INDEX($F$8:$F$47,MATCH($Z13,$B$8:$B$47,0)),"") | AE13: =IFERROR(INDEX($F$8:$F$47,MATCH($AA13,$B$8:$B$47,0)),"") | AH13: angeheiratet
A14: =IF($B14="","",ROW()-7) -> 7 | B14: P-07 | C14: Hermann | D14: Sturm | F14: männlich | G14: -8729 | H14: Uelzen | I14: 17879 | J14: Uelzen | K14: =IF($B14="","",IF($G14="","",IF($I14="",DATEDIF($G14,TODAY(),"Y"),IF($I14<$G14,"",DATEDIF($G14,$I14,"Y"))))) -> #NUM! | L14: =IF($B14="","",IF($I14<>"","verstorben",IF($G14="","unbekannt","lebend"))) -> verstorben | O14: P-08 · Anna Sturm | P14: 486 | Q14: Schmied | R14: Uelzen | S14: mütterliche Linie | T14: =IF($B14="","",COUNTIF($Z$8:$Z$47,$B14)+COUNTIF($AA$8:$AA$47,$B14)) -> 1 | U14: Standesamt Uelzen | V14: =IF($B14="","",IF(OR($C14="",$D14=""),"Name unvollständig",IF(AND($G14<>"",$I14<>"",$I14<$G14),"Sterbedatum vor Geburt",IF(OR(AND($G14<>"",$G14>TODAY()),AND($I14<>"",$I14>TODAY())),"Datum in der Zukunft",IF(AND($M14<>"",$M14=$N14),"Vater und Mutter identisch",IF(OR($Z14=$B14,$AA14=$B14),"Verweis auf sich selbst",IF(AND($AD14<>"",$AD14<>"männlich"),"Vater: Geschlecht prüfen",IF(AND($AE14<>"",$AE14<>"weiblich"),"Mutter: Geschlecht prüfen",IF(IF(OR($G14="",$AB14=""),FALSE(),$G14-$AB14<5110),"Abstand zum Vater prüfen",IF(IF(OR($G14="",$AC14=""),FALSE(),$G14-$AC14<5110),"Abstand zur Mutter prüfen",IF($G14="","Geburtsdatum fehlt","OK"))))))))))) -> OK | X14: =IF($B14="","",TRIM($C14&" "&$D14&IF($E14=""," "," geb. "&$E14))) -> Hermann Sturm | Y14: =IF($B14="","",$B14&" · "&TRIM($C14&" "&$D14)) -> P-07 · Hermann Sturm | Z14: =IFERROR(LEFT($M14,SEARCH(" · ",$M14)-1),"") | AA14: =IFERROR(LEFT($N14,SEARCH(" · ",$N14)-1),"") | AB14: =IFERROR(IF(INDEX($G$8:$G$47,MATCH($Z14,$B$8:$B$47,0))="","",INDEX($G$8:$G$47,MATCH($Z14,$B$8:$B$47,0))),"") | AC14: =IFERROR(IF(INDEX($G$8:$G$47,MATCH($AA14,$B$8:$B$47,0))="","",INDEX($G$8:$G$47,MATCH($AA14,$B$8:$B$47,0))),"") | AD14: =IFERROR(INDEX($F$8:$F$47,MATCH($Z14,$B$8:$B$47,0)),"") | AE14: =IFERROR(INDEX($F$8:$F$47,MATCH($AA14,$B$8:$B$47,0)),"")
A15: =IF($B15="","",ROW()-7) -> 8 | B15: P-08 | C15: Anna | D15: Sturm | E15: Löwe | F15: weiblich | G15: -7062 | H15: Uelzen | I15: 20975 | J15: Uelzen | K15: =IF($B15="","",IF($G15="","",IF($I15="",DATEDIF($G15,TODAY(),"Y"),IF($I15<$G15,"",DATEDIF($G15,$I15,"Y"))))) -> #NUM! | L15: =IF($B15="","",IF($I15<>"","verstorben",IF($G15="","unbekannt","lebend"))) -> verstorben | O15: P-07 · Hermann Sturm | P15: 486 | Q15: Hebamme | R15: Uelzen | S15: mütterliche Linie | T15: =IF($B15="","",COUNTIF($Z$8:$Z$47,$B15)+COUNTIF($AA$8:$AA$47,$B15)) -> 1 | U15: Standesamt Uelzen | V15: =IF($B15="","",IF(OR($C15="",$D15=""),"Name unvollständig",IF(AND($G15<>"",$I15<>"",$I15<$G15),"Sterbedatum vor Geburt",IF(OR(AND($G15<>"",$G15>TODAY()),AND($I15<>"",$I15>TODAY())),"Datum in der Zukunft",IF(AND($M15<>"",$M15=$N15),"Vater und Mutter identisch",IF(OR($Z15=$B15,$AA15=$B15),"Verweis auf sich selbst",IF(AND($AD15<>"",$AD15<>"männlich"),"Vater: Geschlecht prüfen",IF(AND($AE15<>"",$AE15<>"weiblich"),"Mutter: Geschlecht prüfen",IF(IF(OR($G15="",$AB15=""),FALSE(),$G15-$AB15<5110),"Abstand zum Vater prüfen",IF(IF(OR($G15="",$AC15=""),FALSE(),$G15-$AC15<5110),"Abstand zur Mutter prüfen",IF($G15="","Geburtsdatum fehlt","OK"))))))))))) -> OK | X15: =IF($B15="","",TRIM($C15&" "&$D15&IF($E15=""," "," geb. "&$E15))) -> Anna Sturm geb. Löwe | Y15: =IF($B15="","",$B15&" · "&TRIM($C15&" "&$D15)) -> P-08 · Anna Sturm | Z15: =IFERROR(LEFT($M15,SEARCH(" · ",$M15)-1),"") | AA15: =IFERROR(LEFT($N15,SEARCH(" · ",$N15)-1),"") | AB15: =IFERROR(IF(INDEX($G$8:$G$47,MATCH($Z15,$B$8:$B$47,0))="","",INDEX($G$8:$G$47,MATCH($Z15,$B$8:$B$47,0))),"") | AC15: =IFERROR(IF(INDEX($G$8:$G$47,MATCH($AA15,$B$8:$B$47,0))="","",INDEX($G$8:$G$47,MATCH($AA15,$B$8:$B$47,0))),"") | AD15: =IFERROR(INDEX($F$8:$F$47,MATCH($Z15,$B$8:$B$47,0)),"") | AE15: =IFERROR(INDEX($F$8:$F$47,MATCH($AA15,$B$8:$B$47,0)),"")
A16: =IF($B16="","",ROW()-7) -> 9 | B16: P-09 | C16: Wilhelm | D16: Brenneke | F16: männlich | G16: 443 | H16: Celle | I16: 25148 | J16: Hannover | K16: =IF($B16="","",IF($G16="","",IF($I16="",DATEDIF($G16,TODAY(),"Y"),IF($I16<$G16,"",DATEDIF($G16,$I16,"Y"))))) -> 67 | L16: =IF($B16="","",IF($I16<>"","verstorben",IF($G16="","unbekannt","lebend"))) -> verstorben | M16: P-01 · Heinrich Brenneke | N16: P-02 · Auguste Brenneke | O16: P-10 · Martha Brenneke | P16: 10009 | Q16: Tischlermeister | R16: Hannover | S16: väterliche Linie | T16: =IF($B16="","",COUNTIF($Z$8:$Z$47,$B16)+COUNTIF($AA$8:$AA$47,$B16)) -> 2 | U16: Meisterbrief 1926 vorhanden | V16: =IF($B16="","",IF(OR($C16="",$D16=""),"Name unvollständig",IF(AND($G16<>"",$I16<>"",$I16<$G16),"Sterbedatum vor Geburt",IF(OR(AND($G16<>"",$G16>TODAY()),AND($I16<>"",$I16>TODAY())),"Datum in der Zukunft",IF(AND($M16<>"",$M16=$N16),"Vater und Mutter identisch",IF(OR($Z16=$B16,$AA16=$B16),"Verweis auf sich selbst",IF(AND($AD16<>"",$AD16<>"männlich"),"Vater: Geschlecht prüfen",IF(AND($AE16<>"",$AE16<>"weiblich"),"Mutter: Geschlecht prüfen",IF(IF(OR($G16="",$AB16=""),FALSE(),$G16-$AB16<5110),"Abstand zum Vater prüfen",IF(IF(OR($G16="",$AC16=""),FALSE(),$G16-$AC16<5110),"Abstand zur Mutter prüfen",IF($G16="","Geburtsdatum fehlt","OK"))))))))))) -> OK | X16: =IF($B16="","",TRIM($C16&" "&$D16&IF($E16=""," "," geb. "&$E16))) -> Wilhelm Brenneke | Y16: =IF($B16="","",$B16&" · "&TRIM($C16&" "&$D16)) -> P-09 · Wilhelm Brenneke | Z16: =IFERROR(LEFT($M16,SEARCH(" · ",$M16)-1),"") -> P-01 | AA16: =IFERROR(LEFT($N16,SEARCH(" · ",$N16)-1),"") -> P-02 | AB16: =IFERROR(IF(INDEX($G$8:$G$47,MATCH($Z16,$B$8:$B$47,0))="","",INDEX($G$8:$G$47,MATCH($Z16,$B$8:$B$47,0))),"") -> -9250 | AC16: =IFERROR(IF(INDEX($G$8:$G$47,MATCH($AA16,$B$8:$B$47,0))="","",INDEX($G$8:$G$47,MATCH($AA16,$B$8:$B$47,0))),"") -> -7903 | AD16: =IFERROR(INDEX($F$8:$F$47,MATCH($Z16,$B$8:$B$47,0)),"") -> männlich | AE16: =IFERROR(INDEX($F$8:$F$47,MATCH($AA16,$B$8:$B$47,0)),"") -> weiblich
A17: =IF($B17="","",ROW()-7) -> 10 | B17: P-10 | C17: Martha | D17: Brenneke | E17: Steinkamp | F17: weiblich | G17: 2030 | H17: Verden | I17: 29996 | J17: Hannover | K17: =IF($B17="","",IF($G17="","",IF($I17="",DATEDIF($G17,TODAY(),"Y"),IF($I17<$G17,"",DATEDIF($G17,$I17,"Y"))))) -> 76 | L17: =IF($B17="","",IF($I17<>"","verstorben",IF($G17="","unbekannt","lebend"))) -> verstorben | M17: P-03 · Ludwig Steinkamp | N17: P-04 · Emilie Steinkamp | O17: P-09 · Wilhelm Brenneke | P17: 10009 | Q17: Schneiderin | R17: Hannover | S17: väterliche Linie | T17: =IF($B17="","",COUNTIF($Z$8:$Z$47,$B17)+COUNTIF($AA$8:$AA$47,$B17)) -> 2 | U17: Fotoalbum 1927 | V17: =IF($B17="","",IF(OR($C17="",$D17=""),"Name unvollständig",IF(AND($G17<>"",$I17<>"",$I17<$G17),"Sterbedatum vor Geburt",IF(OR(AND($G17<>"",$G17>TODAY()),AND($I17<>"",$I17>TODAY())),"Datum in der Zukunft",IF(AND($M17<>"",$M17=$N17),"Vater und Mutter identisch",IF(OR($Z17=$B17,$AA17=$B17),"Verweis auf sich selbst",IF(AND($AD17<>"",$AD17<>"männlich"),"Vater: Geschlecht prüfen",IF(AND($AE17<>"",$AE17<>"weiblich"),"Mutter: Geschlecht prüfen",IF(IF(OR($G17="",$AB17=""),FALSE(),$G17-$AB17<5110),"Abstand zum Vater prüfen",IF(IF(OR($G17="",$AC17=""),FALSE(),$G17-$AC17<5110),"Abstand zur Mutter prüfen",IF($G17="","Geburtsdatum fehlt","OK"))))))))))) -> OK | X17: =IF($B17="","",TRIM($C17&" "&$D17&IF($E17=""," "," geb. "&$E17))) -> Martha Brenneke geb. Steinkamp | Y17: =IF($B17="","",$B17&" · "&TRIM($C17&" "&$D17)) -> P-10 · Martha Brenneke | Z17: =IFERROR(LEFT($M17,SEARCH(" · ",$M17)-1),"") -> P-03 | AA17: =IFERROR(LEFT($N17,SEARCH(" · ",$N17)-1),"") -> P-04 | AB17: =IFERROR(IF(INDEX($G$8:$G$47,MATCH($Z17,$B$8:$B$47,0))="","",INDEX($G$8:$G$47,MATCH($Z17,$B$8:$B$47,0))),"") -> -8286 | AC17: =IFERROR(IF(INDEX($G$8:$G$47,MATCH($AA17,$B$8:$B$47,0))="","",INDEX($G$8:$G$47,MATCH($AA17,$B$8:$B$47,0))),"") -> -6597 | AD17: =IFERROR(INDEX($F$8:$F$47,MATCH($Z17,$B$8:$B$47,0)),"") -> männlich | AE17: =IFERROR(INDEX($F$8:$F$47,MATCH($AA17,$B$8:$B$47,0)),"") -> weiblich
A18: =IF($B18="","",ROW()-7) -> 11 | B18: P-11 | C18: Otto | D18: Lindemann | F18: männlich | G18: 1105 | H18: Braunschweig | I18: 26114 | J18: Braunschweig | K18: =IF($B18="","",IF($G18="","",IF($I18="",DATEDIF($G18,TODAY(),"Y"),IF($I18<$G18,"",DATEDIF($G18,$I18,"Y"))))) -> 68 | L18: =IF($B18="","",IF($I18<>"","verstorben",IF($G18="","unbekannt","lebend"))) -> verstorben | O18: P-12 · Frieda Lindemann | P18: 10848 | Q18: Schlosser | R18: Braunschweig | S18: väterliche Linie | T18: =IF($B18="","",COUNTIF($Z$8:$Z$47,$B18)+COUNTIF($AA$8:$AA$47,$B18)) -> 1 | U18: Eltern noch nicht ermittelt | V18: =IF($B18="","",IF(OR($C18="",$D18=""),"Name unvollständig",IF(AND($G18<>"",$I18<>"",$I18<$G18),"Sterbedatum vor Geburt",IF(OR(AND($G18<>"",$G18>TODAY()),AND($I18<>"",$I18>TODAY())),"Datum in der Zukunft",IF(AND($M18<>"",$M18=$N18),"Vater und Mutter identisch",IF(OR($Z18=$B18,$AA18=$B18),"Verweis auf sich selbst",IF(AND($AD18<>"",$AD18<>"männlich"),"Vater: Geschlecht prüfen",IF(AND($AE18<>"",$AE18<>"weiblich"),"Mutter: Geschlecht prüfen",IF(IF(OR($G18="",$AB18=""),FALSE(),$G18-$AB18<5110),"Abstand zum Vater prüfen",IF(IF(OR($G18="",$AC18=""),FALSE(),$G18-$AC18<5110),"Abstand zur Mutter prüfen",IF($G18="","Geburtsdatum fehlt","OK"))))))))))) -> OK | X18: =IF($B18="","",TRIM($C18&" "&$D18&IF($E18=""," "," geb. "&$E18))) -> Otto Lindemann | Y18: =IF($B18="","",$B18&" · "&TRIM($C18&" "&$D18)) -> P-11 · Otto Lindemann | Z18: =IFERROR(LEFT($M18,SEARCH(" · ",$M18)-1),"") | AA18: =IFERROR(LEFT($N18,SEARCH(" · ",$N18)-1),"") | AB18: =IFERROR(IF(INDEX($G$8:$G$47,MATCH($Z18,$B$8:$B$47,0))="","",INDEX($G$8:$G$47,MATCH($Z18,$B$8:$B$47,0))),"") | AC18: =IFERROR(IF(INDEX($G$8:$G$47,MATCH($AA18,$B$8:$B$47,0))="","",INDEX($G$8:$G$47,MATCH($AA18,$B$8:$B$47,0))),"") | AD18: =IFERROR(INDEX($F$8:$F$47,MATCH($Z18,$B$8:$B$47,0)),"") | AE18: =IFERROR(INDEX($F$8:$F$47,MATCH($AA18,$B$8:$B$47,0)),"")
A19: =IF($B19="","",ROW()-7) -> 12 | B19: P-12 | C19: Frieda | D19: Lindemann | E19: Kaltenbach | F19: weiblich | G19: 2833 | H19: Goslar | I19: 32984 | J19: Braunschweig | K19: =IF($B19="","",IF($G19="","",IF($I19="",DATEDIF($G19,TODAY(),"Y"),IF($I19<$G19,"",DATEDIF($G19,$I19,"Y"))))) -> 82 | L19: =IF($B19="","",IF($I19<>"","verstorben",IF($G19="","unbekannt","lebend"))) -> verstorben | M19: P-05 · Josef Kaltenbach | N19: P-06 · Rosa Kaltenbach | O19: P-11 · Otto Lindemann | P19: 10848 | Q19: Verkäuferin | R19: Braunschweig | S19: väterliche Linie | T19: =IF($B19="","",COUNTIF($Z$8:$Z$47,$B19)+COUNTIF($AA$8:$AA$47,$B19)) -> 1 | U19: Heiratsurkunde 1929 | V19: =IF($B19="","",IF(OR($C19="",$D19=""),"Name unvollständig",IF(AND($G19<>"",$I19<>"",$I19<$G19),"Sterbedatum vor Geburt",IF(OR(AND($G19<>"",$G19>TODAY()),AND($I19<>"",$I19>TODAY())),"Datum in der Zukunft",IF(AND($M19<>"",$M19=$N19),"Vater und Mutter identisch",IF(OR($Z19=$B19,$AA19=$B19),"Verweis auf sich selbst",IF(AND($AD19<>"",$AD19<>"männlich"),"Vater: Geschlecht prüfen",IF(AND($AE19<>"",$AE19<>"weiblich"),"Mutter: Geschlecht prüfen",IF(IF(OR($G19="",$AB19=""),FALSE(),$G19-$AB19<5110),"Abstand zum Vater prüfen",IF(IF(OR($G19="",$AC19=""),FALSE(),$G19-$AC19<5110),"Abstand zur Mutter prüfen",IF($G19="","Geburtsdatum fehlt","OK"))))))))))) -> OK | X19: =IF($B19="","",TRIM($C19&" "&$D19&IF($E19=""," "," geb. "&$E19))) -> Frieda Lindemann geb. Kaltenbach | Y19: =IF($B19="","",$B19&" · "&TRIM($C19&" "&$D19)) -> P-12 · Frieda Lindemann | Z19: =IFERROR(LEFT($M19,SEARCH(" · ",$M19)-1),"") -> P-05 | AA19: =IFERROR(LEFT($N19,SEARCH(" · ",$N19)-1),"") -> P-06 | AB19: =IFERROR(IF(INDEX($G$8:$G$47,MATCH($Z19,$B$8:$B$47,0))="","",INDEX($G$8:$G$47,MATCH($Z19,$B$8:$B$47,0))),"") | AC19: =IFERROR(IF(INDEX($G$8:$G$47,MATCH($AA19,$B$8:$B$47,0))="","",INDEX($G$8:$G$47,MATCH($AA19,$B$8:$B$47,0))),"") -> -5675 | AD19: =IFERROR(INDEX($F$8:$F$47,MATCH($Z19,$B$8:$B$47,0)),"") -> männlich | AE19: =IFERROR(INDEX($F$8:$F$47,MATCH($AA19,$B$8:$B$47,0)),"") -> weiblich
A20: =IF($B20="","",ROW()-7) -> 13 | B20: P-13 | C20: Gustav | D20: Weidner | F20: männlich | G20: -35 | H20: Hildesheim | I20: 23809 | J20: Hildesheim | K20: =IF($B20="","",IF($G20="","",IF($I20="",DATEDIF($G20,TODAY(),"Y"),IF($I20<$G20,"",DATEDIF($G20,$I20,"Y"))))) -> #NUM! | L20: =IF($B20="","",IF($I20<>"","verstorben",IF($G20="","unbekannt","lebend"))) -> verstorben | O20: P-14 · Helene Weidner | P20: 10383 | Q20: Buchbinder | R20: Hildesheim | S20: mütterliche Linie | T20: =IF($B20="","",COUNTIF($Z$8:$Z$47,$B20)+COUNTIF($AA$8:$AA$47,$B20)) -> 1 | U20: Eltern noch nicht ermittelt | V20: =IF($B20="","",IF(OR($C20="",$D20=""),"Name unvollständig",IF(AND($G20<>"",$I20<>"",$I20<$G20),"Sterbedatum vor Geburt",IF(OR(AND($G20<>"",$G20>TODAY()),AND($I20<>"",$I20>TODAY())),"Datum in der Zukunft",IF(AND($M20<>"",$M20=$N20),"Vater und Mutter identisch",IF(OR($Z20=$B20,$AA20=$B20),"Verweis auf sich selbst",IF(AND($AD20<>"",$AD20<>"männlich"),"Vater: Geschlecht prüfen",IF(AND($AE20<>"",$AE20<>"weiblich"),"Mutter: Geschlecht prüfen",IF(IF(OR($G20="",$AB20=""),FALSE(),$G20-$AB20<5110),"Abstand zum Vater prüfen",IF(IF(OR($G20="",$AC20=""),FALSE(),$G20-$AC20<5110),"Abstand zur Mutter prüfen",IF($G20="","Geburtsdatum fehlt","OK"))))))))))) -> OK | X20: =IF($B20="","",TRIM($C20&" "&$D20&IF($E20=""," "," geb. "&$E20))) -> Gustav Weidner | Y20: =IF($B20="","",$B20&" · "&TRIM($C20&" "&$D20)) -> P-13 · Gustav Weidner | Z20: =IFERROR(LEFT($M20,SEARCH(" · ",$M20)-1),"") | AA20: =IFERROR(LEFT($N20,SEARCH(" · ",$N20)-1),"") | AB20: =IFERROR(IF(INDEX($G$8:$G$47,MATCH($Z20,$B$8:$B$47,0))="","",INDEX($G$8:$G$47,MATCH($Z20,$B$8:$B$47,0))),"") | AC20: =IFERROR(IF(INDEX($G$8:$G$47,MATCH($AA20,$B$8:$B$47,0))="","",INDEX($G$8:$G$47,MATCH($AA20,$B$8:$B$47,0))),"") | AD20: =IFERROR(INDEX($F$8:$F$47,MATCH($Z20,$B$8:$B$47,0)),"") | AE20: =IFERROR(INDEX($F$8:$F$47,MATCH($AA20,$B$8:$B$47,0)),"")
A21: =IF($B21="","",ROW()-7) -> 14 | B21: P-14 | C21: Helene | D21: Weidner | E21: Sturm | F21: weiblich | G21: 1596 | H21: Uelzen | I21: 32435 | J21: Hildesheim | K21: =IF($B21="","",IF($G21="","",IF($I21="",DATEDIF($G21,TODAY(),"Y"),IF($I21<$G21,"",DATEDIF($G21,$I21,"Y"))))) -> 84 | L21: =IF($B21="","",IF($I21<>"","verstorben",IF($G21="","unbekannt","lebend"))) -> verstorben | M21: P-07 · Hermann Sturm | N21: P-08 · Anna Sturm | O21: P-13 · Gustav Weidner | P21: 10383 | Q21: Lehrerin | R21: Hildesheim | S21: mütterliche Linie | T21: =IF($B21="","",COUNTIF($Z$8:$Z$47,$B21)+COUNTIF($AA$8:$AA$47,$B21)) -> 1 | U21: Personalakte Schulamt | V21: =IF($B21="","",IF(OR($C21="",$D21=""),"Name unvollständig",IF(AND($G21<>"",$I21<>"",$I21<$G21),"Sterbedatum vor Geburt",IF(OR(AND($G21<>"",$G21>TODAY()),AND($I21<>"",$I21>TODAY())),"Datum in der Zukunft",IF(AND($M21<>"",$M21=$N21),"Vater und Mutter identisch",IF(OR($Z21=$B21,$AA21=$B21),"Verweis auf sich selbst",IF(AND($AD21<>"",$AD21<>"männlich"),"Vater: Geschlecht prüfen",IF(AND($AE21<>"",$AE21<>"weiblich"),"Mutter: Geschlecht prüfen",IF(IF(OR($G21="",$AB21=""),FALSE(),$G21-$AB21<5110),"Abstand zum Vater prüfen",IF(IF(OR($G21="",$AC21=""),FALSE(),$G21-$AC21<5110),"Abstand zur Mutter prüfen",IF($G21="","Geburtsdatum fehlt","OK"))))))))))) -> OK | X21: =IF($B21="","",TRIM($C21&" "&$D21&IF($E21=""," "," geb. "&$E21))) -> Helene Weidner geb. Sturm | Y21: =IF($B21="","",$B21&" · "&TRIM($C21&" "&$D21)) -> P-14 · Helene Weidner | Z21: =IFERROR(LEFT($M21,SEARCH(" · ",$M21)-1),"") -> P-07 | AA21: =IFERROR(LEFT($N21,SEARCH(" · ",$N21)-1),"") -> P-08 | AB21: =IFERROR(IF(INDEX($G$8:$G$47,MATCH($Z21,$B$8:$B$47,0))="","",INDEX($G$8:$G$47,MATCH($Z21,$B$8:$B$47,0))),"") -> -8729 | AC21: =IFERROR(IF(INDEX($G$8:$G$47,MATCH($AA21,$B$8:$B$47,0))="","",INDEX($G$8:$G$47,MATCH($AA21,$B$8:$B$47,0))),"") -> -7062 | AD21: =IFERROR(INDEX($F$8:$F$47,MATCH($Z21,$B$8:$B$47,0)),"") -> männlich | AE21: =IFERROR(INDEX($F$8:$F$47,MATCH($AA21,$B$8:$B$47,0)),"") -> weiblich
A22: =IF($B22="","",ROW()-7) -> 15 | B22: P-15 | C22: Albert | D22: Rossbach | F22: männlich | G22: 2411 | H22: Peine | I22: 29212 | J22: Peine | K22: =IF($B22="","",IF($G22="","",IF($I22="",DATEDIF($G22,TODAY(),"Y"),IF($I22<$G22,"",DATEDIF($G22,$I22,"Y"))))) -> 73 | L22: =IF($B22="","",IF($I22<>"","verstorben",IF($G22="","unbekannt","lebend"))) -> verstorben | O22: P-16 · Klara Rossbach | P22: 12890 | Q22: Landwirt | R22: Peine | S22: mütterliche Linie | T22: =IF($B22="","",COUNTIF($Z$8:$Z$47,$B22)+COUNTIF($AA$8:$AA$47,$B22)) -> 1 | U22: Hofakte Peine | V22: =IF($B22="","",IF(OR($C22="",$D22=""),"Name unvollständig",IF(AND($G22<>"",$I22<>"",$I22<$G22),"Sterbedatum vor Geburt",IF(OR(AND($G22<>"",$G22>TODAY()),AND($I22<>"",$I22>TODAY())),"Datum in der Zukunft",IF(AND($M22<>"",$M22=$N22),"Vater und Mutter identisch",IF(OR($Z22=$B22,$AA22=$B22),"Verweis auf sich selbst",IF(AND($AD22<>"",$AD22<>"männlich"),"Vater: Geschlecht prüfen",IF(AND($AE22<>"",$AE22<>"weiblich"),"Mutter: Geschlecht prüfen",IF(IF(OR($G22="",$AB22=""),FALSE(),$G22-$AB22<5110),"Abstand zum Vater prüfen",IF(IF(OR($G22="",$AC22=""),FALSE(),$G22-$AC22<5110),"Abstand zur Mutter prüfen",IF($G22="","Geburtsdatum fehlt","OK"))))))))))) -> OK | X22: =IF($B22="","",TRIM($C22&" "&$D22&IF($E22=""," "," geb. "&$E22))) -> Albert Rossbach | Y22: =IF($B22="","",$B22&" · "&TRIM($C22&" "&$D22)) -> P-15 · Albert Rossbach | Z22: =IFERROR(LEFT($M22,SEARCH(" · ",$M22)-1),"") | AA22: =IFERROR(LEFT($N22,SEARCH(" · ",$N22)-1),"") | AB22: =IFERROR(IF(INDEX($G$8:$G$47,MATCH($Z22,$B$8:$B$47,0))="","",INDEX($G$8:$G$47,MATCH($Z22,$B$8:$B$47,0))),"") | AC22: =IFERROR(IF(INDEX($G$8:$G$47,MATCH($AA22,$B$8:$B$47,0))="","",INDEX($G$8:$G$47,MATCH($AA22,$B$8:$B$47,0))),"") | AD22: =IFERROR(INDEX($F$8:$F$47,MATCH($Z22,$B$8:$B$47,0)),"") | AE22: =IFERROR(INDEX($F$8:$F$47,MATCH($AA22,$B$8:$B$47,0)),"")
A23: =IF($B23="","",ROW()-7) -> 16 | B23: P-16 | C23: Klara | D23: Rossbach | E23: Pohlmann | F23: weiblich | G23: 3686 | H23: Peine | I23: 34526 | J23: Peine | K23: =IF($B23="","",IF($G23="","",IF($I23="",DATEDIF($G23,TODAY(),"Y"),IF($I23<$G23,"",DATEDIF($G23,$I23,"Y"))))) -> 84 | L23: =IF($B23="","",IF($I23<>"","verstorben",IF($G23="","unbekannt","lebend"))) -> verstorben | O23: P-15 · Albert Rossbach | P23: 12890 | Q23: Gärtnerin | R23: Peine | S23: mütterliche Linie | T23: =IF($B23="","",COUNTIF($Z$8:$Z$47,$B23)+COUNTIF($AA$8:$AA$47,$B23)) -> 1 | U23: Eltern noch nicht ermittelt | V23: =IF($B23="","",IF(OR($C23="",$D23=""),"Name unvollständig",IF(AND($G23<>"",$I23<>"",$I23<$G23),"Sterbedatum vor Geburt",IF(OR(AND($G23<>"",$G23>TODAY()),AND($I23<>"",$I23>TODAY())),"Datum in der Zukunft",IF(AND($M23<>"",$M23=$N23),"Vater und Mutter identisch",IF(OR($Z23=$B23,$AA23=$B23),"Verweis auf sich selbst",IF(AND($AD23<>"",$AD23<>"männlich"),"Vater: Geschlecht prüfen",IF(AND($AE23<>"",$AE23<>"weiblich"),"Mutter: Geschlecht prüfen",IF(IF(OR($G23="",$AB23=""),FALSE(),$G23-$AB23<5110),"Abstand zum Vater prüfen",IF(IF(OR($G23="",$AC23=""),FALSE(),$G23-$AC23<5110),"Abstand zur Mutter prüfen",IF($G23="","Geburtsdatum fehlt","OK"))))))))))) -> OK | X23: =IF($B23="","",TRIM($C23&" "&$D23&IF($E23=""," "," geb. "&$E23))) -> Klara Rossbach geb. Pohlmann | Y23: =IF($B23="","",$B23&" · "&TRIM($C23&" "&$D23)) -> P-16 · Klara Rossbach | Z23: =IFERROR(LEFT($M23,SEARCH(" · ",$M23)-1),"") | AA23: =IFERROR(LEFT($N23,SEARCH(" · ",$N23)-1),"") | AB23: =IFERROR(IF(INDEX($G$8:$G$47,MATCH($Z23,$B$8:$B$47,0))="","",INDEX($G$8:$G$47,MATCH($Z23,$B$8:$B$47,0))),"") | AC23: =IFERROR(IF(INDEX($G$8:$G$47,MATCH($AA23,$B$8:$B$47,0))="","",INDEX($G$8:$G$47,MATCH($AA23,$B$8:$B$47,0))),"") | AD23: =IFERROR(INDEX($F$8:$F$47,MATCH($Z23,$B$8:$B$47,0)),"") | AE23: =IFERROR(INDEX($F$8:$F$47,MATCH($AA23,$B$8:$B$47,0)),"")
A24: =IF($B24="","",ROW()-7) -> 17 | B24: P-17 | C24: Friedrich | D24: Brenneke | F24: männlich | G24: 11852 | H24: Hannover | I24: 40602 | J24: Hannover | K24: =IF($B24="","",IF($G24="","",IF($I24="",DATEDIF($G24,TODAY(),"Y"),IF($I24<$G24,"",DATEDIF($G24,$I24,"Y"))))) -> 78 | L24: =IF($B24="","",IF($I24<>"","verstorben",IF($G24="","unbekannt","lebend"))) -> verstorben | M24: P-09 · Wilhelm Brenneke | N24: P-10 · Martha Brenneke | O24: P-18 · Ingeborg Brenneke | P24: 20888 | Q24: Bauingenieur | R24: Hannover | S24: väterliche Linie | T24: =IF($B24="","",COUNTIF($Z$8:$Z$47,$B24)+COUNTIF($AA$8:$AA$47,$B24)) -> 2 | U24: Nachlass Ordner 2 | V24: =IF($B24="","",IF(OR($C24="",$D24=""),"Name unvollständig",IF(AND($G24<>"",$I24<>"",$I24<$G24),"Sterbedatum vor Geburt",IF(OR(AND($G24<>"",$G24>TODAY()),AND($I24<>"",$I24>TODAY())),"Datum in der Zukunft",IF(AND($M24<>"",$M24=$N24),"Vater und Mutter identisch",IF(OR($Z24=$B24,$AA24=$B24),"Verweis auf sich selbst",IF(AND($AD24<>"",$AD24<>"männlich"),"Vater: Geschlecht prüfen",IF(AND($AE24<>"",$AE24<>"weiblich"),"Mutter: Geschlecht prüfen",IF(IF(OR($G24="",$AB24=""),FALSE(),$G24-$AB24<5110),"Abstand zum Vater prüfen",IF(IF(OR($G24="",$AC24=""),FALSE(),$G24-$AC24<5110),"Abstand zur Mutter prüfen",IF($G24="","Geburtsdatum fehlt","OK"))))))))))) -> OK | X24: =IF($B24="","",TRIM($C24&" "&$D24&IF($E24=""," "," geb. "&$E24))) -> Friedrich Brenneke | Y24: =IF($B24="","",$B24&" · "&TRIM($C24&" "&$D24)) -> P-17 · Friedrich Brenneke | Z24: =IFERROR(LEFT($M24,SEARCH(" · ",$M24)-1),"") -> P-09 | AA24: =IFERROR(LEFT($N24,SEARCH(" · ",$N24)-1),"") -> P-10 | AB24: =IFERROR(IF(INDEX($G$8:$G$47,MATCH($Z24,$B$8:$B$47,0))="","",INDEX($G$8:$G$47,MATCH($Z24,$B$8:$B$47,0))),"") -> 443 | AC24: =IFERROR(IF(INDEX($G$8:$G$47,MATCH($AA24,$B$8:$B$47,0))="","",INDEX($G$8:$G$47,MATCH($AA24,$B$8:$B$47,0))),"") -> 2030 | AD24: =IFERROR(INDEX($F$8:$F$47,MATCH($Z24,$B$8:$B$47,0)),"") -> männlich | AE24: =IFERROR(INDEX($F$8:$F$47,MATCH($AA24,$B$8:$B$47,0)),"") -> weiblich
A25: =IF($B25="","",ROW()-7) -> 18 | B25: P-18 | C25: Ingeborg | D25: Brenneke | E25: Lindemann | F25: weiblich | G25: 13450 | H25: Braunschweig | I25: 43235 | J25: Hannover | K25: =IF($B25="","",IF($G25="","",IF($I25="",DATEDIF($G25,TODAY(),"Y"),IF($I25<$G25,"",DATEDIF($G25,$I25,"Y"))))) -> 81 | L25: =IF($B25="","",IF($I25<>"","verstorben",IF($G25="","unbekannt","lebend"))) -> verstorben | M25: P-11 · Otto Lindemann | N25: P-12 · Frieda Lindemann | O25: P-17 · Friedrich Brenneke | P25: 20888 | Q25: Krankenschwester | R25: Hannover | S25: väterliche Linie | T25: =IF($B25="","",COUNTIF($Z$8:$Z$47,$B25)+COUNTIF($AA$8:$AA$47,$B25)) -> 2 | U25: Familienstammbuch | V25: =IF($B25="","",IF(OR($C25="",$D25=""),"Name unvollständig",IF(AND($G25<>"",$I25<>"",$I25<$G25),"Sterbedatum vor Geburt",IF(OR(AND($G25<>"",$G25>TODAY()),AND($I25<>"",$I25>TODAY())),"Datum in der Zukunft",IF(AND($M25<>"",$M25=$N25),"Vater und Mutter identisch",IF(OR($Z25=$B25,$AA25=$B25),"Verweis auf sich selbst",IF(AND($AD25<>"",$AD25<>"männlich"),"Vater: Geschlecht prüfen",IF(AND($AE25<>"",$AE25<>"weiblich"),"Mutter: Geschlecht prüfen",IF(IF(OR($G25="",$AB25=""),FALSE(),$G25-$AB25<5110),"Abstand zum Vater prüfen",IF(IF(OR($G25="",$AC25=""),FALSE(),$G25-$AC25<5110),"Abstand zur Mutter prüfen",IF($G25="","Geburtsdatum fehlt","OK"))))))))))) -> OK | X25: =IF($B25="","",TRIM($C25&" "&$D25&IF($E25=""," "," geb. "&$E25))) -> Ingeborg Brenneke geb. Lindemann | Y25: =IF($B25="","",$B25&" · "&TRIM($C25&" "&$D25)) -> P-18 · Ingeborg Brenneke | Z25: =IFERROR(LEFT($M25,SEARCH(" · ",$M25)-1),"") -> P-11 | AA25: =IFERROR(LEFT($N25,SEARCH(" · ",$N25)-1),"") -> P-12 | AB25: =IFERROR(IF(INDEX($G$8:$G$47,MATCH($Z25,$B$8:$B$47,0))="","",INDEX($G$8:$G$47,MATCH($Z25,$B$8:$B$47,0))),"") -> 1105 | AC25: =IFERROR(IF(INDEX($G$8:$G$47,MATCH($AA25,$B$8:$B$47,0))="","",INDEX($G$8:$G$47,MATCH($AA25,$B$8:$B$47,0))),"") -> 2833 | AD25: =IFERROR(INDEX($F$8:$F$47,MATCH($Z25,$B$8:$B$47,0)),"") -> männlich | AE25: =IFERROR(INDEX($F$8:$F$47,MATCH($AA25,$B$8:$B$47,0)),"") -> weiblich
A26: =IF($B26="","",ROW()-7) -> 19 | B26: P-19 | C26: Werner | D26: Weidner | F26: männlich | G26: 12681 | H26: Hildesheim | I26: 39820 | J26: Hildesheim | K26: =IF($B26="","",IF($G26="","",IF($I26="",DATEDIF($G26,TODAY(),"Y"),IF($I26<$G26,"",DATEDIF($G26,$I26,"Y"))))) -> 74 | L26: =IF($B26="","",IF($I26<>"","verstorben",IF($G26="","unbekannt","lebend"))) -> verstorben | M26: P-13 · Gustav Weidner | N26: P-14 · Helene Weidner | O26: P-20 · Gertrud Weidner | P26: 22787 | Q26: Werkzeugmacher | R26: Hildesheim | S26: mütterliche Linie | T26: =IF($B26="","",COUNTIF($Z$8:$Z$47,$B26)+COUNTIF($AA$8:$AA$47,$B26)) -> 2 | U26: Familienstammbuch | V26: =IF($B26="","",IF(OR($C26="",$D26=""),"Name unvollständig",IF(AND($G26<>"",$I26<>"",$I26<$G26),"Sterbedatum vor Geburt",IF(OR(AND($G26<>"",$G26>TODAY()),AND($I26<>"",$I26>TODAY())),"Datum in der Zukunft",IF(AND($M26<>"",$M26=$N26),"Vater und Mutter identisch",IF(OR($Z26=$B26,$AA26=$B26),"Verweis auf sich selbst",IF(AND($AD26<>"",$AD26<>"männlich"),"Vater: Geschlecht prüfen",IF(AND($AE26<>"",$AE26<>"weiblich"),"Mutter: Geschlecht prüfen",IF(IF(OR($G26="",$AB26=""),FALSE(),$G26-$AB26<5110),"Abstand zum Vater prüfen",IF(IF(OR($G26="",$AC26=""),FALSE(),$G26-$AC26<5110),"Abstand zur Mutter prüfen",IF($G26="","Geburtsdatum fehlt","OK"))))))))))) -> OK | X26: =IF($B26="","",TRIM($C26&" "&$D26&IF($E26=""," "," geb. "&$E26))) -> Werner Weidner | Y26: =IF($B26="","",$B26&" · "&TRIM($C26&" "&$D26)) -> P-19 · Werner Weidner | Z26: =IFERROR(LEFT($M26,SEARCH(" · ",$M26)-1),"") -> P-13 | AA26: =IFERROR(LEFT($N26,SEARCH(" · ",$N26)-1),"") -> P-14 | AB26: =IFERROR(IF(INDEX($G$8:$G$47,MATCH($Z26,$B$8:$B$47,0))="","",INDEX($G$8:$G$47,MATCH($Z26,$B$8:$B$47,0))),"") -> -35 | AC26: =IFERROR(IF(INDEX($G$8:$G$47,MATCH($AA26,$B$8:$B$47,0))="","",INDEX($G$8:$G$47,MATCH($AA26,$B$8:$B$47,0))),"") -> 1596 | AD26: =IFERROR(INDEX($F$8:$F$47,MATCH($Z26,$B$8:$B$47,0)),"") -> männlich | AE26: =IFERROR(INDEX($F$8:$F$47,MATCH($AA26,$B$8:$B$47,0)),"") -> weiblich
A27: =IF($B27="","",ROW()-7) -> 20 | B27: P-20 | C27: Gertrud | D27: Weidner | E27: Rossbach | F27: weiblich | G27: 14343 | H27: Peine | K27: =IF($B27="","",IF($G27="","",IF($I27="",DATEDIF($G27,TODAY(),"Y"),IF($I27<$G27,"",DATEDIF($G27,$I27,"Y"))))) -> 87 | L27: =IF($B27="","",IF($I27<>"","verstorben",IF($G27="","unbekannt","lebend"))) -> lebend | M27: P-15 · Albert Rossbach | N27: P-16 · Klara Rossbach | O27: P-19 · Werner Weidner | P27: 22787 | Q27: Bibliothekarin | R27: Hildesheim | S27: mütterliche Linie | T27: =IF($B27="","",COUNTIF($Z$8:$Z$47,$B27)+COUNTIF($AA$8:$AA$47,$B27)) -> 2 | U27: Interview 03/2026 | V27: =IF($B27="","",IF(OR($C27="",$D27=""),"Name unvollständig",IF(AND($G27<>"",$I27<>"",$I27<$G27),"Sterbedatum vor Geburt",IF(OR(AND($G27<>"",$G27>TODAY()),AND($I27<>"",$I27>TODAY())),"Datum in der Zukunft",IF(AND($M27<>"",$M27=$N27),"Vater und Mutter identisch",IF(OR($Z27=$B27,$AA27=$B27),"Verweis auf sich selbst",IF(AND($AD27<>"",$AD27<>"männlich"),"Vater: Geschlecht prüfen",IF(AND($AE27<>"",$AE27<>"weiblich"),"Mutter: Geschlecht prüfen",IF(IF(OR($G27="",$AB27=""),FALSE(),$G27-$AB27<5110),"Abstand zum Vater prüfen",IF(IF(OR($G27="",$AC27=""),FALSE(),$G27-$AC27<5110),"Abstand zur Mutter prüfen",IF($G27="","Geburtsdatum fehlt","OK"))))))))))) -> OK | X27: =IF($B27="","",TRIM($C27&" "&$D27&IF($E27=""," "," geb. "&$E27))) -> Gertrud Weidner geb. Rossbach | Y27: =IF($B27="","",$B27&" · "&TRIM($C27&" "&$D27)) -> P-20 · Gertrud Weidner | Z27: =IFERROR(LEFT($M27,SEARCH(" · ",$M27)-1),"") -> P-15 | AA27: =IFERROR(LEFT($N27,SEARCH(" · ",$N27)-1),"") -> P-16 | AB27: =IFERROR(IF(INDEX($G$8:$G$47,MATCH($Z27,$B$8:$B$47,0))="","",INDEX($G$8:$G$47,MATCH($Z27,$B$8:$B$47,0))),"") -> 2411 | AC27: =IFERROR(IF(INDEX($G$8:$G$47,MATCH($AA27,$B$8:$B$47,0))="","",INDEX($G$8:$G$47,MATCH($AA27,$B$8:$B$47,0))),"") -> 3686 | AD27: =IFERROR(INDEX($F$8:$F$47,MATCH($Z27,$B$8:$B$47,0)),"") -> männlich | AE27: =IFERROR(INDEX($F$8:$F$47,MATCH($AA27,$B$8:$B$47,0)),"") -> weiblich
A28: =IF($B28="","",ROW()-7) -> 21 | B28: P-21 | C28: Karl | D28: Brenneke | F28: männlich | G28: 10988 | H28: Hannover | I28: 36024 | J28: Bremen | K28: =IF($B28="","",IF($G28="","",IF($I28="",DATEDIF($G28,TODAY(),"Y"),IF($I28<$G28,"",DATEDIF($G28,$I28,"Y"))))) -> 68 | L28: =IF($B28="","",IF($I28<>"","verstorben",IF($G28="","unbekannt","lebend"))) -> verstorben | M28: P-09 · Wilhelm Brenneke | N28: P-10 · Martha Brenneke | Q28: Maschinist | R28: Bremen | S28: Seitenlinie | T28: =IF($B28="","",COUNTIF($Z$8:$Z$47,$B28)+COUNTIF($AA$8:$AA$47,$B28)) -> 0 | U28: Bruder von P-17 | V28: =IF($B28="","",IF(OR($C28="",$D28=""),"Name unvollständig",IF(AND($G28<>"",$I28<>"",$I28<$G28),"Sterbedatum vor Geburt",IF(OR(AND($G28<>"",$G28>TODAY()),AND($I28<>"",$I28>TODAY())),"Datum in der Zukunft",IF(AND($M28<>"",$M28=$N28),"Vater und Mutter identisch",IF(OR($Z28=$B28,$AA28=$B28),"Verweis auf sich selbst",IF(AND($AD28<>"",$AD28<>"männlich"),"Vater: Geschlecht prüfen",IF(AND($AE28<>"",$AE28<>"weiblich"),"Mutter: Geschlecht prüfen",IF(IF(OR($G28="",$AB28=""),FALSE(),$G28-$AB28<5110),"Abstand zum Vater prüfen",IF(IF(OR($G28="",$AC28=""),FALSE(),$G28-$AC28<5110),"Abstand zur Mutter prüfen",IF($G28="","Geburtsdatum fehlt","OK"))))))))))) -> OK | X28: =IF($B28="","",TRIM($C28&" "&$D28&IF($E28=""," "," geb. "&$E28))) -> Karl Brenneke | Y28: =IF($B28="","",$B28&" · "&TRIM($C28&" "&$D28)) -> P-21 · Karl Brenneke | Z28: =IFERROR(LEFT($M28,SEARCH(" · ",$M28)-1),"") -> P-09 | AA28: =IFERROR(LEFT($N28,SEARCH(" · ",$N28)-1),"") -> P-10 | AB28: =IFERROR(IF(INDEX($G$8:$G$47,MATCH($Z28,$B$8:$B$47,0))="","",INDEX($G$8:$G$47,MATCH($Z28,$B$8:$B$47,0))),"") -> 443 | AC28: =IFERROR(IF(INDEX($G$8:$G$47,MATCH($AA28,$B$8:$B$47,0))="","",INDEX($G$8:$G$47,MATCH($AA28,$B$8:$B$47,0))),"") -> 2030 | AD28: =IFERROR(INDEX($F$8:$F$47,MATCH($Z28,$B$8:$B$47,0)),"") -> männlich | AE28: =IFERROR(INDEX($F$8:$F$47,MATCH($AA28,$B$8:$B$47,0)),"") -> weiblich
A29: =IF($B29="","",ROW()-7) -> 22 | B29: P-22 | C29: Thomas | D29: Brenneke | F29: männlich | G29: 22317 | H29: Hannover | K29: =IF($B29="","",IF($G29="","",IF($I29="",DATEDIF($G29,TODAY(),"Y"),IF($I29<$G29,"",DATEDIF($G29,$I29,"Y"))))) -> 65 | L29: =IF($B29="","",IF($I29<>"","verstorben",IF($G29="","unbekannt","lebend"))) -> lebend | M29: P-17 · Friedrich Brenneke | N29: P-18 · Ingeborg Brenneke | O29: P-23 · Susanne Brenneke | P29: 31283 | Q29: Architekt | R29: Hannover | S29: väterliche Linie | T29: =IF($B29="","",COUNTIF($Z$8:$Z$47,$B29)+COUNTIF($AA$8:$AA$47,$B29)) -> 2 | U29: Interview 01/2026 | V29: =IF($B29="","",IF(OR($C29="",$D29=""),"Name unvollständig",IF(AND($G29<>"",$I29<>"",$I29<$G29),"Sterbedatum vor Geburt",IF(OR(AND($G29<>"",$G29>TODAY()),AND($I29<>"",$I29>TODAY())),"Datum in der Zukunft",IF(AND($M29<>"",$M29=$N29),"Vater und Mutter identisch",IF(OR($Z29=$B29,$AA29=$B29),"Verweis auf sich selbst",IF(AND($AD29<>"",$AD29<>"männlich"),"Vater: Geschlecht prüfen",IF(AND($AE29<>"",$AE29<>"weiblich"),"Mutter: Geschlecht prüfen",IF(IF(OR($G29="",$AB29=""),FALSE(),$G29-$AB29<5110),"Abstand zum Vater prüfen",IF(IF(OR($G29="",$AC29=""),FALSE(),$G29-$AC29<5110),"Abstand zur Mutter prüfen",IF($G29="","Geburtsdatum fehlt","OK"))))))))))) -> OK | X29: =IF($B29="","",TRIM($C29&" "&$D29&IF($E29=""," "," geb. "&$E29))) -> Thomas Brenneke | Y29: =IF($B29="","",$B29&" · "&TRIM($C29&" "&$D29)) -> P-22 · Thomas Brenneke | Z29: =IFERROR(LEFT($M29,SEARCH(" · ",$M29)-1),"") -> P-17 | AA29: =IFERROR(LEFT($N29,SEARCH(" · ",$N29)-1),"") -> P-18 | AB29: =IFERROR(IF(INDEX($G$8:$G$47,MATCH($Z29,$B$8:$B$47,0))="","",INDEX($G$8:$G$47,MATCH($Z29,$B$8:$B$47,0))),"") -> 11852 | AC29: =IFERROR(IF(INDEX($G$8:$G$47,MATCH($AA29,$B$8:$B$47,0))="","",INDEX($G$8:$G$47,MATCH($AA29,$B$8:$B$47,0))),"") -> 13450 | AD29: =IFERROR(INDEX($F$8:$F$47,MATCH($Z29,$B$8:$B$47,0)),"") -> männlich | AE29: =IFERROR(INDEX($F$8:$F$47,MATCH($AA29,$B$8:$B$47,0)),"") -> weiblich
A30: =IF($B30="","",ROW()-7) -> 23 | B30: P-23 | C30: Susanne | D30: Brenneke | E30: Weidner | F30: weiblich | G30: 23698 | H30: Hildesheim | K30: =IF($B30="","",IF($G30="","",IF($I30="",DATEDIF($G30,TODAY(),"Y"),IF($I30<$G30,"",DATEDIF($G30,$I30,"Y"))))) -> 61 | L30: =IF($B30="","",IF($I30<>"","verstorben",IF($G30="","unbekannt","lebend"))) -> lebend | M30: P-19 · Werner Weidner | N30: P-20 · Gertrud Weidner | O30: P-22 · Thomas Brenneke | P30: 31283 | Q30: Grundschullehrerin | R30: Hannover | S30: mütterliche Linie | T30: =IF($B30="","",COUNTIF($Z$8:$Z$47,$B30)+COUNTIF($AA$8:$AA$47,$B30)) -> 2 | U30: Interview 01/2026 | V30: =IF($B30="","",IF(OR($C30="",$D30=""),"Name unvollständig",IF(AND($G30<>"",$I30<>"",$I30<$G30),"Sterbedatum vor Geburt",IF(OR(AND($G30<>"",$G30>TODAY()),AND($I30<>"",$I30>TODAY())),"Datum in der Zukunft",IF(AND($M30<>"",$M30=$N30),"Vater und Mutter identisch",IF(OR($Z30=$B30,$AA30=$B30),"Verweis auf sich selbst",IF(AND($AD30<>"",$AD30<>"männlich"),"Vater: Geschlecht prüfen",IF(AND($AE30<>"",$AE30<>"weiblich"),"Mutter: Geschlecht prüfen",IF(IF(OR($G30="",$AB30=""),FALSE(),$G30-$AB30<5110),"Abstand zum Vater prüfen",IF(IF(OR($G30="",$AC30=""),FALSE(),$G30-$AC30<5110),"Abstand zur Mutter prüfen",IF($G30="","Geburtsdatum fehlt","OK"))))))))))) -> OK | X30: =IF($B30="","",TRIM($C30&" "&$D30&IF($E30=""," "," geb. "&$E30))) -> Susanne Brenneke geb. Weidner | Y30: =IF($B30="","",$B30&" · "&TRIM($C30&" "&$D30)) -> P-23 · Susanne Brenneke | Z30: =IFERROR(LEFT($M30,SEARCH(" · ",$M30)-1),"") -> P-19 | AA30: =IFERROR(LEFT($N30,SEARCH(" · ",$N30)-1),"") -> P-20 | AB30: =IFERROR(IF(INDEX($G$8:$G$47,MATCH($Z30,$B$8:$B$47,0))="","",INDEX($G$8:$G$47,MATCH($Z30,$B$8:$B$47,0))),"") -> 12681 | AC30: =IFERROR(IF(INDEX($G$8:$G$47,MATCH($AA30,$B$8:$B$47,0))="","",INDEX($G$8:$G$47,MATCH($AA30,$B$8:$B$47,0))),"") -> 14343 | AD30: =IFERROR(INDEX($F$8:$F$47,MATCH($Z30,$B$8:$B$47,0)),"") -> männlich | AE30: =IFERROR(INDEX($F$8:$F$47,MATCH($AA30,$B$8:$B$47,0)),"") -> weiblich
A31: =IF($B31="","",ROW()-7) -> 24 | B31: P-24 | C31: Bernd | D31: Brenneke | F31: männlich | G31: 21388 | H31: Hannover | K31: =IF($B31="","",IF($G31="","",IF($I31="",DATEDIF($G31,TODAY(),"Y"),IF($I31<$G31,"",DATEDIF($G31,$I31,"Y"))))) -> 68 | L31: =IF($B31="","",IF($I31<>"","verstorben",IF($G31="","unbekannt","lebend"))) -> lebend | M31: P-17 · Friedrich Brenneke | N31: P-18 · Ingeborg Brenneke | Q31: Elektromeister | R31: Celle | S31: Seitenlinie | T31: =IF($B31="","",COUNTIF($Z$8:$Z$47,$B31)+COUNTIF($AA$8:$AA$47,$B31)) -> 0 | U31: Bruder von P-22 | V31: =IF($B31="","",IF(OR($C31="",$D31=""),"Name unvollständig",IF(AND($G31<>"",$I31<>"",$I31<$G31),"Sterbedatum vor Geburt",IF(OR(AND($G31<>"",$G31>TODAY()),AND($I31<>"",$I31>TODAY())),"Datum in der Zukunft",IF(AND($M31<>"",$M31=$N31),"Vater und Mutter identisch",IF(OR($Z31=$B31,$AA31=$B31),"Verweis auf sich selbst",IF(AND($AD31<>"",$AD31<>"männlich"),"Vater: Geschlecht prüfen",IF(AND($AE31<>"",$AE31<>"weiblich"),"Mutter: Geschlecht prüfen",IF(IF(OR($G31="",$AB31=""),FALSE(),$G31-$AB31<5110),"Abstand zum Vater prüfen",IF(IF(OR($G31="",$AC31=""),FALSE(),$G31-$AC31<5110),"Abstand zur Mutter prüfen",IF($G31="","Geburtsdatum fehlt","OK"))))))))))) -> OK | X31: =IF($B31="","",TRIM($C31&" "&$D31&IF($E31=""," "," geb. "&$E31))) -> Bernd Brenneke | Y31: =IF($B31="","",$B31&" · "&TRIM($C31&" "&$D31)) -> P-24 · Bernd Brenneke | Z31: =IFERROR(LEFT($M31,SEARCH(" · ",$M31)-1),"") -> P-17 | AA31: =IFERROR(LEFT($N31,SEARCH(" · ",$N31)-1),"") -> P-18 | AB31: =IFERROR(IF(INDEX($G$8:$G$47,MATCH($Z31,$B$8:$B$47,0))="","",INDEX($G$8:$G$47,MATCH($Z31,$B$8:$B$47,0))),"") -> 11852 | AC31: =IFERROR(IF(INDEX($G$8:$G$47,MATCH($AA31,$B$8:$B$47,0))="","",INDEX($G$8:$G$47,MATCH($AA31,$B$8:$B$47,0))),"") -> 13450 | AD31: =IFERROR(INDEX($F$8:$F$47,MATCH($Z31,$B$8:$B$47,0)),"") -> männlich | AE31: =IFERROR(INDEX($F$8:$F$47,MATCH($AA31,$B$8:$B$47,0)),"") -> weiblich
A32: =IF($B32="","",ROW()-7) -> 25 | B32: P-25 | C32: Christine | D32: Hartwig | E32: Weidner | F32: weiblich | G32: 24175 | H32: Hildesheim | K32: =IF($B32="","",IF($G32="","",IF($I32="",DATEDIF($G32,TODAY(),"Y"),IF($I32<$G32,"",DATEDIF($G32,$I32,"Y"))))) -> 60 | L32: =IF($B32="","",IF($I32<>"","verstorben",IF($G32="","unbekannt","lebend"))) -> lebend | M32: P-19 · Werner Weidner | N32: P-20 · Gertrud Weidner | Q32: Apothekerin | R32: Braunschweig | S32: Seitenlinie | T32: =IF($B32="","",COUNTIF($Z$8:$Z$47,$B32)+COUNTIF($AA$8:$AA$47,$B32)) -> 0 | U32: Schwester von P-23 | V32: =IF($B32="","",IF(OR($C32="",$D32=""),"Name unvollständig",IF(AND($G32<>"",$I32<>"",$I32<$G32),"Sterbedatum vor Geburt",IF(OR(AND($G32<>"",$G32>TODAY()),AND($I32<>"",$I32>TODAY())),"Datum in der Zukunft",IF(AND($M32<>"",$M32=$N32),"Vater und Mutter identisch",IF(OR($Z32=$B32,$AA32=$B32),"Verweis auf sich selbst",IF(AND($AD32<>"",$AD32<>"männlich"),"Vater: Geschlecht prüfen",IF(AND($AE32<>"",$AE32<>"weiblich"),"Mutter: Geschlecht prüfen",IF(IF(OR($G32="",$AB32=""),FALSE(),$G32-$AB32<5110),"Abstand zum Vater prüfen",IF(IF(OR($G32="",$AC32=""),FALSE(),$G32-$AC32<5110),"Abstand zur Mutter prüfen",IF($G32="","Geburtsdatum fehlt","OK"))))))))))) -> OK | X32: =IF($B32="","",TRIM($C32&" "&$D32&IF($E32=""," "," geb. "&$E32))) -> Christine Hartwig geb. Weidner | Y32: =IF($B32="","",$B32&" · "&TRIM($C32&" "&$D32)) -> P-25 · Christine Hartwig | Z32: =IFERROR(LEFT($M32,SEARCH(" · ",$M32)-1),"") -> P-19 | AA32: =IFERROR(LEFT($N32,SEARCH(" · ",$N32)-1),"") -> P-20 | AB32: =IFERROR(IF(INDEX($G$8:$G$47,MATCH($Z32,$B$8:$B$47,0))="","",INDEX($G$8:$G$47,MATCH($Z32,$B$8:$B$47,0))),"") -> 12681 | AC32: =IFERROR(IF(INDEX($G$8:$G$47,MATCH($AA32,$B$8:$B$47,0))="","",INDEX($G$8:$G$47,MATCH($AA32,$B$8:$B$47,0))),"") -> 14343 | AD32: =IFERROR(INDEX($F$8:$F$47,MATCH($Z32,$B$8:$B$47,0)),"") -> männlich | AE32: =IFERROR(INDEX($F$8:$F$47,MATCH($AA32,$B$8:$B$47,0)),"") -> weiblich
A33: =IF($B33="","",ROW()-7) -> 26 | B33: P-26 | C33: Lukas | D33: Brenneke | F33: männlich | G33: 32216 | H33: Hannover | K33: =IF($B33="","",IF($G33="","",IF($I33="",DATEDIF($G33,TODAY(),"Y"),IF($I33<$G33,"",DATEDIF($G33,$I33,"Y"))))) -> 38 | L33: =IF($B33="","",IF($I33<>"","verstorben",IF($G33="","unbekannt","lebend"))) -> lebend | M33: P-22 · Thomas Brenneke | N33: P-23 · Susanne Brenneke | O33: P-27 · Nadine Brenneke | P33: 41461 | Q33: Softwareentwickler | R33: Hamburg | S33: Proband | T33: =IF($B33="","",COUNTIF($Z$8:$Z$47,$B33)+COUNTIF($AA$8:$AA$47,$B33)) -> 2 | U33: Ausgangsperson dieser Tafel | V33: =IF($B33="","",IF(OR($C33="",$D33=""),"Name unvollständig",IF(AND($G33<>"",$I33<>"",$I33<$G33),"Sterbedatum vor Geburt",IF(OR(AND($G33<>"",$G33>TODAY()),AND($I33<>"",$I33>TODAY())),"Datum in der Zukunft",IF(AND($M33<>"",$M33=$N33),"Vater und Mutter identisch",IF(OR($Z33=$B33,$AA33=$B33),"Verweis auf sich selbst",IF(AND($AD33<>"",$AD33<>"männlich"),"Vater: Geschlecht prüfen",IF(AND($AE33<>"",$AE33<>"weiblich"),"Mutter: Geschlecht prüfen",IF(IF(OR($G33="",$AB33=""),FALSE(),$G33-$AB33<5110),"Abstand zum Vater prüfen",IF(IF(OR($G33="",$AC33=""),FALSE(),$G33-$AC33<5110),"Abstand zur Mutter prüfen",IF($G33="","Geburtsdatum fehlt","OK"))))))))))) -> OK | X33: =IF($B33="","",TRIM($C33&" "&$D33&IF($E33=""," "," geb. "&$E33))) -> Lukas Brenneke | Y33: =IF($B33="","",$B33&" · "&TRIM($C33&" "&$D33)) -> P-26 · Lukas Brenneke | Z33: =IFERROR(LEFT($M33,SEARCH(" · ",$M33)-1),"") -> P-22 | AA33: =IFERROR(LEFT($N33,SEARCH(" · ",$N33)-1),"") -> P-23 | AB33: =IFERROR(IF(INDEX($G$8:$G$47,MATCH($Z33,$B$8:$B$47,0))="","",INDEX($G$8:$G$47,MATCH($Z33,$B$8:$B$47,0))),"") -> 22317 | AC33: =IFERROR(IF(INDEX($G$8:$G$47,MATCH($AA33,$B$8:$B$47,0))="","",INDEX($G$8:$G$47,MATCH($AA33,$B$8:$B$47,0))),"") -> 23698 | AD33: =IFERROR(INDEX($F$8:$F$47,MATCH($Z33,$B$8:$B$47,0)),"") -> männlich | AE33: =IFERROR(INDEX($F$8:$F$47,MATCH($AA33,$B$8:$B$47,0)),"") -> weiblich
A34: =IF($B34="","",ROW()-7) -> 27 | B34: P-27 | C34: Nadine | D34: Brenneke | E34: Ehlert | F34: weiblich | G34: 33145 | H34: Lüneburg | K34: =IF($B34="","",IF($G34="","",IF($I34="",DATEDIF($G34,TODAY(),"Y"),IF($I34<$G34,"",DATEDIF($G34,$I34,"Y"))))) -> 35 | L34: =IF($B34="","",IF($I34<>"","verstorben",IF($G34="","unbekannt","lebend"))) -> lebend | O34: P-26 · Lukas Brenneke | P34: 41461 | Q34: Physiotherapeutin | R34: Hamburg | S34: angeheiratet | T34: =IF($B34="","",COUNTIF($Z$8:$Z$47,$B34)+COUNTIF($AA$8:$AA$47,$B34)) -> 2 | U34: Herkunftsfamilie offen | V34: =IF($B34="","",IF(OR($C34="",$D34=""),"Name unvollständig",IF(AND($G34<>"",$I34<>"",$I34<$G34),"Sterbedatum vor Geburt",IF(OR(AND($G34<>"",$G34>TODAY()),AND($I34<>"",$I34>TODAY())),"Datum in der Zukunft",IF(AND($M34<>"",$M34=$N34),"Vater und Mutter identisch",IF(OR($Z34=$B34,$AA34=$B34),"Verweis auf sich selbst",IF(AND($AD34<>"",$AD34<>"männlich"),"Vater: Geschlecht prüfen",IF(AND($AE34<>"",$AE34<>"weiblich"),"Mutter: Geschlecht prüfen",IF(IF(OR($G34="",$AB34=""),FALSE(),$G34-$AB34<5110),"Abstand zum Vater prüfen",IF(IF(OR($G34="",$AC34=""),FALSE(),$G34-$AC34<5110),"Abstand zur Mutter prüfen",IF($G34="","Geburtsdatum fehlt","OK"))))))))))) -> OK | X34: =IF($B34="","",TRIM($C34&" "&$D34&IF($E34=""," "," geb. "&$E34))) -> Nadine Brenneke geb. Ehlert | Y34: =IF($B34="","",$B34&" · "&TRIM($C34&" "&$D34)) -> P-27 · Nadine Brenneke | Z34: =IFERROR(LEFT($M34,SEARCH(" · ",$M34)-1),"") | AA34: =IFERROR(LEFT($N34,SEARCH(" · ",$N34)-1),"") | AB34: =IFERROR(IF(INDEX($G$8:$G$47,MATCH($Z34,$B$8:$B$47,0))="","",INDEX($G$8:$G$47,MATCH($Z34,$B$8:$B$47,0))),"") | AC34: =IFERROR(IF(INDEX($G$8:$G$47,MATCH($AA34,$B$8:$B$47,0))="","",INDEX($G$8:$G$47,MATCH($AA34,$B$8:$B$47,0))),"") | AD34: =IFERROR(INDEX($F$8:$F$47,MATCH($Z34,$B$8:$B$47,0)),"") | AE34: =IFERROR(INDEX($F$8:$F$47,MATCH($AA34,$B$8:$B$47,0)),"")
A35: =IF($B35="","",ROW()-7) -> 28 | B35: P-28 | C35: Katharina | D35: Vogt | E35: Brenneke | F35: weiblich | G35: 33574 | H35: Hannover | K35: =IF($B35="","",IF($G35="","",IF($I35="",DATEDIF($G35,TODAY(),"Y"),IF($I35<$G35,"",DATEDIF($G35,$I35,"Y"))))) -> 34 | L35: =IF($B35="","",IF($I35<>"","verstorben",IF($G35="","unbekannt","lebend"))) -> lebend | M35: P-22 · Thomas Brenneke | N35: P-23 · Susanne Brenneke | O35: P-29 · Daniel Vogt | P35: 43238 | Q35: Mediendesignerin | R35: Leipzig | S35: Seitenlinie | T35: =IF($B35="","",COUNTIF($Z$8:$Z$47,$B35)+COUNTIF($AA$8:$AA$47,$B35)) -> 1 | U35: Schwester von P-26 | V35: =IF($B35="","",IF(OR($C35="",$D35=""),"Name unvollständig",IF(AND($G35<>"",$I35<>"",$I35<$G35),"Sterbedatum vor Geburt",IF(OR(AND($G35<>"",$G35>TODAY()),AND($I35<>"",$I35>TODAY())),"Datum in der Zukunft",IF(AND($M35<>"",$M35=$N35),"Vater und Mutter identisch",IF(OR($Z35=$B35,$AA35=$B35),"Verweis auf sich selbst",IF(AND($AD35<>"",$AD35<>"männlich"),"Vater: Geschlecht prüfen",IF(AND($AE35<>"",$AE35<>"weiblich"),"Mutter: Geschlecht prüfen",IF(IF(OR($G35="",$AB35=""),FALSE(),$G35-$AB35<5110),"Abstand zum Vater prüfen",IF(IF(OR($G35="",$AC35=""),FALSE(),$G35-$AC35<5110),"Abstand zur Mutter prüfen",IF($G35="","Geburtsdatum fehlt","OK"))))))))))) -> OK | X35: =IF($B35="","",TRIM($C35&" "&$D35&IF($E35=""," "," geb. "&$E35))) -> Katharina Vogt geb. Brenneke | Y35: =IF($B35="","",$B35&" · "&TRIM($C35&" "&$D35)) -> P-28 · Katharina Vogt | Z35: =IFERROR(LEFT($M35,SEARCH(" · ",$M35)-1),"") -> P-22 | AA35: =IFERROR(LEFT($N35,SEARCH(" · ",$N35)-1),"") -> P-23 | AB35: =IFERROR(IF(INDEX($G$8:$G$47,MATCH($Z35,$B$8:$B$47,0))="","",INDEX($G$8:$G$47,MATCH($Z35,$B$8:$B$47,0))),"") -> 22317 | AC35: =IFERROR(IF(INDEX($G$8:$G$47,MATCH($AA35,$B$8:$B$47,0))="","",INDEX($G$8:$G$47,MATCH($AA35,$B$8:$B$47,0))),"") -> 23698 | AD35: =IFERROR(INDEX($F$8:$F$47,MATCH($Z35,$B$8:$B$47,0)),"") -> männlich | AE35: =IFERROR(INDEX($F$8:$F$47,MATCH($AA35,$B$8:$B$47,0)),"") -> weiblich
A36: =IF($B36="","",ROW()-7) -> 29 | B36: P-29 | C36: Daniel | D36: Vogt | F36: männlich | G36: 32670 | H36: Leipzig | K36: =IF($B36="","",IF($G36="","",IF($I36="",DATEDIF($G36,TODAY(),"Y"),IF($I36<$G36,"",DATEDIF($G36,$I36,"Y"))))) -> 37 | L36: =IF($B36="","",IF($I36<>"","verstorben",IF($G36="","unbekannt","lebend"))) -> lebend | O36: P-28 · Katharina Vogt | P36: 43238 | Q36: Logistikleiter | R36: Leipzig | S36: angeheiratet | T36: =IF($B36="","",COUNTIF($Z$8:$Z$47,$B36)+COUNTIF($AA$8:$AA$47,$B36)) -> 1 | U36: Herkunftsfamilie offen | V36: =IF($B36="","",IF(OR($C36="",$D36=""),"Name unvollständig",IF(AND($G36<>"",$I36<>"",$I36<$G36),"Sterbedatum vor Geburt",IF(OR(AND($G36<>"",$G36>TODAY()),AND($I36<>"",$I36>TODAY())),"Datum in der Zukunft",IF(AND($M36<>"",$M36=$N36),"Vater und Mutter identisch",IF(OR($Z36=$B36,$AA36=$B36),"Verweis auf sich selbst",IF(AND($AD36<>"",$AD36<>"männlich"),"Vater: Geschlecht prüfen",IF(AND($AE36<>"",$AE36<>"weiblich"),"Mutter: Geschlecht prüfen",IF(IF(OR($G36="",$AB36=""),FALSE(),$G36-$AB36<5110),"Abstand zum Vater prüfen",IF(IF(OR($G36="",$AC36=""),FALSE(),$G36-$AC36<5110),"Abstand zur Mutter prüfen",IF($G36="","Geburtsdatum fehlt","OK"))))))))))) -> OK | X36: =IF($B36="","",TRIM($C36&" "&$D36&IF($E36=""," "," geb. "&$E36))) -> Daniel Vogt | Y36: =IF($B36="","",$B36&" · "&TRIM($C36&" "&$D36)) -> P-29 · Daniel Vogt | Z36: =IFERROR(LEFT($M36,SEARCH(" · ",$M36)-1),"") | AA36: =IFERROR(LEFT($N36,SEARCH(" · ",$N36)-1),"") | AB36: =IFERROR(IF(INDEX($G$8:$G$47,MATCH($Z36,$B$8:$B$47,0))="","",INDEX($G$8:$G$47,MATCH($Z36,$B$8:$B$47,0))),"") | AC36: =IFERROR(IF(INDEX($G$8:$G$47,MATCH($AA36,$B$8:$B$47,0))="","",INDEX($G$8:$G$47,MATCH($AA36,$B$8:$B$47,0))),"") | AD36: =IFERROR(INDEX($F$8:$F$47,MATCH($Z36,$B$8:$B$47,0)),"") | AE36: =IFERROR(INDEX($F$8:$F$47,MATCH($AA36,$B$8:$B$47,0)),"")
A37: =IF($B37="","",ROW()-7) -> 30 | B37: P-30 | C37: Jonas | D37: Brenneke | F37: männlich | G37: 42481 | H37: Hamburg | K37: =IF($B37="","",IF($G37="","",IF($I37="",DATEDIF($G37,TODAY(),"Y"),IF($I37<$G37,"",DATEDIF($G37,$I37,"Y"))))) -> 10 | L37: =IF($B37="","",IF($I37<>"","verstorben",IF($G37="","unbekannt","lebend"))) -> lebend | M37: P-26 · Lukas Brenneke | N37: P-27 · Nadine Brenneke | Q37: Schüler | R37: Hamburg | S37: Nachkommen | T37: =IF($B37="","",COUNTIF($Z$8:$Z$47,$B37)+COUNTIF($AA$8:$AA$47,$B37)) -> 0 | V37: =IF($B37="","",IF(OR($C37="",$D37=""),"Name unvollständig",IF(AND($G37<>"",$I37<>"",$I37<$G37),"Sterbedatum vor Geburt",IF(OR(AND($G37<>"",$G37>TODAY()),AND($I37<>"",$I37>TODAY())),"Datum in der Zukunft",IF(AND($M37<>"",$M37=$N37),"Vater und Mutter identisch",IF(OR($Z37=$B37,$AA37=$B37),"Verweis auf sich selbst",IF(AND($AD37<>"",$AD37<>"männlich"),"Vater: Geschlecht prüfen",IF(AND($AE37<>"",$AE37<>"weiblich"),"Mutter: Geschlecht prüfen",IF(IF(OR($G37="",$AB37=""),FALSE(),$G37-$AB37<5110),"Abstand zum Vater prüfen",IF(IF(OR($G37="",$AC37=""),FALSE(),$G37-$AC37<5110),"Abstand zur Mutter prüfen",IF($G37="","Geburtsdatum fehlt","OK"))))))))))) -> OK | X37: =IF($B37="","",TRIM($C37&" "&$D37&IF($E37=""," "," geb. "&$E37))) -> Jonas Brenneke | Y37: =IF($B37="","",$B37&" · "&TRIM($C37&" "&$D37)) -> P-30 · Jonas Brenneke | Z37: =IFERROR(LEFT($M37,SEARCH(" · ",$M37)-1),"") -> P-26 | AA37: =IFERROR(LEFT($N37,SEARCH(" · ",$N37)-1),"") -> P-27 | AB37: =IFERROR(IF(INDEX($G$8:$G$47,MATCH($Z37,$B$8:$B$47,0))="","",INDEX($G$8:$G$47,MATCH($Z37,$B$8:$B$47,0))),"") -> 32216 | AC37: =IFERROR(IF(INDEX($G$8:$G$47,MATCH($AA37,$B$8:$B$47,0))="","",INDEX($G$8:$G$47,MATCH($AA37,$B$8:$B$47,0))),"") -> 33145 | AD37: =IFERROR(INDEX($F$8:$F$47,MATCH($Z37,$B$8:$B$47,0)),"") -> männlich | AE37: =IFERROR(INDEX($F$8:$F$47,MATCH($AA37,$B$8:$B$47,0)),"") -> weiblich
A38: =IF($B38="","",ROW()-7) -> 31 | B38: P-31 | C38: Mia | D38: Brenneke | F38: weiblich | G38: 43690 | H38: Hamburg | K38: =IF($B38="","",IF($G38="","",IF($I38="",DATEDIF($G38,TODAY(),"Y"),IF($I38<$G38,"",DATEDIF($G38,$I38,"Y"))))) -> 6 | L38: =IF($B38="","",IF($I38<>"","verstorben",IF($G38="","unbekannt","lebend"))) -> lebend | M38: P-26 · Lukas Brenneke | N38: P-27 · Nadine Brenneke | R38: Hamburg | S38: Nachkommen | T38: =IF($B38="","",COUNTIF($Z$8:$Z$47,$B38)+COUNTIF($AA$8:$AA$47,$B38)) -> 0 | V38: =IF($B38="","",IF(OR($C38="",$D38=""),"Name unvollständig",IF(AND($G38<>"",$I38<>"",$I38<$G38),"Sterbedatum vor Geburt",IF(OR(AND($G38<>"",$G38>TODAY()),AND($I38<>"",$I38>TODAY())),"Datum in der Zukunft",IF(AND($M38<>"",$M38=$N38),"Vater und Mutter identisch",IF(OR($Z38=$B38,$AA38=$B38),"Verweis auf sich selbst",IF(AND($AD38<>"",$AD38<>"männlich"),"Vater: Geschlecht prüfen",IF(AND($AE38<>"",$AE38<>"weiblich"),"Mutter: Geschlecht prüfen",IF(IF(OR($G38="",$AB38=""),FALSE(),$G38-$AB38<5110),"Abstand zum Vater prüfen",IF(IF(OR($G38="",$AC38=""),FALSE(),$G38-$AC38<5110),"Abstand zur Mutter prüfen",IF($G38="","Geburtsdatum fehlt","OK"))))))))))) -> OK | X38: =IF($B38="","",TRIM($C38&" "&$D38&IF($E38=""," "," geb. "&$E38))) -> Mia Brenneke | Y38: =IF($B38="","",$B38&" · "&TRIM($C38&" "&$D38)) -> P-31 · Mia Brenneke | Z38: =IFERROR(LEFT($M38,SEARCH(" · ",$M38)-1),"") -> P-26 | AA38: =IFERROR(LEFT($N38,SEARCH(" · ",$N38)-1),"") -> P-27 | AB38: =IFERROR(IF(INDEX($G$8:$G$47,MATCH($Z38,$B$8:$B$47,0))="","",INDEX($G$8:$G$47,MATCH($Z38,$B$8:$B$47,0))),"") -> 32216 | AC38: =IFERROR(IF(INDEX($G$8:$G$47,MATCH($AA38,$B$8:$B$47,0))="","",INDEX($G$8:$G$47,MATCH($AA38,$B$8:$B$47,0))),"") -> 33145 | AD38: =IFERROR(INDEX($F$8:$F$47,MATCH($Z38,$B$8:$B$47,0)),"") -> männlich | AE38: =IFERROR(INDEX($F$8:$F$47,MATCH($AA38,$B$8:$B$47,0)),"") -> weiblich
A39: =IF($B39="","",ROW()-7) -> 32 | B39: P-32 | C39: Emil | D39: Vogt | F39: männlich | G39: 44234 | H39: Leipzig | K39: =IF($B39="","",IF($G39="","",IF($I39="",DATEDIF($G39,TODAY(),"Y"),IF($I39<$G39,"",DATEDIF($G39,$I39,"Y"))))) -> 5 | L39: =IF($B39="","",IF($I39<>"","verstorben",IF($G39="","unbekannt","lebend"))) -> lebend | M39: P-29 · Daniel Vogt | N39: P-28 · Katharina Vogt | R39: Leipzig | S39: Nachkommen | T39: =IF($B39="","",COUNTIF($Z$8:$Z$47,$B39)+COUNTIF($AA$8:$AA$47,$B39)) -> 0 | V39: =IF($B39="","",IF(OR($C39="",$D39=""),"Name unvollständig",IF(AND($G39<>"",$I39<>"",$I39<$G39),"Sterbedatum vor Geburt",IF(OR(AND($G39<>"",$G39>TODAY()),AND($I39<>"",$I39>TODAY())),"Datum in der Zukunft",IF(AND($M39<>"",$M39=$N39),"Vater und Mutter identisch",IF(OR($Z39=$B39,$AA39=$B39),"Verweis auf sich selbst",IF(AND($AD39<>"",$AD39<>"männlich"),"Vater: Geschlecht prüfen",IF(AND($AE39<>"",$AE39<>"weiblich"),"Mutter: Geschlecht prüfen",IF(IF(OR($G39="",$AB39=""),FALSE(),$G39-$AB39<5110),"Abstand zum Vater prüfen",IF(IF(OR($G39="",$AC39=""),FALSE(),$G39-$AC39<5110),"Abstand zur Mutter prüfen",IF($G39="","Geburtsdatum fehlt","OK"))))))))))) -> OK | X39: =IF($B39="","",TRIM($C39&" "&$D39&IF($E39=""," "," geb. "&$E39))) -> Emil Vogt | Y39: =IF($B39="","",$B39&" · "&TRIM($C39&" "&$D39)) -> P-32 · Emil Vogt | Z39: =IFERROR(LEFT($M39,SEARCH(" · ",$M39)-1),"") -> P-29 | AA39: =IFERROR(LEFT($N39,SEARCH(" · ",$N39)-1),"") -> P-28 | AB39: =IFERROR(IF(INDEX($G$8:$G$47,MATCH($Z39,$B$8:$B$47,0))="","",INDEX($G$8:$G$47,MATCH($Z39,$B$8:$B$47,0))),"") -> 32670 | AC39: =IFERROR(IF(INDEX($G$8:$G$47,MATCH($AA39,$B$8:$B$47,0))="","",INDEX($G$8:$G$47,MATCH($AA39,$B$8:$B$47,0))),"") -> 33574 | AD39: =IFERROR(INDEX($F$8:$F$47,MATCH($Z39,$B$8:$B$47,0)),"") -> männlich | AE39: =IFERROR(INDEX($F$8:$F$47,MATCH($AA39,$B$8:$B$47,0)),"") -> weiblich
A40: =IF($B40="","",ROW()-7) | K40: =IF($B40="","",IF($G40="","",IF($I40="",DATEDIF($G40,TODAY(),"Y"),IF($I40<$G40,"",DATEDIF($G40,$I40,"Y"))))) | L40: =IF($B40="","",IF($I40<>"","verstorben",IF($G40="","unbekannt","lebend"))) | T40: =IF($B40="","",COUNTIF($Z$8:$Z$47,$B40)+COUNTIF($AA$8:$AA$47,$B40)) | V40: =IF($B40="","",IF(OR($C40="",$D40=""),"Name unvollständig",IF(AND($G40<>"",$I40<>"",$I40<$G40),"Sterbedatum vor Geburt",IF(OR(AND($G40<>"",$G40>TODAY()),AND($I40<>"",$I40>TODAY())),"Datum in der Zukunft",IF(AND($M40<>"",$M40=$N40),"Vater und Mutter identisch",IF(OR($Z40=$B40,$AA40=$B40),"Verweis auf sich selbst",IF(AND($AD40<>"",$AD40<>"männlich"),"Vater: Geschlecht prüfen",IF(AND($AE40<>"",$AE40<>"weiblich"),"Mutter: Geschlecht prüfen",IF(IF(OR($G40="",$AB40=""),FALSE(),$G40-$AB40<5110),"Abstand zum Vater prüfen",IF(IF(OR($G40="",$AC40=""),FALSE(),$G40-$AC40<5110),"Abstand zur Mutter prüfen",IF($G40="","Geburtsdatum fehlt","OK"))))))))))) | X40: =IF($B40="","",TRIM($C40&" "&$D40&IF($E40=""," "," geb. "&$E40))) | Y40: =IF($B40="","",$B40&" · "&TRIM($C40&" "&$D40)) | Z40: =IFERROR(LEFT($M40,SEARCH(" · ",$M40)-1),"") | AA40: =IFERROR(LEFT($N40,SEARCH(" · ",$N40)-1),"") | AB40: =IFERROR(IF(INDEX($G$8:$G$47,MATCH($Z40,$B$8:$B$47,0))="","",INDEX($G$8:$G$47,MATCH($Z40,$B$8:$B$47,0))),"") | AC40: =IFERROR(IF(INDEX($G$8:$G$47,MATCH($AA40,$B$8:$B$47,0))="","",INDEX($G$8:$G$47,MATCH($AA40,$B$8:$B$47,0))),"") | AD40: =IFERROR(INDEX($F$8:$F$47,MATCH($Z40,$B$8:$B$47,0)),"") | AE40: =IFERROR(INDEX($F$8:$F$47,MATCH($AA40,$B$8:$B$47,0)),"")
A41: =IF($B41="","",ROW()-7) | K41: =IF($B41="","",IF($G41="","",IF($I41="",DATEDIF($G41,TODAY(),"Y"),IF($I41<$G41,"",DATEDIF($G41,$I41,"Y"))))) | L41: =IF($B41="","",IF($I41<>"","verstorben",IF($G41="","unbekannt","lebend"))) | T41: =IF($B41="","",COUNTIF($Z$8:$Z$47,$B41)+COUNTIF($AA$8:$AA$47,$B41)) | V41: =IF($B41="","",IF(OR($C41="",$D41=""),"Name unvollständig",IF(AND($G41<>"",$I41<>"",$I41<$G41),"Sterbedatum vor Geburt",IF(OR(AND($G41<>"",$G41>TODAY()),AND($I41<>"",$I41>TODAY())),"Datum in der Zukunft",IF(AND($M41<>"",$M41=$N41),"Vater und Mutter identisch",IF(OR($Z41=$B41,$AA41=$B41),"Verweis auf sich selbst",IF(AND($AD41<>"",$AD41<>"männlich"),"Vater: Geschlecht prüfen",IF(AND($AE41<>"",$AE41<>"weiblich"),"Mutter: Geschlecht prüfen",IF(IF(OR($G41="",$AB41=""),FALSE(),$G41-$AB41<5110),"Abstand zum Vater prüfen",IF(IF(OR($G41="",$AC41=""),FALSE(),$G41-$AC41<5110),"Abstand zur Mutter prüfen",IF($G41="","Geburtsdatum fehlt","OK"))))))))))) | X41: =IF($B41="","",TRIM($C41&" "&$D41&IF($E41=""," "," geb. "&$E41))) | Y41: =IF($B41="","",$B41&" · "&TRIM($C41&" "&$D41)) | Z41: =IFERROR(LEFT($M41,SEARCH(" · ",$M41)-1),"") | AA41: =IFERROR(LEFT($N41,SEARCH(" · ",$N41)-1),"") | AB41: =IFERROR(IF(INDEX($G$8:$G$47,MATCH($Z41,$B$8:$B$47,0))="","",INDEX($G$8:$G$47,MATCH($Z41,$B$8:$B$47,0))),"") | AC41: =IFERROR(IF(INDEX($G$8:$G$47,MATCH($AA41,$B$8:$B$47,0))="","",INDEX($G$8:$G$47,MATCH($AA41,$B$8:$B$47,0))),"") | AD41: =IFERROR(INDEX($F$8:$F$47,MATCH($Z41,$B$8:$B$47,0)),"") | AE41: =IFERROR(INDEX($F$8:$F$47,MATCH($AA41,$B$8:$B$47,0)),"")
A42: =IF($B42="","",ROW()-7) | K42: =IF($B42="","",IF($G42="","",IF($I42="",DATEDIF($G42,TODAY(),"Y"),IF($I42<$G42,"",DATEDIF($G42,$I42,"Y"))))) | L42: =IF($B42="","",IF($I42<>"","verstorben",IF($G42="","unbekannt","lebend"))) | T42: =IF($B42="","",COUNTIF($Z$8:$Z$47,$B42)+COUNTIF($AA$8:$AA$47,$B42)) | V42: =IF($B42="","",IF(OR($C42="",$D42=""),"Name unvollständig",IF(AND($G42<>"",$I42<>"",$I42<$G42),"Sterbedatum vor Geburt",IF(OR(AND($G42<>"",$G42>TODAY()),AND($I42<>"",$I42>TODAY())),"Datum in der Zukunft",IF(AND($M42<>"",$M42=$N42),"Vater und Mutter identisch",IF(OR($Z42=$B42,$AA42=$B42),"Verweis auf sich selbst",IF(AND($AD42<>"",$AD42<>"männlich"),"Vater: Geschlecht prüfen",IF(AND($AE42<>"",$AE42<>"weiblich"),"Mutter: Geschlecht prüfen",IF(IF(OR($G42="",$AB42=""),FALSE(),$G42-$AB42<5110),"Abstand zum Vater prüfen",IF(IF(OR($G42="",$AC42=""),FALSE(),$G42-$AC42<5110),"Abstand zur Mutter prüfen",IF($G42="","Geburtsdatum fehlt","OK"))))))))))) | X42: =IF($B42="","",TRIM($C42&" "&$D42&IF($E42=""," "," geb. "&$E42))) | Y42: =IF($B42="","",$B42&" · "&TRIM($C42&" "&$D42)) | Z42: =IFERROR(LEFT($M42,SEARCH(" · ",$M42)-1),"") | AA42: =IFERROR(LEFT($N42,SEARCH(" · ",$N42)-1),"") | AB42: =IFERROR(IF(INDEX($G$8:$G$47,MATCH($Z42,$B$8:$B$47,0))="","",INDEX($G$8:$G$47,MATCH($Z42,$B$8:$B$47,0))),"") | AC42: =IFERROR(IF(INDEX($G$8:$G$47,MATCH($AA42,$B$8:$B$47,0))="","",INDEX($G$8:$G$47,MATCH($AA42,$B$8:$B$47,0))),"") | AD42: =IFERROR(INDEX($F$8:$F$47,MATCH($Z42,$B$8:$B$47,0)),"") | AE42: =IFERROR(INDEX($F$8:$F$47,MATCH($AA42,$B$8:$B$47,0)),"")
A43: =IF($B43="","",ROW()-7) | K43: =IF($B43="","",IF($G43="","",IF($I43="",DATEDIF($G43,TODAY(),"Y"),IF($I43<$G43,"",DATEDIF($G43,$I43,"Y"))))) | L43: =IF($B43="","",IF($I43<>"","verstorben",IF($G43="","unbekannt","lebend"))) | T43: =IF($B43="","",COUNTIF($Z$8:$Z$47,$B43)+COUNTIF($AA$8:$AA$47,$B43)) | V43: =IF($B43="","",IF(OR($C43="",$D43=""),"Name unvollständig",IF(AND($G43<>"",$I43<>"",$I43<$G43),"Sterbedatum vor Geburt",IF(OR(AND($G43<>"",$G43>TODAY()),AND($I43<>"",$I43>TODAY())),"Datum in der Zukunft",IF(AND($M43<>"",$M43=$N43),"Vater und Mutter identisch",IF(OR($Z43=$B43,$AA43=$B43),"Verweis auf sich selbst",IF(AND($AD43<>"",$AD43<>"männlich"),"Vater: Geschlecht prüfen",IF(AND($AE43<>"",$AE43<>"weiblich"),"Mutter: Geschlecht prüfen",IF(IF(OR($G43="",$AB43=""),FALSE(),$G43-$AB43<5110),"Abstand zum Vater prüfen",IF(IF(OR($G43="",$AC43=""),FALSE(),$G43-$AC43<5110),"Abstand zur Mutter prüfen",IF($G43="","Geburtsdatum fehlt","OK"))))))))))) | X43: =IF($B43="","",TRIM($C43&" "&$D43&IF($E43=""," "," geb. "&$E43))) | Y43: =IF($B43="","",$B43&" · "&TRIM($C43&" "&$D43)) | Z43: =IFERROR(LEFT($M43,SEARCH(" · ",$M43)-1),"") | AA43: =IFERROR(LEFT($N43,SEARCH(" · ",$N43)-1),"") | AB43: =IFERROR(IF(INDEX($G$8:$G$47,MATCH($Z43,$B$8:$B$47,0))="","",INDEX($G$8:$G$47,MATCH($Z43,$B$8:$B$47,0))),"") | AC43: =IFERROR(IF(INDEX($G$8:$G$47,MATCH($AA43,$B$8:$B$47,0))="","",INDEX($G$8:$G$47,MATCH($AA43,$B$8:$B$47,0))),"") | AD43: =IFERROR(INDEX($F$8:$F$47,MATCH($Z43,$B$8:$B$47,0)),"") | AE43: =IFERROR(INDEX($F$8:$F$47,MATCH($AA43,$B$8:$B$47,0)),"")
A44: =IF($B44="","",ROW()-7) | K44: =IF($B44="","",IF($G44="","",IF($I44="",DATEDIF($G44,TODAY(),"Y"),IF($I44<$G44,"",DATEDIF($G44,$I44,"Y"))))) | L44: =IF($B44="","",IF($I44<>"","verstorben",IF($G44="","unbekannt","lebend"))) | T44: =IF($B44="","",COUNTIF($Z$8:$Z$47,$B44)+COUNTIF($AA$8:$AA$47,$B44)) | V44: =IF($B44="","",IF(OR($C44="",$D44=""),"Name unvollständig",IF(AND($G44<>"",$I44<>"",$I44<$G44),"Sterbedatum vor Geburt",IF(OR(AND($G44<>"",$G44>TODAY()),AND($I44<>"",$I44>TODAY())),"Datum in der Zukunft",IF(AND($M44<>"",$M44=$N44),"Vater und Mutter identisch",IF(OR($Z44=$B44,$AA44=$B44),"Verweis auf sich selbst",IF(AND($AD44<>"",$AD44<>"männlich"),"Vater: Geschlecht prüfen",IF(AND($AE44<>"",$AE44<>"weiblich"),"Mutter: Geschlecht prüfen",IF(IF(OR($G44="",$AB44=""),FALSE(),$G44-$AB44<5110),"Abstand zum Vater prüfen",IF(IF(OR($G44="",$AC44=""),FALSE(),$G44-$AC44<5110),"Abstand zur Mutter prüfen",IF($G44="","Geburtsdatum fehlt","OK"))))))))))) | X44: =IF($B44="","",TRIM($C44&" "&$D44&IF($E44=""," "," geb. "&$E44))) | Y44: =IF($B44="","",$B44&" · "&TRIM($C44&" "&$D44)) | Z44: =IFERROR(LEFT($M44,SEARCH(" · ",$M44)-1),"") | AA44: =IFERROR(LEFT($N44,SEARCH(" · ",$N44)-1),"") | AB44: =IFERROR(IF(INDEX($G$8:$G$47,MATCH($Z44,$B$8:$B$47,0))="","",INDEX($G$8:$G$47,MATCH($Z44,$B$8:$B$47,0))),"") | AC44: =IFERROR(IF(INDEX($G$8:$G$47,MATCH($AA44,$B$8:$B$47,0))="","",INDEX($G$8:$G$47,MATCH($AA44,$B$8:$B$47,0))),"") | AD44: =IFERROR(INDEX($F$8:$F$47,MATCH($Z44,$B$8:$B$47,0)),"") | AE44: =IFERROR(INDEX($F$8:$F$47,MATCH($AA44,$B$8:$B$47,0)),"")
A45: =IF($B45="","",ROW()-7) | K45: =IF($B45="","",IF($G45="","",IF($I45="",DATEDIF($G45,TODAY(),"Y"),IF($I45<$G45,"",DATEDIF($G45,$I45,"Y"))))) | L45: =IF($B45="","",IF($I45<>"","verstorben",IF($G45="","unbekannt","lebend"))) | T45: =IF($B45="","",COUNTIF($Z$8:$Z$47,$B45)+COUNTIF($AA$8:$AA$47,$B45)) | V45: =IF($B45="","",IF(OR($C45="",$D45=""),"Name unvollständig",IF(AND($G45<>"",$I45<>"",$I45<$G45),"Sterbedatum vor Geburt",IF(OR(AND($G45<>"",$G45>TODAY()),AND($I45<>"",$I45>TODAY())),"Datum in der Zukunft",IF(AND($M45<>"",$M45=$N45),"Vater und Mutter identisch",IF(OR($Z45=$B45,$AA45=$B45),"Verweis auf sich selbst",IF(AND($AD45<>"",$AD45<>"männlich"),"Vater: Geschlecht prüfen",IF(AND($AE45<>"",$AE45<>"weiblich"),"Mutter: Geschlecht prüfen",IF(IF(OR($G45="",$AB45=""),FALSE(),$G45-$AB45<5110),"Abstand zum Vater prüfen",IF(IF(OR($G45="",$AC45=""),FALSE(),$G45-$AC45<5110),"Abstand zur Mutter prüfen",IF($G45="","Geburtsdatum fehlt","OK"))))))))))) | X45: =IF($B45="","",TRIM($C45&" "&$D45&IF($E45=""," "," geb. "&$E45))) | Y45: =IF($B45="","",$B45&" · "&TRIM($C45&" "&$D45)) | Z45: =IFERROR(LEFT($M45,SEARCH(" · ",$M45)-1),"") | AA45: =IFERROR(LEFT($N45,SEARCH(" · ",$N45)-1),"") | AB45: =IFERROR(IF(INDEX($G$8:$G$47,MATCH($Z45,$B$8:$B$47,0))="","",INDEX($G$8:$G$47,MATCH($Z45,$B$8:$B$47,0))),"") | AC45: =IFERROR(IF(INDEX($G$8:$G$47,MATCH($AA45,$B$8:$B$47,0))="","",INDEX($G$8:$G$47,MATCH($AA45,$B$8:$B$47,0))),"") | AD45: =IFERROR(INDEX($F$8:$F$47,MATCH($Z45,$B$8:$B$47,0)),"") | AE45: =IFERROR(INDEX($F$8:$F$47,MATCH($AA45,$B$8:$B$47,0)),"")
A46: =IF($B46="","",ROW()-7) | K46: =IF($B46="","",IF($G46="","",IF($I46="",DATEDIF($G46,TODAY(),"Y"),IF($I46<$G46,"",DATEDIF($G46,$I46,"Y"))))) | L46: =IF($B46="","",IF($I46<>"","verstorben",IF($G46="","unbekannt","lebend"))) | T46: =IF($B46="","",COUNTIF($Z$8:$Z$47,$B46)+COUNTIF($AA$8:$AA$47,$B46)) | V46: =IF($B46="","",IF(OR($C46="",$D46=""),"Name unvollständig",IF(AND($G46<>"",$I46<>"",$I46<$G46),"Sterbedatum vor Geburt",IF(OR(AND($G46<>"",$G46>TODAY()),AND($I46<>"",$I46>TODAY())),"Datum in der Zukunft",IF(AND($M46<>"",$M46=$N46),"Vater und Mutter identisch",IF(OR($Z46=$B46,$AA46=$B46),"Verweis auf sich selbst",IF(AND($AD46<>"",$AD46<>"männlich"),"Vater: Geschlecht prüfen",IF(AND($AE46<>"",$AE46<>"weiblich"),"Mutter: Geschlecht prüfen",IF(IF(OR($G46="",$AB46=""),FALSE(),$G46-$AB46<5110),"Abstand zum Vater prüfen",IF(IF(OR($G46="",$AC46=""),FALSE(),$G46-$AC46<5110),"Abstand zur Mutter prüfen",IF($G46="","Geburtsdatum fehlt","OK"))))))))))) | X46: =IF($B46="","",TRIM($C46&" "&$D46&IF($E46=""," "," geb. "&$E46))) | Y46: =IF($B46="","",$B46&" · "&TRIM($C46&" "&$D46)) | Z46: =IFERROR(LEFT($M46,SEARCH(" · ",$M46)-1),"") | AA46: =IFERROR(LEFT($N46,SEARCH(" · ",$N46)-1),"") | AB46: =IFERROR(IF(INDEX($G$8:$G$47,MATCH($Z46,$B$8:$B$47,0))="","",INDEX($G$8:$G$47,MATCH($Z46,$B$8:$B$47,0))),"") | AC46: =IFERROR(IF(INDEX($G$8:$G$47,MATCH($AA46,$B$8:$B$47,0))="","",INDEX($G$8:$G$47,MATCH($AA46,$B$8:$B$47,0))),"") | AD46: =IFERROR(INDEX($F$8:$F$47,MATCH($Z46,$B$8:$B$47,0)),"") | AE46: =IFERROR(INDEX($F$8:$F$47,MATCH($AA46,$B$8:$B$47,0)),"")
A47: =IF($B47="","",ROW()-7) | K47: =IF($B47="","",IF($G47="","",IF($I47="",DATEDIF($G47,TODAY(),"Y"),IF($I47<$G47,"",DATEDIF($G47,$I47,"Y"))))) | L47: =IF($B47="","",IF($I47<>"","verstorben",IF($G47="","unbekannt","lebend"))) | T47: =IF($B47="","",COUNTIF($Z$8:$Z$47,$B47)+COUNTIF($AA$8:$AA$47,$B47)) | V47: =IF($B47="","",IF(OR($C47="",$D47=""),"Name unvollständig",IF(AND($G47<>"",$I47<>"",$I47<$G47),"Sterbedatum vor Geburt",IF(OR(AND($G47<>"",$G47>TODAY()),AND($I47<>"",$I47>TODAY())),"Datum in der Zukunft",IF(AND($M47<>"",$M47=$N47),"Vater und Mutter identisch",IF(OR($Z47=$B47,$AA47=$B47),"Verweis auf sich selbst",IF(AND($AD47<>"",$AD47<>"männlich"),"Vater: Geschlecht prüfen",IF(AND($AE47<>"",$AE47<>"weiblich"),"Mutter: Geschlecht prüfen",IF(IF(OR($G47="",$AB47=""),FALSE(),$G47-$AB47<5110),"Abstand zum Vater prüfen",IF(IF(OR($G47="",$AC47=""),FALSE(),$G47-$AC47<5110),"Abstand zur Mutter prüfen",IF($G47="","Geburtsdatum fehlt","OK"))))))))))) | X47: =IF($B47="","",TRIM($C47&" "&$D47&IF($E47=""," "," geb. "&$E47))) | Y47: =IF($B47="","",$B47&" · "&TRIM($C47&" "&$D47)) | Z47: =IFERROR(LEFT($M47,SEARCH(" · ",$M47)-1),"") | AA47: =IFERROR(LEFT($N47,SEARCH(" · ",$N47)-1),"") | AB47: =IFERROR(IF(INDEX($G$8:$G$47,MATCH($Z47,$B$8:$B$47,0))="","",INDEX($G$8:$G$47,MATCH($Z47,$B$8:$B$47,0))),"") | AC47: =IFERROR(IF(INDEX($G$8:$G$47,MATCH($AA47,$B$8:$B$47,0))="","",INDEX($G$8:$G$47,MATCH($AA47,$B$8:$B$47,0))),"") | AD47: =IFERROR(INDEX($F$8:$F$47,MATCH($Z47,$B$8:$B$47,0)),"") | AE47: =IFERROR(INDEX($F$8:$F$47,MATCH($AA47,$B$8:$B$47,0)),"")
A48: ="Erfasste Personen: "&COUNTIF($B$8:$B$47,"?*")&" lebend: "&COUNTIF($L$8:$L$47,"lebend")&" verstorben: "&COUNTIF($L$8:$L$47,"verstorben")&" offene Prüfhinweise: "&COUNTIFS($B$8:$B$47,"?*",$V$8:$V$47,"<>OK") -> Erfasste Personen: 32 lebend: 12 verstorben: 19 offene Prüfhinweise: 1
