Workbook

Sheet Tilgungsrechner
A1: TILGUNGSRECHNER
A4: Annuitätendarlehen mit Sondertilgung – Finanzierungsplan
B6: ⚙ KREDITDATEN – Eingabe | E6: 📊 ERGEBNISSE ÜBERSICHT
B7: Darlehensbetrag | C7: 250000 | E7: Monatliche Rate | F7: =ROUND(C7*(C8/12+C9/12),2) -> 1145.83
B8: Sollzins (% p.a.) | C8: 0.035 | E8: Laufzeit (ohne Sonder) | F8: =ROUND(-NPER(C8/12,-F7,C7)/12,1) -> -28.9
B9: Anfängl. Tilgung (% p.a.) | C9: 0.02 | E9: Gesamtzinsen (o. Sonder) | F9: =IFERROR(NPER(C8/12,-(C7*(C8/12+C9/12)),C7)*C7*(C8/12+C9/12)/12*12-C7,0) -> 147993.93
B10: Jährl. Sondertilgung | C10: 6000 | E10: Laufzeit (mit Sonder) | F10: =Tilgungsplan!B4 -> -28.9
B11: Zinsbindung (Jahre) | C11: 10 | E11: Gesamtzinsen (m. Sonder) | F11: =Tilgungsplan!B5 -> 82924.23
B12: Startdatum | C12: 01.01.2025 | E12: Zinsen gespart | F12: =F9-F11 -> 65069.696
B14: 💡 Blaue Zellen = Eingabe anpassen | Schwarze Zellen = automatisch berechnet
B16: 💰 SONDERTILGUNG – Analyse & Empfehlung
B17: Max. Sondertilgung p.a. (5%) | C17: =C7*0.05 -> 12500 | E17: Zinsen gespart durch Sondertilgung | F17: =F9-F11 -> 65069.696
B18: Ihre Sondertilgung p.a. | C18: =C10 -> 6000 | E18: Jahre früher schuldenfrei | F18: =IFERROR(F8-F10,0) -> 0
B19: Ausgeschöpft (%) | C19: =IFERROR(C10/(C7*0.05),0) -> 0.48 | E19: Gesamtkostenersparnis | F19: =F17 -> 65069.696
B20: Status | C20: =IF(C10<=C7*0.05,"✅ Im Rahmen","⚠️ Übersteigt Limit!") -> ✅ Im Rahmen | E20: Restschuld nach Zinsbindung | F20: =IFERROR(Tilgungsplan!B6,0)
B22: 🔒 ZINSBINDUNGSENDE – Anschlussfinanzierung
B23: Ende der Zinsbindung (Monat) | C23: =C11*12 -> 120
B24: Restschuld am Bindungsende | C24: =IFERROR(Tilgungsplan!B6,0)
B25: Noch offener Betrag (%) | C25: =IFERROR(Tilgungsplan!B6/C7,0) -> 0
B26: Empf. neue Tilgung bei 4,5% | C26: =IFERROR(ROUND(Tilgungsplan!B6*0.045/12+(Tilgungsplan!B6*0.02/12),2),0) -> 0
B28: HINWEISE ZUR NUTZUNG • Passen Sie die blauen Eingabefelder (Zeilen 7–12) an Ihr Darlehen an. • Der Tilgungsplan berechnet sich automatisch im zweiten Tabellenblatt. • Sondertilgungen sind typischerweise auf 5 % des Ursprungsbetrags pro Jahr begrenzt – bitte Kreditvertrag prüfen. • Alle Berechnungen basieren auf gleichbleibenden Konditionen (Annuitätendarlehen).

Sheet Tilgungsplan
A1: TILGUNGSPLAN – MONATLICHE ÜBERSICHT
A3: Zusammenfassung (wird von Tilgungsrechner verwendet)
A4: Laufzeit mit Sondertilgung (Jahre) | B4: =ROUND(-NPER(Tilgungsrechner!C8/12,-Tilgungsrechner!F7,Tilgungsrechner!C7)/12,1) -> -28.9
A5: Monat | B5: =SUMIF(F6:F365,">"&0,D6:D365) -> 82924.23 | C5: Restschuld (Anfang) | D5: Zinsen | E5: Tilgung | F5: Restschuld (Ende) | G5: Sondertilg. | H5: Jahr
A6: 1 | B6: =IFERROR(edatum(datwert(Tilgungsrechner!C12),0),"") | C6: =Tilgungsrechner!C7 -> 250000 | D6: =IFERROR(IF(C6="","",ROUND(C6*Tilgungsrechner!C8/12,2)),"") -> 729.17 | E6: =IFERROR(IF(C6="","",MIN(ROUND(Tilgungsrechner!F7-D6,2),C6)),"") -> 416.66 | F6: =IFERROR(IF(C6="","",MAX(0, C6-E6-IF(MOD(A6,12)=0,Tilgungsrechner!C10,0))),"") -> 249583.34 | G6: =IFERROR(IF(C6="","",IF(MOD(A6,12)=0,MIN(Tilgungsrechner!C10,MAX(0,C6-E6)),0)),"") -> 0 | H6: =IFERROR(IF(C6="","",aufround(A6/12,0)),"")
A7: 2 | B7: =IFERROR(edatum(datwert(Tilgungsrechner!C12),1),"") | C7: =IF(F6<=0,"",F6) -> 249583.34 | D7: =IFERROR(IF(C7="","",ROUND(C7*Tilgungsrechner!C8/12,2)),"") -> 727.95 | E7: =IFERROR(IF(C7="","",MIN(ROUND(Tilgungsrechner!F7-D7,2),C7)),"") -> 417.88 | F7: =IFERROR(IF(C7="","",MAX(0, C7-E7-IF(MOD(A7,12)=0,Tilgungsrechner!C10,0))),"") -> 249165.46 | G7: =IFERROR(IF(C7="","",IF(MOD(A7,12)=0,MIN(Tilgungsrechner!C10,MAX(0,C7-E7)),0)),"") -> 0 | H7: =IFERROR(IF(C7="","",aufround(A7/12,0)),"")
A8: 3 | B8: =IFERROR(edatum(datwert(Tilgungsrechner!C12),2),"") | C8: =IF(F7<=0,"",F7) -> 249165.46 | D8: =IFERROR(IF(C8="","",ROUND(C8*Tilgungsrechner!C8/12,2)),"") -> 726.73 | E8: =IFERROR(IF(C8="","",MIN(ROUND(Tilgungsrechner!F7-D8,2),C8)),"") -> 419.1 | F8: =IFERROR(IF(C8="","",MAX(0, C8-E8-IF(MOD(A8,12)=0,Tilgungsrechner!C10,0))),"") -> 248746.36 | G8: =IFERROR(IF(C8="","",IF(MOD(A8,12)=0,MIN(Tilgungsrechner!C10,MAX(0,C8-E8)),0)),"") -> 0 | H8: =IFERROR(IF(C8="","",aufround(A8/12,0)),"")
A9: 4 | B9: =IFERROR(edatum(datwert(Tilgungsrechner!C12),3),"") | C9: =IF(F8<=0,"",F8) -> 248746.36 | D9: =IFERROR(IF(C9="","",ROUND(C9*Tilgungsrechner!C8/12,2)),"") -> 725.51 | E9: =IFERROR(IF(C9="","",MIN(ROUND(Tilgungsrechner!F7-D9,2),C9)),"") -> 420.32 | F9: =IFERROR(IF(C9="","",MAX(0, C9-E9-IF(MOD(A9,12)=0,Tilgungsrechner!C10,0))),"") -> 248326.04 | G9: =IFERROR(IF(C9="","",IF(MOD(A9,12)=0,MIN(Tilgungsrechner!C10,MAX(0,C9-E9)),0)),"") -> 0 | H9: =IFERROR(IF(C9="","",aufround(A9/12,0)),"")
A10: 5 | B10: =IFERROR(edatum(datwert(Tilgungsrechner!C12),4),"") | C10: =IF(F9<=0,"",F9) -> 248326.04 | D10: =IFERROR(IF(C10="","",ROUND(C10*Tilgungsrechner!C8/12,2)),"") -> 724.28 | E10: =IFERROR(IF(C10="","",MIN(ROUND(Tilgungsrechner!F7-D10,2),C10)),"") -> 421.55 | F10: =IFERROR(IF(C10="","",MAX(0, C10-E10-IF(MOD(A10,12)=0,Tilgungsrechner!C10,0))),"") -> 247904.49 | G10: =IFERROR(IF(C10="","",IF(MOD(A10,12)=0,MIN(Tilgungsrechner!C10,MAX(0,C10-E10)),0)),"") -> 0 | H10: =IFERROR(IF(C10="","",aufround(A10/12,0)),"")
A11: 6 | B11: =IFERROR(edatum(datwert(Tilgungsrechner!C12),5),"") | C11: =IF(F10<=0,"",F10) -> 247904.49 | D11: =IFERROR(IF(C11="","",ROUND(C11*Tilgungsrechner!C8/12,2)),"") -> 723.05 | E11: =IFERROR(IF(C11="","",MIN(ROUND(Tilgungsrechner!F7-D11,2),C11)),"") -> 422.78 | F11: =IFERROR(IF(C11="","",MAX(0, C11-E11-IF(MOD(A11,12)=0,Tilgungsrechner!C10,0))),"") -> 247481.71 | G11: =IFERROR(IF(C11="","",IF(MOD(A11,12)=0,MIN(Tilgungsrechner!C10,MAX(0,C11-E11)),0)),"") -> 0 | H11: =IFERROR(IF(C11="","",aufround(A11/12,0)),"")
A12: 7 | B12: =IFERROR(edatum(datwert(Tilgungsrechner!C12),6),"") | C12: =IF(F11<=0,"",F11) -> 247481.71 | D12: =IFERROR(IF(C12="","",ROUND(C12*Tilgungsrechner!C8/12,2)),"") -> 721.82 | E12: =IFERROR(IF(C12="","",MIN(ROUND(Tilgungsrechner!F7-D12,2),C12)),"") -> 424.01 | F12: =IFERROR(IF(C12="","",MAX(0, C12-E12-IF(MOD(A12,12)=0,Tilgungsrechner!C10,0))),"") -> 247057.7 | G12: =IFERROR(IF(C12="","",IF(MOD(A12,12)=0,MIN(Tilgungsrechner!C10,MAX(0,C12-E12)),0)),"") -> 0 | H12: =IFERROR(IF(C12="","",aufround(A12/12,0)),"")
A13: 8 | B13: =IFERROR(edatum(datwert(Tilgungsrechner!C12),7),"") | C13: =IF(F12<=0,"",F12) -> 247057.7 | D13: =IFERROR(IF(C13="","",ROUND(C13*Tilgungsrechner!C8/12,2)),"") -> 720.58 | E13: =IFERROR(IF(C13="","",MIN(ROUND(Tilgungsrechner!F7-D13,2),C13)),"") -> 425.25 | F13: =IFERROR(IF(C13="","",MAX(0, C13-E13-IF(MOD(A13,12)=0,Tilgungsrechner!C10,0))),"") -> 246632.45 | G13: =IFERROR(IF(C13="","",IF(MOD(A13,12)=0,MIN(Tilgungsrechner!C10,MAX(0,C13-E13)),0)),"") -> 0 | H13: =IFERROR(IF(C13="","",aufround(A13/12,0)),"")
A14: 9 | B14: =IFERROR(edatum(datwert(Tilgungsrechner!C12),8),"") | C14: =IF(F13<=0,"",F13) -> 246632.45 | D14: =IFERROR(IF(C14="","",ROUND(C14*Tilgungsrechner!C8/12,2)),"") -> 719.34 | E14: =IFERROR(IF(C14="","",MIN(ROUND(Tilgungsrechner!F7-D14,2),C14)),"") -> 426.49 | F14: =IFERROR(IF(C14="","",MAX(0, C14-E14-IF(MOD(A14,12)=0,Tilgungsrechner!C10,0))),"") -> 246205.96 | G14: =IFERROR(IF(C14="","",IF(MOD(A14,12)=0,MIN(Tilgungsrechner!C10,MAX(0,C14-E14)),0)),"") -> 0 | H14: =IFERROR(IF(C14="","",aufround(A14/12,0)),"")
A15: 10 | B15: =IFERROR(edatum(datwert(Tilgungsrechner!C12),9),"") | C15: =IF(F14<=0,"",F14) -> 246205.96 | D15: =IFERROR(IF(C15="","",ROUND(C15*Tilgungsrechner!C8/12,2)),"") -> 718.1 | E15: =IFERROR(IF(C15="","",MIN(ROUND(Tilgungsrechner!F7-D15,2),C15)),"") -> 427.73 | F15: =IFERROR(IF(C15="","",MAX(0, C15-E15-IF(MOD(A15,12)=0,Tilgungsrechner!C10,0))),"") -> 245778.23 | G15: =IFERROR(IF(C15="","",IF(MOD(A15,12)=0,MIN(Tilgungsrechner!C10,MAX(0,C15-E15)),0)),"") -> 0 | H15: =IFERROR(IF(C15="","",aufround(A15/12,0)),"")
A16: 11 | B16: =IFERROR(edatum(datwert(Tilgungsrechner!C12),10),"") | C16: =IF(F15<=0,"",F15) -> 245778.23 | D16: =IFERROR(IF(C16="","",ROUND(C16*Tilgungsrechner!C8/12,2)),"") -> 716.85 | E16: =IFERROR(IF(C16="","",MIN(ROUND(Tilgungsrechner!F7-D16,2),C16)),"") -> 428.98 | F16: =IFERROR(IF(C16="","",MAX(0, C16-E16-IF(MOD(A16,12)=0,Tilgungsrechner!C10,0))),"") -> 245349.25 | G16: =IFERROR(IF(C16="","",IF(MOD(A16,12)=0,MIN(Tilgungsrechner!C10,MAX(0,C16-E16)),0)),"") -> 0 | H16: =IFERROR(IF(C16="","",aufround(A16/12,0)),"")
A17: 12 | B17: =IFERROR(edatum(datwert(Tilgungsrechner!C12),11),"") | C17: =IF(F16<=0,"",F16) -> 245349.25 | D17: =IFERROR(IF(C17="","",ROUND(C17*Tilgungsrechner!C8/12,2)),"") -> 715.6 | E17: =IFERROR(IF(C17="","",MIN(ROUND(Tilgungsrechner!F7-D17,2),C17)),"") -> 430.23 | F17: =IFERROR(IF(C17="","",MAX(0, C17-E17-IF(MOD(A17,12)=0,Tilgungsrechner!C10,0))),"") -> 238919.02 | G17: =IFERROR(IF(C17="","",IF(MOD(A17,12)=0,MIN(Tilgungsrechner!C10,MAX(0,C17-E17)),0)),"") -> 6000 | H17: =IFERROR(IF(C17="","",aufround(A17/12,0)),"")
A18: 13 | B18: =IFERROR(edatum(datwert(Tilgungsrechner!C12),12),"") | C18: =IF(F17<=0,"",F17) -> 238919.02 | D18: =IFERROR(IF(C18="","",ROUND(C18*Tilgungsrechner!C8/12,2)),"") -> 696.85 | E18: =IFERROR(IF(C18="","",MIN(ROUND(Tilgungsrechner!F7-D18,2),C18)),"") -> 448.98 | F18: =IFERROR(IF(C18="","",MAX(0, C18-E18-IF(MOD(A18,12)=0,Tilgungsrechner!C10,0))),"") -> 238470.04 | G18: =IFERROR(IF(C18="","",IF(MOD(A18,12)=0,MIN(Tilgungsrechner!C10,MAX(0,C18-E18)),0)),"") -> 0 | H18: =IFERROR(IF(C18="","",aufround(A18/12,0)),"")
A19: 14 | B19: =IFERROR(edatum(datwert(Tilgungsrechner!C12),13),"") | C19: =IF(F18<=0,"",F18) -> 238470.04 | D19: =IFERROR(IF(C19="","",ROUND(C19*Tilgungsrechner!C8/12,2)),"") -> 695.54 | E19: =IFERROR(IF(C19="","",MIN(ROUND(Tilgungsrechner!F7-D19,2),C19)),"") -> 450.29 | F19: =IFERROR(IF(C19="","",MAX(0, C19-E19-IF(MOD(A19,12)=0,Tilgungsrechner!C10,0))),"") -> 238019.75 | G19: =IFERROR(IF(C19="","",IF(MOD(A19,12)=0,MIN(Tilgungsrechner!C10,MAX(0,C19-E19)),0)),"") -> 0 | H19: =IFERROR(IF(C19="","",aufround(A19/12,0)),"")
A20: 15 | B20: =IFERROR(edatum(datwert(Tilgungsrechner!C12),14),"") | C20: =IF(F19<=0,"",F19) -> 238019.75 | D20: =IFERROR(IF(C20="","",ROUND(C20*Tilgungsrechner!C8/12,2)),"") -> 694.22 | E20: =IFERROR(IF(C20="","",MIN(ROUND(Tilgungsrechner!F7-D20,2),C20)),"") -> 451.61 | F20: =IFERROR(IF(C20="","",MAX(0, C20-E20-IF(MOD(A20,12)=0,Tilgungsrechner!C10,0))),"") -> 237568.14 | G20: =IFERROR(IF(C20="","",IF(MOD(A20,12)=0,MIN(Tilgungsrechner!C10,MAX(0,C20-E20)),0)),"") -> 0 | H20: =IFERROR(IF(C20="","",aufround(A20/12,0)),"")
A21: 16 | B21: =IFERROR(edatum(datwert(Tilgungsrechner!C12),15),"") | C21: =IF(F20<=0,"",F20) -> 237568.14 | D21: =IFERROR(IF(C21="","",ROUND(C21*Tilgungsrechner!C8/12,2)),"") -> 692.91 | E21: =IFERROR(IF(C21="","",MIN(ROUND(Tilgungsrechner!F7-D21,2),C21)),"") -> 452.92 | F21: =IFERROR(IF(C21="","",MAX(0, C21-E21-IF(MOD(A21,12)=0,Tilgungsrechner!C10,0))),"") -> 237115.22 | G21: =IFERROR(IF(C21="","",IF(MOD(A21,12)=0,MIN(Tilgungsrechner!C10,MAX(0,C21-E21)),0)),"") -> 0 | H21: =IFERROR(IF(C21="","",aufround(A21/12,0)),"")
A22: 17 | B22: =IFERROR(edatum(datwert(Tilgungsrechner!C12),16),"") | C22: =IF(F21<=0,"",F21) -> 237115.22 | D22: =IFERROR(IF(C22="","",ROUND(C22*Tilgungsrechner!C8/12,2)),"") -> 691.59 | E22: =IFERROR(IF(C22="","",MIN(ROUND(Tilgungsrechner!F7-D22,2),C22)),"") -> 454.24 | F22: =IFERROR(IF(C22="","",MAX(0, C22-E22-IF(MOD(A22,12)=0,Tilgungsrechner!C10,0))),"") -> 236660.98 | G22: =IFERROR(IF(C22="","",IF(MOD(A22,12)=0,MIN(Tilgungsrechner!C10,MAX(0,C22-E22)),0)),"") -> 0 | H22: =IFERROR(IF(C22="","",aufround(A22/12,0)),"")
A23: 18 | B23: =IFERROR(edatum(datwert(Tilgungsrechner!C12),17),"") | C23: =IF(F22<=0,"",F22) -> 236660.98 | D23: =IFERROR(IF(C23="","",ROUND(C23*Tilgungsrechner!C8/12,2)),"") -> 690.26 | E23: =IFERROR(IF(C23="","",MIN(ROUND(Tilgungsrechner!F7-D23,2),C23)),"") -> 455.57 | F23: =IFERROR(IF(C23="","",MAX(0, C23-E23-IF(MOD(A23,12)=0,Tilgungsrechner!C10,0))),"") -> 236205.41 | G23: =IFERROR(IF(C23="","",IF(MOD(A23,12)=0,MIN(Tilgungsrechner!C10,MAX(0,C23-E23)),0)),"") -> 0 | H23: =IFERROR(IF(C23="","",aufround(A23/12,0)),"")
A24: 19 | B24: =IFERROR(edatum(datwert(Tilgungsrechner!C12),18),"") | C24: =IF(F23<=0,"",F23) -> 236205.41 | D24: =IFERROR(IF(C24="","",ROUND(C24*Tilgungsrechner!C8/12,2)),"") -> 688.93 | E24: =IFERROR(IF(C24="","",MIN(ROUND(Tilgungsrechner!F7-D24,2),C24)),"") -> 456.9 | F24: =IFERROR(IF(C24="","",MAX(0, C24-E24-IF(MOD(A24,12)=0,Tilgungsrechner!C10,0))),"") -> 235748.51 | G24: =IFERROR(IF(C24="","",IF(MOD(A24,12)=0,MIN(Tilgungsrechner!C10,MAX(0,C24-E24)),0)),"") -> 0 | H24: =IFERROR(IF(C24="","",aufround(A24/12,0)),"")
A25: 20 | B25: =IFERROR(edatum(datwert(Tilgungsrechner!C12),19),"") | C25: =IF(F24<=0,"",F24) -> 235748.51 | D25: =IFERROR(IF(C25="","",ROUND(C25*Tilgungsrechner!C8/12,2)),"") -> 687.6 | E25: =IFERROR(IF(C25="","",MIN(ROUND(Tilgungsrechner!F7-D25,2),C25)),"") -> 458.23 | F25: =IFERROR(IF(C25="","",MAX(0, C25-E25-IF(MOD(A25,12)=0,Tilgungsrechner!C10,0))),"") -> 235290.28 | G25: =IFERROR(IF(C25="","",IF(MOD(A25,12)=0,MIN(Tilgungsrechner!C10,MAX(0,C25-E25)),0)),"") -> 0 | H25: =IFERROR(IF(C25="","",aufround(A25/12,0)),"")
A26: 21 | B26: =IFERROR(edatum(datwert(Tilgungsrechner!C12),20),"") | C26: =IF(F25<=0,"",F25) -> 235290.28 | D26: =IFERROR(IF(C26="","",ROUND(C26*Tilgungsrechner!C8/12,2)),"") -> 686.26 | E26: =IFERROR(IF(C26="","",MIN(ROUND(Tilgungsrechner!F7-D26,2),C26)),"") -> 459.57 | F26: =IFERROR(IF(C26="","",MAX(0, C26-E26-IF(MOD(A26,12)=0,Tilgungsrechner!C10,0))),"") -> 234830.71 | G26: =IFERROR(IF(C26="","",IF(MOD(A26,12)=0,MIN(Tilgungsrechner!C10,MAX(0,C26-E26)),0)),"") -> 0 | H26: =IFERROR(IF(C26="","",aufround(A26/12,0)),"")
A27: 22 | B27: =IFERROR(edatum(datwert(Tilgungsrechner!C12),21),"") | C27: =IF(F26<=0,"",F26) -> 234830.71 | D27: =IFERROR(IF(C27="","",ROUND(C27*Tilgungsrechner!C8/12,2)),"") -> 684.92 | E27: =IFERROR(IF(C27="","",MIN(ROUND(Tilgungsrechner!F7-D27,2),C27)),"") -> 460.91 | F27: =IFERROR(IF(C27="","",MAX(0, C27-E27-IF(MOD(A27,12)=0,Tilgungsrechner!C10,0))),"") -> 234369.8 | G27: =IFERROR(IF(C27="","",IF(MOD(A27,12)=0,MIN(Tilgungsrechner!C10,MAX(0,C27-E27)),0)),"") -> 0 | H27: =IFERROR(IF(C27="","",aufround(A27/12,0)),"")
A28: 23 | B28: =IFERROR(edatum(datwert(Tilgungsrechner!C12),22),"") | C28: =IF(F27<=0,"",F27) -> 234369.8 | D28: =IFERROR(IF(C28="","",ROUND(C28*Tilgungsrechner!C8/12,2)),"") -> 683.58 | E28: =IFERROR(IF(C28="","",MIN(ROUND(Tilgungsrechner!F7-D28,2),C28)),"") -> 462.25 | F28: =IFERROR(IF(C28="","",MAX(0, C28-E28-IF(MOD(A28,12)=0,Tilgungsrechner!C10,0))),"") -> 233907.55 | G28: =IFERROR(IF(C28="","",IF(MOD(A28,12)=0,MIN(Tilgungsrechner!C10,MAX(0,C28-E28)),0)),"") -> 0 | H28: =IFERROR(IF(C28="","",aufround(A28/12,0)),"")
A29: 24 | B29: =IFERROR(edatum(datwert(Tilgungsrechner!C12),23),"") | C29: =IF(F28<=0,"",F28) -> 233907.55 | D29: =IFERROR(IF(C29="","",ROUND(C29*Tilgungsrechner!C8/12,2)),"") -> 682.23 | E29: =IFERROR(IF(C29="","",MIN(ROUND(Tilgungsrechner!F7-D29,2),C29)),"") -> 463.6 | F29: =IFERROR(IF(C29="","",MAX(0, C29-E29-IF(MOD(A29,12)=0,Tilgungsrechner!C10,0))),"") -> 227443.95 | G29: =IFERROR(IF(C29="","",IF(MOD(A29,12)=0,MIN(Tilgungsrechner!C10,MAX(0,C29-E29)),0)),"") -> 6000 | H29: =IFERROR(IF(C29="","",aufround(A29/12,0)),"")
A30: 25 | B30: =IFERROR(edatum(datwert(Tilgungsrechner!C12),24),"") | C30: =IF(F29<=0,"",F29) -> 227443.95 | D30: =IFERROR(IF(C30="","",ROUND(C30*Tilgungsrechner!C8/12,2)),"") -> 663.38 | E30: =IFERROR(IF(C30="","",MIN(ROUND(Tilgungsrechner!F7-D30,2),C30)),"") -> 482.45 | F30: =IFERROR(IF(C30="","",MAX(0, C30-E30-IF(MOD(A30,12)=0,Tilgungsrechner!C10,0))),"") -> 226961.5 | G30: =IFERROR(IF(C30="","",IF(MOD(A30,12)=0,MIN(Tilgungsrechner!C10,MAX(0,C30-E30)),0)),"") -> 0 | H30: =IFERROR(IF(C30="","",aufround(A30/12,0)),"")
A31: 26 | B31: =IFERROR(edatum(datwert(Tilgungsrechner!C12),25),"") | C31: =IF(F30<=0,"",F30) -> 226961.5 | D31: =IFERROR(IF(C31="","",ROUND(C31*Tilgungsrechner!C8/12,2)),"") -> 661.97 | E31: =IFERROR(IF(C31="","",MIN(ROUND(Tilgungsrechner!F7-D31,2),C31)),"") -> 483.86 | F31: =IFERROR(IF(C31="","",MAX(0, C31-E31-IF(MOD(A31,12)=0,Tilgungsrechner!C10,0))),"") -> 226477.64 | G31: =IFERROR(IF(C31="","",IF(MOD(A31,12)=0,MIN(Tilgungsrechner!C10,MAX(0,C31-E31)),0)),"") -> 0 | H31: =IFERROR(IF(C31="","",aufround(A31/12,0)),"")
A32: 27 | B32: =IFERROR(edatum(datwert(Tilgungsrechner!C12),26),"") | C32: =IF(F31<=0,"",F31) -> 226477.64 | D32: =IFERROR(IF(C32="","",ROUND(C32*Tilgungsrechner!C8/12,2)),"") -> 660.56 | E32: =IFERROR(IF(C32="","",MIN(ROUND(Tilgungsrechner!F7-D32,2),C32)),"") -> 485.27 | F32: =IFERROR(IF(C32="","",MAX(0, C32-E32-IF(MOD(A32,12)=0,Tilgungsrechner!C10,0))),"") -> 225992.37 | G32: =IFERROR(IF(C32="","",IF(MOD(A32,12)=0,MIN(Tilgungsrechner!C10,MAX(0,C32-E32)),0)),"") -> 0 | H32: =IFERROR(IF(C32="","",aufround(A32/12,0)),"")
A33: 28 | B33: =IFERROR(edatum(datwert(Tilgungsrechner!C12),27),"") | C33: =IF(F32<=0,"",F32) -> 225992.37 | D33: =IFERROR(IF(C33="","",ROUND(C33*Tilgungsrechner!C8/12,2)),"") -> 659.14 | E33: =IFERROR(IF(C33="","",MIN(ROUND(Tilgungsrechner!F7-D33,2),C33)),"") -> 486.69 | F33: =IFERROR(IF(C33="","",MAX(0, C33-E33-IF(MOD(A33,12)=0,Tilgungsrechner!C10,0))),"") -> 225505.68 | G33: =IFERROR(IF(C33="","",IF(MOD(A33,12)=0,MIN(Tilgungsrechner!C10,MAX(0,C33-E33)),0)),"") -> 0 | H33: =IFERROR(IF(C33="","",aufround(A33/12,0)),"")
A34: 29 | B34: =IFERROR(edatum(datwert(Tilgungsrechner!C12),28),"") | C34: =IF(F33<=0,"",F33) -> 225505.68 | D34: =IFERROR(IF(C34="","",ROUND(C34*Tilgungsrechner!C8/12,2)),"") -> 657.72 | E34: =IFERROR(IF(C34="","",MIN(ROUND(Tilgungsrechner!F7-D34,2),C34)),"") -> 488.11 | F34: =IFERROR(IF(C34="","",MAX(0, C34-E34-IF(MOD(A34,12)=0,Tilgungsrechner!C10,0))),"") -> 225017.57 | G34: =IFERROR(IF(C34="","",IF(MOD(A34,12)=0,MIN(Tilgungsrechner!C10,MAX(0,C34-E34)),0)),"") -> 0 | H34: =IFERROR(IF(C34="","",aufround(A34/12,0)),"")
A35: 30 | B35: =IFERROR(edatum(datwert(Tilgungsrechner!C12),29),"") | C35: =IF(F34<=0,"",F34) -> 225017.57 | D35: =IFERROR(IF(C35="","",ROUND(C35*Tilgungsrechner!C8/12,2)),"") -> 656.3 | E35: =IFERROR(IF(C35="","",MIN(ROUND(Tilgungsrechner!F7-D35,2),C35)),"") -> 489.53 | F35: =IFERROR(IF(C35="","",MAX(0, C35-E35-IF(MOD(A35,12)=0,Tilgungsrechner!C10,0))),"") -> 224528.04 | G35: =IFERROR(IF(C35="","",IF(MOD(A35,12)=0,MIN(Tilgungsrechner!C10,MAX(0,C35-E35)),0)),"") -> 0 | H35: =IFERROR(IF(C35="","",aufround(A35/12,0)),"")
A36: 31 | B36: =IFERROR(edatum(datwert(Tilgungsrechner!C12),30),"") | C36: =IF(F35<=0,"",F35) -> 224528.04 | D36: =IFERROR(IF(C36="","",ROUND(C36*Tilgungsrechner!C8/12,2)),"") -> 654.87 | E36: =IFERROR(IF(C36="","",MIN(ROUND(Tilgungsrechner!F7-D36,2),C36)),"") -> 490.96 | F36: =IFERROR(IF(C36="","",MAX(0, C36-E36-IF(MOD(A36,12)=0,Tilgungsrechner!C10,0))),"") -> 224037.08 | G36: =IFERROR(IF(C36="","",IF(MOD(A36,12)=0,MIN(Tilgungsrechner!C10,MAX(0,C36-E36)),0)),"") -> 0 | H36: =IFERROR(IF(C36="","",aufround(A36/12,0)),"")
A37: 32 | B37: =IFERROR(edatum(datwert(Tilgungsrechner!C12),31),"") | C37: =IF(F36<=0,"",F36) -> 224037.08 | D37: =IFERROR(IF(C37="","",ROUND(C37*Tilgungsrechner!C8/12,2)),"") -> 653.44 | E37: =IFERROR(IF(C37="","",MIN(ROUND(Tilgungsrechner!F7-D37,2),C37)),"") -> 492.39 | F37: =IFERROR(IF(C37="","",MAX(0, C37-E37-IF(MOD(A37,12)=0,Tilgungsrechner!C10,0))),"") -> 223544.69 | G37: =IFERROR(IF(C37="","",IF(MOD(A37,12)=0,MIN(Tilgungsrechner!C10,MAX(0,C37-E37)),0)),"") -> 0 | H37: =IFERROR(IF(C37="","",aufround(A37/12,0)),"")
A38: 33 | B38: =IFERROR(edatum(datwert(Tilgungsrechner!C12),32),"") | C38: =IF(F37<=0,"",F37) -> 223544.69 | D38: =IFERROR(IF(C38="","",ROUND(C38*Tilgungsrechner!C8/12,2)),"") -> 652.01 | E38: =IFERROR(IF(C38="","",MIN(ROUND(Tilgungsrechner!F7-D38,2),C38)),"") -> 493.82 | F38: =IFERROR(IF(C38="","",MAX(0, C38-E38-IF(MOD(A38,12)=0,Tilgungsrechner!C10,0))),"") -> 223050.87 | G38: =IFERROR(IF(C38="","",IF(MOD(A38,12)=0,MIN(Tilgungsrechner!C10,MAX(0,C38-E38)),0)),"") -> 0 | H38: =IFERROR(IF(C38="","",aufround(A38/12,0)),"")
A39: 34 | B39: =IFERROR(edatum(datwert(Tilgungsrechner!C12),33),"") | C39: =IF(F38<=0,"",F38) -> 223050.87 | D39: =IFERROR(IF(C39="","",ROUND(C39*Tilgungsrechner!C8/12,2)),"") -> 650.57 | E39: =IFERROR(IF(C39="","",MIN(ROUND(Tilgungsrechner!F7-D39,2),C39)),"") -> 495.26 | F39: =IFERROR(IF(C39="","",MAX(0, C39-E39-IF(MOD(A39,12)=0,Tilgungsrechner!C10,0))),"") -> 222555.61 | G39: =IFERROR(IF(C39="","",IF(MOD(A39,12)=0,MIN(Tilgungsrechner!C10,MAX(0,C39-E39)),0)),"") -> 0 | H39: =IFERROR(IF(C39="","",aufround(A39/12,0)),"")
A40: 35 | B40: =IFERROR(edatum(datwert(Tilgungsrechner!C12),34),"") | C40: =IF(F39<=0,"",F39) -> 222555.61 | D40: =IFERROR(IF(C40="","",ROUND(C40*Tilgungsrechner!C8/12,2)),"") -> 649.12 | E40: =IFERROR(IF(C40="","",MIN(ROUND(Tilgungsrechner!F7-D40,2),C40)),"") -> 496.71 | F40: =IFERROR(IF(C40="","",MAX(0, C40-E40-IF(MOD(A40,12)=0,Tilgungsrechner!C10,0))),"") -> 222058.9 | G40: =IFERROR(IF(C40="","",IF(MOD(A40,12)=0,MIN(Tilgungsrechner!C10,MAX(0,C40-E40)),0)),"") -> 0 | H40: =IFERROR(IF(C40="","",aufround(A40/12,0)),"")
A41: 36 | B41: =IFERROR(edatum(datwert(Tilgungsrechner!C12),35),"") | C41: =IF(F40<=0,"",F40) -> 222058.9 | D41: =IFERROR(IF(C41="","",ROUND(C41*Tilgungsrechner!C8/12,2)),"") -> 647.67 | E41: =IFERROR(IF(C41="","",MIN(ROUND(Tilgungsrechner!F7-D41,2),C41)),"") -> 498.16 | F41: =IFERROR(IF(C41="","",MAX(0, C41-E41-IF(MOD(A41,12)=0,Tilgungsrechner!C10,0))),"") -> 215560.74 | G41: =IFERROR(IF(C41="","",IF(MOD(A41,12)=0,MIN(Tilgungsrechner!C10,MAX(0,C41-E41)),0)),"") -> 6000 | H41: =IFERROR(IF(C41="","",aufround(A41/12,0)),"")
...

Sheet Jahresübersicht
A1: JAHRESÜBERSICHT – Zins & Tilgung pro Jahr
A3: Die Jahresübersicht fasst alle 12 Monate zusammen und eignet sich ideal für die steuerliche Übersicht.
A4: Jahr | B4: Jahresanfang-Schuld | C4: Zinszahlungen | D4: Tilgungszahlungen | E4: Sondertilgung | F4: Jahresend-Schuld
A5: 1 | B5: =IFERROR(Tilgungsplan!C6,"") -> 250000 | C5: =IFERROR(SUMPRODUCT((Tilgungsplan!A6:A365>=1)*(Tilgungsplan!A6:A365<=12)*IFERROR(Tilgungsplan!D6:D365,0)),"") | D5: =IFERROR(SUMPRODUCT((Tilgungsplan!A6:A365>=1)*(Tilgungsplan!A6:A365<=12)*IFERROR(Tilgungsplan!E6:E365,0)),"") | E5: =IFERROR(Tilgungsplan!G17,"") -> 6000 | F5: =IFERROR(Tilgungsplan!F17,"") -> 238919.02
A6: 2 | B6: =IFERROR(Tilgungsplan!C18,"") -> 238919.02 | C6: =IFERROR(SUMPRODUCT((Tilgungsplan!A6:A365>=13)*(Tilgungsplan!A6:A365<=24)*IFERROR(Tilgungsplan!D6:D365,0)),"") | D6: =IFERROR(SUMPRODUCT((Tilgungsplan!A6:A365>=13)*(Tilgungsplan!A6:A365<=24)*IFERROR(Tilgungsplan!E6:E365,0)),"") | E6: =IFERROR(Tilgungsplan!G29,"") -> 6000 | F6: =IFERROR(Tilgungsplan!F29,"") -> 227443.95
A7: 3 | B7: =IFERROR(Tilgungsplan!C30,"") -> 227443.95 | C7: =IFERROR(SUMPRODUCT((Tilgungsplan!A6:A365>=25)*(Tilgungsplan!A6:A365<=36)*IFERROR(Tilgungsplan!D6:D365,0)),"") | D7: =IFERROR(SUMPRODUCT((Tilgungsplan!A6:A365>=25)*(Tilgungsplan!A6:A365<=36)*IFERROR(Tilgungsplan!E6:E365,0)),"") | E7: =IFERROR(Tilgungsplan!G41,"") -> 6000 | F7: =IFERROR(Tilgungsplan!F41,"") -> 215560.74
A8: 4 | B8: =IFERROR(Tilgungsplan!C42,"") -> 215560.74 | C8: =IFERROR(SUMPRODUCT((Tilgungsplan!A6:A365>=37)*(Tilgungsplan!A6:A365<=48)*IFERROR(Tilgungsplan!D6:D365,0)),"") | D8: =IFERROR(SUMPRODUCT((Tilgungsplan!A6:A365>=37)*(Tilgungsplan!A6:A365<=48)*IFERROR(Tilgungsplan!E6:E365,0)),"") | E8: =IFERROR(Tilgungsplan!G53,"") -> 6000 | F8: =IFERROR(Tilgungsplan!F53,"") -> 203254.89
A9: 5 | B9: =IFERROR(Tilgungsplan!C54,"") -> 203254.89 | C9: =IFERROR(SUMPRODUCT((Tilgungsplan!A6:A365>=49)*(Tilgungsplan!A6:A365<=60)*IFERROR(Tilgungsplan!D6:D365,0)),"") | D9: =IFERROR(SUMPRODUCT((Tilgungsplan!A6:A365>=49)*(Tilgungsplan!A6:A365<=60)*IFERROR(Tilgungsplan!E6:E365,0)),"") | E9: =IFERROR(Tilgungsplan!G65,"") -> 6000 | F9: =IFERROR(Tilgungsplan!F65,"") -> 190511.35
A10: 6 | B10: =IFERROR(Tilgungsplan!C66,"") -> 190511.35 | C10: =IFERROR(SUMPRODUCT((Tilgungsplan!A6:A365>=61)*(Tilgungsplan!A6:A365<=72)*IFERROR(Tilgungsplan!D6:D365,0)),"") | D10: =IFERROR(SUMPRODUCT((Tilgungsplan!A6:A365>=61)*(Tilgungsplan!A6:A365<=72)*IFERROR(Tilgungsplan!E6:E365,0)),"") | E10: =IFERROR(Tilgungsplan!G77,"") -> 6000 | F10: =IFERROR(Tilgungsplan!F77,"") -> 177314.56
A11: 7 | B11: =IFERROR(Tilgungsplan!C78,"") -> 177314.56 | C11: =IFERROR(SUMPRODUCT((Tilgungsplan!A6:A365>=73)*(Tilgungsplan!A6:A365<=84)*IFERROR(Tilgungsplan!D6:D365,0)),"") | D11: =IFERROR(SUMPRODUCT((Tilgungsplan!A6:A365>=73)*(Tilgungsplan!A6:A365<=84)*IFERROR(Tilgungsplan!E6:E365,0)),"") | E11: =IFERROR(Tilgungsplan!G89,"") -> 6000 | F11: =IFERROR(Tilgungsplan!F89,"") -> 163648.41
A12: 8 | B12: =IFERROR(Tilgungsplan!C90,"") -> 163648.41 | C12: =IFERROR(SUMPRODUCT((Tilgungsplan!A6:A365>=85)*(Tilgungsplan!A6:A365<=96)*IFERROR(Tilgungsplan!D6:D365,0)),"") | D12: =IFERROR(SUMPRODUCT((Tilgungsplan!A6:A365>=85)*(Tilgungsplan!A6:A365<=96)*IFERROR(Tilgungsplan!E6:E365,0)),"") | E12: =IFERROR(Tilgungsplan!G101,"") -> 6000 | F12: =IFERROR(Tilgungsplan!F101,"") -> 149496.18
A13: 9 | B13: =IFERROR(Tilgungsplan!C102,"") -> 149496.18 | C13: =IFERROR(SUMPRODUCT((Tilgungsplan!A6:A365>=97)*(Tilgungsplan!A6:A365<=108)*IFERROR(Tilgungsplan!D6:D365,0)),"") | D13: =IFERROR(SUMPRODUCT((Tilgungsplan!A6:A365>=97)*(Tilgungsplan!A6:A365<=108)*IFERROR(Tilgungsplan!E6:E365,0)),"") | E13: =IFERROR(Tilgungsplan!G113,"") -> 6000 | F13: =IFERROR(Tilgungsplan!F113,"") -> 134840.6
A14: 10 | B14: =IFERROR(Tilgungsplan!C114,"") -> 134840.6 | C14: =IFERROR(SUMPRODUCT((Tilgungsplan!A6:A365>=109)*(Tilgungsplan!A6:A365<=120)*IFERROR(Tilgungsplan!D6:D365,0)),"") | D14: =IFERROR(SUMPRODUCT((Tilgungsplan!A6:A365>=109)*(Tilgungsplan!A6:A365<=120)*IFERROR(Tilgungsplan!E6:E365,0)),"") | E14: =IFERROR(Tilgungsplan!G125,"") -> 6000 | F14: =IFERROR(Tilgungsplan!F125,"") -> 119663.81
A15: 11 | B15: =IFERROR(Tilgungsplan!C126,"") -> 119663.81 | C15: =IFERROR(SUMPRODUCT((Tilgungsplan!A6:A365>=121)*(Tilgungsplan!A6:A365<=132)*IFERROR(Tilgungsplan!D6:D365,0)),"") | D15: =IFERROR(SUMPRODUCT((Tilgungsplan!A6:A365>=121)*(Tilgungsplan!A6:A365<=132)*IFERROR(Tilgungsplan!E6:E365,0)),"") | E15: =IFERROR(Tilgungsplan!G137,"") -> 6000 | F15: =IFERROR(Tilgungsplan!F137,"") -> 103947.2
A16: 12 | B16: =IFERROR(Tilgungsplan!C138,"") -> 103947.2 | C16: =IFERROR(SUMPRODUCT((Tilgungsplan!A6:A365>=133)*(Tilgungsplan!A6:A365<=144)*IFERROR(Tilgungsplan!D6:D365,0)),"") | D16: =IFERROR(SUMPRODUCT((Tilgungsplan!A6:A365>=133)*(Tilgungsplan!A6:A365<=144)*IFERROR(Tilgungsplan!E6:E365,0)),"") | E16: =IFERROR(Tilgungsplan!G149,"") -> 6000 | F16: =IFERROR(Tilgungsplan!F149,"") -> 87671.61
A17: 13 | B17: =IFERROR(Tilgungsplan!C150,"") -> 87671.61 | C17: =IFERROR(SUMPRODUCT((Tilgungsplan!A6:A365>=145)*(Tilgungsplan!A6:A365<=156)*IFERROR(Tilgungsplan!D6:D365,0)),"") | D17: =IFERROR(SUMPRODUCT((Tilgungsplan!A6:A365>=145)*(Tilgungsplan!A6:A365<=156)*IFERROR(Tilgungsplan!E6:E365,0)),"") | E17: =IFERROR(Tilgungsplan!G161,"") -> 6000 | F17: =IFERROR(Tilgungsplan!F161,"") -> 70817.14
A18: 14 | B18: =IFERROR(Tilgungsplan!C162,"") -> 70817.14 | C18: =IFERROR(SUMPRODUCT((Tilgungsplan!A6:A365>=157)*(Tilgungsplan!A6:A365<=168)*IFERROR(Tilgungsplan!D6:D365,0)),"") | D18: =IFERROR(SUMPRODUCT((Tilgungsplan!A6:A365>=157)*(Tilgungsplan!A6:A365<=168)*IFERROR(Tilgungsplan!E6:E365,0)),"") | E18: =IFERROR(Tilgungsplan!G173,"") -> 6000 | F18: =IFERROR(Tilgungsplan!F173,"") -> 53363.18
A19: 15 | B19: =IFERROR(Tilgungsplan!C174,"") -> 53363.18 | C19: =IFERROR(SUMPRODUCT((Tilgungsplan!A6:A365>=169)*(Tilgungsplan!A6:A365<=180)*IFERROR(Tilgungsplan!D6:D365,0)),"") | D19: =IFERROR(SUMPRODUCT((Tilgungsplan!A6:A365>=169)*(Tilgungsplan!A6:A365<=180)*IFERROR(Tilgungsplan!E6:E365,0)),"") | E19: =IFERROR(Tilgungsplan!G185,"") -> 6000 | F19: =IFERROR(Tilgungsplan!F185,"") -> 35288.45
A20: 16 | B20: =IFERROR(Tilgungsplan!C186,"") -> 35288.45 | C20: =IFERROR(SUMPRODUCT((Tilgungsplan!A6:A365>=181)*(Tilgungsplan!A6:A365<=192)*IFERROR(Tilgungsplan!D6:D365,0)),"") | D20: =IFERROR(SUMPRODUCT((Tilgungsplan!A6:A365>=181)*(Tilgungsplan!A6:A365<=192)*IFERROR(Tilgungsplan!E6:E365,0)),"") | E20: =IFERROR(Tilgungsplan!G197,"") -> 6000 | F20: =IFERROR(Tilgungsplan!F197,"") -> 16570.84
A21: 17 | B21: =IFERROR(Tilgungsplan!C198,"") -> 16570.84 | C21: =IFERROR(SUMPRODUCT((Tilgungsplan!A6:A365>=193)*(Tilgungsplan!A6:A365<=204)*IFERROR(Tilgungsplan!D6:D365,0)),"") | D21: =IFERROR(SUMPRODUCT((Tilgungsplan!A6:A365>=193)*(Tilgungsplan!A6:A365<=204)*IFERROR(Tilgungsplan!E6:E365,0)),"") | E21: =IFERROR(Tilgungsplan!G209,"") -> 3187.51 | F21: =IFERROR(Tilgungsplan!F209,"") -> 0
A22: 18 | B22: =IFERROR(Tilgungsplan!C210,"") | C22: =IFERROR(SUMPRODUCT((Tilgungsplan!A6:A365>=205)*(Tilgungsplan!A6:A365<=216)*IFERROR(Tilgungsplan!D6:D365,0)),"") | D22: =IFERROR(SUMPRODUCT((Tilgungsplan!A6:A365>=205)*(Tilgungsplan!A6:A365<=216)*IFERROR(Tilgungsplan!E6:E365,0)),"") | E22: =IFERROR(Tilgungsplan!G221,"") | F22: =IFERROR(Tilgungsplan!F221,"")
A23: 19 | B23: =IFERROR(Tilgungsplan!C222,"") | C23: =IFERROR(SUMPRODUCT((Tilgungsplan!A6:A365>=217)*(Tilgungsplan!A6:A365<=228)*IFERROR(Tilgungsplan!D6:D365,0)),"") | D23: =IFERROR(SUMPRODUCT((Tilgungsplan!A6:A365>=217)*(Tilgungsplan!A6:A365<=228)*IFERROR(Tilgungsplan!E6:E365,0)),"") | E23: =IFERROR(Tilgungsplan!G233,"") | F23: =IFERROR(Tilgungsplan!F233,"")
A24: 20 | B24: =IFERROR(Tilgungsplan!C234,"") | C24: =IFERROR(SUMPRODUCT((Tilgungsplan!A6:A365>=229)*(Tilgungsplan!A6:A365<=240)*IFERROR(Tilgungsplan!D6:D365,0)),"") | D24: =IFERROR(SUMPRODUCT((Tilgungsplan!A6:A365>=229)*(Tilgungsplan!A6:A365<=240)*IFERROR(Tilgungsplan!E6:E365,0)),"") | E24: =IFERROR(Tilgungsplan!G245,"") | F24: =IFERROR(Tilgungsplan!F245,"")
A25: 21 | B25: =IFERROR(Tilgungsplan!C246,"") | C25: =IFERROR(SUMPRODUCT((Tilgungsplan!A6:A365>=241)*(Tilgungsplan!A6:A365<=252)*IFERROR(Tilgungsplan!D6:D365,0)),"") | D25: =IFERROR(SUMPRODUCT((Tilgungsplan!A6:A365>=241)*(Tilgungsplan!A6:A365<=252)*IFERROR(Tilgungsplan!E6:E365,0)),"") | E25: =IFERROR(Tilgungsplan!G257,"") | F25: =IFERROR(Tilgungsplan!F257,"")
A26: 22 | B26: =IFERROR(Tilgungsplan!C258,"") | C26: =IFERROR(SUMPRODUCT((Tilgungsplan!A6:A365>=253)*(Tilgungsplan!A6:A365<=264)*IFERROR(Tilgungsplan!D6:D365,0)),"") | D26: =IFERROR(SUMPRODUCT((Tilgungsplan!A6:A365>=253)*(Tilgungsplan!A6:A365<=264)*IFERROR(Tilgungsplan!E6:E365,0)),"") | E26: =IFERROR(Tilgungsplan!G269,"") | F26: =IFERROR(Tilgungsplan!F269,"")
A27: 23 | B27: =IFERROR(Tilgungsplan!C270,"") | C27: =IFERROR(SUMPRODUCT((Tilgungsplan!A6:A365>=265)*(Tilgungsplan!A6:A365<=276)*IFERROR(Tilgungsplan!D6:D365,0)),"") | D27: =IFERROR(SUMPRODUCT((Tilgungsplan!A6:A365>=265)*(Tilgungsplan!A6:A365<=276)*IFERROR(Tilgungsplan!E6:E365,0)),"") | E27: =IFERROR(Tilgungsplan!G281,"") | F27: =IFERROR(Tilgungsplan!F281,"")
A28: 24 | B28: =IFERROR(Tilgungsplan!C282,"") | C28: =IFERROR(SUMPRODUCT((Tilgungsplan!A6:A365>=277)*(Tilgungsplan!A6:A365<=288)*IFERROR(Tilgungsplan!D6:D365,0)),"") | D28: =IFERROR(SUMPRODUCT((Tilgungsplan!A6:A365>=277)*(Tilgungsplan!A6:A365<=288)*IFERROR(Tilgungsplan!E6:E365,0)),"") | E28: =IFERROR(Tilgungsplan!G293,"") | F28: =IFERROR(Tilgungsplan!F293,"")
A29: 25 | B29: =IFERROR(Tilgungsplan!C294,"") | C29: =IFERROR(SUMPRODUCT((Tilgungsplan!A6:A365>=289)*(Tilgungsplan!A6:A365<=300)*IFERROR(Tilgungsplan!D6:D365,0)),"") | D29: =IFERROR(SUMPRODUCT((Tilgungsplan!A6:A365>=289)*(Tilgungsplan!A6:A365<=300)*IFERROR(Tilgungsplan!E6:E365,0)),"") | E29: =IFERROR(Tilgungsplan!G305,"") | F29: =IFERROR(Tilgungsplan!F305,"")
A30: 26 | B30: =IFERROR(Tilgungsplan!C306,"") | C30: =IFERROR(SUMPRODUCT((Tilgungsplan!A6:A365>=301)*(Tilgungsplan!A6:A365<=312)*IFERROR(Tilgungsplan!D6:D365,0)),"") | D30: =IFERROR(SUMPRODUCT((Tilgungsplan!A6:A365>=301)*(Tilgungsplan!A6:A365<=312)*IFERROR(Tilgungsplan!E6:E365,0)),"") | E30: =IFERROR(Tilgungsplan!G317,"") | F30: =IFERROR(Tilgungsplan!F317,"")
A31: 27 | B31: =IFERROR(Tilgungsplan!C318,"") | C31: =IFERROR(SUMPRODUCT((Tilgungsplan!A6:A365>=313)*(Tilgungsplan!A6:A365<=324)*IFERROR(Tilgungsplan!D6:D365,0)),"") | D31: =IFERROR(SUMPRODUCT((Tilgungsplan!A6:A365>=313)*(Tilgungsplan!A6:A365<=324)*IFERROR(Tilgungsplan!E6:E365,0)),"") | E31: =IFERROR(Tilgungsplan!G329,"") | F31: =IFERROR(Tilgungsplan!F329,"")
A32: 28 | B32: =IFERROR(Tilgungsplan!C330,"") | C32: =IFERROR(SUMPRODUCT((Tilgungsplan!A6:A365>=325)*(Tilgungsplan!A6:A365<=336)*IFERROR(Tilgungsplan!D6:D365,0)),"") | D32: =IFERROR(SUMPRODUCT((Tilgungsplan!A6:A365>=325)*(Tilgungsplan!A6:A365<=336)*IFERROR(Tilgungsplan!E6:E365,0)),"") | E32: =IFERROR(Tilgungsplan!G341,"") | F32: =IFERROR(Tilgungsplan!F341,"")
A33: 29 | B33: =IFERROR(Tilgungsplan!C342,"") | C33: =IFERROR(SUMPRODUCT((Tilgungsplan!A6:A365>=337)*(Tilgungsplan!A6:A365<=348)*IFERROR(Tilgungsplan!D6:D365,0)),"") | D33: =IFERROR(SUMPRODUCT((Tilgungsplan!A6:A365>=337)*(Tilgungsplan!A6:A365<=348)*IFERROR(Tilgungsplan!E6:E365,0)),"") | E33: =IFERROR(Tilgungsplan!G353,"") | F33: =IFERROR(Tilgungsplan!F353,"")
A34: 30 | B34: =IFERROR(Tilgungsplan!C354,"") | C34: =IFERROR(SUMPRODUCT((Tilgungsplan!A6:A365>=349)*(Tilgungsplan!A6:A365<=360)*IFERROR(Tilgungsplan!D6:D365,0)),"") | D34: =IFERROR(SUMPRODUCT((Tilgungsplan!A6:A365>=349)*(Tilgungsplan!A6:A365<=360)*IFERROR(Tilgungsplan!E6:E365,0)),"") | E34: =IFERROR(Tilgungsplan!G365,"") | F34: =IFERROR(Tilgungsplan!F365,"")
A35: GESAMT | C35: =SUM(C5:C34) -> 0 | D35: =SUM(D5:D34) -> 0 | E35: =SUM(E5:E34) -> 99187.51

Sheet Szenario-Vergleich
A1: SZENARIO-VERGLEICH – Was wäre wenn?
A3: Vergleichen Sie bis zu 4 verschiedene Finanzierungsszenarien nebeneinander.
A5: Parameter / Ergebnis | B5: Aktuelles Szenario | C5: Höhere Tilgung | D5: Höhere Sondertilgung | E5: Kürzere Laufzeit
A6: Darlehensbetrag | B6: 250000 | C6: 250000 | D6: 250000 | E6: 250000
A7: Sollzins (% p.a.) | B7: 0.035 | C7: 0.035 | D7: 0.035 | E7: 0.035
A8: Anfängl. Tilgung (%) | B8: 0.02 | C8: 0.03 | D8: 0.02 | E8: 0.02
A9: Jährl. Sondertilgung | B9: 6000 | C9: 6000 | D9: 12000 | E9: 6000
A10: ── ERGEBNISSE ──
A11: Monatliche Rate | B11: =ROUND(B6*(B7/12+B8/12),2) -> 1145.83 | C11: =ROUND(C6*(C7/12+C8/12),2) -> 1354.17 | D11: =ROUND(D6*(D7/12+D8/12),2) -> 1145.83 | E11: =ROUND(E6*(E7/12+E8/12),2) -> 1145.83
A12: Laufzeit ohne Sondertilg. (Jahre) | B12: =ROUND(-NPER(B7/12,-B11,B6)/12,1) -> -28.9 | C12: =ROUND(-NPER(C7/12,-C11,C6)/12,1) -> -22.1 | D12: =ROUND(-NPER(D7/12,-D11,D6)/12,1) -> -28.9 | E12: =ROUND(-NPER(E7/12,-E11,E6)/12,1) -> -28.9
A13: Gesamtzinsen (ohne Sondertilg.) | B13: =IFERROR(NPER(B7/12,-(B6*(B7/12+B8/12)),B6)*B6*(B7/12+B8/12)/12*12-B6,0) -> 147993.93 | C13: =IFERROR(NPER(C7/12,-(C6*(C7/12+C8/12)),C6)*C6*(C7/12+C8/12)/12*12-C6,0) -> 109504.28 | D13: =IFERROR(NPER(D7/12,-(D6*(D7/12+D8/12)),D6)*D6*(D7/12+D8/12)/12*12-D6,0) -> 147993.93 | E13: =IFERROR(NPER(E7/12,-(E6*(E7/12+E8/12)),E6)*E6*(E7/12+E8/12)/12*12-E6,0) -> 147993.93
