Workbook

Sheet Tilgungsrechner
A1: TILGUNGSRECHNER
A4: Annuitätendarlehen mit Sondertilgung – Finanzierungsplan
B6: ⚙ KREDITDATEN – Eingabe | E6: 📊 ERGEBNISSE ÜBERSICHT
B7: Darlehensbetrag | C7: 250000 | E7: Monatliche Rate | F7: =ROUND(C7*(C8/12+C9/12),2) -> 1145.83
B8: Sollzins (% p.a.) | C8: 0.035 | E8: Laufzeit (ohne Sonder) | F8: =ROUND(-NPER(C8/12,-F7,C7)/12,1) -> -28.9
B9: Anfängl. Tilgung (% p.a.) | C9: 0.02 | E9: Gesamtzinsen (o. Sonder) | F9: =IFERROR(NPER(C8/12,-(C7*(C8/12+C9/12)),C7)*C7*(C8/12+C9/12)/12*12-C7,0) -> 147993.93
B10: Jährl. Sondertilgung | C10: 6000 | E10: Laufzeit (mit Sonder) | F10: =Tilgungsplan!B4 -> -28.9
B11: Zinsbindung (Jahre) | C11: 10 | E11: Gesamtzinsen (m. Sonder) | F11: =Tilgungsplan!B5 -> 82924.23
B12: Startdatum | C12: 01.01.2025 | E12: Zinsen gespart | F12: =F9-F11 -> 65069.696
B14: 💡 Blaue Zellen = Eingabe anpassen | Schwarze Zellen = automatisch berechnet
B16: 💰 SONDERTILGUNG – Analyse & Empfehlung
B17: Max. Sondertilgung p.a. (5%) | C17: =C7*0.05 -> 12500 | E17: Zinsen gespart durch Sondertilgung | F17: =F9-F11 -> 65069.696
B18: Ihre Sondertilgung p.a. | C18: =C10 -> 6000 | E18: Jahre früher schuldenfrei | F18: =IFERROR(F8-F10,0) -> 0
B19: Ausgeschöpft (%) | C19: =IFERROR(C10/(C7*0.05),0) -> 0.48 | E19: Gesamtkostenersparnis | F19: =F17 -> 65069.696
B20: Status | C20: =IF(C10<=C7*0.05,"✅ Im Rahmen","⚠️ Übersteigt Limit!") -> ✅ Im Rahmen | E20: Restschuld nach Zinsbindung | F20: =IFERROR(Tilgungsplan!B6,0)
B22: 🔒 ZINSBINDUNGSENDE – Anschlussfinanzierung
B23: Ende der Zinsbindung (Monat) | C23: =C11*12 -> 120
B24: Restschuld am Bindungsende | C24: =IFERROR(Tilgungsplan!B6,0)
B25: Noch offener Betrag (%) | C25: =IFERROR(Tilgungsplan!B6/C7,0) -> 0
B26: Empf. neue Tilgung bei 4,5% | C26: =IFERROR(ROUND(Tilgungsplan!B6*0.045/12+(Tilgungsplan!B6*0.02/12),2),0) -> 0
B28: HINWEISE ZUR NUTZUNG • Passen Sie die blauen Eingabefelder (Zeilen 7–12) an Ihr Darlehen an. • Der Tilgungsplan berechnet sich automatisch im zweiten Tabellenblatt. • Sondertilgungen sind typischerweise auf 5 % des Ursprungsbetrags pro Jahr begrenzt – bitte Kreditvertrag prüfen. • Alle Berechnungen basieren auf gleichbleibenden Konditionen (Annuitätendarlehen).

Sheet Tilgungsplan
A1: TILGUNGSPLAN – MONATLICHE ÜBERSICHT
A3: Zusammenfassung (wird von Tilgungsrechner verwendet)
A4: Laufzeit mit Sondertilgung (Jahre) | B4: =ROUND(-NPER(Tilgungsrechner!C8/12,-Tilgungsrechner!F7,Tilgungsrechner!C7)/12,1) -> -28.9
A5: Monat | B5: =SUMIF(F6:F365,">"&0,D6:D365) -> 82924.23 | C5: Restschuld (Anfang) | D5: Zinsen | E5: Tilgung | F5: Restschuld (Ende) | G5: Sondertilg. | H5: Jahr
A6: 1 | B6: =IFERROR(edatum(datwert(Tilgungsrechner!C12),0),"") | C6: =Tilgungsrechner!C7 -> 250000 | D6: =IFERROR(IF(C6="","",ROUND(C6*Tilgungsrechner!C8/12,2)),"") -> 729.17 | E6: =IFERROR(IF(C6="","",MIN(ROUND(Tilgungsrechner!F7-D6,2),C6)),"") -> 416.66 | F6: =IFERROR(IF(C6="","",MAX(0, C6-E6-IF(MOD(A6,12)=0,Tilgungsrechner!C10,0))),"") -> 249583.34 | G6: =IFERROR(IF(C6="","",IF(MOD(A6,12)=0,MIN(Tilgungsrechner!C10,MAX(0,C6-E6)),0)),"") -> 0 | H6: =IFERROR(IF(C6="","",aufround(A6/12,0)),"")
A7: 2 | B7: =IFERROR(edatum(datwert(Tilgungsrechner!C12),1),"") | C7: =IF(F6<=0,"",F6) -> 249583.34 | D7: =IFERROR(IF(C7="","",ROUND(C7*Tilgungsrechner!C8/12,2)),"") -> 727.95 | E7: =IFERROR(IF(C7="","",MIN(ROUND(Tilgungsrechner!F7-D7,2),C7)),"") -> 417.88 | F7: =IFERROR(IF(C7="","",MAX(0, C7-E7-IF(MOD(A7,12)=0,Tilgungsrechner!C10,0))),"") -> 249165.46 | G7: =IFERROR(IF(C7="","",IF(MOD(A7,12)=0,MIN(Tilgungsrechner!C10,MAX(0,C7-E7)),0)),"") -> 0 | H7: =IFERROR(IF(C7="","",aufround(A7/12,0)),"")
A8: 3 | B8: =IFERROR(edatum(datwert(Tilgungsrechner!C12),2),"") | C8: =IF(F7<=0,"",F7) -> 249165.46 | D8: =IFERROR(IF(C8="","",ROUND(C8*Tilgungsrechner!C8/12,2)),"") -> 726.73 | E8: =IFERROR(IF(C8="","",MIN(ROUND(Tilgungsrechner!F7-D8,2),C8)),"") -> 419.1 | F8: =IFERROR(IF(C8="","",MAX(0, C8-E8-IF(MOD(A8,12)=0,Tilgungsrechner!C10,0))),"") -> 248746.36 | G8: =IFERROR(IF(C8="","",IF(MOD(A8,12)=0,MIN(Tilgungsrechner!C10,MAX(0,C8-E8)),0)),"") -> 0 | H8: =IFERROR(IF(C8="","",aufround(A8/12,0)),"")
A9: 4 | B9: =IFERROR(edatum(datwert(Tilgungsrechner!C12),3),"") | C9: =IF(F8<=0,"",F8) -> 248746.36 | D9: =IFERROR(IF(C9="","",ROUND(C9*Tilgungsrechner!C8/12,2)),"") -> 725.51 | E9: =IFERROR(IF(C9="","",MIN(ROUND(Tilgungsrechner!F7-D9,2),C9)),"") -> 420.32 | F9: =IFERROR(IF(C9="","",MAX(0, C9-E9-IF(MOD(A9,12)=0,Tilgungsrechner!C10,0))),"") -> 248326.04 | G9: =IFERROR(IF(C9="","",IF(MOD(A9,12)=0,MIN(Tilgungsrechner!C10,MAX(0,C9-E9)),0)),"") -> 0 | H9: =IFERROR(IF(C9="","",aufround(A9/12,0)),"")
A10: 5 | B10: =IFERROR(edatum(datwert(Tilgungsrechner!C12),4),"") | C10: =IF(F9<=0,"",F9) -> 248326.04 | D10: =IFERROR(IF(C10="","",ROUND(C10*Tilgungsrechner!C8/12,2)),"") -> 724.28 | E10: =IFERROR(IF(C10="","",MIN(ROUND(Tilgungsrechner!F7-D10,2),C10)),"") -> 421.55 | F10: =IFERROR(IF(C10="","",MAX(0, C10-E10-IF(MOD(A10,12)=0,Tilgungsrechner!C10,0))),"") -> 247904.49 | G10: =IFERROR(IF(C10="","",IF(MOD(A10,12)=0,MIN(Tilgungsrechner!C10,MAX(0,C10-E10)),0)),"") -> 0 | H10: =IFERROR(IF(C10="","",aufround(A10/12,0)),"")
A11: 6 | B11: =IFERROR(edatum(datwert(Tilgungsrechner!C12),5),"") | C11: =IF(F10<=0,"",F10) -> 247904.49 | D11: =IFERROR(IF(C11="","",ROUND(C11*Tilgungsrechner!C8/12,2)),"") -> 723.05 | E11: =IFERROR(IF(C11="","",MIN(ROUND(Tilgungsrechner!F7-D11,2),C11)),"") -> 422.78 | F11: =IFERROR(IF(C11="","",MAX(0, C11-E11-IF(MOD(A11,12)=0,Tilgungsrechner!C10,0))),"") -> 247481.71 | G11: =IFERROR(IF(C11="","",IF(MOD(A11,12)=0,MIN(Tilgungsrechner!C10,MAX(0,C11-E11)),0)),"") -> 0 | H11: =IFERROR(IF(C11="","",aufround(A11/12,0)),"")
A12: 7 | B12: =IFERROR(edatum(datwert(Tilgungsrechner!C12),6),"") | C12: =IF(F11<=0,"",F11) -> 247481.71 | D12: =IFERROR(IF(C12="","",ROUND(C12*Tilgungsrechner!C8/12,2)),"") -> 721.82 | E12: =IFERROR(IF(C12="","",MIN(ROUND(Tilgungsrechner!F7-D12,2),C12)),"") -> 424.01 | F12: =IFERROR(IF(C12="","",MAX(0, C12-E12-IF(MOD(A12,12)=0,Tilgungsrechner!C10,0))),"") -> 247057.7 | G12: =IFERROR(IF(C12="","",IF(MOD(A12,12)=0,MIN(Tilgungsrechner!C10,MAX(0,C12-E12)),0)),"") -> 0 | H12: =IFERROR(IF(C12="","",aufround(A12/12,0)),"")
A13: 8 | B13: =IFERROR(edatum(datwert(Tilgungsrechner!C12),7),"") | C13: =IF(F12<=0,"",F12) -> 247057.7 | D13: =IFERROR(IF(C13="","",ROUND(C13*Tilgungsrechner!C8/12,2)),"") -> 720.58 | E13: =IFERROR(IF(C13="","",MIN(ROUND(Tilgungsrechner!F7-D13,2),C13)),"") -> 425.25 | F13: =IFERROR(IF(C13="","",MAX(0, C13-E13-IF(MOD(A13,12)=0,Tilgungsrechner!C10,0))),"") -> 246632.45 | G13: =IFERROR(IF(C13="","",IF(MOD(A13,12)=0,MIN(Tilgungsrechner!C10,MAX(0,C13-E13)),0)),"") -> 0 | H13: =IFERROR(IF(C13="","",aufround(A13/12,0)),"")
A14: 9 | B14: =IFERROR(edatum(datwert(Tilgungsrechner!C12),8),"") | C14: =IF(F13<=0,"",F13) -> 246632.45 | D14: =IFERROR(IF(C14="","",ROUND(C14*Tilgungsrechner!C8/12,2)),"") -> 719.34 | E14: =IFERROR(IF(C14="","",MIN(ROUND(Tilgungsrechner!F7-D14,2),C14)),"") -> 426.49 | F14: =IFERROR(IF(C14="","",MAX(0, C14-E14-IF(MOD(A14,12)=0,Tilgungsrechner!C10,0))),"") -> 246205.96 | G14: =IFERROR(IF(C14="","",IF(MOD(A14,12)=0,MIN(Tilgungsrechner!C10,MAX(0,C14-E14)),0)),"") -> 0 | H14: =IFERROR(IF(C14="","",aufround(A14/12,0)),"")
A15: 10 | B15: =IFERROR(edatum(datwert(Tilgungsrechner!C12),9),"") | C15: =IF(F14<=0,"",F14) -> 246205.96 | D15: =IFERROR(IF(C15="","",ROUND(C15*Tilgungsrechner!C8/12,2)),"") -> 718.1 | E15: =IFERROR(IF(C15="","",MIN(ROUND(Tilgungsrechner!F7-D15,2),C15)),"") -> 427.73 | F15: =IFERROR(IF(C15="","",MAX(0, C15-E15-IF(MOD(A15,12)=0,Tilgungsrechner!C10,0))),"") -> 245778.23 | G15: =IFERROR(IF(C15="","",IF(MOD(A15,12)=0,MIN(Tilgungsrechner!C10,MAX(0,C15-E15)),0)),"") -> 0 | H15: =IFERROR(IF(C15="","",aufround(A15/12,0)),"")
A16: 11 | B16: =IFERROR(edatum(datwert(Tilgungsrechner!C12),10),"") | C16: =IF(F15<=0,"",F15) -> 245778.23 | D16: =IFERROR(IF(C16="","",ROUND(C16*Tilgungsrechner!C8/12,2)),"") -> 716.85 | E16: =IFERROR(IF(C16="","",MIN(ROUND(Tilgungsrechner!F7-D16,2),C16)),"") -> 428.98 | F16: =IFERROR(IF(C16="","",MAX(0, C16-E16-IF(MOD(A16,12)=0,Tilgungsrechner!C10,0))),"") -> 245349.25 | G16: =IFERROR(IF(C16="","",IF(MOD(A16,12)=0,MIN(Tilgungsrechner!C10,MAX(0,C16-E16)),0)),"") -> 0 | H16: =IFERROR(IF(C16="","",aufround(A16/12,0)),"")
A17: 12 | B17: =IFERROR(edatum(datwert(Tilgungsrechner!C12),11),"") | C17: =IF(F16<=0,"",F16) -> 245349.25 | D17: =IFERROR(IF(C17="","",ROUND(C17*Tilgungsrechner!C8/12,2)),"") -> 715.6 | E17: =IFERROR(IF(C17="","",MIN(ROUND(Tilgungsrechner!F7-D17,2),C17)),"") -> 430.23 | F17: =IFERROR(IF(C17="","",MAX(0, C17-E17-IF(MOD(A17,12)=0,Tilgungsrechner!C10,0))),"") -> 238919.02 | G17: =IFERROR(IF(C17="","",IF(MOD(A17,12)=0,MIN(Tilgungsrechner!C10,MAX(0,C17-E17)),0)),"") -> 6000 | H17: =IFERROR(IF(C17="","",aufround(A17/12,0)),"")
A18: 13 | B18: =IFERROR(edatum(datwert(Tilgungsrechner!C12),12),"") | C18: =IF(F17<=0,"",F17) -> 238919.02 | D18: =IFERROR(IF(C18="","",ROUND(C18*Tilgungsrechner!C8/12,2)),"") -> 696.85 | E18: =IFERROR(IF(C18="","",MIN(ROUND(Tilgungsrechner!F7-D18,2),C18)),"") -> 448.98 | F18: =IFERROR(IF(C18="","",MAX(0, C18-E18-IF(MOD(A18,12)=0,Tilgungsrechner!C10,0))),"") -> 238470.04 | G18: =IFERROR(IF(C18="","",IF(MOD(A18,12)=0,MIN(Tilgungsrechner!C10,MAX(0,C18-E18)),0)),"") -> 0 | H18: =IFERROR(IF(C18="","",aufround(A18/12,0)),"")
A19: 14 | B19: =IFERROR(edatum(datwert(Tilgungsrechner!C12),13),"") | C19: =IF(F18<=0,"",F18) -> 238470.04 | D19: =IFERROR(IF(C19="","",ROUND(C19*Tilgungsrechner!C8/12,2)),"") -> 695.54 | E19: =IFERROR(IF(C19="","",MIN(ROUND(Tilgungsrechner!F7-D19,2),C19)),"") -> 450.29 | F19: =IFERROR(IF(C19="","",MAX(0, C19-E19-IF(MOD(A19,12)=0,Tilgungsrechner!C10,0))),"") -> 238019.75 | G19: =IFERROR(IF(C19="","",IF(MOD(A19,12)=0,MIN(Tilgungsrechner!C10,MAX(0,C19-E19)),0)),"") -> 0 | H19: =IFERROR(IF(C19="","",aufround(A19/12,0)),"")
A20: 15 | B20: =IFERROR(edatum(datwert(Tilgungsrechner!C12),14),"") | C20: =IF(F19<=0,"",F19) -> 238019.75 | D20: =IFERROR(IF(C20="","",ROUND(C20*Tilgungsrechner!C8/12,2)),"") -> 694.22 | E20: =IFERROR(IF(C20="","",MIN(ROUND(Tilgungsrechner!F7-D20,2),C20)),"") -> 451.61 | F20: =IFERROR(IF(C20="","",MAX(0, C20-E20-IF(MOD(A20,12)=0,Tilgungsrechner!C10,0))),"") -> 237568.14 | G20: =IFERROR(IF(C20="","",IF(MOD(A20,12)=0,MIN(Tilgungsrechner!C10,MAX(0,C20-E20)),0)),"") -> 0 | H20: =IFERROR(IF(C20="","",aufround(A20/12,0)),"")
A21: 16 | B21: =IFERROR(edatum(datwert(Tilgungsrechner!C12),15),"") | C21: =IF(F20<=0,"",F20) -> 237568.14 | D21: =IFERROR(IF(C21="","",ROUND(C21*Tilgungsrechner!C8/12,2)),"") -> 692.91 | E21: =IFERROR(IF(C21="","",MIN(ROUND(Tilgungsrechner!F7-D21,2),C21)),"") -> 452.92 | F21: =IFERROR(IF(C21="","",MAX(0, C21-E21-IF(MOD(A21,12)=0,Tilgungsrechner!C10,0))),"") -> 237115.22 | G21: =IFERROR(IF(C21="","",IF(MOD(A21,12)=0,MIN(Tilgungsrechner!C10,MAX(0,C21-E21)),0)),"") -> 0 | H21: =IFERROR(IF(C21="","",aufround(A21/12,0)),"")
A22: 17 | B22: =IFERROR(edatum(datwert(Tilgungsrechner!C12),16),"") | C22: =IF(F21<=0,"",F21) -> 237115.22 | D22: =IFERROR(IF(C22="","",ROUND(C22*Tilgungsrechner!C8/12,2)),"") -> 691.59 | E22: =IFERROR(IF(C22="","",MIN(ROUND(Tilgungsrechner!F7-D22,2),C22)),"") -> 454.24 | F22: =IFERROR(IF(C22="","",MAX(0, C22-E22-IF(MOD(A22,12)=0,Tilgungsrechner!C10,0))),"") -> 236660.98 | G22: =IFERROR(IF(C22="","",IF(MOD(A22,12)=0,MIN(Tilgungsrechner!C10,MAX(0,C22-E22)),0)),"") -> 0 | H22: =IFERROR(IF(C22="","",aufround(A22/12,0)),"")
A23: 18 | B23: =IFERROR(edatum(datwert(Tilgungsrechner!C12),17),"") | C23: =IF(F22<=0,"",F22) -> 236660.98 | D23: =IFERROR(IF(C23="","",ROUND(C23*Tilgungsrechner!C8/12,2)),"") -> 690.26 | E23: =IFERROR(IF(C23="","",MIN(ROUND(Tilgungsrechner!F7-D23,2),C23)),"") -> 455.57 | F23: =IFERROR(IF(C23="","",MAX(0, C23-E23-IF(MOD(A23,12)=0,Tilgungsrechner!C10,0))),"") -> 236205.41 | G23: =IFERROR(IF(C23="","",IF(MOD(A23,12)=0,MIN(Tilgungsrechner!C10,MAX(0,C23-E23)),0)),"") -> 0 | H23: =IFERROR(IF(C23="","",aufround(A23/12,0)),"")
A24: 19 | B24: =IFERROR(edatum(datwert(Tilgungsrechner!C12),18),"") | C24: =IF(F23<=0,"",F23) -> 236205.41 | D24: =IFERROR(IF(C24="","",ROUND(C24*Tilgungsrechner!C8/12,2)),"") -> 688.93 | E24: =IFERROR(IF(C24="","",MIN(ROUND(Tilgungsrechner!F7-D24,2),C24)),"") -> 456.9 | F24: =IFERROR(IF(C24="","",MAX(0, C24-E24-IF(MOD(A24,12)=0,Tilgungsrechner!C10,0))),"") -> 235748.51 | G24: =IFERROR(IF(C24="","",IF(MOD(A24,12)=0,MIN(Tilgungsrechner!C10,MAX(0,C24-E24)),0)),"") -> 0 | H24: =IFERROR(IF(C24="","",aufround(A24/12,0)),"")
A25: 20 | B25: =IFERROR(edatum(datwert(Tilgungsrechner!C12),19),"") | C25: =IF(F24<=0,"",F24) -> 235748.51 | D25: =IFERROR(IF(C25="","",ROUND(C25*Tilgungsrechner!C8/12,2)),"") -> 687.6 | E25: =IFERROR(IF(C25="","",MIN(ROUND(Tilgungsrechner!F7-D25,2),C25)),"") -> 458.23 | F25: =IFERROR(IF(C25="","",MAX(0, C25-E25-IF(MOD(A25,12)=0,Tilgungsrechner!C10,0))),"") -> 235290.28 | G25: =IFERROR(IF(C25="","",IF(MOD(A25,12)=0,MIN(Tilgungsrechner!C10,MAX(0,C25-E25)),0)),"") -> 0 | H25: =IFERROR(IF(C25="","",aufround(A25/12,0)),"")
A26: 21 | B26: =IFERROR(edatum(datwert(Tilgungsrechner!C12),20),"") | C26: =IF(F25<=0,"",F25) -> 235290.28 | D26: =IFERROR(IF(C26="","",ROUND(C26*Tilgungsrechner!C8/12,2)),"") -> 686.26 | E26: =IFERROR(IF(C26="","",MIN(ROUND(Tilgungsrechner!F7-D26,2),C26)),"") -> 459.57 | F26: =IFERROR(IF(C26="","",MAX(0, C26-E26-IF(MOD(A26,12)=0,Tilgungsrechner!C10,0))),"") -> 234830.71 | G26: =IFERROR(IF(C26="","",IF(MOD(A26,12)=0,MIN(Tilgungsrechner!C10,MAX(0,C26-E26)),0)),"") -> 0 | H26: =IFERROR(IF(C26="","",aufround(A26/12,0)),"")
A27: 22 | B27: =IFERROR(edatum(datwert(Tilgungsrechner!C12),21),"") | C27: =IF(F26<=0,"",F26) -> 234830.71 | D27: =IFERROR(IF(C27="","",ROUND(C27*Tilgungsrechner!C8/12,2)),"") -> 684.92 | E27: =IFERROR(IF(C27="","",MIN(ROUND(Tilgungsrechner!F7-D27,2),C27)),"") -> 460.91 | F27: =IFERROR(IF(C27="","",MAX(0, C27-E27-IF(MOD(A27,12)=0,Tilgungsrechner!C10,0))),"") -> 234369.8 | G27: =IFERROR(IF(C27="","",IF(MOD(A27,12)=0,MIN(Tilgungsrechner!C10,MAX(0,C27-E27)),0)),"") -> 0 | H27: =IFERROR(IF(C27="","",aufround(A27/12,0)),"")
A28: 23 | B28: =IFERROR(edatum(datwert(Tilgungsrechner!C12),22),"") | C28: =IF(F27<=0,"",F27) -> 234369.8 | D28: =IFERROR(IF(C28="","",ROUND(C28*Tilgungsrechner!C8/12,2)),"") -> 683.58 | E28: =IFERROR(IF(C28="","",MIN(ROUND(Tilgungsrechner!F7-D28,2),C28)),"") -> 462.25 | F28: =IFERROR(IF(C28="","",MAX(0, C28-E28-IF(MOD(A28,12)=0,Tilgungsrechner!C10,0))),"") -> 233907.55 | G28: =IFERROR(IF(C28="","",IF(MOD(A28,12)=0,MIN(Tilgungsrechner!C10,MAX(0,C28-E28)),0)),"") -> 0 | H28: =IFERROR(IF(C28="","",aufround(A28/12,0)),"")
A29: 24 | B29: =IFERROR(edatum(datwert(Tilgungsrechner!C12),23),"") | C29: =IF(F28<=0,"",F28) -> 233907.55 | D29: =IFERROR(IF(C29="","",ROUND(C29*Tilgungsrechner!C8/12,2)),"") -> 682.23 | E29: =IFERROR(IF(C29="","",MIN(ROUND(Tilgungsrechner!F7-D29,2),C29)),"") -> 463.6 | F29: =IFERROR(IF(C29="","",MAX(0, C29-E29-IF(MOD(A29,12)=0,Tilgungsrechner!C10,0))),"") -> 227443.95 | G29: =IFERROR(IF(C29="","",IF(MOD(A29,12)=0,MIN(Tilgungsrechner!C10,MAX(0,C29-E29)),0)),"") -> 6000 | H29: =IFERROR(IF(C29="","",aufround(A29/12,0)),"")
A30: 25 | B30: =IFERROR(edatum(datwert(Tilgungsrechner!C12),24),"") | C30: =IF(F29<=0,"",F29) -> 227443.95 | D30: =IFERROR(IF(C30="","",ROUND(C30*Tilgungsrechner!C8/12,2)),"") -> 663.38 | E30: =IFERROR(IF(C30="","",MIN(ROUND(Tilgungsrechner!F7-D30,2),C30)),"") -> 482.45 | F30: =IFERROR(IF(C30="","",MAX(0, C30-E30-IF(MOD(A30,12)=0,Tilgungsrechner!C10,0))),"") -> 226961.5 | G30: =IFERROR(IF(C30="","",IF(MOD(A30,12)=0,MIN(Tilgungsrechner!C10,MAX(0,C30-E30)),0)),"") -> 0 | H30: =IFERROR(IF(C30="","",aufround(A30/12,0)),"")
A31: 26 | B31: =IFERROR(edatum(datwert(Tilgungsrechner!C12),25),"") | C31: =IF(F30<=0,"",F30) -> 226961.5 | D31: =IFERROR(IF(C31="","",ROUND(C31*Tilgungsrechner!C8/12,2)),"") -> 661.97 | E31: =IFERROR(IF(C31="","",MIN(ROUND(Tilgungsrechner!F7-D31,2),C31)),"") -> 483.86 | F31: =IFERROR(IF(C31="","",MAX(0, C31-E31-IF(MOD(A31,12)=0,Tilgungsrechner!C10,0))),"") -> 226477.64 | G31: =IFERROR(IF(C31="","",IF(MOD(A31,12)=0,MIN(Tilgungsrechner!C10,MAX(0,C31-E31)),0)),"") -> 0 | H31: =IFERROR(IF(C31="","",aufround(A31/12,0)),"")
A32: 27 | B32: =IFERROR(edatum(datwert(Tilgungsrechner!C12),26),"") | C32: =IF(F31<=0,"",F31) -> 226477.64 | D32: =IFERROR(IF(C32="","",ROUND(C32*Tilgungsrechner!C8/12,2)),"") -> 660.56 | E32: =IFERROR(IF(C32="","",MIN(ROUND(Tilgungsrechner!F7-D32,2),C32)),"") -> 485.27 | F32: =IFERROR(IF(C32="","",MAX(0, C32-E32-IF(MOD(A32,12)=0,Tilgungsrechner!C10,0))),"") -> 225992.37 | G32: =IFERROR(IF(C32="","",IF(MOD(A32,12)=0,MIN(Tilgungsrechner!C10,MAX(0,C32-E32)),0)),"") -> 0 | H32: =IFERROR(IF(C32="","",aufround(A32/12,0)),"")
A33: 28 | B33: =IFERROR(edatum(datwert(Tilgungsrechner!C12),27),"") | C33: =IF(F32<=0,"",F32) -> 225992.37 | D33: =IFERROR(IF(C33="","",ROUND(C33*Tilgungsrechner!C8/12,2)),"") -> 659.14 | E33: =IFERROR(IF(C33="","",MIN(ROUND(Tilgungsrechner!F7-D33,2),C33)),"") -> 486.69 | F33: =IFERROR(IF(C33="","",MAX(0, C33-E33-IF(MOD(A33,12)=0,Tilgungsrechner!C10,0))),"") -> 225505.68 | G33: =IFERROR(IF(C33="","",IF(MOD(A33,12)=0,MIN(Tilgungsrechner!C10,MAX(0,C33-E33)),0)),"") -> 0 | H33: =IFERROR(IF(C33="","",aufround(A33/12,0)),"")
A34: 29 | B34: =IFERROR(edatum(datwert(Tilgungsrechner!C12),28),"") | C34: =IF(F33<=0,"",F33) -> 225505.68 | D34: =IFERROR(IF(C34="","",ROUND(C34*Tilgungsrechner!C8/12,2)),"") -> 657.72 | E34: =IFERROR(IF(C34="","",MIN(ROUND(Tilgungsrechner!F7-D34,2),C34)),"") -> 488.11 | F34: =IFERROR(IF(C34="","",MAX(0, C34-E34-IF(MOD(A34,12)=0,Tilgungsrechner!C10,0))),"") -> 225017.57 | G34: =IFERROR(IF(C34="","",IF(MOD(A34,12)=0,MIN(Tilgungsrechner!C10,MAX(0,C34-E34)),0)),"") -> 0 | H34: =IFERROR(IF(C34="","",aufround(A34/12,0)),"")
A35: 30 | B35: =IFERROR(edatum(datwert(Tilgungsrechner!C12),29),"") | C35: =IF(F34<=0,"",F34) -> 225017.57 | D35: =IFERROR(IF(C35="","",ROUND(C35*Tilgungsrechner!C8/12,2)),"") -> 656.3 | E35: =IFERROR(IF(C35="","",MIN(ROUND(Tilgungsrechner!F7-D35,2),C35)),"") -> 489.53 | F35: =IFERROR(IF(C35="","",MAX(0, C35-E35-IF(MOD(A35,12)=0,Tilgungsrechner!C10,0))),"") -> 224528.04 | G35: =IFERROR(IF(C35="","",IF(MOD(A35,12)=0,MIN(Tilgungsrechner!C10,MAX(0,C35-E35)),0)),"") -> 0 | H35: =IFERROR(IF(C35="","",aufround(A35/12,0)),"")
A36: 31 | B36: =IFERROR(edatum(datwert(Tilgungsrechner!C12),30),"") | C36: =IF(F35<=0,"",F35) -> 224528.04 | D36: =IFERROR(IF(C36="","",ROUND(C36*Tilgungsrechner!C8/12,2)),"") -> 654.87 | E36: =IFERROR(IF(C36="","",MIN(ROUND(Tilgungsrechner!F7-D36,2),C36)),"") -> 490.96 | F36: =IFERROR(IF(C36="","",MAX(0, C36-E36-IF(MOD(A36,12)=0,Tilgungsrechner!C10,0))),"") -> 224037.08 | G36: =IFERROR(IF(C36="","",IF(MOD(A36,12)=0,MIN(Tilgungsrechner!C10,MAX(0,C36-E36)),0)),"") -> 0 | H36: =IFERROR(IF(C36="","",aufround(A36/12,0)),"")
A37: 32 | B37: =IFERROR(edatum(datwert(Tilgungsrechner!C12),31),"") | C37: =IF(F36<=0,"",F36) -> 224037.08 | D37: =IFERROR(IF(C37="","",ROUND(C37*Tilgungsrechner!C8/12,2)),"") -> 653.44 | E37: =IFERROR(IF(C37="","",MIN(ROUND(Tilgungsrechner!F7-D37,2),C37)),"") -> 492.39 | F37: =IFERROR(IF(C37="","",MAX(0, C37-E37-IF(MOD(A37,12)=0,Tilgungsrechner!C10,0))),"") -> 223544.69 | G37: =IFERROR(IF(C37="","",IF(MOD(A37,12)=0,MIN(Tilgungsrechner!C10,MAX(0,C37-E37)),0)),"") -> 0 | H37: =IFERROR(IF(C37="","",aufround(A37/12,0)),"")
A38: 33 | B38: =IFERROR(edatum(datwert(Tilgungsrechner!C12),32),"") | C38: =IF(F37<=0,"",F37) -> 223544.69 | D38: =IFERROR(IF(C38="","",ROUND(C38*Tilgungsrechner!C8/12,2)),"") -> 652.01 | E38: =IFERROR(IF(C38="","",MIN(ROUND(Tilgungsrechner!F7-D38,2),C38)),"") -> 493.82 | F38: =IFERROR(IF(C38="","",MAX(0, C38-E38-IF(MOD(A38,12)=0,Tilgungsrechner!C10,0))),"") -> 223050.87 | G38: =IFERROR(IF(C38="","",IF(MOD(A38,12)=0,MIN(Tilgungsrechner!C10,MAX(0,C38-E38)),0)),"") -> 0 | H38: =IFERROR(IF(C38="","",aufround(A38/12,0)),"")
A39: 34 | B39: =IFERROR(edatum(datwert(Tilgungsrechner!C12),33),"") | C39: =IF(F38<=0,"",F38) -> 223050.87 | D39: =IFERROR(IF(C39="","",ROUND(C39*Tilgungsrechner!C8/12,2)),"") -> 650.57 | E39: =IFERROR(IF(C39="","",MIN(ROUND(Tilgungsrechner!F7-D39,2),C39)),"") -> 495.26 | F39: =IFERROR(IF(C39="","",MAX(0, C39-E39-IF(MOD(A39,12)=0,Tilgungsrechner!C10,0))),"") -> 222555.61 | G39: =IFERROR(IF(C39="","",IF(MOD(A39,12)=0,MIN(Tilgungsrechner!C10,MAX(0,C39-E39)),0)),"") -> 0 | H39: =IFERROR(IF(C39="","",aufround(A39/12,0)),"")
A40: 35 | B40: =IFERROR(edatum(datwert(Tilgungsrechner!C12),34),"") | C40: =IF(F39<=0,"",F39) -> 222555.61 | D40: =IFERROR(IF(C40="","",ROUND(C40*Tilgungsrechner!C8/12,2)),"") -> 649.12 | E40: =IFERROR(IF(C40="","",MIN(ROUND(Tilgungsrechner!F7-D40,2),C40)),"") -> 496.71 | F40: =IFERROR(IF(C40="","",MAX(0, C40-E40-IF(MOD(A40,12)=0,Tilgungsrechner!C10,0))),"") -> 222058.9 | G40: =IFERROR(IF(C40="","",IF(MOD(A40,12)=0,MIN(Tilgungsrechner!C10,MAX(0,C40-E40)),0)),"") -> 0 | H40: =IFERROR(IF(C40="","",aufround(A40/12,0)),"")
A41: 36 | B41: =IFERROR(edatum(datwert(Tilgungsrechner!C12),35),"") | C41: =IF(F40<=0,"",F40) -> 222058.9 | D41: =IFERROR(IF(C41="","",ROUND(C41*Tilgungsrechner!C8/12,2)),"") -> 647.67 | E41: =IFERROR(IF(C41="","",MIN(ROUND(Tilgungsrechner!F7-D41,2),C41)),"") -> 498.16 | F41: =IFERROR(IF(C41="","",MAX(0, C41-E41-IF(MOD(A41,12)=0,Tilgungsrechner!C10,0))),"") -> 215560.74 | G41: =IFERROR(IF(C41="","",IF(MOD(A41,12)=0,MIN(Tilgungsrechner!C10,MAX(0,C41-E41)),0)),"") -> 6000 | H41: =IFERROR(IF(C41="","",aufround(A41/12,0)),"")
A42: 37 | B42: =IFERROR(edatum(datwert(Tilgungsrechner!C12),36),"") | C42: =IF(F41<=0,"",F41) -> 215560.74 | D42: =IFERROR(IF(C42="","",ROUND(C42*Tilgungsrechner!C8/12,2)),"") -> 628.72 | E42: =IFERROR(IF(C42="","",MIN(ROUND(Tilgungsrechner!F7-D42,2),C42)),"") -> 517.11 | F42: =IFERROR(IF(C42="","",MAX(0, C42-E42-IF(MOD(A42,12)=0,Tilgungsrechner!C10,0))),"") -> 215043.63 | G42: =IFERROR(IF(C42="","",IF(MOD(A42,12)=0,MIN(Tilgungsrechner!C10,MAX(0,C42-E42)),0)),"") -> 0 | H42: =IFERROR(IF(C42="","",aufround(A42/12,0)),"")
A43: 38 | B43: =IFERROR(edatum(datwert(Tilgungsrechner!C12),37),"") | C43: =IF(F42<=0,"",F42) -> 215043.63 | D43: =IFERROR(IF(C43="","",ROUND(C43*Tilgungsrechner!C8/12,2)),"") -> 627.21 | E43: =IFERROR(IF(C43="","",MIN(ROUND(Tilgungsrechner!F7-D43,2),C43)),"") -> 518.62 | F43: =IFERROR(IF(C43="","",MAX(0, C43-E43-IF(MOD(A43,12)=0,Tilgungsrechner!C10,0))),"") -> 214525.01 | G43: =IFERROR(IF(C43="","",IF(MOD(A43,12)=0,MIN(Tilgungsrechner!C10,MAX(0,C43-E43)),0)),"") -> 0 | H43: =IFERROR(IF(C43="","",aufround(A43/12,0)),"")
A44: 39 | B44: =IFERROR(edatum(datwert(Tilgungsrechner!C12),38),"") | C44: =IF(F43<=0,"",F43) -> 214525.01 | D44: =IFERROR(IF(C44="","",ROUND(C44*Tilgungsrechner!C8/12,2)),"") -> 625.7 | E44: =IFERROR(IF(C44="","",MIN(ROUND(Tilgungsrechner!F7-D44,2),C44)),"") -> 520.13 | F44: =IFERROR(IF(C44="","",MAX(0, C44-E44-IF(MOD(A44,12)=0,Tilgungsrechner!C10,0))),"") -> 214004.88 | G44: =IFERROR(IF(C44="","",IF(MOD(A44,12)=0,MIN(Tilgungsrechner!C10,MAX(0,C44-E44)),0)),"") -> 0 | H44: =IFERROR(IF(C44="","",aufround(A44/12,0)),"")
A45: 40 | B45: =IFERROR(edatum(datwert(Tilgungsrechner!C12),39),"") | C45: =IF(F44<=0,"",F44) -> 214004.88 | D45: =IFERROR(IF(C45="","",ROUND(C45*Tilgungsrechner!C8/12,2)),"") -> 624.18 | E45: =IFERROR(IF(C45="","",MIN(ROUND(Tilgungsrechner!F7-D45,2),C45)),"") -> 521.65 | F45: =IFERROR(IF(C45="","",MAX(0, C45-E45-IF(MOD(A45,12)=0,Tilgungsrechner!C10,0))),"") -> 213483.23 | G45: =IFERROR(IF(C45="","",IF(MOD(A45,12)=0,MIN(Tilgungsrechner!C10,MAX(0,C45-E45)),0)),"") -> 0 | H45: =IFERROR(IF(C45="","",aufround(A45/12,0)),"")
A46: 41 | B46: =IFERROR(edatum(datwert(Tilgungsrechner!C12),40),"") | C46: =IF(F45<=0,"",F45) -> 213483.23 | D46: =IFERROR(IF(C46="","",ROUND(C46*Tilgungsrechner!C8/12,2)),"") -> 622.66 | E46: =IFERROR(IF(C46="","",MIN(ROUND(Tilgungsrechner!F7-D46,2),C46)),"") -> 523.17 | F46: =IFERROR(IF(C46="","",MAX(0, C46-E46-IF(MOD(A46,12)=0,Tilgungsrechner!C10,0))),"") -> 212960.06 | G46: =IFERROR(IF(C46="","",IF(MOD(A46,12)=0,MIN(Tilgungsrechner!C10,MAX(0,C46-E46)),0)),"") -> 0 | H46: =IFERROR(IF(C46="","",aufround(A46/12,0)),"")
A47: 42 | B47: =IFERROR(edatum(datwert(Tilgungsrechner!C12),41),"") | C47: =IF(F46<=0,"",F46) -> 212960.06 | D47: =IFERROR(IF(C47="","",ROUND(C47*Tilgungsrechner!C8/12,2)),"") -> 621.13 | E47: =IFERROR(IF(C47="","",MIN(ROUND(Tilgungsrechner!F7-D47,2),C47)),"") -> 524.7 | F47: =IFERROR(IF(C47="","",MAX(0, C47-E47-IF(MOD(A47,12)=0,Tilgungsrechner!C10,0))),"") -> 212435.36 | G47: =IFERROR(IF(C47="","",IF(MOD(A47,12)=0,MIN(Tilgungsrechner!C10,MAX(0,C47-E47)),0)),"") -> 0 | H47: =IFERROR(IF(C47="","",aufround(A47/12,0)),"")
A48: 43 | B48: =IFERROR(edatum(datwert(Tilgungsrechner!C12),42),"") | C48: =IF(F47<=0,"",F47) -> 212435.36 | D48: =IFERROR(IF(C48="","",ROUND(C48*Tilgungsrechner!C8/12,2)),"") -> 619.6 | E48: =IFERROR(IF(C48="","",MIN(ROUND(Tilgungsrechner!F7-D48,2),C48)),"") -> 526.23 | F48: =IFERROR(IF(C48="","",MAX(0, C48-E48-IF(MOD(A48,12)=0,Tilgungsrechner!C10,0))),"") -> 211909.13 | G48: =IFERROR(IF(C48="","",IF(MOD(A48,12)=0,MIN(Tilgungsrechner!C10,MAX(0,C48-E48)),0)),"") -> 0 | H48: =IFERROR(IF(C48="","",aufround(A48/12,0)),"")
A49: 44 | B49: =IFERROR(edatum(datwert(Tilgungsrechner!C12),43),"") | C49: =IF(F48<=0,"",F48) -> 211909.13 | D49: =IFERROR(IF(C49="","",ROUND(C49*Tilgungsrechner!C8/12,2)),"") -> 618.07 | E49: =IFERROR(IF(C49="","",MIN(ROUND(Tilgungsrechner!F7-D49,2),C49)),"") -> 527.76 | F49: =IFERROR(IF(C49="","",MAX(0, C49-E49-IF(MOD(A49,12)=0,Tilgungsrechner!C10,0))),"") -> 211381.37 | G49: =IFERROR(IF(C49="","",IF(MOD(A49,12)=0,MIN(Tilgungsrechner!C10,MAX(0,C49-E49)),0)),"") -> 0 | H49: =IFERROR(IF(C49="","",aufround(A49/12,0)),"")
A50: 45 | B50: =IFERROR(edatum(datwert(Tilgungsrechner!C12),44),"") | C50: =IF(F49<=0,"",F49) -> 211381.37 | D50: =IFERROR(IF(C50="","",ROUND(C50*Tilgungsrechner!C8/12,2)),"") -> 616.53 | E50: =IFERROR(IF(C50="","",MIN(ROUND(Tilgungsrechner!F7-D50,2),C50)),"") -> 529.3 | F50: =IFERROR(IF(C50="","",MAX(0, C50-E50-IF(MOD(A50,12)=0,Tilgungsrechner!C10,0))),"") -> 210852.07 | G50: =IFERROR(IF(C50="","",IF(MOD(A50,12)=0,MIN(Tilgungsrechner!C10,MAX(0,C50-E50)),0)),"") -> 0 | H50: =IFERROR(IF(C50="","",aufround(A50/12,0)),"")
A51: 46 | B51: =IFERROR(edatum(datwert(Tilgungsrechner!C12),45),"") | C51: =IF(F50<=0,"",F50) -> 210852.07 | D51: =IFERROR(IF(C51="","",ROUND(C51*Tilgungsrechner!C8/12,2)),"") -> 614.99 | E51: =IFERROR(IF(C51="","",MIN(ROUND(Tilgungsrechner!F7-D51,2),C51)),"") -> 530.84 | F51: =IFERROR(IF(C51="","",MAX(0, C51-E51-IF(MOD(A51,12)=0,Tilgungsrechner!C10,0))),"") -> 210321.23 | G51: =IFERROR(IF(C51="","",IF(MOD(A51,12)=0,MIN(Tilgungsrechner!C10,MAX(0,C51-E51)),0)),"") -> 0 | H51: =IFERROR(IF(C51="","",aufround(A51/12,0)),"")
A52: 47 | B52: =IFERROR(edatum(datwert(Tilgungsrechner!C12),46),"") | C52: =IF(F51<=0,"",F51) -> 210321.23 | D52: =IFERROR(IF(C52="","",ROUND(C52*Tilgungsrechner!C8/12,2)),"") -> 613.44 | E52: =IFERROR(IF(C52="","",MIN(ROUND(Tilgungsrechner!F7-D52,2),C52)),"") -> 532.39 | F52: =IFERROR(IF(C52="","",MAX(0, C52-E52-IF(MOD(A52,12)=0,Tilgungsrechner!C10,0))),"") -> 209788.84 | G52: =IFERROR(IF(C52="","",IF(MOD(A52,12)=0,MIN(Tilgungsrechner!C10,MAX(0,C52-E52)),0)),"") -> 0 | H52: =IFERROR(IF(C52="","",aufround(A52/12,0)),"")
A53: 48 | B53: =IFERROR(edatum(datwert(Tilgungsrechner!C12),47),"") | C53: =IF(F52<=0,"",F52) -> 209788.84 | D53: =IFERROR(IF(C53="","",ROUND(C53*Tilgungsrechner!C8/12,2)),"") -> 611.88 | E53: =IFERROR(IF(C53="","",MIN(ROUND(Tilgungsrechner!F7-D53,2),C53)),"") -> 533.95 | F53: =IFERROR(IF(C53="","",MAX(0, C53-E53-IF(MOD(A53,12)=0,Tilgungsrechner!C10,0))),"") -> 203254.89 | G53: =IFERROR(IF(C53="","",IF(MOD(A53,12)=0,MIN(Tilgungsrechner!C10,MAX(0,C53-E53)),0)),"") -> 6000 | H53: =IFERROR(IF(C53="","",aufround(A53/12,0)),"")
A54: 49 | B54: =IFERROR(edatum(datwert(Tilgungsrechner!C12),48),"") | C54: =IF(F53<=0,"",F53) -> 203254.89 | D54: =IFERROR(IF(C54="","",ROUND(C54*Tilgungsrechner!C8/12,2)),"") -> 592.83 | E54: =IFERROR(IF(C54="","",MIN(ROUND(Tilgungsrechner!F7-D54,2),C54)),"") -> 553 | F54: =IFERROR(IF(C54="","",MAX(0, C54-E54-IF(MOD(A54,12)=0,Tilgungsrechner!C10,0))),"") -> 202701.89 | G54: =IFERROR(IF(C54="","",IF(MOD(A54,12)=0,MIN(Tilgungsrechner!C10,MAX(0,C54-E54)),0)),"") -> 0 | H54: =IFERROR(IF(C54="","",aufround(A54/12,0)),"")
A55: 50 | B55: =IFERROR(edatum(datwert(Tilgungsrechner!C12),49),"") | C55: =IF(F54<=0,"",F54) -> 202701.89 | D55: =IFERROR(IF(C55="","",ROUND(C55*Tilgungsrechner!C8/12,2)),"") -> 591.21 | E55: =IFERROR(IF(C55="","",MIN(ROUND(Tilgungsrechner!F7-D55,2),C55)),"") -> 554.62 | F55: =IFERROR(IF(C55="","",MAX(0, C55-E55-IF(MOD(A55,12)=0,Tilgungsrechner!C10,0))),"") -> 202147.27 | G55: =IFERROR(IF(C55="","",IF(MOD(A55,12)=0,MIN(Tilgungsrechner!C10,MAX(0,C55-E55)),0)),"") -> 0 | H55: =IFERROR(IF(C55="","",aufround(A55/12,0)),"")
A56: 51 | B56: =IFERROR(edatum(datwert(Tilgungsrechner!C12),50),"") | C56: =IF(F55<=0,"",F55) -> 202147.27 | D56: =IFERROR(IF(C56="","",ROUND(C56*Tilgungsrechner!C8/12,2)),"") -> 589.6 | E56: =IFERROR(IF(C56="","",MIN(ROUND(Tilgungsrechner!F7-D56,2),C56)),"") -> 556.23 | F56: =IFERROR(IF(C56="","",MAX(0, C56-E56-IF(MOD(A56,12)=0,Tilgungsrechner!C10,0))),"") -> 201591.04 | G56: =IFERROR(IF(C56="","",IF(MOD(A56,12)=0,MIN(Tilgungsrechner!C10,MAX(0,C56-E56)),0)),"") -> 0 | H56: =IFERROR(IF(C56="","",aufround(A56/12,0)),"")
A57: 52 | B57: =IFERROR(edatum(datwert(Tilgungsrechner!C12),51),"") | C57: =IF(F56<=0,"",F56) -> 201591.04 | D57: =IFERROR(IF(C57="","",ROUND(C57*Tilgungsrechner!C8/12,2)),"") -> 587.97 | E57: =IFERROR(IF(C57="","",MIN(ROUND(Tilgungsrechner!F7-D57,2),C57)),"") -> 557.86 | F57: =IFERROR(IF(C57="","",MAX(0, C57-E57-IF(MOD(A57,12)=0,Tilgungsrechner!C10,0))),"") -> 201033.18 | G57: =IFERROR(IF(C57="","",IF(MOD(A57,12)=0,MIN(Tilgungsrechner!C10,MAX(0,C57-E57)),0)),"") -> 0 | H57: =IFERROR(IF(C57="","",aufround(A57/12,0)),"")
A58: 53 | B58: =IFERROR(edatum(datwert(Tilgungsrechner!C12),52),"") | C58: =IF(F57<=0,"",F57) -> 201033.18 | D58: =IFERROR(IF(C58="","",ROUND(C58*Tilgungsrechner!C8/12,2)),"") -> 586.35 | E58: =IFERROR(IF(C58="","",MIN(ROUND(Tilgungsrechner!F7-D58,2),C58)),"") -> 559.48 | F58: =IFERROR(IF(C58="","",MAX(0, C58-E58-IF(MOD(A58,12)=0,Tilgungsrechner!C10,0))),"") -> 200473.7 | G58: =IFERROR(IF(C58="","",IF(MOD(A58,12)=0,MIN(Tilgungsrechner!C10,MAX(0,C58-E58)),0)),"") -> 0 | H58: =IFERROR(IF(C58="","",aufround(A58/12,0)),"")
A59: 54 | B59: =IFERROR(edatum(datwert(Tilgungsrechner!C12),53),"") | C59: =IF(F58<=0,"",F58) -> 200473.7 | D59: =IFERROR(IF(C59="","",ROUND(C59*Tilgungsrechner!C8/12,2)),"") -> 584.71 | E59: =IFERROR(IF(C59="","",MIN(ROUND(Tilgungsrechner!F7-D59,2),C59)),"") -> 561.12 | F59: =IFERROR(IF(C59="","",MAX(0, C59-E59-IF(MOD(A59,12)=0,Tilgungsrechner!C10,0))),"") -> 199912.58 | G59: =IFERROR(IF(C59="","",IF(MOD(A59,12)=0,MIN(Tilgungsrechner!C10,MAX(0,C59-E59)),0)),"") -> 0 | H59: =IFERROR(IF(C59="","",aufround(A59/12,0)),"")
A60: 55 | B60: =IFERROR(edatum(datwert(Tilgungsrechner!C12),54),"") | C60: =IF(F59<=0,"",F59) -> 199912.58 | D60: =IFERROR(IF(C60="","",ROUND(C60*Tilgungsrechner!C8/12,2)),"") -> 583.08 | E60: =IFERROR(IF(C60="","",MIN(ROUND(Tilgungsrechner!F7-D60,2),C60)),"") -> 562.75 | F60: =IFERROR(IF(C60="","",MAX(0, C60-E60-IF(MOD(A60,12)=0,Tilgungsrechner!C10,0))),"") -> 199349.83 | G60: =IFERROR(IF(C60="","",IF(MOD(A60,12)=0,MIN(Tilgungsrechner!C10,MAX(0,C60-E60)),0)),"") -> 0 | H60: =IFERROR(IF(C60="","",aufround(A60/12,0)),"")
A61: 56 | B61: =IFERROR(edatum(datwert(Tilgungsrechner!C12),55),"") | C61: =IF(F60<=0,"",F60) -> 199349.83 | D61: =IFERROR(IF(C61="","",ROUND(C61*Tilgungsrechner!C8/12,2)),"") -> 581.44 | E61: =IFERROR(IF(C61="","",MIN(ROUND(Tilgungsrechner!F7-D61,2),C61)),"") -> 564.39 | F61: =IFERROR(IF(C61="","",MAX(0, C61-E61-IF(MOD(A61,12)=0,Tilgungsrechner!C10,0))),"") -> 198785.44 | G61: =IFERROR(IF(C61="","",IF(MOD(A61,12)=0,MIN(Tilgungsrechner!C10,MAX(0,C61-E61)),0)),"") -> 0 | H61: =IFERROR(IF(C61="","",aufround(A61/12,0)),"")
A62: 57 | B62: =IFERROR(edatum(datwert(Tilgungsrechner!C12),56),"") | C62: =IF(F61<=0,"",F61) -> 198785.44 | D62: =IFERROR(IF(C62="","",ROUND(C62*Tilgungsrechner!C8/12,2)),"") -> 579.79 | E62: =IFERROR(IF(C62="","",MIN(ROUND(Tilgungsrechner!F7-D62,2),C62)),"") -> 566.04 | F62: =IFERROR(IF(C62="","",MAX(0, C62-E62-IF(MOD(A62,12)=0,Tilgungsrechner!C10,0))),"") -> 198219.4 | G62: =IFERROR(IF(C62="","",IF(MOD(A62,12)=0,MIN(Tilgungsrechner!C10,MAX(0,C62-E62)),0)),"") -> 0 | H62: =IFERROR(IF(C62="","",aufround(A62/12,0)),"")
A63: 58 | B63: =IFERROR(edatum(datwert(Tilgungsrechner!C12),57),"") | C63: =IF(F62<=0,"",F62) -> 198219.4 | D63: =IFERROR(IF(C63="","",ROUND(C63*Tilgungsrechner!C8/12,2)),"") -> 578.14 | E63: =IFERROR(IF(C63="","",MIN(ROUND(Tilgungsrechner!F7-D63,2),C63)),"") -> 567.69 | F63: =IFERROR(IF(C63="","",MAX(0, C63-E63-IF(MOD(A63,12)=0,Tilgungsrechner!C10,0))),"") -> 197651.71 | G63: =IFERROR(IF(C63="","",IF(MOD(A63,12)=0,MIN(Tilgungsrechner!C10,MAX(0,C63-E63)),0)),"") -> 0 | H63: =IFERROR(IF(C63="","",aufround(A63/12,0)),"")
A64: 59 | B64: =IFERROR(edatum(datwert(Tilgungsrechner!C12),58),"") | C64: =IF(F63<=0,"",F63) -> 197651.71 | D64: =IFERROR(IF(C64="","",ROUND(C64*Tilgungsrechner!C8/12,2)),"") -> 576.48 | E64: =IFERROR(IF(C64="","",MIN(ROUND(Tilgungsrechner!F7-D64,2),C64)),"") -> 569.35 | F64: =IFERROR(IF(C64="","",MAX(0, C64-E64-IF(MOD(A64,12)=0,Tilgungsrechner!C10,0))),"") -> 197082.36 | G64: =IFERROR(IF(C64="","",IF(MOD(A64,12)=0,MIN(Tilgungsrechner!C10,MAX(0,C64-E64)),0)),"") -> 0 | H64: =IFERROR(IF(C64="","",aufround(A64/12,0)),"")
A65: 60 | B65: =IFERROR(edatum(datwert(Tilgungsrechner!C12),59),"") | C65: =IF(F64<=0,"",F64) -> 197082.36 | D65: =IFERROR(IF(C65="","",ROUND(C65*Tilgungsrechner!C8/12,2)),"") -> 574.82 | E65: =IFERROR(IF(C65="","",MIN(ROUND(Tilgungsrechner!F7-D65,2),C65)),"") -> 571.01 | F65: =IFERROR(IF(C65="","",MAX(0, C65-E65-IF(MOD(A65,12)=0,Tilgungsrechner!C10,0))),"") -> 190511.35 | G65: =IFERROR(IF(C65="","",IF(MOD(A65,12)=0,MIN(Tilgungsrechner!C10,MAX(0,C65-E65)),0)),"") -> 6000 | H65: =IFERROR(IF(C65="","",aufround(A65/12,0)),"")
A66: 61 | B66: =IFERROR(edatum(datwert(Tilgungsrechner!C12),60),"") | C66: =IF(F65<=0,"",F65) -> 190511.35 | D66: =IFERROR(IF(C66="","",ROUND(C66*Tilgungsrechner!C8/12,2)),"") -> 555.66 | E66: =IFERROR(IF(C66="","",MIN(ROUND(Tilgungsrechner!F7-D66,2),C66)),"") -> 590.17 | F66: =IFERROR(IF(C66="","",MAX(0, C66-E66-IF(MOD(A66,12)=0,Tilgungsrechner!C10,0))),"") -> 189921.18 | G66: =IFERROR(IF(C66="","",IF(MOD(A66,12)=0,MIN(Tilgungsrechner!C10,MAX(0,C66-E66)),0)),"") -> 0 | H66: =IFERROR(IF(C66="","",aufround(A66/12,0)),"")
A67: 62 | B67: =IFERROR(edatum(datwert(Tilgungsrechner!C12),61),"") | C67: =IF(F66<=0,"",F66) -> 189921.18 | D67: =IFERROR(IF(C67="","",ROUND(C67*Tilgungsrechner!C8/12,2)),"") -> 553.94 | E67: =IFERROR(IF(C67="","",MIN(ROUND(Tilgungsrechner!F7-D67,2),C67)),"") -> 591.89 | F67: =IFERROR(IF(C67="","",MAX(0, C67-E67-IF(MOD(A67,12)=0,Tilgungsrechner!C10,0))),"") -> 189329.29 | G67: =IFERROR(IF(C67="","",IF(MOD(A67,12)=0,MIN(Tilgungsrechner!C10,MAX(0,C67-E67)),0)),"") -> 0 | H67: =IFERROR(IF(C67="","",aufround(A67/12,0)),"")
A68: 63 | B68: =IFERROR(edatum(datwert(Tilgungsrechner!C12),62),"") | C68: =IF(F67<=0,"",F67) -> 189329.29 | D68: =IFERROR(IF(C68="","",ROUND(C68*Tilgungsrechner!C8/12,2)),"") -> 552.21 | E68: =IFERROR(IF(C68="","",MIN(ROUND(Tilgungsrechner!F7-D68,2),C68)),"") -> 593.62 | F68: =IFERROR(IF(C68="","",MAX(0, C68-E68-IF(MOD(A68,12)=0,Tilgungsrechner!C10,0))),"") -> 188735.67 | G68: =IFERROR(IF(C68="","",IF(MOD(A68,12)=0,MIN(Tilgungsrechner!C10,MAX(0,C68-E68)),0)),"") -> 0 | H68: =IFERROR(IF(C68="","",aufround(A68/12,0)),"")
A69: 64 | B69: =IFERROR(edatum(datwert(Tilgungsrechner!C12),63),"") | C69: =IF(F68<=0,"",F68) -> 188735.67 | D69: =IFERROR(IF(C69="","",ROUND(C69*Tilgungsrechner!C8/12,2)),"") -> 550.48 | E69: =IFERROR(IF(C69="","",MIN(ROUND(Tilgungsrechner!F7-D69,2),C69)),"") -> 595.35 | F69: =IFERROR(IF(C69="","",MAX(0, C69-E69-IF(MOD(A69,12)=0,Tilgungsrechner!C10,0))),"") -> 188140.32 | G69: =IFERROR(IF(C69="","",IF(MOD(A69,12)=0,MIN(Tilgungsrechner!C10,MAX(0,C69-E69)),0)),"") -> 0 | H69: =IFERROR(IF(C69="","",aufround(A69/12,0)),"")
A70: 65 | B70: =IFERROR(edatum(datwert(Tilgungsrechner!C12),64),"") | C70: =IF(F69<=0,"",F69) -> 188140.32 | D70: =IFERROR(IF(C70="","",ROUND(C70*Tilgungsrechner!C8/12,2)),"") -> 548.74 | E70: =IFERROR(IF(C70="","",MIN(ROUND(Tilgungsrechner!F7-D70,2),C70)),"") -> 597.09 | F70: =IFERROR(IF(C70="","",MAX(0, C70-E70-IF(MOD(A70,12)=0,Tilgungsrechner!C10,0))),"") -> 187543.23 | G70: =IFERROR(IF(C70="","",IF(MOD(A70,12)=0,MIN(Tilgungsrechner!C10,MAX(0,C70-E70)),0)),"") -> 0 | H70: =IFERROR(IF(C70="","",aufround(A70/12,0)),"")
A71: 66 | B71: =IFERROR(edatum(datwert(Tilgungsrechner!C12),65),"") | C71: =IF(F70<=0,"",F70) -> 187543.23 | D71: =IFERROR(IF(C71="","",ROUND(C71*Tilgungsrechner!C8/12,2)),"") -> 547 | E71: =IFERROR(IF(C71="","",MIN(ROUND(Tilgungsrechner!F7-D71,2),C71)),"") -> 598.83 | F71: =IFERROR(IF(C71="","",MAX(0, C71-E71-IF(MOD(A71,12)=0,Tilgungsrechner!C10,0))),"") -> 186944.4 | G71: =IFERROR(IF(C71="","",IF(MOD(A71,12)=0,MIN(Tilgungsrechner!C10,MAX(0,C71-E71)),0)),"") -> 0 | H71: =IFERROR(IF(C71="","",aufround(A71/12,0)),"")
A72: 67 | B72: =IFERROR(edatum(datwert(Tilgungsrechner!C12),66),"") | C72: =IF(F71<=0,"",F71) -> 186944.4 | D72: =IFERROR(IF(C72="","",ROUND(C72*Tilgungsrechner!C8/12,2)),"") -> 545.25 | E72: =IFERROR(IF(C72="","",MIN(ROUND(Tilgungsrechner!F7-D72,2),C72)),"") -> 600.58 | F72: =IFERROR(IF(C72="","",MAX(0, C72-E72-IF(MOD(A72,12)=0,Tilgungsrechner!C10,0))),"") -> 186343.82 | G72: =IFERROR(IF(C72="","",IF(MOD(A72,12)=0,MIN(Tilgungsrechner!C10,MAX(0,C72-E72)),0)),"") -> 0 | H72: =IFERROR(IF(C72="","",aufround(A72/12,0)),"")
A73: 68 | B73: =IFERROR(edatum(datwert(Tilgungsrechner!C12),67),"") | C73: =IF(F72<=0,"",F72) -> 186343.82 | D73: =IFERROR(IF(C73="","",ROUND(C73*Tilgungsrechner!C8/12,2)),"") -> 543.5 | E73: =IFERROR(IF(C73="","",MIN(ROUND(Tilgungsrechner!F7-D73,2),C73)),"") -> 602.33 | F73: =IFERROR(IF(C73="","",MAX(0, C73-E73-IF(MOD(A73,12)=0,Tilgungsrechner!C10,0))),"") -> 185741.49 | G73: =IFERROR(IF(C73="","",IF(MOD(A73,12)=0,MIN(Tilgungsrechner!C10,MAX(0,C73-E73)),0)),"") -> 0 | H73: =IFERROR(IF(C73="","",aufround(A73/12,0)),"")
A74: 69 | B74: =IFERROR(edatum(datwert(Tilgungsrechner!C12),68),"") | C74: =IF(F73<=0,"",F73) -> 185741.49 | D74: =IFERROR(IF(C74="","",ROUND(C74*Tilgungsrechner!C8/12,2)),"") -> 541.75 | E74: =IFERROR(IF(C74="","",MIN(ROUND(Tilgungsrechner!F7-D74,2),C74)),"") -> 604.08 | F74: =IFERROR(IF(C74="","",MAX(0, C74-E74-IF(MOD(A74,12)=0,Tilgungsrechner!C10,0))),"") -> 185137.41 | G74: =IFERROR(IF(C74="","",IF(MOD(A74,12)=0,MIN(Tilgungsrechner!C10,MAX(0,C74-E74)),0)),"") -> 0 | H74: =IFERROR(IF(C74="","",aufround(A74/12,0)),"")
A75: 70 | B75: =IFERROR(edatum(datwert(Tilgungsrechner!C12),69),"") | C75: =IF(F74<=0,"",F74) -> 185137.41 | D75: =IFERROR(IF(C75="","",ROUND(C75*Tilgungsrechner!C8/12,2)),"") -> 539.98 | E75: =IFERROR(IF(C75="","",MIN(ROUND(Tilgungsrechner!F7-D75,2),C75)),"") -> 605.85 | F75: =IFERROR(IF(C75="","",MAX(0, C75-E75-IF(MOD(A75,12)=0,Tilgungsrechner!C10,0))),"") -> 184531.56 | G75: =IFERROR(IF(C75="","",IF(MOD(A75,12)=0,MIN(Tilgungsrechner!C10,MAX(0,C75-E75)),0)),"") -> 0 | H75: =IFERROR(IF(C75="","",aufround(A75/12,0)),"")
A76: 71 | B76: =IFERROR(edatum(datwert(Tilgungsrechner!C12),70),"") | C76: =IF(F75<=0,"",F75) -> 184531.56 | D76: =IFERROR(IF(C76="","",ROUND(C76*Tilgungsrechner!C8/12,2)),"") -> 538.22 | E76: =IFERROR(IF(C76="","",MIN(ROUND(Tilgungsrechner!F7-D76,2),C76)),"") -> 607.61 | F76: =IFERROR(IF(C76="","",MAX(0, C76-E76-IF(MOD(A76,12)=0,Tilgungsrechner!C10,0))),"") -> 183923.95 | G76: =IFERROR(IF(C76="","",IF(MOD(A76,12)=0,MIN(Tilgungsrechner!C10,MAX(0,C76-E76)),0)),"") -> 0 | H76: =IFERROR(IF(C76="","",aufround(A76/12,0)),"")
A77: 72 | B77: =IFERROR(edatum(datwert(Tilgungsrechner!C12),71),"") | C77: =IF(F76<=0,"",F76) -> 183923.95 | D77: =IFERROR(IF(C77="","",ROUND(C77*Tilgungsrechner!C8/12,2)),"") -> 536.44 | E77: =IFERROR(IF(C77="","",MIN(ROUND(Tilgungsrechner!F7-D77,2),C77)),"") -> 609.39 | F77: =IFERROR(IF(C77="","",MAX(0, C77-E77-IF(MOD(A77,12)=0,Tilgungsrechner!C10,0))),"") -> 177314.56 | G77: =IFERROR(IF(C77="","",IF(MOD(A77,12)=0,MIN(Tilgungsrechner!C10,MAX(0,C77-E77)),0)),"") -> 6000 | H77: =IFERROR(IF(C77="","",aufround(A77/12,0)),"")
A78: 73 | B78: =IFERROR(edatum(datwert(Tilgungsrechner!C12),72),"") | C78: =IF(F77<=0,"",F77) -> 177314.56 | D78: =IFERROR(IF(C78="","",ROUND(C78*Tilgungsrechner!C8/12,2)),"") -> 517.17 | E78: =IFERROR(IF(C78="","",MIN(ROUND(Tilgungsrechner!F7-D78,2),C78)),"") -> 628.66 | F78: =IFERROR(IF(C78="","",MAX(0, C78-E78-IF(MOD(A78,12)=0,Tilgungsrechner!C10,0))),"") -> 176685.9 | G78: =IFERROR(IF(C78="","",IF(MOD(A78,12)=0,MIN(Tilgungsrechner!C10,MAX(0,C78-E78)),0)),"") -> 0 | H78: =IFERROR(IF(C78="","",aufround(A78/12,0)),"")
A79: 74 | B79: =IFERROR(edatum(datwert(Tilgungsrechner!C12),73),"") | C79: =IF(F78<=0,"",F78) -> 176685.9 | D79: =IFERROR(IF(C79="","",ROUND(C79*Tilgungsrechner!C8/12,2)),"") -> 515.33 | E79: =IFERROR(IF(C79="","",MIN(ROUND(Tilgungsrechner!F7-D79,2),C79)),"") -> 630.5 | F79: =IFERROR(IF(C79="","",MAX(0, C79-E79-IF(MOD(A79,12)=0,Tilgungsrechner!C10,0))),"") -> 176055.4 | G79: =IFERROR(IF(C79="","",IF(MOD(A79,12)=0,MIN(Tilgungsrechner!C10,MAX(0,C79-E79)),0)),"") -> 0 | H79: =IFERROR(IF(C79="","",aufround(A79/12,0)),"")
A80: 75 | B80: =IFERROR(edatum(datwert(Tilgungsrechner!C12),74),"") | C80: =IF(F79<=0,"",F79) -> 176055.4 | D80: =IFERROR(IF(C80="","",ROUND(C80*Tilgungsrechner!C8/12,2)),"") -> 513.49 | E80: =IFERROR(IF(C80="","",MIN(ROUND(Tilgungsrechner!F7-D80,2),C80)),"") -> 632.34 | F80: =IFERROR(IF(C80="","",MAX(0, C80-E80-IF(MOD(A80,12)=0,Tilgungsrechner!C10,0))),"") -> 175423.06 | G80: =IFERROR(IF(C80="","",IF(MOD(A80,12)=0,MIN(Tilgungsrechner!C10,MAX(0,C80-E80)),0)),"") -> 0 | H80: =IFERROR(IF(C80="","",aufround(A80/12,0)),"")
A81: 76 | B81: =IFERROR(edatum(datwert(Tilgungsrechner!C12),75),"") | C81: =IF(F80<=0,"",F80) -> 175423.06 | D81: =IFERROR(IF(C81="","",ROUND(C81*Tilgungsrechner!C8/12,2)),"") -> 511.65 | E81: =IFERROR(IF(C81="","",MIN(ROUND(Tilgungsrechner!F7-D81,2),C81)),"") -> 634.18 | F81: =IFERROR(IF(C81="","",MAX(0, C81-E81-IF(MOD(A81,12)=0,Tilgungsrechner!C10,0))),"") -> 174788.88 | G81: =IFERROR(IF(C81="","",IF(MOD(A81,12)=0,MIN(Tilgungsrechner!C10,MAX(0,C81-E81)),0)),"") -> 0 | H81: =IFERROR(IF(C81="","",aufround(A81/12,0)),"")
A82: 77 | B82: =IFERROR(edatum(datwert(Tilgungsrechner!C12),76),"") | C82: =IF(F81<=0,"",F81) -> 174788.88 | D82: =IFERROR(IF(C82="","",ROUND(C82*Tilgungsrechner!C8/12,2)),"") -> 509.8 | E82: =IFERROR(IF(C82="","",MIN(ROUND(Tilgungsrechner!F7-D82,2),C82)),"") -> 636.03 | F82: =IFERROR(IF(C82="","",MAX(0, C82-E82-IF(MOD(A82,12)=0,Tilgungsrechner!C10,0))),"") -> 174152.85 | G82: =IFERROR(IF(C82="","",IF(MOD(A82,12)=0,MIN(Tilgungsrechner!C10,MAX(0,C82-E82)),0)),"") -> 0 | H82: =IFERROR(IF(C82="","",aufround(A82/12,0)),"")
A83: 78 | B83: =IFERROR(edatum(datwert(Tilgungsrechner!C12),77),"") | C83: =IF(F82<=0,"",F82) -> 174152.85 | D83: =IFERROR(IF(C83="","",ROUND(C83*Tilgungsrechner!C8/12,2)),"") -> 507.95 | E83: =IFERROR(IF(C83="","",MIN(ROUND(Tilgungsrechner!F7-D83,2),C83)),"") -> 637.88 | F83: =IFERROR(IF(C83="","",MAX(0, C83-E83-IF(MOD(A83,12)=0,Tilgungsrechner!C10,0))),"") -> 173514.97 | G83: =IFERROR(IF(C83="","",IF(MOD(A83,12)=0,MIN(Tilgungsrechner!C10,MAX(0,C83-E83)),0)),"") -> 0 | H83: =IFERROR(IF(C83="","",aufround(A83/12,0)),"")
A84: 79 | B84: =IFERROR(edatum(datwert(Tilgungsrechner!C12),78),"") | C84: =IF(F83<=0,"",F83) -> 173514.97 | D84: =IFERROR(IF(C84="","",ROUND(C84*Tilgungsrechner!C8/12,2)),"") -> 506.09 | E84: =IFERROR(IF(C84="","",MIN(ROUND(Tilgungsrechner!F7-D84,2),C84)),"") -> 639.74 | F84: =IFERROR(IF(C84="","",MAX(0, C84-E84-IF(MOD(A84,12)=0,Tilgungsrechner!C10,0))),"") -> 172875.23 | G84: =IFERROR(IF(C84="","",IF(MOD(A84,12)=0,MIN(Tilgungsrechner!C10,MAX(0,C84-E84)),0)),"") -> 0 | H84: =IFERROR(IF(C84="","",aufround(A84/12,0)),"")
A85: 80 | B85: =IFERROR(edatum(datwert(Tilgungsrechner!C12),79),"") | C85: =IF(F84<=0,"",F84) -> 172875.23 | D85: =IFERROR(IF(C85="","",ROUND(C85*Tilgungsrechner!C8/12,2)),"") -> 504.22 | E85: =IFERROR(IF(C85="","",MIN(ROUND(Tilgungsrechner!F7-D85,2),C85)),"") -> 641.61 | F85: =IFERROR(IF(C85="","",MAX(0, C85-E85-IF(MOD(A85,12)=0,Tilgungsrechner!C10,0))),"") -> 172233.62 | G85: =IFERROR(IF(C85="","",IF(MOD(A85,12)=0,MIN(Tilgungsrechner!C10,MAX(0,C85-E85)),0)),"") -> 0 | H85: =IFERROR(IF(C85="","",aufround(A85/12,0)),"")
A86: 81 | B86: =IFERROR(edatum(datwert(Tilgungsrechner!C12),80),"") | C86: =IF(F85<=0,"",F85) -> 172233.62 | D86: =IFERROR(IF(C86="","",ROUND(C86*Tilgungsrechner!C8/12,2)),"") -> 502.35 | E86: =IFERROR(IF(C86="","",MIN(ROUND(Tilgungsrechner!F7-D86,2),C86)),"") -> 643.48 | F86: =IFERROR(IF(C86="","",MAX(0, C86-E86-IF(MOD(A86,12)=0,Tilgungsrechner!C10,0))),"") -> 171590.14 | G86: =IFERROR(IF(C86="","",IF(MOD(A86,12)=0,MIN(Tilgungsrechner!C10,MAX(0,C86-E86)),0)),"") -> 0 | H86: =IFERROR(IF(C86="","",aufround(A86/12,0)),"")
A87: 82 | B87: =IFERROR(edatum(datwert(Tilgungsrechner!C12),81),"") | C87: =IF(F86<=0,"",F86) -> 171590.14 | D87: =IFERROR(IF(C87="","",ROUND(C87*Tilgungsrechner!C8/12,2)),"") -> 500.47 | E87: =IFERROR(IF(C87="","",MIN(ROUND(Tilgungsrechner!F7-D87,2),C87)),"") -> 645.36 | F87: =IFERROR(IF(C87="","",MAX(0, C87-E87-IF(MOD(A87,12)=0,Tilgungsrechner!C10,0))),"") -> 170944.78 | G87: =IFERROR(IF(C87="","",IF(MOD(A87,12)=0,MIN(Tilgungsrechner!C10,MAX(0,C87-E87)),0)),"") -> 0 | H87: =IFERROR(IF(C87="","",aufround(A87/12,0)),"")
A88: 83 | B88: =IFERROR(edatum(datwert(Tilgungsrechner!C12),82),"") | C88: =IF(F87<=0,"",F87) -> 170944.78 | D88: =IFERROR(IF(C88="","",ROUND(C88*Tilgungsrechner!C8/12,2)),"") -> 498.59 | E88: =IFERROR(IF(C88="","",MIN(ROUND(Tilgungsrechner!F7-D88,2),C88)),"") -> 647.24 | F88: =IFERROR(IF(C88="","",MAX(0, C88-E88-IF(MOD(A88,12)=0,Tilgungsrechner!C10,0))),"") -> 170297.54 | G88: =IFERROR(IF(C88="","",IF(MOD(A88,12)=0,MIN(Tilgungsrechner!C10,MAX(0,C88-E88)),0)),"") -> 0 | H88: =IFERROR(IF(C88="","",aufround(A88/12,0)),"")
A89: 84 | B89: =IFERROR(edatum(datwert(Tilgungsrechner!C12),83),"") | C89: =IF(F88<=0,"",F88) -> 170297.54 | D89: =IFERROR(IF(C89="","",ROUND(C89*Tilgungsrechner!C8/12,2)),"") -> 496.7 | E89: =IFERROR(IF(C89="","",MIN(ROUND(Tilgungsrechner!F7-D89,2),C89)),"") -> 649.13 | F89: =IFERROR(IF(C89="","",MAX(0, C89-E89-IF(MOD(A89,12)=0,Tilgungsrechner!C10,0))),"") -> 163648.41 | G89: =IFERROR(IF(C89="","",IF(MOD(A89,12)=0,MIN(Tilgungsrechner!C10,MAX(0,C89-E89)),0)),"") -> 6000 | H89: =IFERROR(IF(C89="","",aufround(A89/12,0)),"")
A90: 85 | B90: =IFERROR(edatum(datwert(Tilgungsrechner!C12),84),"") | C90: =IF(F89<=0,"",F89) -> 163648.41 | D90: =IFERROR(IF(C90="","",ROUND(C90*Tilgungsrechner!C8/12,2)),"") -> 477.31 | E90: =IFERROR(IF(C90="","",MIN(ROUND(Tilgungsrechner!F7-D90,2),C90)),"") -> 668.52 | F90: =IFERROR(IF(C90="","",MAX(0, C90-E90-IF(MOD(A90,12)=0,Tilgungsrechner!C10,0))),"") -> 162979.89 | G90: =IFERROR(IF(C90="","",IF(MOD(A90,12)=0,MIN(Tilgungsrechner!C10,MAX(0,C90-E90)),0)),"") -> 0 | H90: =IFERROR(IF(C90="","",aufround(A90/12,0)),"")
A91: 86 | B91: =IFERROR(edatum(datwert(Tilgungsrechner!C12),85),"") | C91: =IF(F90<=0,"",F90) -> 162979.89 | D91: =IFERROR(IF(C91="","",ROUND(C91*Tilgungsrechner!C8/12,2)),"") -> 475.36 | E91: =IFERROR(IF(C91="","",MIN(ROUND(Tilgungsrechner!F7-D91,2),C91)),"") -> 670.47 | F91: =IFERROR(IF(C91="","",MAX(0, C91-E91-IF(MOD(A91,12)=0,Tilgungsrechner!C10,0))),"") -> 162309.42 | G91: =IFERROR(IF(C91="","",IF(MOD(A91,12)=0,MIN(Tilgungsrechner!C10,MAX(0,C91-E91)),0)),"") -> 0 | H91: =IFERROR(IF(C91="","",aufround(A91/12,0)),"")
A92: 87 | B92: =IFERROR(edatum(datwert(Tilgungsrechner!C12),86),"") | C92: =IF(F91<=0,"",F91) -> 162309.42 | D92: =IFERROR(IF(C92="","",ROUND(C92*Tilgungsrechner!C8/12,2)),"") -> 473.4 | E92: =IFERROR(IF(C92="","",MIN(ROUND(Tilgungsrechner!F7-D92,2),C92)),"") -> 672.43 | F92: =IFERROR(IF(C92="","",MAX(0, C92-E92-IF(MOD(A92,12)=0,Tilgungsrechner!C10,0))),"") -> 161636.99 | G92: =IFERROR(IF(C92="","",IF(MOD(A92,12)=0,MIN(Tilgungsrechner!C10,MAX(0,C92-E92)),0)),"") -> 0 | H92: =IFERROR(IF(C92="","",aufround(A92/12,0)),"")
A93: 88 | B93: =IFERROR(edatum(datwert(Tilgungsrechner!C12),87),"") | C93: =IF(F92<=0,"",F92) -> 161636.99 | D93: =IFERROR(IF(C93="","",ROUND(C93*Tilgungsrechner!C8/12,2)),"") -> 471.44 | E93: =IFERROR(IF(C93="","",MIN(ROUND(Tilgungsrechner!F7-D93,2),C93)),"") -> 674.39 | F93: =IFERROR(IF(C93="","",MAX(0, C93-E93-IF(MOD(A93,12)=0,Tilgungsrechner!C10,0))),"") -> 160962.6 | G93: =IFERROR(IF(C93="","",IF(MOD(A93,12)=0,MIN(Tilgungsrechner!C10,MAX(0,C93-E93)),0)),"") -> 0 | H93: =IFERROR(IF(C93="","",aufround(A93/12,0)),"")
A94: 89 | B94: =IFERROR(edatum(datwert(Tilgungsrechner!C12),88),"") | C94: =IF(F93<=0,"",F93) -> 160962.6 | D94: =IFERROR(IF(C94="","",ROUND(C94*Tilgungsrechner!C8/12,2)),"") -> 469.47 | E94: =IFERROR(IF(C94="","",MIN(ROUND(Tilgungsrechner!F7-D94,2),C94)),"") -> 676.36 | F94: =IFERROR(IF(C94="","",MAX(0, C94-E94-IF(MOD(A94,12)=0,Tilgungsrechner!C10,0))),"") -> 160286.24 | G94: =IFERROR(IF(C94="","",IF(MOD(A94,12)=0,MIN(Tilgungsrechner!C10,MAX(0,C94-E94)),0)),"") -> 0 | H94: =IFERROR(IF(C94="","",aufround(A94/12,0)),"")
A95: 90 | B95: =IFERROR(edatum(datwert(Tilgungsrechner!C12),89),"") | C95: =IF(F94<=0,"",F94) -> 160286.24 | D95: =IFERROR(IF(C95="","",ROUND(C95*Tilgungsrechner!C8/12,2)),"") -> 467.5 | E95: =IFERROR(IF(C95="","",MIN(ROUND(Tilgungsrechner!F7-D95,2),C95)),"") -> 678.33 | F95: =IFERROR(IF(C95="","",MAX(0, C95-E95-IF(MOD(A95,12)=0,Tilgungsrechner!C10,0))),"") -> 159607.91 | G95: =IFERROR(IF(C95="","",IF(MOD(A95,12)=0,MIN(Tilgungsrechner!C10,MAX(0,C95-E95)),0)),"") -> 0 | H95: =IFERROR(IF(C95="","",aufround(A95/12,0)),"")
A96: 91 | B96: =IFERROR(edatum(datwert(Tilgungsrechner!C12),90),"") | C96: =IF(F95<=0,"",F95) -> 159607.91 | D96: =IFERROR(IF(C96="","",ROUND(C96*Tilgungsrechner!C8/12,2)),"") -> 465.52 | E96: =IFERROR(IF(C96="","",MIN(ROUND(Tilgungsrechner!F7-D96,2),C96)),"") -> 680.31 | F96: =IFERROR(IF(C96="","",MAX(0, C96-E96-IF(MOD(A96,12)=0,Tilgungsrechner!C10,0))),"") -> 158927.6 | G96: =IFERROR(IF(C96="","",IF(MOD(A96,12)=0,MIN(Tilgungsrechner!C10,MAX(0,C96-E96)),0)),"") -> 0 | H96: =IFERROR(IF(C96="","",aufround(A96/12,0)),"")
A97: 92 | B97: =IFERROR(edatum(datwert(Tilgungsrechner!C12),91),"") | C97: =IF(F96<=0,"",F96) -> 158927.6 | D97: =IFERROR(IF(C97="","",ROUND(C97*Tilgungsrechner!C8/12,2)),"") -> 463.54 | E97: =IFERROR(IF(C97="","",MIN(ROUND(Tilgungsrechner!F7-D97,2),C97)),"") -> 682.29 | F97: =IFERROR(IF(C97="","",MAX(0, C97-E97-IF(MOD(A97,12)=0,Tilgungsrechner!C10,0))),"") -> 158245.31 | G97: =IFERROR(IF(C97="","",IF(MOD(A97,12)=0,MIN(Tilgungsrechner!C10,MAX(0,C97-E97)),0)),"") -> 0 | H97: =IFERROR(IF(C97="","",aufround(A97/12,0)),"")
A98: 93 | B98: =IFERROR(edatum(datwert(Tilgungsrechner!C12),92),"") | C98: =IF(F97<=0,"",F97) -> 158245.31 | D98: =IFERROR(IF(C98="","",ROUND(C98*Tilgungsrechner!C8/12,2)),"") -> 461.55 | E98: =IFERROR(IF(C98="","",MIN(ROUND(Tilgungsrechner!F7-D98,2),C98)),"") -> 684.28 | F98: =IFERROR(IF(C98="","",MAX(0, C98-E98-IF(MOD(A98,12)=0,Tilgungsrechner!C10,0))),"") -> 157561.03 | G98: =IFERROR(IF(C98="","",IF(MOD(A98,12)=0,MIN(Tilgungsrechner!C10,MAX(0,C98-E98)),0)),"") -> 0 | H98: =IFERROR(IF(C98="","",aufround(A98/12,0)),"")
A99: 94 | B99: =IFERROR(edatum(datwert(Tilgungsrechner!C12),93),"") | C99: =IF(F98<=0,"",F98) -> 157561.03 | D99: =IFERROR(IF(C99="","",ROUND(C99*Tilgungsrechner!C8/12,2)),"") -> 459.55 | E99: =IFERROR(IF(C99="","",MIN(ROUND(Tilgungsrechner!F7-D99,2),C99)),"") -> 686.28 | F99: =IFERROR(IF(C99="","",MAX(0, C99-E99-IF(MOD(A99,12)=0,Tilgungsrechner!C10,0))),"") -> 156874.75 | G99: =IFERROR(IF(C99="","",IF(MOD(A99,12)=0,MIN(Tilgungsrechner!C10,MAX(0,C99-E99)),0)),"") -> 0 | H99: =IFERROR(IF(C99="","",aufround(A99/12,0)),"")
A100: 95 | B100: =IFERROR(edatum(datwert(Tilgungsrechner!C12),94),"") | C100: =IF(F99<=0,"",F99) -> 156874.75 | D100: =IFERROR(IF(C100="","",ROUND(C100*Tilgungsrechner!C8/12,2)),"") -> 457.55 | E100: =IFERROR(IF(C100="","",MIN(ROUND(Tilgungsrechner!F7-D100,2),C100)),"") -> 688.28 | F100: =IFERROR(IF(C100="","",MAX(0, C100-E100-IF(MOD(A100,12)=0,Tilgungsrechner!C10,0))),"") -> 156186.47 | G100: =IFERROR(IF(C100="","",IF(MOD(A100,12)=0,MIN(Tilgungsrechner!C10,MAX(0,C100-E100)),0)),"") -> 0 | H100: =IFERROR(IF(C100="","",aufround(A100/12,0)),"")
A101: 96 | B101: =IFERROR(edatum(datwert(Tilgungsrechner!C12),95),"") | C101: =IF(F100<=0,"",F100) -> 156186.47 | D101: =IFERROR(IF(C101="","",ROUND(C101*Tilgungsrechner!C8/12,2)),"") -> 455.54 | E101: =IFERROR(IF(C101="","",MIN(ROUND(Tilgungsrechner!F7-D101,2),C101)),"") -> 690.29 | F101: =IFERROR(IF(C101="","",MAX(0, C101-E101-IF(MOD(A101,12)=0,Tilgungsrechner!C10,0))),"") -> 149496.18 | G101: =IFERROR(IF(C101="","",IF(MOD(A101,12)=0,MIN(Tilgungsrechner!C10,MAX(0,C101-E101)),0)),"") -> 6000 | H101: =IFERROR(IF(C101="","",aufround(A101/12,0)),"")
...

Sheet Jahresübersicht
A1: JAHRESÜBERSICHT – Zins & Tilgung pro Jahr
A3: Die Jahresübersicht fasst alle 12 Monate zusammen und eignet sich ideal für die steuerliche Übersicht.
A4: Jahr | B4: Jahresanfang-Schuld | C4: Zinszahlungen | D4: Tilgungszahlungen | E4: Sondertilgung | F4: Jahresend-Schuld
A5: 1 | B5: =IFERROR(Tilgungsplan!C6,"") -> 250000 | C5: =IFERROR(SUMPRODUCT((Tilgungsplan!A6:A365>=1)*(Tilgungsplan!A6:A365<=12)*IFERROR(Tilgungsplan!D6:D365,0)),"") | D5: =IFERROR(SUMPRODUCT((Tilgungsplan!A6:A365>=1)*(Tilgungsplan!A6:A365<=12)*IFERROR(Tilgungsplan!E6:E365,0)),"") | E5: =IFERROR(Tilgungsplan!G17,"") -> 6000 | F5: =IFERROR(Tilgungsplan!F17,"") -> 238919.02
A6: 2 | B6: =IFERROR(Tilgungsplan!C18,"") -> 238919.02 | C6: =IFERROR(SUMPRODUCT((Tilgungsplan!A6:A365>=13)*(Tilgungsplan!A6:A365<=24)*IFERROR(Tilgungsplan!D6:D365,0)),"") | D6: =IFERROR(SUMPRODUCT((Tilgungsplan!A6:A365>=13)*(Tilgungsplan!A6:A365<=24)*IFERROR(Tilgungsplan!E6:E365,0)),"") | E6: =IFERROR(Tilgungsplan!G29,"") -> 6000 | F6: =IFERROR(Tilgungsplan!F29,"") -> 227443.95
A7: 3 | B7: =IFERROR(Tilgungsplan!C30,"") -> 227443.95 | C7: =IFERROR(SUMPRODUCT((Tilgungsplan!A6:A365>=25)*(Tilgungsplan!A6:A365<=36)*IFERROR(Tilgungsplan!D6:D365,0)),"") | D7: =IFERROR(SUMPRODUCT((Tilgungsplan!A6:A365>=25)*(Tilgungsplan!A6:A365<=36)*IFERROR(Tilgungsplan!E6:E365,0)),"") | E7: =IFERROR(Tilgungsplan!G41,"") -> 6000 | F7: =IFERROR(Tilgungsplan!F41,"") -> 215560.74
A8: 4 | B8: =IFERROR(Tilgungsplan!C42,"") -> 215560.74 | C8: =IFERROR(SUMPRODUCT((Tilgungsplan!A6:A365>=37)*(Tilgungsplan!A6:A365<=48)*IFERROR(Tilgungsplan!D6:D365,0)),"") | D8: =IFERROR(SUMPRODUCT((Tilgungsplan!A6:A365>=37)*(Tilgungsplan!A6:A365<=48)*IFERROR(Tilgungsplan!E6:E365,0)),"") | E8: =IFERROR(Tilgungsplan!G53,"") -> 6000 | F8: =IFERROR(Tilgungsplan!F53,"") -> 203254.89
A9: 5 | B9: =IFERROR(Tilgungsplan!C54,"") -> 203254.89 | C9: =IFERROR(SUMPRODUCT((Tilgungsplan!A6:A365>=49)*(Tilgungsplan!A6:A365<=60)*IFERROR(Tilgungsplan!D6:D365,0)),"") | D9: =IFERROR(SUMPRODUCT((Tilgungsplan!A6:A365>=49)*(Tilgungsplan!A6:A365<=60)*IFERROR(Tilgungsplan!E6:E365,0)),"") | E9: =IFERROR(Tilgungsplan!G65,"") -> 6000 | F9: =IFERROR(Tilgungsplan!F65,"") -> 190511.35
A10: 6 | B10: =IFERROR(Tilgungsplan!C66,"") -> 190511.35 | C10: =IFERROR(SUMPRODUCT((Tilgungsplan!A6:A365>=61)*(Tilgungsplan!A6:A365<=72)*IFERROR(Tilgungsplan!D6:D365,0)),"") | D10: =IFERROR(SUMPRODUCT((Tilgungsplan!A6:A365>=61)*(Tilgungsplan!A6:A365<=72)*IFERROR(Tilgungsplan!E6:E365,0)),"") | E10: =IFERROR(Tilgungsplan!G77,"") -> 6000 | F10: =IFERROR(Tilgungsplan!F77,"") -> 177314.56
A11: 7 | B11: =IFERROR(Tilgungsplan!C78,"") -> 177314.56 | C11: =IFERROR(SUMPRODUCT((Tilgungsplan!A6:A365>=73)*(Tilgungsplan!A6:A365<=84)*IFERROR(Tilgungsplan!D6:D365,0)),"") | D11: =IFERROR(SUMPRODUCT((Tilgungsplan!A6:A365>=73)*(Tilgungsplan!A6:A365<=84)*IFERROR(Tilgungsplan!E6:E365,0)),"") | E11: =IFERROR(Tilgungsplan!G89,"") -> 6000 | F11: =IFERROR(Tilgungsplan!F89,"") -> 163648.41
A12: 8 | B12: =IFERROR(Tilgungsplan!C90,"") -> 163648.41 | C12: =IFERROR(SUMPRODUCT((Tilgungsplan!A6:A365>=85)*(Tilgungsplan!A6:A365<=96)*IFERROR(Tilgungsplan!D6:D365,0)),"") | D12: =IFERROR(SUMPRODUCT((Tilgungsplan!A6:A365>=85)*(Tilgungsplan!A6:A365<=96)*IFERROR(Tilgungsplan!E6:E365,0)),"") | E12: =IFERROR(Tilgungsplan!G101,"") -> 6000 | F12: =IFERROR(Tilgungsplan!F101,"") -> 149496.18
A13: 9 | B13: =IFERROR(Tilgungsplan!C102,"") -> 149496.18 | C13: =IFERROR(SUMPRODUCT((Tilgungsplan!A6:A365>=97)*(Tilgungsplan!A6:A365<=108)*IFERROR(Tilgungsplan!D6:D365,0)),"") | D13: =IFERROR(SUMPRODUCT((Tilgungsplan!A6:A365>=97)*(Tilgungsplan!A6:A365<=108)*IFERROR(Tilgungsplan!E6:E365,0)),"") | E13: =IFERROR(Tilgungsplan!G113,"") -> 6000 | F13: =IFERROR(Tilgungsplan!F113,"") -> 134840.6
A14: 10 | B14: =IFERROR(Tilgungsplan!C114,"") -> 134840.6 | C14: =IFERROR(SUMPRODUCT((Tilgungsplan!A6:A365>=109)*(Tilgungsplan!A6:A365<=120)*IFERROR(Tilgungsplan!D6:D365,0)),"") | D14: =IFERROR(SUMPRODUCT((Tilgungsplan!A6:A365>=109)*(Tilgungsplan!A6:A365<=120)*IFERROR(Tilgungsplan!E6:E365,0)),"") | E14: =IFERROR(Tilgungsplan!G125,"") -> 6000 | F14: =IFERROR(Tilgungsplan!F125,"") -> 119663.81
A15: 11 | B15: =IFERROR(Tilgungsplan!C126,"") -> 119663.81 | C15: =IFERROR(SUMPRODUCT((Tilgungsplan!A6:A365>=121)*(Tilgungsplan!A6:A365<=132)*IFERROR(Tilgungsplan!D6:D365,0)),"") | D15: =IFERROR(SUMPRODUCT((Tilgungsplan!A6:A365>=121)*(Tilgungsplan!A6:A365<=132)*IFERROR(Tilgungsplan!E6:E365,0)),"") | E15: =IFERROR(Tilgungsplan!G137,"") -> 6000 | F15: =IFERROR(Tilgungsplan!F137,"") -> 103947.2
A16: 12 | B16: =IFERROR(Tilgungsplan!C138,"") -> 103947.2 | C16: =IFERROR(SUMPRODUCT((Tilgungsplan!A6:A365>=133)*(Tilgungsplan!A6:A365<=144)*IFERROR(Tilgungsplan!D6:D365,0)),"") | D16: =IFERROR(SUMPRODUCT((Tilgungsplan!A6:A365>=133)*(Tilgungsplan!A6:A365<=144)*IFERROR(Tilgungsplan!E6:E365,0)),"") | E16: =IFERROR(Tilgungsplan!G149,"") -> 6000 | F16: =IFERROR(Tilgungsplan!F149,"") -> 87671.61
A17: 13 | B17: =IFERROR(Tilgungsplan!C150,"") -> 87671.61 | C17: =IFERROR(SUMPRODUCT((Tilgungsplan!A6:A365>=145)*(Tilgungsplan!A6:A365<=156)*IFERROR(Tilgungsplan!D6:D365,0)),"") | D17: =IFERROR(SUMPRODUCT((Tilgungsplan!A6:A365>=145)*(Tilgungsplan!A6:A365<=156)*IFERROR(Tilgungsplan!E6:E365,0)),"") | E17: =IFERROR(Tilgungsplan!G161,"") -> 6000 | F17: =IFERROR(Tilgungsplan!F161,"") -> 70817.14
A18: 14 | B18: =IFERROR(Tilgungsplan!C162,"") -> 70817.14 | C18: =IFERROR(SUMPRODUCT((Tilgungsplan!A6:A365>=157)*(Tilgungsplan!A6:A365<=168)*IFERROR(Tilgungsplan!D6:D365,0)),"") | D18: =IFERROR(SUMPRODUCT((Tilgungsplan!A6:A365>=157)*(Tilgungsplan!A6:A365<=168)*IFERROR(Tilgungsplan!E6:E365,0)),"") | E18: =IFERROR(Tilgungsplan!G173,"") -> 6000 | F18: =IFERROR(Tilgungsplan!F173,"") -> 53363.18
A19: 15 | B19: =IFERROR(Tilgungsplan!C174,"") -> 53363.18 | C19: =IFERROR(SUMPRODUCT((Tilgungsplan!A6:A365>=169)*(Tilgungsplan!A6:A365<=180)*IFERROR(Tilgungsplan!D6:D365,0)),"") | D19: =IFERROR(SUMPRODUCT((Tilgungsplan!A6:A365>=169)*(Tilgungsplan!A6:A365<=180)*IFERROR(Tilgungsplan!E6:E365,0)),"") | E19: =IFERROR(Tilgungsplan!G185,"") -> 6000 | F19: =IFERROR(Tilgungsplan!F185,"") -> 35288.45
A20: 16 | B20: =IFERROR(Tilgungsplan!C186,"") -> 35288.45 | C20: =IFERROR(SUMPRODUCT((Tilgungsplan!A6:A365>=181)*(Tilgungsplan!A6:A365<=192)*IFERROR(Tilgungsplan!D6:D365,0)),"") | D20: =IFERROR(SUMPRODUCT((Tilgungsplan!A6:A365>=181)*(Tilgungsplan!A6:A365<=192)*IFERROR(Tilgungsplan!E6:E365,0)),"") | E20: =IFERROR(Tilgungsplan!G197,"") -> 6000 | F20: =IFERROR(Tilgungsplan!F197,"") -> 16570.84
A21: 17 | B21: =IFERROR(Tilgungsplan!C198,"") -> 16570.84 | C21: =IFERROR(SUMPRODUCT((Tilgungsplan!A6:A365>=193)*(Tilgungsplan!A6:A365<=204)*IFERROR(Tilgungsplan!D6:D365,0)),"") | D21: =IFERROR(SUMPRODUCT((Tilgungsplan!A6:A365>=193)*(Tilgungsplan!A6:A365<=204)*IFERROR(Tilgungsplan!E6:E365,0)),"") | E21: =IFERROR(Tilgungsplan!G209,"") -> 3187.51 | F21: =IFERROR(Tilgungsplan!F209,"") -> 0
A22: 18 | B22: =IFERROR(Tilgungsplan!C210,"") | C22: =IFERROR(SUMPRODUCT((Tilgungsplan!A6:A365>=205)*(Tilgungsplan!A6:A365<=216)*IFERROR(Tilgungsplan!D6:D365,0)),"") | D22: =IFERROR(SUMPRODUCT((Tilgungsplan!A6:A365>=205)*(Tilgungsplan!A6:A365<=216)*IFERROR(Tilgungsplan!E6:E365,0)),"") | E22: =IFERROR(Tilgungsplan!G221,"") | F22: =IFERROR(Tilgungsplan!F221,"")
A23: 19 | B23: =IFERROR(Tilgungsplan!C222,"") | C23: =IFERROR(SUMPRODUCT((Tilgungsplan!A6:A365>=217)*(Tilgungsplan!A6:A365<=228)*IFERROR(Tilgungsplan!D6:D365,0)),"") | D23: =IFERROR(SUMPRODUCT((Tilgungsplan!A6:A365>=217)*(Tilgungsplan!A6:A365<=228)*IFERROR(Tilgungsplan!E6:E365,0)),"") | E23: =IFERROR(Tilgungsplan!G233,"") | F23: =IFERROR(Tilgungsplan!F233,"")
A24: 20 | B24: =IFERROR(Tilgungsplan!C234,"") | C24: =IFERROR(SUMPRODUCT((Tilgungsplan!A6:A365>=229)*(Tilgungsplan!A6:A365<=240)*IFERROR(Tilgungsplan!D6:D365,0)),"") | D24: =IFERROR(SUMPRODUCT((Tilgungsplan!A6:A365>=229)*(Tilgungsplan!A6:A365<=240)*IFERROR(Tilgungsplan!E6:E365,0)),"") | E24: =IFERROR(Tilgungsplan!G245,"") | F24: =IFERROR(Tilgungsplan!F245,"")
A25: 21 | B25: =IFERROR(Tilgungsplan!C246,"") | C25: =IFERROR(SUMPRODUCT((Tilgungsplan!A6:A365>=241)*(Tilgungsplan!A6:A365<=252)*IFERROR(Tilgungsplan!D6:D365,0)),"") | D25: =IFERROR(SUMPRODUCT((Tilgungsplan!A6:A365>=241)*(Tilgungsplan!A6:A365<=252)*IFERROR(Tilgungsplan!E6:E365,0)),"") | E25: =IFERROR(Tilgungsplan!G257,"") | F25: =IFERROR(Tilgungsplan!F257,"")
A26: 22 | B26: =IFERROR(Tilgungsplan!C258,"") | C26: =IFERROR(SUMPRODUCT((Tilgungsplan!A6:A365>=253)*(Tilgungsplan!A6:A365<=264)*IFERROR(Tilgungsplan!D6:D365,0)),"") | D26: =IFERROR(SUMPRODUCT((Tilgungsplan!A6:A365>=253)*(Tilgungsplan!A6:A365<=264)*IFERROR(Tilgungsplan!E6:E365,0)),"") | E26: =IFERROR(Tilgungsplan!G269,"") | F26: =IFERROR(Tilgungsplan!F269,"")
A27: 23 | B27: =IFERROR(Tilgungsplan!C270,"") | C27: =IFERROR(SUMPRODUCT((Tilgungsplan!A6:A365>=265)*(Tilgungsplan!A6:A365<=276)*IFERROR(Tilgungsplan!D6:D365,0)),"") | D27: =IFERROR(SUMPRODUCT((Tilgungsplan!A6:A365>=265)*(Tilgungsplan!A6:A365<=276)*IFERROR(Tilgungsplan!E6:E365,0)),"") | E27: =IFERROR(Tilgungsplan!G281,"") | F27: =IFERROR(Tilgungsplan!F281,"")
A28: 24 | B28: =IFERROR(Tilgungsplan!C282,"") | C28: =IFERROR(SUMPRODUCT((Tilgungsplan!A6:A365>=277)*(Tilgungsplan!A6:A365<=288)*IFERROR(Tilgungsplan!D6:D365,0)),"") | D28: =IFERROR(SUMPRODUCT((Tilgungsplan!A6:A365>=277)*(Tilgungsplan!A6:A365<=288)*IFERROR(Tilgungsplan!E6:E365,0)),"") | E28: =IFERROR(Tilgungsplan!G293,"") | F28: =IFERROR(Tilgungsplan!F293,"")
A29: 25 | B29: =IFERROR(Tilgungsplan!C294,"") | C29: =IFERROR(SUMPRODUCT((Tilgungsplan!A6:A365>=289)*(Tilgungsplan!A6:A365<=300)*IFERROR(Tilgungsplan!D6:D365,0)),"") | D29: =IFERROR(SUMPRODUCT((Tilgungsplan!A6:A365>=289)*(Tilgungsplan!A6:A365<=300)*IFERROR(Tilgungsplan!E6:E365,0)),"") | E29: =IFERROR(Tilgungsplan!G305,"") | F29: =IFERROR(Tilgungsplan!F305,"")
A30: 26 | B30: =IFERROR(Tilgungsplan!C306,"") | C30: =IFERROR(SUMPRODUCT((Tilgungsplan!A6:A365>=301)*(Tilgungsplan!A6:A365<=312)*IFERROR(Tilgungsplan!D6:D365,0)),"") | D30: =IFERROR(SUMPRODUCT((Tilgungsplan!A6:A365>=301)*(Tilgungsplan!A6:A365<=312)*IFERROR(Tilgungsplan!E6:E365,0)),"") | E30: =IFERROR(Tilgungsplan!G317,"") | F30: =IFERROR(Tilgungsplan!F317,"")
A31: 27 | B31: =IFERROR(Tilgungsplan!C318,"") | C31: =IFERROR(SUMPRODUCT((Tilgungsplan!A6:A365>=313)*(Tilgungsplan!A6:A365<=324)*IFERROR(Tilgungsplan!D6:D365,0)),"") | D31: =IFERROR(SUMPRODUCT((Tilgungsplan!A6:A365>=313)*(Tilgungsplan!A6:A365<=324)*IFERROR(Tilgungsplan!E6:E365,0)),"") | E31: =IFERROR(Tilgungsplan!G329,"") | F31: =IFERROR(Tilgungsplan!F329,"")
A32: 28 | B32: =IFERROR(Tilgungsplan!C330,"") | C32: =IFERROR(SUMPRODUCT((Tilgungsplan!A6:A365>=325)*(Tilgungsplan!A6:A365<=336)*IFERROR(Tilgungsplan!D6:D365,0)),"") | D32: =IFERROR(SUMPRODUCT((Tilgungsplan!A6:A365>=325)*(Tilgungsplan!A6:A365<=336)*IFERROR(Tilgungsplan!E6:E365,0)),"") | E32: =IFERROR(Tilgungsplan!G341,"") | F32: =IFERROR(Tilgungsplan!F341,"")
A33: 29 | B33: =IFERROR(Tilgungsplan!C342,"") | C33: =IFERROR(SUMPRODUCT((Tilgungsplan!A6:A365>=337)*(Tilgungsplan!A6:A365<=348)*IFERROR(Tilgungsplan!D6:D365,0)),"") | D33: =IFERROR(SUMPRODUCT((Tilgungsplan!A6:A365>=337)*(Tilgungsplan!A6:A365<=348)*IFERROR(Tilgungsplan!E6:E365,0)),"") | E33: =IFERROR(Tilgungsplan!G353,"") | F33: =IFERROR(Tilgungsplan!F353,"")
A34: 30 | B34: =IFERROR(Tilgungsplan!C354,"") | C34: =IFERROR(SUMPRODUCT((Tilgungsplan!A6:A365>=349)*(Tilgungsplan!A6:A365<=360)*IFERROR(Tilgungsplan!D6:D365,0)),"") | D34: =IFERROR(SUMPRODUCT((Tilgungsplan!A6:A365>=349)*(Tilgungsplan!A6:A365<=360)*IFERROR(Tilgungsplan!E6:E365,0)),"") | E34: =IFERROR(Tilgungsplan!G365,"") | F34: =IFERROR(Tilgungsplan!F365,"")
A35: GESAMT | C35: =SUM(C5:C34) -> 0 | D35: =SUM(D5:D34) -> 0 | E35: =SUM(E5:E34) -> 99187.51

Sheet Szenario-Vergleich
A1: SZENARIO-VERGLEICH – Was wäre wenn?
A3: Vergleichen Sie bis zu 4 verschiedene Finanzierungsszenarien nebeneinander.
A5: Parameter / Ergebnis | B5: Aktuelles Szenario | C5: Höhere Tilgung | D5: Höhere Sondertilgung | E5: Kürzere Laufzeit
A6: Darlehensbetrag | B6: 250000 | C6: 250000 | D6: 250000 | E6: 250000
A7: Sollzins (% p.a.) | B7: 0.035 | C7: 0.035 | D7: 0.035 | E7: 0.035
A8: Anfängl. Tilgung (%) | B8: 0.02 | C8: 0.03 | D8: 0.02 | E8: 0.02
A9: Jährl. Sondertilgung | B9: 6000 | C9: 6000 | D9: 12000 | E9: 6000
A10: ── ERGEBNISSE ──
A11: Monatliche Rate | B11: =ROUND(B6*(B7/12+B8/12),2) -> 1145.83 | C11: =ROUND(C6*(C7/12+C8/12),2) -> 1354.17 | D11: =ROUND(D6*(D7/12+D8/12),2) -> 1145.83 | E11: =ROUND(E6*(E7/12+E8/12),2) -> 1145.83
A12: Laufzeit ohne Sondertilg. (Jahre) | B12: =ROUND(-NPER(B7/12,-B11,B6)/12,1) -> -28.9 | C12: =ROUND(-NPER(C7/12,-C11,C6)/12,1) -> -22.1 | D12: =ROUND(-NPER(D7/12,-D11,D6)/12,1) -> -28.9 | E12: =ROUND(-NPER(E7/12,-E11,E6)/12,1) -> -28.9
A13: Gesamtzinsen (ohne Sondertilg.) | B13: =IFERROR(NPER(B7/12,-(B6*(B7/12+B8/12)),B6)*B6*(B7/12+B8/12)/12*12-B6,0) -> 147993.93 | C13: =IFERROR(NPER(C7/12,-(C6*(C7/12+C8/12)),C6)*C6*(C7/12+C8/12)/12*12-C6,0) -> 109504.28 | D13: =IFERROR(NPER(D7/12,-(D6*(D7/12+D8/12)),D6)*D6*(D7/12+D8/12)/12*12-D6,0) -> 147993.93 | E13: =IFERROR(NPER(E7/12,-(E6*(E7/12+E8/12)),E6)*E6*(E7/12+E8/12)/12*12-E6,0) -> 147993.93
