Workbook

Sheet Tilgungsplan
A1: TILGUNGSPLAN – ANNUITÄTENDARLEHEN
A2: Monatliche Rate – Zins- und Tilgungsanteile – Restschuldentwicklung
B4: DARLEHENSDATEN – EINGABE
B5: Darlehensbetrag (€): | C5: 250000
B6: Nominalzinssatz p.a. (%): | C6: 0.0385
B7: Anfängliche Tilgung p.a. (%): | C7: 0.02
B8: Darlehensbeginn: | C8: 01.01.2024
B9: Zinsbindung (Jahre): | C9: 10
B10: Sondertilgung p.a. (€): | C10: 5000
B12: BERECHNETE ERGEBNISSE
B13: Monatliche Annuitätenrate: | C13: =ROUND(C5*(C6/12)/(1-(1+C6/12)^(-(C9*12))),2) -> 2513.34
B14: Anfangstilgung je Monat: | C14: =ROUND(C5*C7/12,2) -> 416.67
B15: Anfangszins je Monat: | C15: =ROUND(C5*C6/12,2) -> 802.08
B16: Gesamtlaufzeit (Monate): | C16: =C9*12 -> 120
B17: Gesamtzinslast (Zinsbindung): | C17: =SUM(E22:E141) -> 41796.83
B18: Restschuld nach Zinsbindung: | C18: =G141 -> -59803.97
B19: Effektiver Jahreszins (ca.): | C19: =(1+C6/12)^12-1 -> 0.039186683
B20: ⚠ Blaue Werte = Eingaben (anpassbar) | Schwarze Werte = Berechnungen | Sondertilgung jährlich im Dezember
A21: Nr. | B21: Monat | C21: Annuität (€) | D21: Tilgung (€) | E21: Zinsen (€) | F21: Zinsen kum. (€) | G21: Restschuld (€) | I21: Sondertilgung (€)
A22: 1 | B22: 45323 | C22: =$C$13 -> 2513.34 | D22: =ROUND(C22-E22,2) -> 1711.26 | E22: =ROUND($C$5*$C$6/12,2) -> 802.08 | F22: =E22 -> 802.08 | G22: =ROUND($C$5-D22-I22,2) -> 248288.74 | I22: 0
A23: 2 | B23: 45352 | C23: =$C$13 -> 2513.34 | D23: =ROUND(C23-E23,2) -> 1716.75 | E23: =ROUND(G22*$C$6/12,2) -> 796.59 | F23: =F22+E23 -> 1598.67 | G23: =ROUND(G22-D23-I23,2) -> 246571.99 | I23: 0
A24: 3 | B24: 45383 | C24: =$C$13 -> 2513.34 | D24: =ROUND(C24-E24,2) -> 1722.25 | E24: =ROUND(G23*$C$6/12,2) -> 791.09 | F24: =F23+E24 -> 2389.76 | G24: =ROUND(G23-D24-I24,2) -> 244849.74 | I24: 0
A25: 4 | B25: 45413 | C25: =$C$13 -> 2513.34 | D25: =ROUND(C25-E25,2) -> 1727.78 | E25: =ROUND(G24*$C$6/12,2) -> 785.56 | F25: =F24+E25 -> 3175.32 | G25: =ROUND(G24-D25-I25,2) -> 243121.96 | I25: 0
A26: 5 | B26: 45444 | C26: =$C$13 -> 2513.34 | D26: =ROUND(C26-E26,2) -> 1733.32 | E26: =ROUND(G25*$C$6/12,2) -> 780.02 | F26: =F25+E26 -> 3955.34 | G26: =ROUND(G25-D26-I26,2) -> 241388.64 | I26: 0
A27: 6 | B27: 45474 | C27: =$C$13 -> 2513.34 | D27: =ROUND(C27-E27,2) -> 1738.88 | E27: =ROUND(G26*$C$6/12,2) -> 774.46 | F27: =F26+E27 -> 4729.8 | G27: =ROUND(G26-D27-I27,2) -> 239649.76 | I27: 0
A28: 7 | B28: 45505 | C28: =$C$13 -> 2513.34 | D28: =ROUND(C28-E28,2) -> 1744.46 | E28: =ROUND(G27*$C$6/12,2) -> 768.88 | F28: =F27+E28 -> 5498.68 | G28: =ROUND(G27-D28-I28,2) -> 237905.3 | I28: 0
A29: 8 | B29: 45536 | C29: =$C$13 -> 2513.34 | D29: =ROUND(C29-E29,2) -> 1750.06 | E29: =ROUND(G28*$C$6/12,2) -> 763.28 | F29: =F28+E29 -> 6261.96 | G29: =ROUND(G28-D29-I29,2) -> 236155.24 | I29: 0
A30: 9 | B30: 45566 | C30: =$C$13 -> 2513.34 | D30: =ROUND(C30-E30,2) -> 1755.68 | E30: =ROUND(G29*$C$6/12,2) -> 757.66 | F30: =F29+E30 -> 7019.62 | G30: =ROUND(G29-D30-I30,2) -> 234399.56 | I30: 0
A31: 10 | B31: 45597 | C31: =$C$13 -> 2513.34 | D31: =ROUND(C31-E31,2) -> 1761.31 | E31: =ROUND(G30*$C$6/12,2) -> 752.03 | F31: =F30+E31 -> 7771.65 | G31: =ROUND(G30-D31-I31,2) -> 232638.25 | I31: 0
A32: 11 | B32: 45627 | C32: =$C$13 -> 2513.34 | D32: =ROUND(C32-E32,2) -> 1766.96 | E32: =ROUND(G31*$C$6/12,2) -> 746.38 | F32: =F31+E32 -> 8518.03 | G32: =ROUND(G31-D32-I32,2) -> 230871.29 | I32: 0
A33: 12 | B33: 45658 | C33: =$C$13 -> 2513.34 | D33: =ROUND(C33-E33,2) -> 1772.63 | E33: =ROUND(G32*$C$6/12,2) -> 740.71 | F33: =F32+E33 -> 9258.74 | G33: =ROUND(G32-D33-I33,2) -> 224098.66 | I33: =$C$10 -> 5000
A34: 13 | B34: 45689 | C34: =$C$13 -> 2513.34 | D34: =ROUND(C34-E34,2) -> 1794.36 | E34: =ROUND(G33*$C$6/12,2) -> 718.98 | F34: =F33+E34 -> 9977.72 | G34: =ROUND(G33-D34-I34,2) -> 222304.3 | I34: 0
A35: 14 | B35: 45717 | C35: =$C$13 -> 2513.34 | D35: =ROUND(C35-E35,2) -> 1800.11 | E35: =ROUND(G34*$C$6/12,2) -> 713.23 | F35: =F34+E35 -> 10690.95 | G35: =ROUND(G34-D35-I35,2) -> 220504.19 | I35: 0
A36: 15 | B36: 45748 | C36: =$C$13 -> 2513.34 | D36: =ROUND(C36-E36,2) -> 1805.89 | E36: =ROUND(G35*$C$6/12,2) -> 707.45 | F36: =F35+E36 -> 11398.4 | G36: =ROUND(G35-D36-I36,2) -> 218698.3 | I36: 0
A37: 16 | B37: 45778 | C37: =$C$13 -> 2513.34 | D37: =ROUND(C37-E37,2) -> 1811.68 | E37: =ROUND(G36*$C$6/12,2) -> 701.66 | F37: =F36+E37 -> 12100.06 | G37: =ROUND(G36-D37-I37,2) -> 216886.62 | I37: 0
A38: 17 | B38: 45809 | C38: =$C$13 -> 2513.34 | D38: =ROUND(C38-E38,2) -> 1817.5 | E38: =ROUND(G37*$C$6/12,2) -> 695.84 | F38: =F37+E38 -> 12795.9 | G38: =ROUND(G37-D38-I38,2) -> 215069.12 | I38: 0
A39: 18 | B39: 45839 | C39: =$C$13 -> 2513.34 | D39: =ROUND(C39-E39,2) -> 1823.33 | E39: =ROUND(G38*$C$6/12,2) -> 690.01 | F39: =F38+E39 -> 13485.91 | G39: =ROUND(G38-D39-I39,2) -> 213245.79 | I39: 0
A40: 19 | B40: 45870 | C40: =$C$13 -> 2513.34 | D40: =ROUND(C40-E40,2) -> 1829.18 | E40: =ROUND(G39*$C$6/12,2) -> 684.16 | F40: =F39+E40 -> 14170.07 | G40: =ROUND(G39-D40-I40,2) -> 211416.61 | I40: 0
A41: 20 | B41: 45901 | C41: =$C$13 -> 2513.34 | D41: =ROUND(C41-E41,2) -> 1835.05 | E41: =ROUND(G40*$C$6/12,2) -> 678.29 | F41: =F40+E41 -> 14848.36 | G41: =ROUND(G40-D41-I41,2) -> 209581.56 | I41: 0
A42: 21 | B42: 45931 | C42: =$C$13 -> 2513.34 | D42: =ROUND(C42-E42,2) -> 1840.93 | E42: =ROUND(G41*$C$6/12,2) -> 672.41 | F42: =F41+E42 -> 15520.77 | G42: =ROUND(G41-D42-I42,2) -> 207740.63 | I42: 0
...

Sheet Diagramm
A1: TILGUNGSPLAN – GRAFISCHE ÜBERSICHT
A2: Annuitätendarlehen 250.000 € | Zinssatz 3,85 % p.a. | Tilgung 2,00 % p.a. | Zinsbindung 10 Jahre
A4: Jahr | B4: Zinsen (€) | C4: Tilgung (€) | D4: Sondertilgung (€) | E4: Restschuld (€)
A5: Jahr 1 | B5: =SUM(Tilgungsplan!E22:E33) -> 9258.74 | C5: =SUM(Tilgungsplan!D22:D33) -> 20901.34 | D5: =SUM(Tilgungsplan!I22:I33) -> 5000 | E5: =Tilgungsplan!G33 -> 224098.66
A6: Jahr 2 | B6: =SUM(Tilgungsplan!E34:E45) -> 8243.74 | C6: =SUM(Tilgungsplan!D34:D45) -> 21916.34 | D6: =SUM(Tilgungsplan!I34:I45) -> 5000 | E6: =Tilgungsplan!G45 -> 197182.32
A7: Jahr 3 | B7: =SUM(Tilgungsplan!E46:E57) -> 7188.99 | C7: =SUM(Tilgungsplan!D46:D57) -> 22971.09 | D7: =SUM(Tilgungsplan!I46:I57) -> 5000 | E7: =Tilgungsplan!G57 -> 169211.23
A8: Jahr 4 | B8: =SUM(Tilgungsplan!E58:E69) -> 6092.89 | C8: =SUM(Tilgungsplan!D58:D69) -> 24067.19 | D8: =SUM(Tilgungsplan!I58:I69) -> 5000 | E8: =Tilgungsplan!G69 -> 140144.04
A9: Jahr 5 | B9: =SUM(Tilgungsplan!E70:E81) -> 4953.85 | C9: =SUM(Tilgungsplan!D70:D81) -> 25206.23 | D9: =SUM(Tilgungsplan!I70:I81) -> 5000 | E9: =Tilgungsplan!G81 -> 109937.81
A10: Jahr 6 | B10: =SUM(Tilgungsplan!E82:E93) -> 3770.16 | C10: =SUM(Tilgungsplan!D82:D93) -> 26389.92 | D10: =SUM(Tilgungsplan!I82:I93) -> 5000 | E10: =Tilgungsplan!G93 -> 78547.89
A11: Jahr 7 | B11: =SUM(Tilgungsplan!E94:E105) -> 2540.1 | C11: =SUM(Tilgungsplan!D94:D105) -> 27619.98 | D11: =SUM(Tilgungsplan!I94:I105) -> 5000 | E11: =Tilgungsplan!G105 -> 45927.91
A12: Jahr 8 | B12: =SUM(Tilgungsplan!E106:E117) -> 1261.83 | C12: =SUM(Tilgungsplan!D106:D117) -> 28898.25 | D12: =SUM(Tilgungsplan!I106:I117) -> 5000 | E12: =Tilgungsplan!G117 -> 12029.66
A13: Jahr 9 | B13: =SUM(Tilgungsplan!E118:E129) -> -66.53 | C13: =SUM(Tilgungsplan!D118:D129) -> 30226.61 | D13: =SUM(Tilgungsplan!I118:I129) -> 5000 | E13: =Tilgungsplan!G129 -> -23196.95
A14: Jahr 10 | B14: =SUM(Tilgungsplan!E130:E141) -> -1446.94 | C14: =SUM(Tilgungsplan!D130:D141) -> 31607.02 | D14: =SUM(Tilgungsplan!I130:I141) -> 5000 | E14: =Tilgungsplan!G141 -> -59803.97
