Workbook

Sheet Tilgungsplan
A1: TILGUNGSPLAN – ANNUITÄTENDARLEHEN
A2: Monatliche Rate – Zins- und Tilgungsanteile – Restschuldentwicklung
B4: DARLEHENSDATEN – EINGABE
B5: Darlehensbetrag (€): | C5: 250000
B6: Nominalzinssatz p.a. (%): | C6: 0.0385
B7: Anfängliche Tilgung p.a. (%): | C7: 0.02
B8: Darlehensbeginn: | C8: 01.01.2024
B9: Zinsbindung (Jahre): | C9: 10
B10: Sondertilgung p.a. (€): | C10: 5000
B12: BERECHNETE ERGEBNISSE
B13: Monatliche Annuitätenrate: | C13: =ROUND(C5*(C6/12)/(1-(1+C6/12)^(-(C9*12))),2) -> 2513.34
B14: Anfangstilgung je Monat: | C14: =ROUND(C5*C7/12,2) -> 416.67
B15: Anfangszins je Monat: | C15: =ROUND(C5*C6/12,2) -> 802.08
B16: Gesamtlaufzeit (Monate): | C16: =C9*12 -> 120
B17: Gesamtzinslast (Zinsbindung): | C17: =SUM(E22:E141) -> 41796.83
B18: Restschuld nach Zinsbindung: | C18: =G141 -> -59803.97
B19: Effektiver Jahreszins (ca.): | C19: =(1+C6/12)^12-1 -> 0.039186683
B20: ⚠ Blaue Werte = Eingaben (anpassbar) | Schwarze Werte = Berechnungen | Sondertilgung jährlich im Dezember
A21: Nr. | B21: Monat | C21: Annuität (€) | D21: Tilgung (€) | E21: Zinsen (€) | F21: Zinsen kum. (€) | G21: Restschuld (€) | I21: Sondertilgung (€)
A22: 1 | B22: 45323 | C22: =$C$13 -> 2513.34 | D22: =ROUND(C22-E22,2) -> 1711.26 | E22: =ROUND($C$5*$C$6/12,2) -> 802.08 | F22: =E22 -> 802.08 | G22: =ROUND($C$5-D22-I22,2) -> 248288.74 | I22: 0
A23: 2 | B23: 45352 | C23: =$C$13 -> 2513.34 | D23: =ROUND(C23-E23,2) -> 1716.75 | E23: =ROUND(G22*$C$6/12,2) -> 796.59 | F23: =F22+E23 -> 1598.67 | G23: =ROUND(G22-D23-I23,2) -> 246571.99 | I23: 0
A24: 3 | B24: 45383 | C24: =$C$13 -> 2513.34 | D24: =ROUND(C24-E24,2) -> 1722.25 | E24: =ROUND(G23*$C$6/12,2) -> 791.09 | F24: =F23+E24 -> 2389.76 | G24: =ROUND(G23-D24-I24,2) -> 244849.74 | I24: 0
A25: 4 | B25: 45413 | C25: =$C$13 -> 2513.34 | D25: =ROUND(C25-E25,2) -> 1727.78 | E25: =ROUND(G24*$C$6/12,2) -> 785.56 | F25: =F24+E25 -> 3175.32 | G25: =ROUND(G24-D25-I25,2) -> 243121.96 | I25: 0
A26: 5 | B26: 45444 | C26: =$C$13 -> 2513.34 | D26: =ROUND(C26-E26,2) -> 1733.32 | E26: =ROUND(G25*$C$6/12,2) -> 780.02 | F26: =F25+E26 -> 3955.34 | G26: =ROUND(G25-D26-I26,2) -> 241388.64 | I26: 0
A27: 6 | B27: 45474 | C27: =$C$13 -> 2513.34 | D27: =ROUND(C27-E27,2) -> 1738.88 | E27: =ROUND(G26*$C$6/12,2) -> 774.46 | F27: =F26+E27 -> 4729.8 | G27: =ROUND(G26-D27-I27,2) -> 239649.76 | I27: 0
A28: 7 | B28: 45505 | C28: =$C$13 -> 2513.34 | D28: =ROUND(C28-E28,2) -> 1744.46 | E28: =ROUND(G27*$C$6/12,2) -> 768.88 | F28: =F27+E28 -> 5498.68 | G28: =ROUND(G27-D28-I28,2) -> 237905.3 | I28: 0
A29: 8 | B29: 45536 | C29: =$C$13 -> 2513.34 | D29: =ROUND(C29-E29,2) -> 1750.06 | E29: =ROUND(G28*$C$6/12,2) -> 763.28 | F29: =F28+E29 -> 6261.96 | G29: =ROUND(G28-D29-I29,2) -> 236155.24 | I29: 0
A30: 9 | B30: 45566 | C30: =$C$13 -> 2513.34 | D30: =ROUND(C30-E30,2) -> 1755.68 | E30: =ROUND(G29*$C$6/12,2) -> 757.66 | F30: =F29+E30 -> 7019.62 | G30: =ROUND(G29-D30-I30,2) -> 234399.56 | I30: 0
A31: 10 | B31: 45597 | C31: =$C$13 -> 2513.34 | D31: =ROUND(C31-E31,2) -> 1761.31 | E31: =ROUND(G30*$C$6/12,2) -> 752.03 | F31: =F30+E31 -> 7771.65 | G31: =ROUND(G30-D31-I31,2) -> 232638.25 | I31: 0
A32: 11 | B32: 45627 | C32: =$C$13 -> 2513.34 | D32: =ROUND(C32-E32,2) -> 1766.96 | E32: =ROUND(G31*$C$6/12,2) -> 746.38 | F32: =F31+E32 -> 8518.03 | G32: =ROUND(G31-D32-I32,2) -> 230871.29 | I32: 0
A33: 12 | B33: 45658 | C33: =$C$13 -> 2513.34 | D33: =ROUND(C33-E33,2) -> 1772.63 | E33: =ROUND(G32*$C$6/12,2) -> 740.71 | F33: =F32+E33 -> 9258.74 | G33: =ROUND(G32-D33-I33,2) -> 224098.66 | I33: =$C$10 -> 5000
A34: 13 | B34: 45689 | C34: =$C$13 -> 2513.34 | D34: =ROUND(C34-E34,2) -> 1794.36 | E34: =ROUND(G33*$C$6/12,2) -> 718.98 | F34: =F33+E34 -> 9977.72 | G34: =ROUND(G33-D34-I34,2) -> 222304.3 | I34: 0
A35: 14 | B35: 45717 | C35: =$C$13 -> 2513.34 | D35: =ROUND(C35-E35,2) -> 1800.11 | E35: =ROUND(G34*$C$6/12,2) -> 713.23 | F35: =F34+E35 -> 10690.95 | G35: =ROUND(G34-D35-I35,2) -> 220504.19 | I35: 0
A36: 15 | B36: 45748 | C36: =$C$13 -> 2513.34 | D36: =ROUND(C36-E36,2) -> 1805.89 | E36: =ROUND(G35*$C$6/12,2) -> 707.45 | F36: =F35+E36 -> 11398.4 | G36: =ROUND(G35-D36-I36,2) -> 218698.3 | I36: 0
A37: 16 | B37: 45778 | C37: =$C$13 -> 2513.34 | D37: =ROUND(C37-E37,2) -> 1811.68 | E37: =ROUND(G36*$C$6/12,2) -> 701.66 | F37: =F36+E37 -> 12100.06 | G37: =ROUND(G36-D37-I37,2) -> 216886.62 | I37: 0
A38: 17 | B38: 45809 | C38: =$C$13 -> 2513.34 | D38: =ROUND(C38-E38,2) -> 1817.5 | E38: =ROUND(G37*$C$6/12,2) -> 695.84 | F38: =F37+E38 -> 12795.9 | G38: =ROUND(G37-D38-I38,2) -> 215069.12 | I38: 0
A39: 18 | B39: 45839 | C39: =$C$13 -> 2513.34 | D39: =ROUND(C39-E39,2) -> 1823.33 | E39: =ROUND(G38*$C$6/12,2) -> 690.01 | F39: =F38+E39 -> 13485.91 | G39: =ROUND(G38-D39-I39,2) -> 213245.79 | I39: 0
A40: 19 | B40: 45870 | C40: =$C$13 -> 2513.34 | D40: =ROUND(C40-E40,2) -> 1829.18 | E40: =ROUND(G39*$C$6/12,2) -> 684.16 | F40: =F39+E40 -> 14170.07 | G40: =ROUND(G39-D40-I40,2) -> 211416.61 | I40: 0
A41: 20 | B41: 45901 | C41: =$C$13 -> 2513.34 | D41: =ROUND(C41-E41,2) -> 1835.05 | E41: =ROUND(G40*$C$6/12,2) -> 678.29 | F41: =F40+E41 -> 14848.36 | G41: =ROUND(G40-D41-I41,2) -> 209581.56 | I41: 0
A42: 21 | B42: 45931 | C42: =$C$13 -> 2513.34 | D42: =ROUND(C42-E42,2) -> 1840.93 | E42: =ROUND(G41*$C$6/12,2) -> 672.41 | F42: =F41+E42 -> 15520.77 | G42: =ROUND(G41-D42-I42,2) -> 207740.63 | I42: 0
A43: 22 | B43: 45962 | C43: =$C$13 -> 2513.34 | D43: =ROUND(C43-E43,2) -> 1846.84 | E43: =ROUND(G42*$C$6/12,2) -> 666.5 | F43: =F42+E43 -> 16187.27 | G43: =ROUND(G42-D43-I43,2) -> 205893.79 | I43: 0
A44: 23 | B44: 45992 | C44: =$C$13 -> 2513.34 | D44: =ROUND(C44-E44,2) -> 1852.76 | E44: =ROUND(G43*$C$6/12,2) -> 660.58 | F44: =F43+E44 -> 16847.85 | G44: =ROUND(G43-D44-I44,2) -> 204041.03 | I44: 0
A45: 24 | B45: 46023 | C45: =$C$13 -> 2513.34 | D45: =ROUND(C45-E45,2) -> 1858.71 | E45: =ROUND(G44*$C$6/12,2) -> 654.63 | F45: =F44+E45 -> 17502.48 | G45: =ROUND(G44-D45-I45,2) -> 197182.32 | I45: =$C$10 -> 5000
A46: 25 | B46: 46054 | C46: =$C$13 -> 2513.34 | D46: =ROUND(C46-E46,2) -> 1880.71 | E46: =ROUND(G45*$C$6/12,2) -> 632.63 | F46: =F45+E46 -> 18135.11 | G46: =ROUND(G45-D46-I46,2) -> 195301.61 | I46: 0
A47: 26 | B47: 46082 | C47: =$C$13 -> 2513.34 | D47: =ROUND(C47-E47,2) -> 1886.75 | E47: =ROUND(G46*$C$6/12,2) -> 626.59 | F47: =F46+E47 -> 18761.7 | G47: =ROUND(G46-D47-I47,2) -> 193414.86 | I47: 0
A48: 27 | B48: 46113 | C48: =$C$13 -> 2513.34 | D48: =ROUND(C48-E48,2) -> 1892.8 | E48: =ROUND(G47*$C$6/12,2) -> 620.54 | F48: =F47+E48 -> 19382.24 | G48: =ROUND(G47-D48-I48,2) -> 191522.06 | I48: 0
A49: 28 | B49: 46143 | C49: =$C$13 -> 2513.34 | D49: =ROUND(C49-E49,2) -> 1898.87 | E49: =ROUND(G48*$C$6/12,2) -> 614.47 | F49: =F48+E49 -> 19996.71 | G49: =ROUND(G48-D49-I49,2) -> 189623.19 | I49: 0
A50: 29 | B50: 46174 | C50: =$C$13 -> 2513.34 | D50: =ROUND(C50-E50,2) -> 1904.97 | E50: =ROUND(G49*$C$6/12,2) -> 608.37 | F50: =F49+E50 -> 20605.08 | G50: =ROUND(G49-D50-I50,2) -> 187718.22 | I50: 0
A51: 30 | B51: 46204 | C51: =$C$13 -> 2513.34 | D51: =ROUND(C51-E51,2) -> 1911.08 | E51: =ROUND(G50*$C$6/12,2) -> 602.26 | F51: =F50+E51 -> 21207.34 | G51: =ROUND(G50-D51-I51,2) -> 185807.14 | I51: 0
A52: 31 | B52: 46235 | C52: =$C$13 -> 2513.34 | D52: =ROUND(C52-E52,2) -> 1917.21 | E52: =ROUND(G51*$C$6/12,2) -> 596.13 | F52: =F51+E52 -> 21803.47 | G52: =ROUND(G51-D52-I52,2) -> 183889.93 | I52: 0
A53: 32 | B53: 46266 | C53: =$C$13 -> 2513.34 | D53: =ROUND(C53-E53,2) -> 1923.36 | E53: =ROUND(G52*$C$6/12,2) -> 589.98 | F53: =F52+E53 -> 22393.45 | G53: =ROUND(G52-D53-I53,2) -> 181966.57 | I53: 0
A54: 33 | B54: 46296 | C54: =$C$13 -> 2513.34 | D54: =ROUND(C54-E54,2) -> 1929.53 | E54: =ROUND(G53*$C$6/12,2) -> 583.81 | F54: =F53+E54 -> 22977.26 | G54: =ROUND(G53-D54-I54,2) -> 180037.04 | I54: 0
A55: 34 | B55: 46327 | C55: =$C$13 -> 2513.34 | D55: =ROUND(C55-E55,2) -> 1935.72 | E55: =ROUND(G54*$C$6/12,2) -> 577.62 | F55: =F54+E55 -> 23554.88 | G55: =ROUND(G54-D55-I55,2) -> 178101.32 | I55: 0
A56: 35 | B56: 46357 | C56: =$C$13 -> 2513.34 | D56: =ROUND(C56-E56,2) -> 1941.93 | E56: =ROUND(G55*$C$6/12,2) -> 571.41 | F56: =F55+E56 -> 24126.29 | G56: =ROUND(G55-D56-I56,2) -> 176159.39 | I56: 0
A57: 36 | B57: 46388 | C57: =$C$13 -> 2513.34 | D57: =ROUND(C57-E57,2) -> 1948.16 | E57: =ROUND(G56*$C$6/12,2) -> 565.18 | F57: =F56+E57 -> 24691.47 | G57: =ROUND(G56-D57-I57,2) -> 169211.23 | I57: =$C$10 -> 5000
A58: 37 | B58: 46419 | C58: =$C$13 -> 2513.34 | D58: =ROUND(C58-E58,2) -> 1970.45 | E58: =ROUND(G57*$C$6/12,2) -> 542.89 | F58: =F57+E58 -> 25234.36 | G58: =ROUND(G57-D58-I58,2) -> 167240.78 | I58: 0
A59: 38 | B59: 46447 | C59: =$C$13 -> 2513.34 | D59: =ROUND(C59-E59,2) -> 1976.78 | E59: =ROUND(G58*$C$6/12,2) -> 536.56 | F59: =F58+E59 -> 25770.92 | G59: =ROUND(G58-D59-I59,2) -> 165264 | I59: 0
A60: 39 | B60: 46478 | C60: =$C$13 -> 2513.34 | D60: =ROUND(C60-E60,2) -> 1983.12 | E60: =ROUND(G59*$C$6/12,2) -> 530.22 | F60: =F59+E60 -> 26301.14 | G60: =ROUND(G59-D60-I60,2) -> 163280.88 | I60: 0
A61: 40 | B61: 46508 | C61: =$C$13 -> 2513.34 | D61: =ROUND(C61-E61,2) -> 1989.48 | E61: =ROUND(G60*$C$6/12,2) -> 523.86 | F61: =F60+E61 -> 26825 | G61: =ROUND(G60-D61-I61,2) -> 161291.4 | I61: 0
A62: 41 | B62: 46539 | C62: =$C$13 -> 2513.34 | D62: =ROUND(C62-E62,2) -> 1995.86 | E62: =ROUND(G61*$C$6/12,2) -> 517.48 | F62: =F61+E62 -> 27342.48 | G62: =ROUND(G61-D62-I62,2) -> 159295.54 | I62: 0
A63: 42 | B63: 46569 | C63: =$C$13 -> 2513.34 | D63: =ROUND(C63-E63,2) -> 2002.27 | E63: =ROUND(G62*$C$6/12,2) -> 511.07 | F63: =F62+E63 -> 27853.55 | G63: =ROUND(G62-D63-I63,2) -> 157293.27 | I63: 0
A64: 43 | B64: 46600 | C64: =$C$13 -> 2513.34 | D64: =ROUND(C64-E64,2) -> 2008.69 | E64: =ROUND(G63*$C$6/12,2) -> 504.65 | F64: =F63+E64 -> 28358.2 | G64: =ROUND(G63-D64-I64,2) -> 155284.58 | I64: 0
A65: 44 | B65: 46631 | C65: =$C$13 -> 2513.34 | D65: =ROUND(C65-E65,2) -> 2015.14 | E65: =ROUND(G64*$C$6/12,2) -> 498.2 | F65: =F64+E65 -> 28856.4 | G65: =ROUND(G64-D65-I65,2) -> 153269.44 | I65: 0
A66: 45 | B66: 46661 | C66: =$C$13 -> 2513.34 | D66: =ROUND(C66-E66,2) -> 2021.6 | E66: =ROUND(G65*$C$6/12,2) -> 491.74 | F66: =F65+E66 -> 29348.14 | G66: =ROUND(G65-D66-I66,2) -> 151247.84 | I66: 0
A67: 46 | B67: 46692 | C67: =$C$13 -> 2513.34 | D67: =ROUND(C67-E67,2) -> 2028.09 | E67: =ROUND(G66*$C$6/12,2) -> 485.25 | F67: =F66+E67 -> 29833.39 | G67: =ROUND(G66-D67-I67,2) -> 149219.75 | I67: 0
A68: 47 | B68: 46722 | C68: =$C$13 -> 2513.34 | D68: =ROUND(C68-E68,2) -> 2034.59 | E68: =ROUND(G67*$C$6/12,2) -> 478.75 | F68: =F67+E68 -> 30312.14 | G68: =ROUND(G67-D68-I68,2) -> 147185.16 | I68: 0
A69: 48 | B69: 46753 | C69: =$C$13 -> 2513.34 | D69: =ROUND(C69-E69,2) -> 2041.12 | E69: =ROUND(G68*$C$6/12,2) -> 472.22 | F69: =F68+E69 -> 30784.36 | G69: =ROUND(G68-D69-I69,2) -> 140144.04 | I69: =$C$10 -> 5000
A70: 49 | B70: 46784 | C70: =$C$13 -> 2513.34 | D70: =ROUND(C70-E70,2) -> 2063.71 | E70: =ROUND(G69*$C$6/12,2) -> 449.63 | F70: =F69+E70 -> 31233.99 | G70: =ROUND(G69-D70-I70,2) -> 138080.33 | I70: 0
A71: 50 | B71: 46813 | C71: =$C$13 -> 2513.34 | D71: =ROUND(C71-E71,2) -> 2070.33 | E71: =ROUND(G70*$C$6/12,2) -> 443.01 | F71: =F70+E71 -> 31677 | G71: =ROUND(G70-D71-I71,2) -> 136010 | I71: 0
A72: 51 | B72: 46844 | C72: =$C$13 -> 2513.34 | D72: =ROUND(C72-E72,2) -> 2076.97 | E72: =ROUND(G71*$C$6/12,2) -> 436.37 | F72: =F71+E72 -> 32113.37 | G72: =ROUND(G71-D72-I72,2) -> 133933.03 | I72: 0
A73: 52 | B73: 46874 | C73: =$C$13 -> 2513.34 | D73: =ROUND(C73-E73,2) -> 2083.64 | E73: =ROUND(G72*$C$6/12,2) -> 429.7 | F73: =F72+E73 -> 32543.07 | G73: =ROUND(G72-D73-I73,2) -> 131849.39 | I73: 0
A74: 53 | B74: 46905 | C74: =$C$13 -> 2513.34 | D74: =ROUND(C74-E74,2) -> 2090.32 | E74: =ROUND(G73*$C$6/12,2) -> 423.02 | F74: =F73+E74 -> 32966.09 | G74: =ROUND(G73-D74-I74,2) -> 129759.07 | I74: 0
A75: 54 | B75: 46935 | C75: =$C$13 -> 2513.34 | D75: =ROUND(C75-E75,2) -> 2097.03 | E75: =ROUND(G74*$C$6/12,2) -> 416.31 | F75: =F74+E75 -> 33382.4 | G75: =ROUND(G74-D75-I75,2) -> 127662.04 | I75: 0
A76: 55 | B76: 46966 | C76: =$C$13 -> 2513.34 | D76: =ROUND(C76-E76,2) -> 2103.76 | E76: =ROUND(G75*$C$6/12,2) -> 409.58 | F76: =F75+E76 -> 33791.98 | G76: =ROUND(G75-D76-I76,2) -> 125558.28 | I76: 0
A77: 56 | B77: 46997 | C77: =$C$13 -> 2513.34 | D77: =ROUND(C77-E77,2) -> 2110.51 | E77: =ROUND(G76*$C$6/12,2) -> 402.83 | F77: =F76+E77 -> 34194.81 | G77: =ROUND(G76-D77-I77,2) -> 123447.77 | I77: 0
A78: 57 | B78: 47027 | C78: =$C$13 -> 2513.34 | D78: =ROUND(C78-E78,2) -> 2117.28 | E78: =ROUND(G77*$C$6/12,2) -> 396.06 | F78: =F77+E78 -> 34590.87 | G78: =ROUND(G77-D78-I78,2) -> 121330.49 | I78: 0
A79: 58 | B79: 47058 | C79: =$C$13 -> 2513.34 | D79: =ROUND(C79-E79,2) -> 2124.07 | E79: =ROUND(G78*$C$6/12,2) -> 389.27 | F79: =F78+E79 -> 34980.14 | G79: =ROUND(G78-D79-I79,2) -> 119206.42 | I79: 0
A80: 59 | B80: 47088 | C80: =$C$13 -> 2513.34 | D80: =ROUND(C80-E80,2) -> 2130.89 | E80: =ROUND(G79*$C$6/12,2) -> 382.45 | F80: =F79+E80 -> 35362.59 | G80: =ROUND(G79-D80-I80,2) -> 117075.53 | I80: 0
A81: 60 | B81: 47119 | C81: =$C$13 -> 2513.34 | D81: =ROUND(C81-E81,2) -> 2137.72 | E81: =ROUND(G80*$C$6/12,2) -> 375.62 | F81: =F80+E81 -> 35738.21 | G81: =ROUND(G80-D81-I81,2) -> 109937.81 | I81: =$C$10 -> 5000
A82: 61 | B82: 47150 | C82: =$C$13 -> 2513.34 | D82: =ROUND(C82-E82,2) -> 2160.62 | E82: =ROUND(G81*$C$6/12,2) -> 352.72 | F82: =F81+E82 -> 36090.93 | G82: =ROUND(G81-D82-I82,2) -> 107777.19 | I82: 0
A83: 62 | B83: 47178 | C83: =$C$13 -> 2513.34 | D83: =ROUND(C83-E83,2) -> 2167.55 | E83: =ROUND(G82*$C$6/12,2) -> 345.79 | F83: =F82+E83 -> 36436.72 | G83: =ROUND(G82-D83-I83,2) -> 105609.64 | I83: 0
A84: 63 | B84: 47209 | C84: =$C$13 -> 2513.34 | D84: =ROUND(C84-E84,2) -> 2174.51 | E84: =ROUND(G83*$C$6/12,2) -> 338.83 | F84: =F83+E84 -> 36775.55 | G84: =ROUND(G83-D84-I84,2) -> 103435.13 | I84: 0
A85: 64 | B85: 47239 | C85: =$C$13 -> 2513.34 | D85: =ROUND(C85-E85,2) -> 2181.49 | E85: =ROUND(G84*$C$6/12,2) -> 331.85 | F85: =F84+E85 -> 37107.4 | G85: =ROUND(G84-D85-I85,2) -> 101253.64 | I85: 0
A86: 65 | B86: 47270 | C86: =$C$13 -> 2513.34 | D86: =ROUND(C86-E86,2) -> 2188.48 | E86: =ROUND(G85*$C$6/12,2) -> 324.86 | F86: =F85+E86 -> 37432.26 | G86: =ROUND(G85-D86-I86,2) -> 99065.16 | I86: 0
A87: 66 | B87: 47300 | C87: =$C$13 -> 2513.34 | D87: =ROUND(C87-E87,2) -> 2195.51 | E87: =ROUND(G86*$C$6/12,2) -> 317.83 | F87: =F86+E87 -> 37750.09 | G87: =ROUND(G86-D87-I87,2) -> 96869.65 | I87: 0
A88: 67 | B88: 47331 | C88: =$C$13 -> 2513.34 | D88: =ROUND(C88-E88,2) -> 2202.55 | E88: =ROUND(G87*$C$6/12,2) -> 310.79 | F88: =F87+E88 -> 38060.88 | G88: =ROUND(G87-D88-I88,2) -> 94667.1 | I88: 0
A89: 68 | B89: 47362 | C89: =$C$13 -> 2513.34 | D89: =ROUND(C89-E89,2) -> 2209.62 | E89: =ROUND(G88*$C$6/12,2) -> 303.72 | F89: =F88+E89 -> 38364.6 | G89: =ROUND(G88-D89-I89,2) -> 92457.48 | I89: 0
A90: 69 | B90: 47392 | C90: =$C$13 -> 2513.34 | D90: =ROUND(C90-E90,2) -> 2216.71 | E90: =ROUND(G89*$C$6/12,2) -> 296.63 | F90: =F89+E90 -> 38661.23 | G90: =ROUND(G89-D90-I90,2) -> 90240.77 | I90: 0
A91: 70 | B91: 47423 | C91: =$C$13 -> 2513.34 | D91: =ROUND(C91-E91,2) -> 2223.82 | E91: =ROUND(G90*$C$6/12,2) -> 289.52 | F91: =F90+E91 -> 38950.75 | G91: =ROUND(G90-D91-I91,2) -> 88016.95 | I91: 0
A92: 71 | B92: 47453 | C92: =$C$13 -> 2513.34 | D92: =ROUND(C92-E92,2) -> 2230.95 | E92: =ROUND(G91*$C$6/12,2) -> 282.39 | F92: =F91+E92 -> 39233.14 | G92: =ROUND(G91-D92-I92,2) -> 85786 | I92: 0
A93: 72 | B93: 47484 | C93: =$C$13 -> 2513.34 | D93: =ROUND(C93-E93,2) -> 2238.11 | E93: =ROUND(G92*$C$6/12,2) -> 275.23 | F93: =F92+E93 -> 39508.37 | G93: =ROUND(G92-D93-I93,2) -> 78547.89 | I93: =$C$10 -> 5000
A94: 73 | B94: 47515 | C94: =$C$13 -> 2513.34 | D94: =ROUND(C94-E94,2) -> 2261.33 | E94: =ROUND(G93*$C$6/12,2) -> 252.01 | F94: =F93+E94 -> 39760.38 | G94: =ROUND(G93-D94-I94,2) -> 76286.56 | I94: 0
A95: 74 | B95: 47543 | C95: =$C$13 -> 2513.34 | D95: =ROUND(C95-E95,2) -> 2268.59 | E95: =ROUND(G94*$C$6/12,2) -> 244.75 | F95: =F94+E95 -> 40005.13 | G95: =ROUND(G94-D95-I95,2) -> 74017.97 | I95: 0
A96: 75 | B96: 47574 | C96: =$C$13 -> 2513.34 | D96: =ROUND(C96-E96,2) -> 2275.87 | E96: =ROUND(G95*$C$6/12,2) -> 237.47 | F96: =F95+E96 -> 40242.6 | G96: =ROUND(G95-D96-I96,2) -> 71742.1 | I96: 0
A97: 76 | B97: 47604 | C97: =$C$13 -> 2513.34 | D97: =ROUND(C97-E97,2) -> 2283.17 | E97: =ROUND(G96*$C$6/12,2) -> 230.17 | F97: =F96+E97 -> 40472.77 | G97: =ROUND(G96-D97-I97,2) -> 69458.93 | I97: 0
A98: 77 | B98: 47635 | C98: =$C$13 -> 2513.34 | D98: =ROUND(C98-E98,2) -> 2290.49 | E98: =ROUND(G97*$C$6/12,2) -> 222.85 | F98: =F97+E98 -> 40695.62 | G98: =ROUND(G97-D98-I98,2) -> 67168.44 | I98: 0
A99: 78 | B99: 47665 | C99: =$C$13 -> 2513.34 | D99: =ROUND(C99-E99,2) -> 2297.84 | E99: =ROUND(G98*$C$6/12,2) -> 215.5 | F99: =F98+E99 -> 40911.12 | G99: =ROUND(G98-D99-I99,2) -> 64870.6 | I99: 0
A100: 79 | B100: 47696 | C100: =$C$13 -> 2513.34 | D100: =ROUND(C100-E100,2) -> 2305.21 | E100: =ROUND(G99*$C$6/12,2) -> 208.13 | F100: =F99+E100 -> 41119.25 | G100: =ROUND(G99-D100-I100,2) -> 62565.39 | I100: 0
A101: 80 | B101: 47727 | C101: =$C$13 -> 2513.34 | D101: =ROUND(C101-E101,2) -> 2312.61 | E101: =ROUND(G100*$C$6/12,2) -> 200.73 | F101: =F100+E101 -> 41319.98 | G101: =ROUND(G100-D101-I101,2) -> 60252.78 | I101: 0
A102: 81 | B102: 47757 | C102: =$C$13 -> 2513.34 | D102: =ROUND(C102-E102,2) -> 2320.03 | E102: =ROUND(G101*$C$6/12,2) -> 193.31 | F102: =F101+E102 -> 41513.29 | G102: =ROUND(G101-D102-I102,2) -> 57932.75 | I102: 0
...

Sheet Diagramm
A1: TILGUNGSPLAN – GRAFISCHE ÜBERSICHT
A2: Annuitätendarlehen 250.000 € | Zinssatz 3,85 % p.a. | Tilgung 2,00 % p.a. | Zinsbindung 10 Jahre
A4: Jahr | B4: Zinsen (€) | C4: Tilgung (€) | D4: Sondertilgung (€) | E4: Restschuld (€)
A5: Jahr 1 | B5: =SUM(Tilgungsplan!E22:E33) -> 9258.74 | C5: =SUM(Tilgungsplan!D22:D33) -> 20901.34 | D5: =SUM(Tilgungsplan!I22:I33) -> 5000 | E5: =Tilgungsplan!G33 -> 224098.66
A6: Jahr 2 | B6: =SUM(Tilgungsplan!E34:E45) -> 8243.74 | C6: =SUM(Tilgungsplan!D34:D45) -> 21916.34 | D6: =SUM(Tilgungsplan!I34:I45) -> 5000 | E6: =Tilgungsplan!G45 -> 197182.32
A7: Jahr 3 | B7: =SUM(Tilgungsplan!E46:E57) -> 7188.99 | C7: =SUM(Tilgungsplan!D46:D57) -> 22971.09 | D7: =SUM(Tilgungsplan!I46:I57) -> 5000 | E7: =Tilgungsplan!G57 -> 169211.23
A8: Jahr 4 | B8: =SUM(Tilgungsplan!E58:E69) -> 6092.89 | C8: =SUM(Tilgungsplan!D58:D69) -> 24067.19 | D8: =SUM(Tilgungsplan!I58:I69) -> 5000 | E8: =Tilgungsplan!G69 -> 140144.04
A9: Jahr 5 | B9: =SUM(Tilgungsplan!E70:E81) -> 4953.85 | C9: =SUM(Tilgungsplan!D70:D81) -> 25206.23 | D9: =SUM(Tilgungsplan!I70:I81) -> 5000 | E9: =Tilgungsplan!G81 -> 109937.81
A10: Jahr 6 | B10: =SUM(Tilgungsplan!E82:E93) -> 3770.16 | C10: =SUM(Tilgungsplan!D82:D93) -> 26389.92 | D10: =SUM(Tilgungsplan!I82:I93) -> 5000 | E10: =Tilgungsplan!G93 -> 78547.89
A11: Jahr 7 | B11: =SUM(Tilgungsplan!E94:E105) -> 2540.1 | C11: =SUM(Tilgungsplan!D94:D105) -> 27619.98 | D11: =SUM(Tilgungsplan!I94:I105) -> 5000 | E11: =Tilgungsplan!G105 -> 45927.91
A12: Jahr 8 | B12: =SUM(Tilgungsplan!E106:E117) -> 1261.83 | C12: =SUM(Tilgungsplan!D106:D117) -> 28898.25 | D12: =SUM(Tilgungsplan!I106:I117) -> 5000 | E12: =Tilgungsplan!G117 -> 12029.66
A13: Jahr 9 | B13: =SUM(Tilgungsplan!E118:E129) -> -66.53 | C13: =SUM(Tilgungsplan!D118:D129) -> 30226.61 | D13: =SUM(Tilgungsplan!I118:I129) -> 5000 | E13: =Tilgungsplan!G129 -> -23196.95
A14: Jahr 10 | B14: =SUM(Tilgungsplan!E130:E141) -> -1446.94 | C14: =SUM(Tilgungsplan!D130:D141) -> 31607.02 | D14: =SUM(Tilgungsplan!I130:I141) -> 5000 | E14: =Tilgungsplan!G141 -> -59803.97
