Workbook

Sheet Arbeitsplan
A1: Arbeitsplan
A2: ="Planungsmonat: "&Einstellungen!B7&" "&Einstellungen!B8 -> Planungsmonat: Januar 2026
A4: Geplante Mitarbeiter | F4: Gesamtstunden | K4: Urlaubstage | P4: Lohnkosten gesamt
A5: =COUNTIF(B10:B21,"?*") -> 8 | F5: =SUM(AK10:AK21) -> 1267.5 | K5: =SUM(AL10:AL21) -> 5 | P5: =SUM(AO10:AO21) -> 24009.75
A8: Mitarbeiter-ID | B8: Mitarbeiter | C8: Abteilung | D8: Vertragsstd./Woche | E8: 1 | F8: 2 | G8: 3 | H8: 4 | I8: 5 | J8: 6 | K8: 7 | L8: 8 | M8: 9 | N8: 10 | O8: 11 | P8: 12 | Q8: 13 | R8: 14 | S8: 15 | T8: 16 | U8: 17 | V8: 18 | W8: 19 | X8: 20 | Y8: 21 | Z8: 22 | AA8: 23 | AB8: 24 | AC8: 25 | AD8: 26 | AE8: 27 | AF8: 28 | AG8: 29 | AH8: 30 | AI8: 31 | AJ8: Sollstunden | AK8: Iststunden | AL8: Urlaubstage | AM8: Krankheitstage | AN8: Überstunden / Differenz | AO8: Lohnkosten (€) | AP8: Status
E9: =IF(E$8="","",TEXT(DATE(Einstellungen!$B$8,MATCH(Einstellungen!$B$7,Einstellungen!$R$15:$R$26,0),E$8),"[$-de-DE]ddd")) -> Do | F9: =IF(F$8="","",TEXT(DATE(Einstellungen!$B$8,MATCH(Einstellungen!$B$7,Einstellungen!$R$15:$R$26,0),F$8),"[$-de-DE]ddd")) -> Fr | G9: =IF(G$8="","",TEXT(DATE(Einstellungen!$B$8,MATCH(Einstellungen!$B$7,Einstellungen!$R$15:$R$26,0),G$8),"[$-de-DE]ddd")) -> Sa | H9: =IF(H$8="","",TEXT(DATE(Einstellungen!$B$8,MATCH(Einstellungen!$B$7,Einstellungen!$R$15:$R$26,0),H$8),"[$-de-DE]ddd")) -> So | I9: =IF(I$8="","",TEXT(DATE(Einstellungen!$B$8,MATCH(Einstellungen!$B$7,Einstellungen!$R$15:$R$26,0),I$8),"[$-de-DE]ddd")) -> Mo | J9: =IF(J$8="","",TEXT(DATE(Einstellungen!$B$8,MATCH(Einstellungen!$B$7,Einstellungen!$R$15:$R$26,0),J$8),"[$-de-DE]ddd")) -> Di | K9: =IF(K$8="","",TEXT(DATE(Einstellungen!$B$8,MATCH(Einstellungen!$B$7,Einstellungen!$R$15:$R$26,0),K$8),"[$-de-DE]ddd")) -> Mi | L9: =IF(L$8="","",TEXT(DATE(Einstellungen!$B$8,MATCH(Einstellungen!$B$7,Einstellungen!$R$15:$R$26,0),L$8),"[$-de-DE]ddd")) -> Do | ... AI9: =IF(AI$8="","",TEXT(DATE(Einstellungen!$B$8,MATCH(Einstellungen!$B$7,Einstellungen!$R$15:$R$26,0),AI$8),"[$-de-DE]ddd")) -> Sa
A10: =IF(Einstellungen!$G16="Ja",Einstellungen!$A16,"") -> M001 | B10: =IF($A10="","",Einstellungen!$B16) -> Max Müller | C10: =IF($A10="","",Einstellungen!$C16) -> Verkauf | D10: =IF($A10="","",Einstellungen!$E16) -> 40 | E10: F | F10: F | G10: F | H10: F | I10: F | J10: Frei | K10: Frei | L10: F | M10: F | N10: F | O10: F | P10: F | Q10: U | R10: U | S10: U | T10: F | U10: F | V10: Frei | W10: Frei | X10: F | Y10: F | Z10: F | AA10: F | AB10: F | AC10: Frei | AD10: Frei | AE10: F | AF10: F | AG10: F | AH10: F | AI10: F | AJ10: =IF($A10="","",D10/5*NETWORKDAYS(DATE(Einstellungen!$B$8,MATCH(Einstellungen!$B$7,Einstellungen!$R$15:$R$26,0),1),EOMONTH(DATE(Einstellungen!$B$8,MATCH(Einstellungen!$B$7,Einstellungen!$R$15:$R$26,0),1),0))) -> 176 | AK10: =IF($A10="","",COUNTIF(E10:AI10,"F")*Einstellungen!$O$16+COUNTIF(E10:AI10,"S")*Einstellungen!$O$17+COUNTIF(E10:AI10,"N")*Einstellungen!$O$18+COUNTIF(E10:AI10,"T")*Einstellungen!$O$19) -> 165 | AL10: =IF($A10="","",COUNTIF(E10:AI10,"U")) -> 3 | AM10: =IF($A10="","",COUNTIF(E10:AI10,"K")) -> 0 | AN10: =IF($A10="","",AK10-AJ10) -> -11 | AO10: =IF($A10="","",AK10*IFERROR(VLOOKUP($A10,Einstellungen!$A$16:$F$27,6,FALSE),0)) -> 3052.5 | AP10: =IF($A10="","",IF(AN10>2,"Überplant",IF(AN10<-2,"Unterplant","OK"))) -> Unterplant
A11: =IF(Einstellungen!$G17="Ja",Einstellungen!$A17,"") -> M002 | B11: =IF($A11="","",Einstellungen!$B17) -> Anna Schmidt | C11: =IF($A11="","",Einstellungen!$C17) -> Verkauf | D11: =IF($A11="","",Einstellungen!$E17) -> 38 | E11: S | F11: S | G11: S | H11: S | I11: S | J11: Frei | K11: Frei | L11: S | M11: S | N11: S | O11: S | P11: S | Q11: T | R11: T | S11: Frei | T11: Frei | U11: S | V11: S | W11: S | X11: S | Y11: S | Z11: Frei | AA11: Frei | AB11: S | AC11: S | AD11: S | AE11: S | AF11: S | AG11: Frei | AH11: Frei | AI11: S | AJ11: =IF($A11="","",D11/5*NETWORKDAYS(DATE(Einstellungen!$B$8,MATCH(Einstellungen!$B$7,Einstellungen!$R$15:$R$26,0),1),EOMONTH(DATE(Einstellungen!$B$8,MATCH(Einstellungen!$B$7,Einstellungen!$R$15:$R$26,0),1),0))) -> 167.2 | AK11: =IF($A11="","",COUNTIF(E11:AI11,"F")*Einstellungen!$O$16+COUNTIF(E11:AI11,"S")*Einstellungen!$O$17+COUNTIF(E11:AI11,"N")*Einstellungen!$O$18+COUNTIF(E11:AI11,"T")*Einstellungen!$O$19) -> 172.5 | AL11: =IF($A11="","",COUNTIF(E11:AI11,"U")) -> 0 | AM11: =IF($A11="","",COUNTIF(E11:AI11,"K")) -> 0 | AN11: =IF($A11="","",AK11-AJ11) -> 5.3 | AO11: =IF($A11="","",AK11*IFERROR(VLOOKUP($A11,Einstellungen!$A$16:$F$27,6,FALSE),0)) -> 3795 | AP11: =IF($A11="","",IF(AN11>2,"Überplant",IF(AN11<-2,"Unterplant","OK"))) -> Überplant
A12: =IF(Einstellungen!$G18="Ja",Einstellungen!$A18,"") -> M003 | B12: =IF($A12="","",Einstellungen!$B18) -> Peter Meier | C12: =IF($A12="","",Einstellungen!$C18) -> Lager | D12: =IF($A12="","",Einstellungen!$E18) -> 40 | E12: F | F12: F | G12: T | H12: T | I12: T | J12: Frei | K12: Frei | L12: F | M12: F | N12: T | O12: T | P12: T | Q12: Frei | R12: Frei | S12: F | T12: F | U12: T | V12: T | W12: T | X12: Frei | Y12: Frei | Z12: F | AA12: F | AB12: T | AC12: T | AD12: T | AE12: Frei | AF12: Frei | AG12: F | AH12: F | AI12: T | AJ12: =IF($A12="","",D12/5*NETWORKDAYS(DATE(Einstellungen!$B$8,MATCH(Einstellungen!$B$7,Einstellungen!$R$15:$R$26,0),1),EOMONTH(DATE(Einstellungen!$B$8,MATCH(Einstellungen!$B$7,Einstellungen!$R$15:$R$26,0),1),0))) -> 176 | AK12: =IF($A12="","",COUNTIF(E12:AI12,"F")*Einstellungen!$O$16+COUNTIF(E12:AI12,"S")*Einstellungen!$O$17+COUNTIF(E12:AI12,"N")*Einstellungen!$O$18+COUNTIF(E12:AI12,"T")*Einstellungen!$O$19) -> 172.5 | AL12: =IF($A12="","",COUNTIF(E12:AI12,"U")) -> 0 | AM12: =IF($A12="","",COUNTIF(E12:AI12,"K")) -> 0 | AN12: =IF($A12="","",AK12-AJ12) -> -3.5 | AO12: =IF($A12="","",AK12*IFERROR(VLOOKUP($A12,Einstellungen!$A$16:$F$27,6,FALSE),0)) -> 3070.5 | AP12: =IF($A12="","",IF(AN12>2,"Überplant",IF(AN12<-2,"Unterplant","OK"))) -> Unterplant
A13: =IF(Einstellungen!$G19="Ja",Einstellungen!$A19,"") -> M004 | B13: =IF($A13="","",Einstellungen!$B19) -> Laura Becker | C13: =IF($A13="","",Einstellungen!$C19) -> Service | D13: =IF($A13="","",Einstellungen!$E19) -> 30 | E13: T | F13: T | G13: T | H13: Frei | I13: Frei | J13: S | K13: S | L13: T | M13: T | N13: T | O13: K | P13: T | Q13: Frei | R13: Frei | S13: S | T13: S | U13: T | V13: T | W13: T | X13: K | Y13: Frei | Z13: Frei | AA13: S | AB13: S | AC13: T | AD13: T | AE13: T | AF13: Frei | AG13: Frei | AH13: S | AI13: S | AJ13: =IF($A13="","",D13/5*NETWORKDAYS(DATE(Einstellungen!$B$8,MATCH(Einstellungen!$B$7,Einstellungen!$R$15:$R$26,0),1),EOMONTH(DATE(Einstellungen!$B$8,MATCH(Einstellungen!$B$7,Einstellungen!$R$15:$R$26,0),1),0))) -> 132 | AK13: =IF($A13="","",COUNTIF(E13:AI13,"F")*Einstellungen!$O$16+COUNTIF(E13:AI13,"S")*Einstellungen!$O$17+COUNTIF(E13:AI13,"N")*Einstellungen!$O$18+COUNTIF(E13:AI13,"T")*Einstellungen!$O$19) -> 157.5 | AL13: =IF($A13="","",COUNTIF(E13:AI13,"U")) -> 0 | AM13: =IF($A13="","",COUNTIF(E13:AI13,"K")) -> 2 | AN13: =IF($A13="","",AK13-AJ13) -> 25.5 | AO13: =IF($A13="","",AK13*IFERROR(VLOOKUP($A13,Einstellungen!$A$16:$F$27,6,FALSE),0)) -> 3024 | AP13: =IF($A13="","",IF(AN13>2,"Überplant",IF(AN13<-2,"Unterplant","OK"))) -> Überplant
A14: =IF(Einstellungen!$G20="Ja",Einstellungen!$A20,"") -> M005 | B14: =IF($A14="","",Einstellungen!$B20) -> Thomas Wagner | C14: =IF($A14="","",Einstellungen!$C20) -> Verkauf | D14: =IF($A14="","",Einstellungen!$E20) -> 25 | E14: S | F14: S | G14: Frei | H14: Frei | I14: S | J14: S | K14: S | L14: Frei | M14: Frei | N14: S | O14: S | P14: S | Q14: Frei | R14: Frei | S14: S | T14: S | U14: S | V14: Frei | W14: Frei | X14: S | Y14: S | Z14: S | AA14: Frei | AB14: Frei | AC14: S | AD14: U | AE14: U | AF14: S | AG14: S | AH14: Frei | AI14: Frei | AJ14: =IF($A14="","",D14/5*NETWORKDAYS(DATE(Einstellungen!$B$8,MATCH(Einstellungen!$B$7,Einstellungen!$R$15:$R$26,0),1),EOMONTH(DATE(Einstellungen!$B$8,MATCH(Einstellungen!$B$7,Einstellungen!$R$15:$R$26,0),1),0))) -> 110 | AK14: =IF($A14="","",COUNTIF(E14:AI14,"F")*Einstellungen!$O$16+COUNTIF(E14:AI14,"S")*Einstellungen!$O$17+COUNTIF(E14:AI14,"N")*Einstellungen!$O$18+COUNTIF(E14:AI14,"T")*Einstellungen!$O$19) -> 127.5 | AL14: =IF($A14="","",COUNTIF(E14:AI14,"U")) -> 2 | AM14: =IF($A14="","",COUNTIF(E14:AI14,"K")) -> 0 | AN14: =IF($A14="","",AK14-AJ14) -> 17.5 | AO14: =IF($A14="","",AK14*IFERROR(VLOOKUP($A14,Einstellungen!$A$16:$F$27,6,FALSE),0)) -> 2154.75 | AP14: =IF($A14="","",IF(AN14>2,"Überplant",IF(AN14<-2,"Unterplant","OK"))) -> Überplant
A15: =IF(Einstellungen!$G21="Ja",Einstellungen!$A21,"") -> M006 | B15: =IF($A15="","",Einstellungen!$B21) -> Julia Fischer | C15: =IF($A15="","",Einstellungen!$C21) -> Service | D15: =IF($A15="","",Einstellungen!$E21) -> 35 | E15: T | F15: T | G15: S | H15: S | I15: Frei | J15: Frei | K15: T | L15: T | M15: S | N15: S | O15: Frei | P15: Frei | Q15: T | R15: T | S15: S | T15: S | U15: Frei | V15: Frei | W15: T | X15: T | Y15: S | Z15: S | AA15: Frei | AB15: Frei | AC15: T | AD15: T | AE15: S | AF15: S | AG15: Frei | AH15: Frei | AI15: T | AJ15: =IF($A15="","",D15/5*NETWORKDAYS(DATE(Einstellungen!$B$8,MATCH(Einstellungen!$B$7,Einstellungen!$R$15:$R$26,0),1),EOMONTH(DATE(Einstellungen!$B$8,MATCH(Einstellungen!$B$7,Einstellungen!$R$15:$R$26,0),1),0))) -> 154 | AK15: =IF($A15="","",COUNTIF(E15:AI15,"F")*Einstellungen!$O$16+COUNTIF(E15:AI15,"S")*Einstellungen!$O$17+COUNTIF(E15:AI15,"N")*Einstellungen!$O$18+COUNTIF(E15:AI15,"T")*Einstellungen!$O$19) -> 157.5 | AL15: =IF($A15="","",COUNTIF(E15:AI15,"U")) -> 0 | AM15: =IF($A15="","",COUNTIF(E15:AI15,"K")) -> 0 | AN15: =IF($A15="","",AK15-AJ15) -> 3.5 | AO15: =IF($A15="","",AK15*IFERROR(VLOOKUP($A15,Einstellungen!$A$16:$F$27,6,FALSE),0)) -> 2835 | AP15: =IF($A15="","",IF(AN15>2,"Überplant",IF(AN15<-2,"Unterplant","OK"))) -> Überplant
A16: =IF(Einstellungen!$G22="Ja",Einstellungen!$A22,"") -> M007 | B16: =IF($A16="","",Einstellungen!$B22) -> Michael Schneider | C16: =IF($A16="","",Einstellungen!$C22) -> Lager | D16: =IF($A16="","",Einstellungen!$E22) -> 40 | E16: F | F16: F | G16: F | H16: T | I16: T | J16: Frei | K16: Frei | L16: F | M16: F | N16: F | O16: T | P16: T | Q16: Frei | R16: Frei | S16: F | T16: F | U16: F | V16: T | W16: T | X16: Frei | Y16: Frei | Z16: F | AA16: F | AB16: F | AC16: T | AD16: T | AE16: Frei | AF16: Frei | AG16: F | AH16: F | AI16: F | AJ16: =IF($A16="","",D16/5*NETWORKDAYS(DATE(Einstellungen!$B$8,MATCH(Einstellungen!$B$7,Einstellungen!$R$15:$R$26,0),1),EOMONTH(DATE(Einstellungen!$B$8,MATCH(Einstellungen!$B$7,Einstellungen!$R$15:$R$26,0),1),0))) -> 176 | AK16: =IF($A16="","",COUNTIF(E16:AI16,"F")*Einstellungen!$O$16+COUNTIF(E16:AI16,"S")*Einstellungen!$O$17+COUNTIF(E16:AI16,"N")*Einstellungen!$O$18+COUNTIF(E16:AI16,"T")*Einstellungen!$O$19) -> 172.5 | AL16: =IF($A16="","",COUNTIF(E16:AI16,"U")) -> 0 | AM16: =IF($A16="","",COUNTIF(E16:AI16,"K")) -> 0 | AN16: =IF($A16="","",AK16-AJ16) -> -3.5 | AO16: =IF($A16="","",AK16*IFERROR(VLOOKUP($A16,Einstellungen!$A$16:$F$27,6,FALSE),0)) -> 3156.75 | AP16: =IF($A16="","",IF(AN16>2,"Überplant",IF(AN16<-2,"Unterplant","OK"))) -> Unterplant
A17: =IF(Einstellungen!$G23="Ja",Einstellungen!$A23,"") -> M008 | B17: =IF($A17="","",Einstellungen!$B23) -> Sophie Klein | C17: =IF($A17="","",Einstellungen!$C23) -> Verwaltung | D17: =IF($A17="","",Einstellungen!$E23) -> 20 | E17: T | F17: T | G17: T | H17: T | I17: Frei | J17: Frei | K17: Frei | L17: T | M17: T | N17: T | O17: T | P17: Frei | Q17: Frei | R17: Frei | S17: T | T17: T | U17: T | V17: T | W17: Frei | X17: Frei | Y17: Frei | Z17: T | AA17: T | AB17: T | AC17: T | AD17: Frei | AE17: Frei | AF17: Frei | AG17: T | AH17: T | AI17: T | AJ17: =IF($A17="","",D17/5*NETWORKDAYS(DATE(Einstellungen!$B$8,MATCH(Einstellungen!$B$7,Einstellungen!$R$15:$R$26,0),1),EOMONTH(DATE(Einstellungen!$B$8,MATCH(Einstellungen!$B$7,Einstellungen!$R$15:$R$26,0),1),0))) -> 88 | AK17: =IF($A17="","",COUNTIF(E17:AI17,"F")*Einstellungen!$O$16+COUNTIF(E17:AI17,"S")*Einstellungen!$O$17+COUNTIF(E17:AI17,"N")*Einstellungen!$O$18+COUNTIF(E17:AI17,"T")*Einstellungen!$O$19) -> 142.5 | AL17: =IF($A17="","",COUNTIF(E17:AI17,"U")) -> 0 | AM17: =IF($A17="","",COUNTIF(E17:AI17,"K")) -> 0 | AN17: =IF($A17="","",AK17-AJ17) -> 54.5 | AO17: =IF($A17="","",AK17*IFERROR(VLOOKUP($A17,Einstellungen!$A$16:$F$27,6,FALSE),0)) -> 2921.25 | AP17: =IF($A17="","",IF(AN17>2,"Überplant",IF(AN17<-2,"Unterplant","OK"))) -> Überplant
A18: =IF(Einstellungen!$G24="Ja",Einstellungen!$A24,"") | B18: =IF($A18="","",Einstellungen!$B24) | C18: =IF($A18="","",Einstellungen!$C24) | D18: =IF($A18="","",Einstellungen!$E24) | AJ18: =IF($A18="","",D18/5*NETWORKDAYS(DATE(Einstellungen!$B$8,MATCH(Einstellungen!$B$7,Einstellungen!$R$15:$R$26,0),1),EOMONTH(DATE(Einstellungen!$B$8,MATCH(Einstellungen!$B$7,Einstellungen!$R$15:$R$26,0),1),0))) | AK18: =IF($A18="","",COUNTIF(E18:AI18,"F")*Einstellungen!$O$16+COUNTIF(E18:AI18,"S")*Einstellungen!$O$17+COUNTIF(E18:AI18,"N")*Einstellungen!$O$18+COUNTIF(E18:AI18,"T")*Einstellungen!$O$19) | AL18: =IF($A18="","",COUNTIF(E18:AI18,"U")) | AM18: =IF($A18="","",COUNTIF(E18:AI18,"K")) | AN18: =IF($A18="","",AK18-AJ18) | AO18: =IF($A18="","",AK18*IFERROR(VLOOKUP($A18,Einstellungen!$A$16:$F$27,6,FALSE),0)) | AP18: =IF($A18="","",IF(AN18>2,"Überplant",IF(AN18<-2,"Unterplant","OK")))
A19: =IF(Einstellungen!$G25="Ja",Einstellungen!$A25,"") | B19: =IF($A19="","",Einstellungen!$B25) | C19: =IF($A19="","",Einstellungen!$C25) | D19: =IF($A19="","",Einstellungen!$E25) | AJ19: =IF($A19="","",D19/5*NETWORKDAYS(DATE(Einstellungen!$B$8,MATCH(Einstellungen!$B$7,Einstellungen!$R$15:$R$26,0),1),EOMONTH(DATE(Einstellungen!$B$8,MATCH(Einstellungen!$B$7,Einstellungen!$R$15:$R$26,0),1),0))) | AK19: =IF($A19="","",COUNTIF(E19:AI19,"F")*Einstellungen!$O$16+COUNTIF(E19:AI19,"S")*Einstellungen!$O$17+COUNTIF(E19:AI19,"N")*Einstellungen!$O$18+COUNTIF(E19:AI19,"T")*Einstellungen!$O$19) | AL19: =IF($A19="","",COUNTIF(E19:AI19,"U")) | AM19: =IF($A19="","",COUNTIF(E19:AI19,"K")) | AN19: =IF($A19="","",AK19-AJ19) | AO19: =IF($A19="","",AK19*IFERROR(VLOOKUP($A19,Einstellungen!$A$16:$F$27,6,FALSE),0)) | AP19: =IF($A19="","",IF(AN19>2,"Überplant",IF(AN19<-2,"Unterplant","OK")))
A20: =IF(Einstellungen!$G26="Ja",Einstellungen!$A26,"") | B20: =IF($A20="","",Einstellungen!$B26) | C20: =IF($A20="","",Einstellungen!$C26) | D20: =IF($A20="","",Einstellungen!$E26) | AJ20: =IF($A20="","",D20/5*NETWORKDAYS(DATE(Einstellungen!$B$8,MATCH(Einstellungen!$B$7,Einstellungen!$R$15:$R$26,0),1),EOMONTH(DATE(Einstellungen!$B$8,MATCH(Einstellungen!$B$7,Einstellungen!$R$15:$R$26,0),1),0))) | AK20: =IF($A20="","",COUNTIF(E20:AI20,"F")*Einstellungen!$O$16+COUNTIF(E20:AI20,"S")*Einstellungen!$O$17+COUNTIF(E20:AI20,"N")*Einstellungen!$O$18+COUNTIF(E20:AI20,"T")*Einstellungen!$O$19) | AL20: =IF($A20="","",COUNTIF(E20:AI20,"U")) | AM20: =IF($A20="","",COUNTIF(E20:AI20,"K")) | AN20: =IF($A20="","",AK20-AJ20) | AO20: =IF($A20="","",AK20*IFERROR(VLOOKUP($A20,Einstellungen!$A$16:$F$27,6,FALSE),0)) | AP20: =IF($A20="","",IF(AN20>2,"Überplant",IF(AN20<-2,"Unterplant","OK")))
A21: =IF(Einstellungen!$G27="Ja",Einstellungen!$A27,"") | B21: =IF($A21="","",Einstellungen!$B27) | C21: =IF($A21="","",Einstellungen!$C27) | D21: =IF($A21="","",Einstellungen!$E27) | AJ21: =IF($A21="","",D21/5*NETWORKDAYS(DATE(Einstellungen!$B$8,MATCH(Einstellungen!$B$7,Einstellungen!$R$15:$R$26,0),1),EOMONTH(DATE(Einstellungen!$B$8,MATCH(Einstellungen!$B$7,Einstellungen!$R$15:$R$26,0),1),0))) | AK21: =IF($A21="","",COUNTIF(E21:AI21,"F")*Einstellungen!$O$16+COUNTIF(E21:AI21,"S")*Einstellungen!$O$17+COUNTIF(E21:AI21,"N")*Einstellungen!$O$18+COUNTIF(E21:AI21,"T")*Einstellungen!$O$19) | AL21: =IF($A21="","",COUNTIF(E21:AI21,"U")) | AM21: =IF($A21="","",COUNTIF(E21:AI21,"K")) | AN21: =IF($A21="","",AK21-AJ21) | AO21: =IF($A21="","",AK21*IFERROR(VLOOKUP($A21,Einstellungen!$A$16:$F$27,6,FALSE),0)) | AP21: =IF($A21="","",IF(AN21>2,"Überplant",IF(AN21<-2,"Unterplant","OK")))

Sheet Einstellungen
A1: Arbeitsplan Einstellungen
A2: Stammdaten für Mitarbeiter, Schichten und Planungszeitraum
A4: Planungsdaten
A5: Unternehmen | B5: Muster GmbH
A6: Abteilung / Standort | B6: Filiale Berlin
A7: Planungsmonat | B7: Januar
A8: Planungsjahr | B8: 2026
A9: Wochenarbeitszeit Standard | B9: 40
A10: Mindestbesetzung pro Tag | B10: 3
A11: Verantwortlich | B11: Teamleitung
A12: Letzte Aktualisierung | B12: 46027
A14: Mitarbeiter | J14: Schichtarten | R14: Monat | S14: Nr. | U14: Abteilungen | V14: Aktiv | W14: Abwesenheit | X14: Schichten
A15: Mitarbeiter-ID | B15: Mitarbeiter | C15: Abteilung | D15: Rolle | E15: Vertragsstunden pro Woche | F15: Stundenlohn (€) | G15: Aktiv | H15: Bemerkungen | J15: Kürzel | K15: Schichtname | L15: Beginn | M15: Ende | N15: Pause | O15: Stunden | P15: Hinweis | R15: Januar | S15: 1 | U15: Verkauf | V15: Ja | W15: Urlaub | X15: F
A16: M001 | B16: Max Müller | C16: Verkauf | D16: Verkäufer | E16: 40 | F16: 18.5 | G16: Ja | H16: Vollzeit | J16: F | K16: Frühschicht | L16: 0.25 | M16: 0.58333333 | N16: 0.020833333 | O16: =IF(OR(L16="",M16=""),0,IF(M16<L16,(M16+1-L16)-N16,(M16-L16)-N16)*24) -> 7.5 | P16: Frühdienst | R16: Februar | S16: 2 | U16: Lager | V16: Nein | W16: Krank | X16: S
A17: M002 | B17: Anna Schmidt | C17: Verkauf | D17: Schichtleitung | E17: 38 | F17: 22 | G17: Ja | H17: Leitung Früh/Spät | J17: S | K17: Spätschicht | L17: 0.58333333 | M17: 0.91666667 | N17: 0.020833333 | O17: =IF(OR(L17="",M17=""),0,IF(M17<L17,(M17+1-L17)-N17,(M17-L17)-N17)*24) -> 7.5 | P17: Spätdienst | R17: März | S17: 3 | U17: Service | W17: Fortbildung | X17: N
A18: M003 | B18: Peter Meier | C18: Lager | D18: Lagermitarbeiter | E18: 40 | F18: 17.8 | G18: Ja | H18: Wareneingang | J18: N | K18: Nachtschicht | L18: 0.91666667 | M18: 0.25 | N18: 0.03125 | O18: =IF(OR(L18="",M18=""),0,IF(M18<L18,(M18+1-L18)-N18,(M18-L18)-N18)*24) -> 7.25 | P18: Nachtdienst | R18: April | S18: 4 | U18: Verwaltung | W18: Frei | X18: T
A19: M004 | B19: Laura Becker | C19: Service | D19: Kundenservice | E19: 30 | F19: 19.2 | G19: Ja | H19: Teilzeit | J19: T | K19: Tagschicht | L19: 0.375 | M19: 0.70833333 | N19: 0.020833333 | O19: =IF(OR(L19="",M19=""),0,IF(M19<L19,(M19+1-L19)-N19,(M19-L19)-N19)*24) -> 7.5 | P19: Regulär | R19: Mai | S19: 5 | X19: U
A20: M005 | B20: Thomas Wagner | C20: Verkauf | D20: Verkäufer | E20: 25 | F20: 16.9 | G20: Ja | H20: Teilzeit | J20: U | K20: Urlaub | O20: 0 | P20: Abwesenheit | R20: Juni | S20: 6 | X20: K
A21: M006 | B21: Julia Fischer | C21: Service | D21: Servicekraft | E21: 35 | F21: 18 | G21: Ja | H21: Schwerpunkt Spätdienst | J21: K | K21: Krank | O21: 0 | P21: Abwesenheit | R21: Juli | S21: 7 | X21: Frei
A22: M007 | B22: Michael Schneider | C22: Lager | D22: Lagermitarbeiter | E22: 40 | F22: 18.3 | G22: Ja | H22: Staplerschein | J22: Frei | K22: Frei | O22: 0 | P22: Frei | R22: August | S22: 8
A23: M008 | B23: Sophie Klein | C23: Verwaltung | D23: Assistenz | E23: 20 | F23: 20.5 | G23: Ja | H23: Vormittags | R23: September | S23: 9
R24: Oktober | S24: 10
R25: November | S25: 11
R26: Dezember | S26: 12
A29: Abwesenheiten
A30: Mitarbeiter | B30: Von | C30: Bis | D30: Art | E30: Genehmigt | F30: Bemerkungen
A31: Max Müller | B31: 46034 | C31: 46036 | D31: Urlaub | E31: Ja | F31: Resturlaub
A32: Laura Becker | B32: 46042 | C32: 46042 | D32: Krank | E32: Ja | F32: Krankmeldung
A33: Thomas Wagner | B33: 46049 | C33: 46050 | D33: Urlaub | E33: Nein | F33: Anfrage

Sheet Auswertung
A1: Dienstplan Auswertung
A2: ="Auswertung für "&Einstellungen!B7&" "&Einstellungen!B8 -> Auswertung für Januar 2026
A4: Gesamtstunden | C4: Sollstunden | E4: Differenz Stunden | G4: Lohnkosten gesamt | I4: Urlaubstage | K4: Krankheitstage | M4: Mitarbeiter mit Überstunden | O4: Mitarbeiter unter Soll
A5: =SUM(Arbeitsplan!AK10:AK21) -> 1267.5 | C5: =SUM(Arbeitsplan!AJ10:AJ21) -> 1179.2 | E5: =A5-C5 -> 88.3 | G5: =SUM(Arbeitsplan!AO10:AO21) -> 24009.75 | I5: =SUM(Arbeitsplan!AL10:AL21) -> 5 | K5: =SUM(Arbeitsplan!AM10:AM21) -> 2 | M5: =COUNTIF(Arbeitsplan!AN10:AN21,">2") -> 5 | O5: =COUNTIF(Arbeitsplan!AN10:AN21,"<-2") -> 3
A8: Mitarbeiter | B8: Abteilung | C8: Sollstunden | D8: Iststunden | E8: Differenz | F8: Urlaubstage | G8: Krankheitstage | H8: Lohnkosten (€) | I8: Status | K8: Abteilung | L8: Mitarbeiter | M8: Gesamtstunden | N8: Lohnkosten (€) | O8: Urlaubstage | P8: Krankheitstage
A9: =Arbeitsplan!B10 -> Max Müller | B9: =Arbeitsplan!C10 -> Verkauf | C9: =Arbeitsplan!AJ10 -> 176 | D9: =Arbeitsplan!AK10 -> 165 | E9: =Arbeitsplan!AN10 -> -11 | F9: =Arbeitsplan!AL10 -> 3 | G9: =Arbeitsplan!AM10 -> 0 | H9: =Arbeitsplan!AO10 -> 3052.5 | I9: =Arbeitsplan!AP10 -> Unterplant | K9: Verkauf | L9: =COUNTIFS(Arbeitsplan!$C$10:$C$21,K9,Arbeitsplan!$B$10:$B$21,"?*") -> 3 | M9: =SUMIFS(Arbeitsplan!$AK$10:$AK$21,Arbeitsplan!$C$10:$C$21,K9) -> 465 | N9: =SUMIFS(Arbeitsplan!$AO$10:$AO$21,Arbeitsplan!$C$10:$C$21,K9) -> 9002.25 | O9: =SUMIFS(Arbeitsplan!$AL$10:$AL$21,Arbeitsplan!$C$10:$C$21,K9) -> 5 | P9: =SUMIFS(Arbeitsplan!$AM$10:$AM$21,Arbeitsplan!$C$10:$C$21,K9) -> 0
A10: =Arbeitsplan!B11 -> Anna Schmidt | B10: =Arbeitsplan!C11 -> Verkauf | C10: =Arbeitsplan!AJ11 -> 167.2 | D10: =Arbeitsplan!AK11 -> 172.5 | E10: =Arbeitsplan!AN11 -> 5.3 | F10: =Arbeitsplan!AL11 -> 0 | G10: =Arbeitsplan!AM11 -> 0 | H10: =Arbeitsplan!AO11 -> 3795 | I10: =Arbeitsplan!AP11 -> Überplant | K10: Lager | L10: =COUNTIFS(Arbeitsplan!$C$10:$C$21,K10,Arbeitsplan!$B$10:$B$21,"?*") -> 2 | M10: =SUMIFS(Arbeitsplan!$AK$10:$AK$21,Arbeitsplan!$C$10:$C$21,K10) -> 345 | N10: =SUMIFS(Arbeitsplan!$AO$10:$AO$21,Arbeitsplan!$C$10:$C$21,K10) -> 6227.25 | O10: =SUMIFS(Arbeitsplan!$AL$10:$AL$21,Arbeitsplan!$C$10:$C$21,K10) -> 0 | P10: =SUMIFS(Arbeitsplan!$AM$10:$AM$21,Arbeitsplan!$C$10:$C$21,K10) -> 0
A11: =Arbeitsplan!B12 -> Peter Meier | B11: =Arbeitsplan!C12 -> Lager | C11: =Arbeitsplan!AJ12 -> 176 | D11: =Arbeitsplan!AK12 -> 172.5 | E11: =Arbeitsplan!AN12 -> -3.5 | F11: =Arbeitsplan!AL12 -> 0 | G11: =Arbeitsplan!AM12 -> 0 | H11: =Arbeitsplan!AO12 -> 3070.5 | I11: =Arbeitsplan!AP12 -> Unterplant | K11: Service | L11: =COUNTIFS(Arbeitsplan!$C$10:$C$21,K11,Arbeitsplan!$B$10:$B$21,"?*") -> 2 | M11: =SUMIFS(Arbeitsplan!$AK$10:$AK$21,Arbeitsplan!$C$10:$C$21,K11) -> 315 | N11: =SUMIFS(Arbeitsplan!$AO$10:$AO$21,Arbeitsplan!$C$10:$C$21,K11) -> 5859 | O11: =SUMIFS(Arbeitsplan!$AL$10:$AL$21,Arbeitsplan!$C$10:$C$21,K11) -> 0 | P11: =SUMIFS(Arbeitsplan!$AM$10:$AM$21,Arbeitsplan!$C$10:$C$21,K11) -> 2
A12: =Arbeitsplan!B13 -> Laura Becker | B12: =Arbeitsplan!C13 -> Service | C12: =Arbeitsplan!AJ13 -> 132 | D12: =Arbeitsplan!AK13 -> 157.5 | E12: =Arbeitsplan!AN13 -> 25.5 | F12: =Arbeitsplan!AL13 -> 0 | G12: =Arbeitsplan!AM13 -> 2 | H12: =Arbeitsplan!AO13 -> 3024 | I12: =Arbeitsplan!AP13 -> Überplant | K12: Verwaltung | L12: =COUNTIFS(Arbeitsplan!$C$10:$C$21,K12,Arbeitsplan!$B$10:$B$21,"?*") -> 1 | M12: =SUMIFS(Arbeitsplan!$AK$10:$AK$21,Arbeitsplan!$C$10:$C$21,K12) -> 142.5 | N12: =SUMIFS(Arbeitsplan!$AO$10:$AO$21,Arbeitsplan!$C$10:$C$21,K12) -> 2921.25 | O12: =SUMIFS(Arbeitsplan!$AL$10:$AL$21,Arbeitsplan!$C$10:$C$21,K12) -> 0 | P12: =SUMIFS(Arbeitsplan!$AM$10:$AM$21,Arbeitsplan!$C$10:$C$21,K12) -> 0
A13: =Arbeitsplan!B14 -> Thomas Wagner | B13: =Arbeitsplan!C14 -> Verkauf | C13: =Arbeitsplan!AJ14 -> 110 | D13: =Arbeitsplan!AK14 -> 127.5 | E13: =Arbeitsplan!AN14 -> 17.5 | F13: =Arbeitsplan!AL14 -> 2 | G13: =Arbeitsplan!AM14 -> 0 | H13: =Arbeitsplan!AO14 -> 2154.75 | I13: =Arbeitsplan!AP14 -> Überplant
A14: =Arbeitsplan!B15 -> Julia Fischer | B14: =Arbeitsplan!C15 -> Service | C14: =Arbeitsplan!AJ15 -> 154 | D14: =Arbeitsplan!AK15 -> 157.5 | E14: =Arbeitsplan!AN15 -> 3.5 | F14: =Arbeitsplan!AL15 -> 0 | G14: =Arbeitsplan!AM15 -> 0 | H14: =Arbeitsplan!AO15 -> 2835 | I14: =Arbeitsplan!AP15 -> Überplant
A15: =Arbeitsplan!B16 -> Michael Schneider | B15: =Arbeitsplan!C16 -> Lager | C15: =Arbeitsplan!AJ16 -> 176 | D15: =Arbeitsplan!AK16 -> 172.5 | E15: =Arbeitsplan!AN16 -> -3.5 | F15: =Arbeitsplan!AL16 -> 0 | G15: =Arbeitsplan!AM16 -> 0 | H15: =Arbeitsplan!AO16 -> 3156.75 | I15: =Arbeitsplan!AP16 -> Unterplant
A16: =Arbeitsplan!B17 -> Sophie Klein | B16: =Arbeitsplan!C17 -> Verwaltung | C16: =Arbeitsplan!AJ17 -> 88 | D16: =Arbeitsplan!AK17 -> 142.5 | E16: =Arbeitsplan!AN17 -> 54.5 | F16: =Arbeitsplan!AL17 -> 0 | G16: =Arbeitsplan!AM17 -> 0 | H16: =Arbeitsplan!AO17 -> 2921.25 | I16: =Arbeitsplan!AP17 -> Überplant
A18: Tag | B18: Wochentag | C18: Besetzung | D18: Mindestbesetzung | E18: Status
A19: =Arbeitsplan!E$8 -> 1 | B19: =Arbeitsplan!E$9 -> Do | C19: =COUNTIF(Arbeitsplan!E$10:E$21,"F")+COUNTIF(Arbeitsplan!E$10:E$21,"S")+COUNTIF(Arbeitsplan!E$10:E$21,"N")+COUNTIF(Arbeitsplan!E$10:E$21,"T") -> 8 | D19: =Einstellungen!$B$10 -> 3 | E19: =IF(A19="","",IF(C19>=D19,"OK","Unterbesetzt")) -> OK
A20: =Arbeitsplan!F$8 -> 2 | B20: =Arbeitsplan!F$9 -> Fr | C20: =COUNTIF(Arbeitsplan!F$10:F$21,"F")+COUNTIF(Arbeitsplan!F$10:F$21,"S")+COUNTIF(Arbeitsplan!F$10:F$21,"N")+COUNTIF(Arbeitsplan!F$10:F$21,"T") -> 8 | D20: =Einstellungen!$B$10 -> 3 | E20: =IF(A20="","",IF(C20>=D20,"OK","Unterbesetzt")) -> OK
A21: =Arbeitsplan!G$8 -> 3 | B21: =Arbeitsplan!G$9 -> Sa | C21: =COUNTIF(Arbeitsplan!G$10:G$21,"F")+COUNTIF(Arbeitsplan!G$10:G$21,"S")+COUNTIF(Arbeitsplan!G$10:G$21,"N")+COUNTIF(Arbeitsplan!G$10:G$21,"T") -> 7 | D21: =Einstellungen!$B$10 -> 3 | E21: =IF(A21="","",IF(C21>=D21,"OK","Unterbesetzt")) -> OK
A22: =Arbeitsplan!H$8 -> 4 | B22: =Arbeitsplan!H$9 -> So | C22: =COUNTIF(Arbeitsplan!H$10:H$21,"F")+COUNTIF(Arbeitsplan!H$10:H$21,"S")+COUNTIF(Arbeitsplan!H$10:H$21,"N")+COUNTIF(Arbeitsplan!H$10:H$21,"T") -> 6 | D22: =Einstellungen!$B$10 -> 3 | E22: =IF(A22="","",IF(C22>=D22,"OK","Unterbesetzt")) -> OK
A23: =Arbeitsplan!I$8 -> 5 | B23: =Arbeitsplan!I$9 -> Mo | C23: =COUNTIF(Arbeitsplan!I$10:I$21,"F")+COUNTIF(Arbeitsplan!I$10:I$21,"S")+COUNTIF(Arbeitsplan!I$10:I$21,"N")+COUNTIF(Arbeitsplan!I$10:I$21,"T") -> 5 | D23: =Einstellungen!$B$10 -> 3 | E23: =IF(A23="","",IF(C23>=D23,"OK","Unterbesetzt")) -> OK
A24: =Arbeitsplan!J$8 -> 6 | B24: =Arbeitsplan!J$9 -> Di | C24: =COUNTIF(Arbeitsplan!J$10:J$21,"F")+COUNTIF(Arbeitsplan!J$10:J$21,"S")+COUNTIF(Arbeitsplan!J$10:J$21,"N")+COUNTIF(Arbeitsplan!J$10:J$21,"T") -> 2 | D24: =Einstellungen!$B$10 -> 3 | E24: =IF(A24="","",IF(C24>=D24,"OK","Unterbesetzt")) -> Unterbesetzt
A25: =Arbeitsplan!K$8 -> 7 | B25: =Arbeitsplan!K$9 -> Mi | C25: =COUNTIF(Arbeitsplan!K$10:K$21,"F")+COUNTIF(Arbeitsplan!K$10:K$21,"S")+COUNTIF(Arbeitsplan!K$10:K$21,"N")+COUNTIF(Arbeitsplan!K$10:K$21,"T") -> 3 | D25: =Einstellungen!$B$10 -> 3 | E25: =IF(A25="","",IF(C25>=D25,"OK","Unterbesetzt")) -> OK
A26: =Arbeitsplan!L$8 -> 8 | B26: =Arbeitsplan!L$9 -> Do | C26: =COUNTIF(Arbeitsplan!L$10:L$21,"F")+COUNTIF(Arbeitsplan!L$10:L$21,"S")+COUNTIF(Arbeitsplan!L$10:L$21,"N")+COUNTIF(Arbeitsplan!L$10:L$21,"T") -> 7 | D26: =Einstellungen!$B$10 -> 3 | E26: =IF(A26="","",IF(C26>=D26,"OK","Unterbesetzt")) -> OK
A27: =Arbeitsplan!M$8 -> 9 | B27: =Arbeitsplan!M$9 -> Fr | C27: =COUNTIF(Arbeitsplan!M$10:M$21,"F")+COUNTIF(Arbeitsplan!M$10:M$21,"S")+COUNTIF(Arbeitsplan!M$10:M$21,"N")+COUNTIF(Arbeitsplan!M$10:M$21,"T") -> 7 | D27: =Einstellungen!$B$10 -> 3 | E27: =IF(A27="","",IF(C27>=D27,"OK","Unterbesetzt")) -> OK
A28: =Arbeitsplan!N$8 -> 10 | B28: =Arbeitsplan!N$9 -> Sa | C28: =COUNTIF(Arbeitsplan!N$10:N$21,"F")+COUNTIF(Arbeitsplan!N$10:N$21,"S")+COUNTIF(Arbeitsplan!N$10:N$21,"N")+COUNTIF(Arbeitsplan!N$10:N$21,"T") -> 8 | D28: =Einstellungen!$B$10 -> 3 | E28: =IF(A28="","",IF(C28>=D28,"OK","Unterbesetzt")) -> OK
A29: =Arbeitsplan!O$8 -> 11 | B29: =Arbeitsplan!O$9 -> So | C29: =COUNTIF(Arbeitsplan!O$10:O$21,"F")+COUNTIF(Arbeitsplan!O$10:O$21,"S")+COUNTIF(Arbeitsplan!O$10:O$21,"N")+COUNTIF(Arbeitsplan!O$10:O$21,"T") -> 6 | D29: =Einstellungen!$B$10 -> 3 | E29: =IF(A29="","",IF(C29>=D29,"OK","Unterbesetzt")) -> OK
A30: =Arbeitsplan!P$8 -> 12 | B30: =Arbeitsplan!P$9 -> Mo | C30: =COUNTIF(Arbeitsplan!P$10:P$21,"F")+COUNTIF(Arbeitsplan!P$10:P$21,"S")+COUNTIF(Arbeitsplan!P$10:P$21,"N")+COUNTIF(Arbeitsplan!P$10:P$21,"T") -> 6 | D30: =Einstellungen!$B$10 -> 3 | E30: =IF(A30="","",IF(C30>=D30,"OK","Unterbesetzt")) -> OK
A31: =Arbeitsplan!Q$8 -> 13 | B31: =Arbeitsplan!Q$9 -> Di | C31: =COUNTIF(Arbeitsplan!Q$10:Q$21,"F")+COUNTIF(Arbeitsplan!Q$10:Q$21,"S")+COUNTIF(Arbeitsplan!Q$10:Q$21,"N")+COUNTIF(Arbeitsplan!Q$10:Q$21,"T") -> 2 | D31: =Einstellungen!$B$10 -> 3 | E31: =IF(A31="","",IF(C31>=D31,"OK","Unterbesetzt")) -> Unterbesetzt
A32: =Arbeitsplan!R$8 -> 14 | B32: =Arbeitsplan!R$9 -> Mi | C32: =COUNTIF(Arbeitsplan!R$10:R$21,"F")+COUNTIF(Arbeitsplan!R$10:R$21,"S")+COUNTIF(Arbeitsplan!R$10:R$21,"N")+COUNTIF(Arbeitsplan!R$10:R$21,"T") -> 2 | D32: =Einstellungen!$B$10 -> 3 | E32: =IF(A32="","",IF(C32>=D32,"OK","Unterbesetzt")) -> Unterbesetzt
A33: =Arbeitsplan!S$8 -> 15 | B33: =Arbeitsplan!S$9 -> Do | C33: =COUNTIF(Arbeitsplan!S$10:S$21,"F")+COUNTIF(Arbeitsplan!S$10:S$21,"S")+COUNTIF(Arbeitsplan!S$10:S$21,"N")+COUNTIF(Arbeitsplan!S$10:S$21,"T") -> 6 | D33: =Einstellungen!$B$10 -> 3 | E33: =IF(A33="","",IF(C33>=D33,"OK","Unterbesetzt")) -> OK
A34: =Arbeitsplan!T$8 -> 16 | B34: =Arbeitsplan!T$9 -> Fr | C34: =COUNTIF(Arbeitsplan!T$10:T$21,"F")+COUNTIF(Arbeitsplan!T$10:T$21,"S")+COUNTIF(Arbeitsplan!T$10:T$21,"N")+COUNTIF(Arbeitsplan!T$10:T$21,"T") -> 7 | D34: =Einstellungen!$B$10 -> 3 | E34: =IF(A34="","",IF(C34>=D34,"OK","Unterbesetzt")) -> OK
A35: =Arbeitsplan!U$8 -> 17 | B35: =Arbeitsplan!U$9 -> Sa | C35: =COUNTIF(Arbeitsplan!U$10:U$21,"F")+COUNTIF(Arbeitsplan!U$10:U$21,"S")+COUNTIF(Arbeitsplan!U$10:U$21,"N")+COUNTIF(Arbeitsplan!U$10:U$21,"T") -> 7 | D35: =Einstellungen!$B$10 -> 3 | E35: =IF(A35="","",IF(C35>=D35,"OK","Unterbesetzt")) -> OK
A36: =Arbeitsplan!V$8 -> 18 | B36: =Arbeitsplan!V$9 -> So | C36: =COUNTIF(Arbeitsplan!V$10:V$21,"F")+COUNTIF(Arbeitsplan!V$10:V$21,"S")+COUNTIF(Arbeitsplan!V$10:V$21,"N")+COUNTIF(Arbeitsplan!V$10:V$21,"T") -> 5 | D36: =Einstellungen!$B$10 -> 3 | E36: =IF(A36="","",IF(C36>=D36,"OK","Unterbesetzt")) -> OK
A37: =Arbeitsplan!W$8 -> 19 | B37: =Arbeitsplan!W$9 -> Mo | C37: =COUNTIF(Arbeitsplan!W$10:W$21,"F")+COUNTIF(Arbeitsplan!W$10:W$21,"S")+COUNTIF(Arbeitsplan!W$10:W$21,"N")+COUNTIF(Arbeitsplan!W$10:W$21,"T") -> 5 | D37: =Einstellungen!$B$10 -> 3 | E37: =IF(A37="","",IF(C37>=D37,"OK","Unterbesetzt")) -> OK
A38: =Arbeitsplan!X$8 -> 20 | B38: =Arbeitsplan!X$9 -> Di | C38: =COUNTIF(Arbeitsplan!X$10:X$21,"F")+COUNTIF(Arbeitsplan!X$10:X$21,"S")+COUNTIF(Arbeitsplan!X$10:X$21,"N")+COUNTIF(Arbeitsplan!X$10:X$21,"T") -> 4 | D38: =Einstellungen!$B$10 -> 3 | E38: =IF(A38="","",IF(C38>=D38,"OK","Unterbesetzt")) -> OK
A39: =Arbeitsplan!Y$8 -> 21 | B39: =Arbeitsplan!Y$9 -> Mi | C39: =COUNTIF(Arbeitsplan!Y$10:Y$21,"F")+COUNTIF(Arbeitsplan!Y$10:Y$21,"S")+COUNTIF(Arbeitsplan!Y$10:Y$21,"N")+COUNTIF(Arbeitsplan!Y$10:Y$21,"T") -> 4 | D39: =Einstellungen!$B$10 -> 3 | E39: =IF(A39="","",IF(C39>=D39,"OK","Unterbesetzt")) -> OK
A40: =Arbeitsplan!Z$8 -> 22 | B40: =Arbeitsplan!Z$9 -> Do | C40: =COUNTIF(Arbeitsplan!Z$10:Z$21,"F")+COUNTIF(Arbeitsplan!Z$10:Z$21,"S")+COUNTIF(Arbeitsplan!Z$10:Z$21,"N")+COUNTIF(Arbeitsplan!Z$10:Z$21,"T") -> 6 | D40: =Einstellungen!$B$10 -> 3 | E40: =IF(A40="","",IF(C40>=D40,"OK","Unterbesetzt")) -> OK
A41: =Arbeitsplan!AA$8 -> 23 | B41: =Arbeitsplan!AA$9 -> Fr | C41: =COUNTIF(Arbeitsplan!AA$10:AA$21,"F")+COUNTIF(Arbeitsplan!AA$10:AA$21,"S")+COUNTIF(Arbeitsplan!AA$10:AA$21,"N")+COUNTIF(Arbeitsplan!AA$10:AA$21,"T") -> 5 | D41: =Einstellungen!$B$10 -> 3 | E41: =IF(A41="","",IF(C41>=D41,"OK","Unterbesetzt")) -> OK
A42: =Arbeitsplan!AB$8 -> 24 | B42: =Arbeitsplan!AB$9 -> Sa | C42: =COUNTIF(Arbeitsplan!AB$10:AB$21,"F")+COUNTIF(Arbeitsplan!AB$10:AB$21,"S")+COUNTIF(Arbeitsplan!AB$10:AB$21,"N")+COUNTIF(Arbeitsplan!AB$10:AB$21,"T") -> 6 | D42: =Einstellungen!$B$10 -> 3 | E42: =IF(A42="","",IF(C42>=D42,"OK","Unterbesetzt")) -> OK
A43: =Arbeitsplan!AC$8 -> 25 | B43: =Arbeitsplan!AC$9 -> So | C43: =COUNTIF(Arbeitsplan!AC$10:AC$21,"F")+COUNTIF(Arbeitsplan!AC$10:AC$21,"S")+COUNTIF(Arbeitsplan!AC$10:AC$21,"N")+COUNTIF(Arbeitsplan!AC$10:AC$21,"T") -> 7 | D43: =Einstellungen!$B$10 -> 3 | E43: =IF(A43="","",IF(C43>=D43,"OK","Unterbesetzt")) -> OK
A44: =Arbeitsplan!AD$8 -> 26 | B44: =Arbeitsplan!AD$9 -> Mo | C44: =COUNTIF(Arbeitsplan!AD$10:AD$21,"F")+COUNTIF(Arbeitsplan!AD$10:AD$21,"S")+COUNTIF(Arbeitsplan!AD$10:AD$21,"N")+COUNTIF(Arbeitsplan!AD$10:AD$21,"T") -> 5 | D44: =Einstellungen!$B$10 -> 3 | E44: =IF(A44="","",IF(C44>=D44,"OK","Unterbesetzt")) -> OK
...
