Workbook

Sheet Einführung
B1: Nutzwertanalyse
B2: Vorlage für die strukturierte Bewertung von Varianten
B4: Projekt | C4: Fördersystem-Auswahl 2026
B5: Projektleiter | C5: Sergio
B6: Erstellt am | C6: 01.04.2026
B7: Kurzbeschreibung | C7: Vergleich von Förder- und Zuführsystemen anhand gewichteter Kriterien.
B9: Kurzanleitung
B10: 1. Kriterien in der Präferenzmatrix prüfen oder anpassen.
B11: 2. In jeder Vergleichszelle die Nummer des wichtigeren Kriteriums eintragen (0 = Gleichstand).
B12: 3. Varianten in der Nutzwertanalyse benennen.
B13: 4. Je Kriterium eine Erfüllung von 1 bis 10 vergeben.
B14: 5. Gewichtete Ergebnisse, Rangfolge und Diagramme im Report prüfen.
B17: Hinweise
B18: • Erfüllung: Skala 1 bis 10
B19: • Gewichtung: automatisch aus der Präferenzmatrix
B20: • Begründung: optional
B21: • Rangfolge: basiert auf der gewichteten Gesamtpunktzahl

Sheet Präferenzmatrix
A1: Präferenzmatrix
A2: Vergleichen Sie die Kriterien paarweise. Zulässig sind nur 0, die Zeilennummer oder die Spaltennummer.
A7: Kriterium | B7: Nr. | C7: 1 | D7: 2 | E7: 3 | F7: 4 | G7: 5 | H7: 6 | I7: 7 | J7: 8 | K7: 9 | L7: 10 | M7: Punkte | N7: Gewichtung | P7: Hinweis
A8: Kosten/Jahr | B8: 1 | D8: 1 | E8: 1 | F8: 1 | G8: 1 | H8: 1 | I8: 7 | M8: =IF($A8="","",COUNTIF($C$8:$L$17,$B8)+0.5*(COUNTIF($C8:$L8,0)+COUNTIF(C$8:C$17,0))) -> 5 | N8: =IF(OR($A8="",SUM($M$8:$M$17)=0),"",$M8/SUM($M$8:$M$17)) -> 0.23809524 | P8: Tragen Sie in jede aktive Vergleichszelle die Nummer des wichtigeren Kriteriums ein.
A9: Revolutionär | B9: 2 | E9: 3 | F9: 4 | G9: 5 | H9: 6 | I9: 7 | M9: =IF($A9="","",COUNTIF($C$8:$L$17,$B9)+0.5*(COUNTIF($C9:$L9,0)+COUNTIF(D$8:D$17,0))) -> 0 | N9: =IF(OR($A9="",SUM($M$8:$M$17)=0),"",$M9/SUM($M$8:$M$17)) -> 0
A10: Einfachheit | B10: 3 | F10: 3 | G10: 3 | H10: 3 | I10: 7 | M10: =IF($A10="","",COUNTIF($C$8:$L$17,$B10)+0.5*(COUNTIF($C10:$L10,0)+COUNTIF(E$8:E$17,0))) -> 4 | N10: =IF(OR($A10="",SUM($M$8:$M$17)=0),"",$M10/SUM($M$8:$M$17)) -> 0.19047619
A11: Umrüstbarkeit | B11: 4 | G11: 0 | H11: 4 | I11: 7 | M11: =IF($A11="","",COUNTIF($C$8:$L$17,$B11)+0.5*(COUNTIF($C11:$L11,0)+COUNTIF(F$8:F$17,0))) -> 2.5 | N11: =IF(OR($A11="",SUM($M$8:$M$17)=0),"",$M11/SUM($M$8:$M$17)) -> 0.11904762
A12: Produktvielfalt | B12: 5 | H12: 5 | I12: 7 | M12: =IF($A12="","",COUNTIF($C$8:$L$17,$B12)+0.5*(COUNTIF($C12:$L12,0)+COUNTIF(G$8:G$17,0))) -> 2.5 | N12: =IF(OR($A12="",SUM($M$8:$M$17)=0),"",$M12/SUM($M$8:$M$17)) -> 0.11904762
A13: Platzbedarf | B13: 6 | I13: 7 | M13: =IF($A13="","",COUNTIF($C$8:$L$17,$B13)+0.5*(COUNTIF($C13:$L13,0)+COUNTIF(H$8:H$17,0))) -> 1 | N13: =IF(OR($A13="",SUM($M$8:$M$17)=0),"",$M13/SUM($M$8:$M$17)) -> 0.047619048
A14: Prozessstabilität | B14: 7 | M14: =IF($A14="","",COUNTIF($C$8:$L$17,$B14)+0.5*(COUNTIF($C14:$L14,0)+COUNTIF(I$8:I$17,0))) -> 6 | N14: =IF(OR($A14="",SUM($M$8:$M$17)=0),"",$M14/SUM($M$8:$M$17)) -> 0.28571429
B15: 8 | M15: =IF($A15="","",COUNTIF($C$8:$L$17,$B15)+0.5*(COUNTIF($C15:$L15,0)+COUNTIF(J$8:J$17,0))) | N15: =IF(OR($A15="",SUM($M$8:$M$17)=0),"",$M15/SUM($M$8:$M$17))
B16: 9 | M16: =IF($A16="","",COUNTIF($C$8:$L$17,$B16)+0.5*(COUNTIF($C16:$L16,0)+COUNTIF(K$8:K$17,0))) | N16: =IF(OR($A16="",SUM($M$8:$M$17)=0),"",$M16/SUM($M$8:$M$17))
B17: 10 | M17: =IF($A17="","",COUNTIF($C$8:$L$17,$B17)+0.5*(COUNTIF($C17:$L17,0)+COUNTIF(L$8:L$17,0))) | N17: =IF(OR($A17="",SUM($M$8:$M$17)=0),"",$M17/SUM($M$8:$M$17))
A19: Summe | M19: =SUM(M8:M17) -> 21 | N19: =SUM(N8:N17) -> 1

Sheet Nutzwertanalyse
A1: Nutzwertanalyse
A3: Projekt | B3: =Einführung!C4 -> Fördersystem-Auswahl 2026
A4: Projektleiter | B4: =Einführung!C5 -> Sergio
A5: Erstellt am | B5: =Einführung!C6 -> 01.04.2026 | D5: Rundtisch | G5: Zahnriemen | J5: Magnetriemen | M5: Rollen | P5: Variante 5 | S5: Variante 6 | V5: Variante 7 | Y5: Variante 8 | AB5: =IF(F19="","",D5) -> Rundtisch | AC5: =IF(I19="","",G5) -> Zahnriemen | AD5: =IF(L19="","",J5) -> Magnetriemen | AE5: =IF(O19="","",M5) -> Rollen | AF5: =IF(R19="","",P5) | AG5: =IF(U19="","",S5) | AH5: =IF(X19="","",V5) | AI5: =IF(AA19="","",Y5)
AB6: =E18 -> 46 | AC6: =H18 -> 47 | AD6: =K18 -> 51 | AE6: =N18 -> 43 | AF6: =Q18 | AG6: =T18 | AH6: =W18 | AI6: =Z18
A7: Nr. | B7: Kriterium | C7: Gew. | D7: Begründung | E7: Erfüllung | F7: E × G | G7: Begründung | H7: Erfüllung | I7: E × G | J7: Begründung | K7: Erfüllung | L7: E × G | M7: Begründung | N7: Erfüllung | O7: E × G | P7: Begründung | Q7: Erfüllung | R7: E × G | S7: Begründung | T7: Erfüllung | U7: E × G | V7: Begründung | W7: Erfüllung | X7: E × G | Y7: Begründung | Z7: Erfüllung | AA7: E × G | AB7: =F19 -> 716 | AC7: =I19 -> 747 | AD7: =L19 -> 661 | AE7: =O19 -> 711 | AF7: =R19 | AG7: =U19 | AH7: =X19 | AI7: =AA19
A8: =IF(Präferenzmatrix!A8="","",Präferenzmatrix!B8) -> 1 | B8: =IF(Präferenzmatrix!A8="","",Präferenzmatrix!A8) -> Kosten/Jahr | C8: =IF(Präferenzmatrix!A8="","",Präferenzmatrix!N8) -> 0.23809524 | D8: solide Betriebskosten | E8: 6 | F8: =IF(OR($B8="",E8=""),"",ROUND(E8*$C8*100,0)) -> 143 | G8: günstig im Jahr | H8: 8 | I8: =IF(OR($B8="",H8=""),"",ROUND(H8*$C8*100,0)) -> 190 | J8: höhere Kosten | K8: 5 | L8: =IF(OR($B8="",K8=""),"",ROUND(K8*$C8*100,0)) -> 119 | M8: sehr günstig | N8: 9 | O8: =IF(OR($B8="",N8=""),"",ROUND(N8*$C8*100,0)) -> 214 | R8: =IF(OR($B8="",Q8=""),"",ROUND(Q8*$C8*100,0)) | U8: =IF(OR($B8="",T8=""),"",ROUND(T8*$C8*100,0)) | X8: =IF(OR($B8="",W8=""),"",ROUND(W8*$C8*100,0)) | AA8: =IF(OR($B8="",Z8=""),"",ROUND(Z8*$C8*100,0)) | AB8: =IF(AB7="","",RANK(AB7,$AB$7:$AI$7,0)) -> 2 | AC8: =IF(AC7="","",RANK(AC7,$AB$7:$AI$7,0)) -> 1 | AD8: =IF(AD7="","",RANK(AD7,$AB$7:$AI$7,0)) -> 4 | AE8: =IF(AE7="","",RANK(AE7,$AB$7:$AI$7,0)) -> 3 | AF8: =IF(AF7="","",RANK(AF7,$AB$7:$AI$7,0)) | AG8: =IF(AG7="","",RANK(AG7,$AB$7:$AI$7,0)) | AH8: =IF(AH7="","",RANK(AH7,$AB$7:$AI$7,0)) | AI8: =IF(AI7="","",RANK(AI7,$AB$7:$AI$7,0))
A9: =IF(Präferenzmatrix!A9="","",Präferenzmatrix!B9) -> 2 | B9: =IF(Präferenzmatrix!A9="","",Präferenzmatrix!A9) -> Revolutionär | C9: =IF(Präferenzmatrix!A9="","",Präferenzmatrix!N9) -> 0 | D9: bewährtes Konzept | E9: 5 | F9: =IF(OR($B9="",E9=""),"",ROUND(E9*$C9*100,0)) -> 0 | G9: wenig innovativ | H9: 4 | I9: =IF(OR($B9="",H9=""),"",ROUND(H9*$C9*100,0)) -> 0 | J9: stark innovativ | K9: 9 | L9: =IF(OR($B9="",K9=""),"",ROUND(K9*$C9*100,0)) -> 0 | M9: klassisch | N9: 3 | O9: =IF(OR($B9="",N9=""),"",ROUND(N9*$C9*100,0)) -> 0 | R9: =IF(OR($B9="",Q9=""),"",ROUND(Q9*$C9*100,0)) | U9: =IF(OR($B9="",T9=""),"",ROUND(T9*$C9*100,0)) | X9: =IF(OR($B9="",W9=""),"",ROUND(W9*$C9*100,0)) | AA9: =IF(OR($B9="",Z9=""),"",ROUND(Z9*$C9*100,0))
A10: =IF(Präferenzmatrix!A10="","",Präferenzmatrix!B10) -> 3 | B10: =IF(Präferenzmatrix!A10="","",Präferenzmatrix!A10) -> Einfachheit | C10: =IF(Präferenzmatrix!A10="","",Präferenzmatrix!N10) -> 0.19047619 | D10: einfach zu bedienen | E10: 8 | F10: =IF(OR($B10="",E10=""),"",ROUND(E10*$C10*100,0)) -> 152 | G10: gut verständlich | H10: 7 | I10: =IF(OR($B10="",H10=""),"",ROUND(H10*$C10*100,0)) -> 133 | J10: etwas komplexer | K10: 6 | L10: =IF(OR($B10="",K10=""),"",ROUND(K10*$C10*100,0)) -> 114 | M10: sehr einfach | N10: 9 | O10: =IF(OR($B10="",N10=""),"",ROUND(N10*$C10*100,0)) -> 171 | R10: =IF(OR($B10="",Q10=""),"",ROUND(Q10*$C10*100,0)) | U10: =IF(OR($B10="",T10=""),"",ROUND(T10*$C10*100,0)) | X10: =IF(OR($B10="",W10=""),"",ROUND(W10*$C10*100,0)) | AA10: =IF(OR($B10="",Z10=""),"",ROUND(Z10*$C10*100,0))
A11: =IF(Präferenzmatrix!A11="","",Präferenzmatrix!B11) -> 4 | B11: =IF(Präferenzmatrix!A11="","",Präferenzmatrix!A11) -> Umrüstbarkeit | C11: =IF(Präferenzmatrix!A11="","",Präferenzmatrix!N11) -> 0.11904762 | D11: mittlere Flexibilität | E11: 5 | F11: =IF(OR($B11="",E11=""),"",ROUND(E11*$C11*100,0)) -> 60 | G11: gut umrüstbar | H11: 7 | I11: =IF(OR($B11="",H11=""),"",ROUND(H11*$C11*100,0)) -> 83 | J11: sehr flexibel | K11: 8 | L11: =IF(OR($B11="",K11=""),"",ROUND(K11*$C11*100,0)) -> 95 | M11: ordentlich umrüstbar | N11: 6 | O11: =IF(OR($B11="",N11=""),"",ROUND(N11*$C11*100,0)) -> 71 | R11: =IF(OR($B11="",Q11=""),"",ROUND(Q11*$C11*100,0)) | U11: =IF(OR($B11="",T11=""),"",ROUND(T11*$C11*100,0)) | X11: =IF(OR($B11="",W11=""),"",ROUND(W11*$C11*100,0)) | AA11: =IF(OR($B11="",Z11=""),"",ROUND(Z11*$C11*100,0))
A12: =IF(Präferenzmatrix!A12="","",Präferenzmatrix!B12) -> 5 | B12: =IF(Präferenzmatrix!A12="","",Präferenzmatrix!A12) -> Produktvielfalt | C12: =IF(Präferenzmatrix!A12="","",Präferenzmatrix!N12) -> 0.11904762 | D12: gute Variantenvielfalt | E12: 6 | F12: =IF(OR($B12="",E12=""),"",ROUND(E12*$C12*100,0)) -> 71 | G12: breit einsetzbar | H12: 7 | I12: =IF(OR($B12="",H12=""),"",ROUND(H12*$C12*100,0)) -> 83 | J12: sehr vielseitig | K12: 8 | L12: =IF(OR($B12="",K12=""),"",ROUND(K12*$C12*100,0)) -> 95 | M12: begrenzte Vielfalt | N12: 5 | O12: =IF(OR($B12="",N12=""),"",ROUND(N12*$C12*100,0)) -> 60 | R12: =IF(OR($B12="",Q12=""),"",ROUND(Q12*$C12*100,0)) | U12: =IF(OR($B12="",T12=""),"",ROUND(T12*$C12*100,0)) | X12: =IF(OR($B12="",W12=""),"",ROUND(W12*$C12*100,0)) | AA12: =IF(OR($B12="",Z12=""),"",ROUND(Z12*$C12*100,0))
A13: =IF(Präferenzmatrix!A13="","",Präferenzmatrix!B13) -> 6 | B13: =IF(Präferenzmatrix!A13="","",Präferenzmatrix!A13) -> Platzbedarf | C13: =IF(Präferenzmatrix!A13="","",Präferenzmatrix!N13) -> 0.047619048 | D13: kompakt | E13: 7 | F13: =IF(OR($B13="",E13=""),"",ROUND(E13*$C13*100,0)) -> 33 | G13: mittlerer Platzbedarf | H13: 6 | I13: =IF(OR($B13="",H13=""),"",ROUND(H13*$C13*100,0)) -> 29 | J13: sehr kompakt | K13: 8 | L13: =IF(OR($B13="",K13=""),"",ROUND(K13*$C13*100,0)) -> 38 | M13: mehr Fläche nötig | N13: 5 | O13: =IF(OR($B13="",N13=""),"",ROUND(N13*$C13*100,0)) -> 24 | R13: =IF(OR($B13="",Q13=""),"",ROUND(Q13*$C13*100,0)) | U13: =IF(OR($B13="",T13=""),"",ROUND(T13*$C13*100,0)) | X13: =IF(OR($B13="",W13=""),"",ROUND(W13*$C13*100,0)) | AA13: =IF(OR($B13="",Z13=""),"",ROUND(Z13*$C13*100,0))
A14: =IF(Präferenzmatrix!A14="","",Präferenzmatrix!B14) -> 7 | B14: =IF(Präferenzmatrix!A14="","",Präferenzmatrix!A14) -> Prozessstabilität | C14: =IF(Präferenzmatrix!A14="","",Präferenzmatrix!N14) -> 0.28571429 | D14: sehr stabil | E14: 9 | F14: =IF(OR($B14="",E14=""),"",ROUND(E14*$C14*100,0)) -> 257 | G14: stabil im Betrieb | H14: 8 | I14: =IF(OR($B14="",H14=""),"",ROUND(H14*$C14*100,0)) -> 229 | J14: gute Stabilität | K14: 7 | L14: =IF(OR($B14="",K14=""),"",ROUND(K14*$C14*100,0)) -> 200 | M14: solide Stabilität | N14: 6 | O14: =IF(OR($B14="",N14=""),"",ROUND(N14*$C14*100,0)) -> 171 | R14: =IF(OR($B14="",Q14=""),"",ROUND(Q14*$C14*100,0)) | U14: =IF(OR($B14="",T14=""),"",ROUND(T14*$C14*100,0)) | X14: =IF(OR($B14="",W14=""),"",ROUND(W14*$C14*100,0)) | AA14: =IF(OR($B14="",Z14=""),"",ROUND(Z14*$C14*100,0))
A15: =IF(Präferenzmatrix!A15="","",Präferenzmatrix!B15) | B15: =IF(Präferenzmatrix!A15="","",Präferenzmatrix!A15) | C15: =IF(Präferenzmatrix!A15="","",Präferenzmatrix!N15) | F15: =IF(OR($B15="",E15=""),"",ROUND(E15*$C15*100,0)) | I15: =IF(OR($B15="",H15=""),"",ROUND(H15*$C15*100,0)) | L15: =IF(OR($B15="",K15=""),"",ROUND(K15*$C15*100,0)) | O15: =IF(OR($B15="",N15=""),"",ROUND(N15*$C15*100,0)) | R15: =IF(OR($B15="",Q15=""),"",ROUND(Q15*$C15*100,0)) | U15: =IF(OR($B15="",T15=""),"",ROUND(T15*$C15*100,0)) | X15: =IF(OR($B15="",W15=""),"",ROUND(W15*$C15*100,0)) | AA15: =IF(OR($B15="",Z15=""),"",ROUND(Z15*$C15*100,0))
A16: =IF(Präferenzmatrix!A16="","",Präferenzmatrix!B16) | B16: =IF(Präferenzmatrix!A16="","",Präferenzmatrix!A16) | C16: =IF(Präferenzmatrix!A16="","",Präferenzmatrix!N16) | F16: =IF(OR($B16="",E16=""),"",ROUND(E16*$C16*100,0)) | I16: =IF(OR($B16="",H16=""),"",ROUND(H16*$C16*100,0)) | L16: =IF(OR($B16="",K16=""),"",ROUND(K16*$C16*100,0)) | O16: =IF(OR($B16="",N16=""),"",ROUND(N16*$C16*100,0)) | R16: =IF(OR($B16="",Q16=""),"",ROUND(Q16*$C16*100,0)) | U16: =IF(OR($B16="",T16=""),"",ROUND(T16*$C16*100,0)) | X16: =IF(OR($B16="",W16=""),"",ROUND(W16*$C16*100,0)) | AA16: =IF(OR($B16="",Z16=""),"",ROUND(Z16*$C16*100,0))
A17: =IF(Präferenzmatrix!A17="","",Präferenzmatrix!B17) | B17: =IF(Präferenzmatrix!A17="","",Präferenzmatrix!A17) | C17: =IF(Präferenzmatrix!A17="","",Präferenzmatrix!N17) | F17: =IF(OR($B17="",E17=""),"",ROUND(E17*$C17*100,0)) | I17: =IF(OR($B17="",H17=""),"",ROUND(H17*$C17*100,0)) | L17: =IF(OR($B17="",K17=""),"",ROUND(K17*$C17*100,0)) | O17: =IF(OR($B17="",N17=""),"",ROUND(N17*$C17*100,0)) | R17: =IF(OR($B17="",Q17=""),"",ROUND(Q17*$C17*100,0)) | U17: =IF(OR($B17="",T17=""),"",ROUND(T17*$C17*100,0)) | X17: =IF(OR($B17="",W17=""),"",ROUND(W17*$C17*100,0)) | AA17: =IF(OR($B17="",Z17=""),"",ROUND(Z17*$C17*100,0))
A18: Total Erfüllung | E18: =IF(COUNTA(E8:E17)=0,"",SUM(E8:E17)) -> 46 | H18: =IF(COUNTA(H8:H17)=0,"",SUM(H8:H17)) -> 47 | K18: =IF(COUNTA(K8:K17)=0,"",SUM(K8:K17)) -> 51 | N18: =IF(COUNTA(N8:N17)=0,"",SUM(N8:N17)) -> 43 | Q18: =IF(COUNTA(Q8:Q17)=0,"",SUM(Q8:Q17)) | T18: =IF(COUNTA(T8:T17)=0,"",SUM(T8:T17)) | W18: =IF(COUNTA(W8:W17)=0,"",SUM(W8:W17)) | Z18: =IF(COUNTA(Z8:Z17)=0,"",SUM(Z8:Z17))
A19: Gewichtete Erfüllung | F19: =IF(COUNTA(E8:E17)=0,"",SUM(F8:F17)) -> 716 | I19: =IF(COUNTA(H8:H17)=0,"",SUM(I8:I17)) -> 747 | L19: =IF(COUNTA(K8:K17)=0,"",SUM(L8:L17)) -> 661 | O19: =IF(COUNTA(N8:N17)=0,"",SUM(O8:O17)) -> 711 | R19: =IF(COUNTA(Q8:Q17)=0,"",SUM(R8:R17)) | U19: =IF(COUNTA(T8:T17)=0,"",SUM(U8:U17)) | X19: =IF(COUNTA(W8:W17)=0,"",SUM(X8:X17)) | AA19: =IF(COUNTA(Z8:Z17)=0,"",SUM(AA8:AA17))
A20: Platzierung | F20: =AB8 -> 2 | I20: =AC8 -> 1 | L20: =AD8 -> 4 | O20: =AE8 -> 3 | R20: =AF8 | U20: =AG8 | X20: =AH8 | AA20: =AI8
A22: Hinweis: | B22: Die Spalten „Begründung“ können bei Bedarf ausgeblendet werden. Gewichtet = Erfüllung × Gewichtung × 100.

Sheet Report
A1: NWA Report
A3: Projekt | B3: =Einführung!C4 -> Fördersystem-Auswahl 2026 | K3: Beste Variante | L3: =INDEX(B7:I7,MATCH(1,B10:I10,0)) -> Zahnriemen
A4: Projektleiter | B4: =Einführung!C5 -> Sergio | K4: Gewichtete Punkte | L4: =MAX(B9:I9) -> 747
A5: Erstellt am | B5: =Einführung!C6 -> 01.04.2026 | K5: Hinweis | L5: Beispieldaten – alle Werte sind editierbar.
A7: Kennzahl | B7: =Nutzwertanalyse!AB5 -> Rundtisch | C7: =Nutzwertanalyse!AC5 -> Zahnriemen | D7: =Nutzwertanalyse!AD5 -> Magnetriemen | E7: =Nutzwertanalyse!AE5 -> Rollen | F7: =Nutzwertanalyse!AF5 | G7: =Nutzwertanalyse!AG5 | H7: =Nutzwertanalyse!AH5 | I7: =Nutzwertanalyse!AI5
A8: Erfüllung | B8: =Nutzwertanalyse!AB6 -> 46 | C8: =Nutzwertanalyse!AC6 -> 47 | D8: =Nutzwertanalyse!AD6 -> 51 | E8: =Nutzwertanalyse!AE6 -> 43 | F8: =Nutzwertanalyse!AF6 | G8: =Nutzwertanalyse!AG6 | H8: =Nutzwertanalyse!AH6 | I8: =Nutzwertanalyse!AI6
A9: Gewichtete Erfüllung | B9: =Nutzwertanalyse!AB7 -> 716 | C9: =Nutzwertanalyse!AC7 -> 747 | D9: =Nutzwertanalyse!AD7 -> 661 | E9: =Nutzwertanalyse!AE7 -> 711 | F9: =Nutzwertanalyse!AF7 | G9: =Nutzwertanalyse!AG7 | H9: =Nutzwertanalyse!AH7 | I9: =Nutzwertanalyse!AI7
A10: Platzierung | B10: =Nutzwertanalyse!AB8 -> 2 | C10: =Nutzwertanalyse!AC8 -> 1 | D10: =Nutzwertanalyse!AD8 -> 4 | E10: =Nutzwertanalyse!AE8 -> 3 | F10: =Nutzwertanalyse!AF8 | G10: =Nutzwertanalyse!AG8 | H10: =Nutzwertanalyse!AH8 | I10: =Nutzwertanalyse!AI8
