Workbook

Sheet Format
A1: Druckansicht – Etiketten
A2: A4 quer | 3 Spalten | Beispielansicht für Inventar-, Archiv- und Lagernummern
A4: =IFERROR(INDEX(Daten!$D$4:$D$33,MATCH(1,Daten!$J$4:$J$33,0)),"") -> NORDSTERN BÜROTECHNIK GMBH | F4: =IFERROR(INDEX(Daten!$D$4:$D$33,MATCH(2,Daten!$J$4:$J$33,0)),"") -> NORDSTERN BÜROTECHNIK GMBH | K4: =IFERROR(INDEX(Daten!$D$4:$D$33,MATCH(3,Daten!$J$4:$J$33,0)),"") -> NORDSTERN BÜROTECHNIK GMBH | P4: Hinweis
A5: =IFERROR(INDEX(Daten!$E$4:$E$33,MATCH(1,Daten!$J$4:$J$33,0)),"") -> 2026 | F5: =IFERROR(INDEX(Daten!$E$4:$E$33,MATCH(2,Daten!$J$4:$J$33,0)),"") -> 2026 | K5: =IFERROR(INDEX(Daten!$E$4:$E$33,MATCH(3,Daten!$J$4:$J$33,0)),"") -> 2026 | P5: Die Etiketten werden aus den aktiven Zeilen im Blatt „Daten“ befüllt.
A6: =IFERROR(INDEX(Daten!$F$4:$F$33,MATCH(1,Daten!$J$4:$J$33,0)),"") -> AKTIV | F6: =IFERROR(INDEX(Daten!$F$4:$F$33,MATCH(2,Daten!$J$4:$J$33,0)),"") -> AKTIV | K6: =IFERROR(INDEX(Daten!$F$4:$F$33,MATCH(3,Daten!$J$4:$J$33,0)),"") -> AKTIV
A7: =IFERROR(IF(INDEX(Daten!$G$4:$G$33,MATCH(1,Daten!$J$4:$J$33,0))=0,"",INDEX(Daten!$G$4:$G$33,MATCH(1,Daten!$J$4:$J$33,0))),"") | F7: =IFERROR(IF(INDEX(Daten!$G$4:$G$33,MATCH(2,Daten!$J$4:$J$33,0))=0,"",INDEX(Daten!$G$4:$G$33,MATCH(2,Daten!$J$4:$J$33,0))),"") | K7: =IFERROR(IF(INDEX(Daten!$G$4:$G$33,MATCH(3,Daten!$J$4:$J$33,0))=0,"",INDEX(Daten!$G$4:$G$33,MATCH(3,Daten!$J$4:$J$33,0))),"")
A8: =IFERROR(INDEX(Daten!$H$4:$H$33,MATCH(1,Daten!$J$4:$J$33,0)),"") -> CODE-NR. | C8: =IFERROR(INDEX(Daten!$C$4:$C$33,MATCH(1,Daten!$J$4:$J$33,0)),"") -> 000000001 | F8: =IFERROR(INDEX(Daten!$H$4:$H$33,MATCH(2,Daten!$J$4:$J$33,0)),"") -> CODE-NR. | H8: =IFERROR(INDEX(Daten!$C$4:$C$33,MATCH(2,Daten!$J$4:$J$33,0)),"") -> 000000002 | K8: =IFERROR(INDEX(Daten!$H$4:$H$33,MATCH(3,Daten!$J$4:$J$33,0)),"") -> CODE-NR. | M8: =IFERROR(INDEX(Daten!$C$4:$C$33,MATCH(3,Daten!$J$4:$J$33,0)),"") -> 000000003
A10: =IFERROR(INDEX(Daten!$D$4:$D$33,MATCH(4,Daten!$J$4:$J$33,0)),"") -> NORDSTERN BÜROTECHNIK GMBH | F10: =IFERROR(INDEX(Daten!$D$4:$D$33,MATCH(5,Daten!$J$4:$J$33,0)),"") -> NORDSTERN BÜROTECHNIK GMBH | K10: =IFERROR(INDEX(Daten!$D$4:$D$33,MATCH(6,Daten!$J$4:$J$33,0)),"") -> NORDSTERN BÜROTECHNIK GMBH
A11: =IFERROR(INDEX(Daten!$E$4:$E$33,MATCH(4,Daten!$J$4:$J$33,0)),"") -> 2026 | F11: =IFERROR(INDEX(Daten!$E$4:$E$33,MATCH(5,Daten!$J$4:$J$33,0)),"") -> 2026 | K11: =IFERROR(INDEX(Daten!$E$4:$E$33,MATCH(6,Daten!$J$4:$J$33,0)),"") -> 2026
A12: =IFERROR(INDEX(Daten!$F$4:$F$33,MATCH(4,Daten!$J$4:$J$33,0)),"") -> AKTIV | F12: =IFERROR(INDEX(Daten!$F$4:$F$33,MATCH(5,Daten!$J$4:$J$33,0)),"") -> AKTIV | K12: =IFERROR(INDEX(Daten!$F$4:$F$33,MATCH(6,Daten!$J$4:$J$33,0)),"") -> AKTIV
A13: =IFERROR(IF(INDEX(Daten!$G$4:$G$33,MATCH(4,Daten!$J$4:$J$33,0))=0,"",INDEX(Daten!$G$4:$G$33,MATCH(4,Daten!$J$4:$J$33,0))),"") | F13: =IFERROR(IF(INDEX(Daten!$G$4:$G$33,MATCH(5,Daten!$J$4:$J$33,0))=0,"",INDEX(Daten!$G$4:$G$33,MATCH(5,Daten!$J$4:$J$33,0))),"") | K13: =IFERROR(IF(INDEX(Daten!$G$4:$G$33,MATCH(6,Daten!$J$4:$J$33,0))=0,"",INDEX(Daten!$G$4:$G$33,MATCH(6,Daten!$J$4:$J$33,0))),"")
A14: =IFERROR(INDEX(Daten!$H$4:$H$33,MATCH(4,Daten!$J$4:$J$33,0)),"") -> CODE-NR. | C14: =IFERROR(INDEX(Daten!$C$4:$C$33,MATCH(4,Daten!$J$4:$J$33,0)),"") -> 000000004 | F14: =IFERROR(INDEX(Daten!$H$4:$H$33,MATCH(5,Daten!$J$4:$J$33,0)),"") -> CODE-NR. | H14: =IFERROR(INDEX(Daten!$C$4:$C$33,MATCH(5,Daten!$J$4:$J$33,0)),"") -> 000000005 | K14: =IFERROR(INDEX(Daten!$H$4:$H$33,MATCH(6,Daten!$J$4:$J$33,0)),"") -> CODE-NR. | M14: =IFERROR(INDEX(Daten!$C$4:$C$33,MATCH(6,Daten!$J$4:$J$33,0)),"") -> 000000006
A16: =IFERROR(INDEX(Daten!$D$4:$D$33,MATCH(7,Daten!$J$4:$J$33,0)),"") -> NORDSTERN BÜROTECHNIK GMBH | F16: =IFERROR(INDEX(Daten!$D$4:$D$33,MATCH(8,Daten!$J$4:$J$33,0)),"") -> NORDSTERN BÜROTECHNIK GMBH | K16: =IFERROR(INDEX(Daten!$D$4:$D$33,MATCH(9,Daten!$J$4:$J$33,0)),"") -> NORDSTERN BÜROTECHNIK GMBH
A17: =IFERROR(INDEX(Daten!$E$4:$E$33,MATCH(7,Daten!$J$4:$J$33,0)),"") -> 2026 | F17: =IFERROR(INDEX(Daten!$E$4:$E$33,MATCH(8,Daten!$J$4:$J$33,0)),"") -> 2026 | K17: =IFERROR(INDEX(Daten!$E$4:$E$33,MATCH(9,Daten!$J$4:$J$33,0)),"") -> 2026
A18: =IFERROR(INDEX(Daten!$F$4:$F$33,MATCH(7,Daten!$J$4:$J$33,0)),"") -> AKTIV | F18: =IFERROR(INDEX(Daten!$F$4:$F$33,MATCH(8,Daten!$J$4:$J$33,0)),"") -> AKTIV | K18: =IFERROR(INDEX(Daten!$F$4:$F$33,MATCH(9,Daten!$J$4:$J$33,0)),"") -> AKTIV
A19: =IFERROR(IF(INDEX(Daten!$G$4:$G$33,MATCH(7,Daten!$J$4:$J$33,0))=0,"",INDEX(Daten!$G$4:$G$33,MATCH(7,Daten!$J$4:$J$33,0))),"") | F19: =IFERROR(IF(INDEX(Daten!$G$4:$G$33,MATCH(8,Daten!$J$4:$J$33,0))=0,"",INDEX(Daten!$G$4:$G$33,MATCH(8,Daten!$J$4:$J$33,0))),"") | K19: =IFERROR(IF(INDEX(Daten!$G$4:$G$33,MATCH(9,Daten!$J$4:$J$33,0))=0,"",INDEX(Daten!$G$4:$G$33,MATCH(9,Daten!$J$4:$J$33,0))),"")
A20: =IFERROR(INDEX(Daten!$H$4:$H$33,MATCH(7,Daten!$J$4:$J$33,0)),"") -> CODE-NR. | C20: =IFERROR(INDEX(Daten!$C$4:$C$33,MATCH(7,Daten!$J$4:$J$33,0)),"") -> 000000007 | F20: =IFERROR(INDEX(Daten!$H$4:$H$33,MATCH(8,Daten!$J$4:$J$33,0)),"") -> CODE-NR. | H20: =IFERROR(INDEX(Daten!$C$4:$C$33,MATCH(8,Daten!$J$4:$J$33,0)),"") -> 000000008 | K20: =IFERROR(INDEX(Daten!$H$4:$H$33,MATCH(9,Daten!$J$4:$J$33,0)),"") -> CODE-NR. | M20: =IFERROR(INDEX(Daten!$C$4:$C$33,MATCH(9,Daten!$J$4:$J$33,0)),"") -> 000000009
A22: =IFERROR(INDEX(Daten!$D$4:$D$33,MATCH(10,Daten!$J$4:$J$33,0)),"") -> NORDSTERN BÜROTECHNIK GMBH | F22: =IFERROR(INDEX(Daten!$D$4:$D$33,MATCH(11,Daten!$J$4:$J$33,0)),"") -> NORDSTERN BÜROTECHNIK GMBH | K22: =IFERROR(INDEX(Daten!$D$4:$D$33,MATCH(12,Daten!$J$4:$J$33,0)),"") -> NORDSTERN BÜROTECHNIK GMBH
A23: =IFERROR(INDEX(Daten!$E$4:$E$33,MATCH(10,Daten!$J$4:$J$33,0)),"") -> 2026 | F23: =IFERROR(INDEX(Daten!$E$4:$E$33,MATCH(11,Daten!$J$4:$J$33,0)),"") -> 2026 | K23: =IFERROR(INDEX(Daten!$E$4:$E$33,MATCH(12,Daten!$J$4:$J$33,0)),"") -> 2026
A24: =IFERROR(INDEX(Daten!$F$4:$F$33,MATCH(10,Daten!$J$4:$J$33,0)),"") -> AKTIV | F24: =IFERROR(INDEX(Daten!$F$4:$F$33,MATCH(11,Daten!$J$4:$J$33,0)),"") -> AKTIV | K24: =IFERROR(INDEX(Daten!$F$4:$F$33,MATCH(12,Daten!$J$4:$J$33,0)),"") -> AKTIV
A25: =IFERROR(IF(INDEX(Daten!$G$4:$G$33,MATCH(10,Daten!$J$4:$J$33,0))=0,"",INDEX(Daten!$G$4:$G$33,MATCH(10,Daten!$J$4:$J$33,0))),"") | F25: =IFERROR(IF(INDEX(Daten!$G$4:$G$33,MATCH(11,Daten!$J$4:$J$33,0))=0,"",INDEX(Daten!$G$4:$G$33,MATCH(11,Daten!$J$4:$J$33,0))),"") | K25: =IFERROR(IF(INDEX(Daten!$G$4:$G$33,MATCH(12,Daten!$J$4:$J$33,0))=0,"",INDEX(Daten!$G$4:$G$33,MATCH(12,Daten!$J$4:$J$33,0))),"")
A26: =IFERROR(INDEX(Daten!$H$4:$H$33,MATCH(10,Daten!$J$4:$J$33,0)),"") -> CODE-NR. | C26: =IFERROR(INDEX(Daten!$C$4:$C$33,MATCH(10,Daten!$J$4:$J$33,0)),"") -> 000000010 | F26: =IFERROR(INDEX(Daten!$H$4:$H$33,MATCH(11,Daten!$J$4:$J$33,0)),"") -> CODE-NR. | H26: =IFERROR(INDEX(Daten!$C$4:$C$33,MATCH(11,Daten!$J$4:$J$33,0)),"") -> 000000011 | K26: =IFERROR(INDEX(Daten!$H$4:$H$33,MATCH(12,Daten!$J$4:$J$33,0)),"") -> CODE-NR. | M26: =IFERROR(INDEX(Daten!$C$4:$C$33,MATCH(12,Daten!$J$4:$J$33,0)),"") -> 000000012
A28: =IFERROR(INDEX(Daten!$D$4:$D$33,MATCH(13,Daten!$J$4:$J$33,0)),"") -> NORDSTERN BÜROTECHNIK GMBH | F28: =IFERROR(INDEX(Daten!$D$4:$D$33,MATCH(14,Daten!$J$4:$J$33,0)),"") -> NORDSTERN BÜROTECHNIK GMBH | K28: =IFERROR(INDEX(Daten!$D$4:$D$33,MATCH(15,Daten!$J$4:$J$33,0)),"") -> NORDSTERN BÜROTECHNIK GMBH
A29: =IFERROR(INDEX(Daten!$E$4:$E$33,MATCH(13,Daten!$J$4:$J$33,0)),"") -> ARCHIV | F29: =IFERROR(INDEX(Daten!$E$4:$E$33,MATCH(14,Daten!$J$4:$J$33,0)),"") -> ARCHIV | K29: =IFERROR(INDEX(Daten!$E$4:$E$33,MATCH(15,Daten!$J$4:$J$33,0)),"") -> ARCHIV
A30: =IFERROR(INDEX(Daten!$F$4:$F$33,MATCH(13,Daten!$J$4:$J$33,0)),"") -> BESTAND | F30: =IFERROR(INDEX(Daten!$F$4:$F$33,MATCH(14,Daten!$J$4:$J$33,0)),"") -> BESTAND | K30: =IFERROR(INDEX(Daten!$F$4:$F$33,MATCH(15,Daten!$J$4:$J$33,0)),"") -> BESTAND
A31: =IFERROR(IF(INDEX(Daten!$G$4:$G$33,MATCH(13,Daten!$J$4:$J$33,0))=0,"",INDEX(Daten!$G$4:$G$33,MATCH(13,Daten!$J$4:$J$33,0))),"") -> FACH 1 | F31: =IFERROR(IF(INDEX(Daten!$G$4:$G$33,MATCH(14,Daten!$J$4:$J$33,0))=0,"",INDEX(Daten!$G$4:$G$33,MATCH(14,Daten!$J$4:$J$33,0))),"") -> FACH 2 | K31: =IFERROR(IF(INDEX(Daten!$G$4:$G$33,MATCH(15,Daten!$J$4:$J$33,0))=0,"",INDEX(Daten!$G$4:$G$33,MATCH(15,Daten!$J$4:$J$33,0))),"") -> FACH 3
A32: =IFERROR(INDEX(Daten!$H$4:$H$33,MATCH(13,Daten!$J$4:$J$33,0)),"") -> CODE-NR. | C32: =IFERROR(INDEX(Daten!$C$4:$C$33,MATCH(13,Daten!$J$4:$J$33,0)),"") -> 000000013 | F32: =IFERROR(INDEX(Daten!$H$4:$H$33,MATCH(14,Daten!$J$4:$J$33,0)),"") -> CODE-NR. | H32: =IFERROR(INDEX(Daten!$C$4:$C$33,MATCH(14,Daten!$J$4:$J$33,0)),"") -> 000000014 | K32: =IFERROR(INDEX(Daten!$H$4:$H$33,MATCH(15,Daten!$J$4:$J$33,0)),"") -> CODE-NR. | M32: =IFERROR(INDEX(Daten!$C$4:$C$33,MATCH(15,Daten!$J$4:$J$33,0)),"") -> 000000015
A34: =IFERROR(INDEX(Daten!$D$4:$D$33,MATCH(16,Daten!$J$4:$J$33,0)),"") -> NORDSTERN BÜROTECHNIK GMBH | F34: =IFERROR(INDEX(Daten!$D$4:$D$33,MATCH(17,Daten!$J$4:$J$33,0)),"") -> NORDSTERN BÜROTECHNIK GMBH | K34: =IFERROR(INDEX(Daten!$D$4:$D$33,MATCH(18,Daten!$J$4:$J$33,0)),"") -> NORDSTERN BÜROTECHNIK GMBH
A35: =IFERROR(INDEX(Daten!$E$4:$E$33,MATCH(16,Daten!$J$4:$J$33,0)),"") -> ARCHIV | F35: =IFERROR(INDEX(Daten!$E$4:$E$33,MATCH(17,Daten!$J$4:$J$33,0)),"") -> ARCHIV | K35: =IFERROR(INDEX(Daten!$E$4:$E$33,MATCH(18,Daten!$J$4:$J$33,0)),"") -> ARCHIV
A36: =IFERROR(INDEX(Daten!$F$4:$F$33,MATCH(16,Daten!$J$4:$J$33,0)),"") -> BESTAND | F36: =IFERROR(INDEX(Daten!$F$4:$F$33,MATCH(17,Daten!$J$4:$J$33,0)),"") -> BESTAND | K36: =IFERROR(INDEX(Daten!$F$4:$F$33,MATCH(18,Daten!$J$4:$J$33,0)),"") -> BESTAND
A37: =IFERROR(IF(INDEX(Daten!$G$4:$G$33,MATCH(16,Daten!$J$4:$J$33,0))=0,"",INDEX(Daten!$G$4:$G$33,MATCH(16,Daten!$J$4:$J$33,0))),"") -> FACH 4 | F37: =IFERROR(IF(INDEX(Daten!$G$4:$G$33,MATCH(17,Daten!$J$4:$J$33,0))=0,"",INDEX(Daten!$G$4:$G$33,MATCH(17,Daten!$J$4:$J$33,0))),"") -> FACH 5 | K37: =IFERROR(IF(INDEX(Daten!$G$4:$G$33,MATCH(18,Daten!$J$4:$J$33,0))=0,"",INDEX(Daten!$G$4:$G$33,MATCH(18,Daten!$J$4:$J$33,0))),"") -> FACH 6
A38: =IFERROR(INDEX(Daten!$H$4:$H$33,MATCH(16,Daten!$J$4:$J$33,0)),"") -> CODE-NR. | C38: =IFERROR(INDEX(Daten!$C$4:$C$33,MATCH(16,Daten!$J$4:$J$33,0)),"") -> 000000016 | F38: =IFERROR(INDEX(Daten!$H$4:$H$33,MATCH(17,Daten!$J$4:$J$33,0)),"") -> CODE-NR. | H38: =IFERROR(INDEX(Daten!$C$4:$C$33,MATCH(17,Daten!$J$4:$J$33,0)),"") -> 000000017 | K38: =IFERROR(INDEX(Daten!$H$4:$H$33,MATCH(18,Daten!$J$4:$J$33,0)),"") -> CODE-NR. | M38: =IFERROR(INDEX(Daten!$C$4:$C$33,MATCH(18,Daten!$J$4:$J$33,0)),"") -> 000000018
A40: =IFERROR(INDEX(Daten!$D$4:$D$33,MATCH(19,Daten!$J$4:$J$33,0)),"") -> NORDSTERN BÜROTECHNIK GMBH | F40: =IFERROR(INDEX(Daten!$D$4:$D$33,MATCH(20,Daten!$J$4:$J$33,0)),"") -> NORDSTERN BÜROTECHNIK GMBH | K40: =IFERROR(INDEX(Daten!$D$4:$D$33,MATCH(21,Daten!$J$4:$J$33,0)),"") -> NORDSTERN BÜROTECHNIK GMBH
A41: =IFERROR(INDEX(Daten!$E$4:$E$33,MATCH(19,Daten!$J$4:$J$33,0)),"") -> LAGER | F41: =IFERROR(INDEX(Daten!$E$4:$E$33,MATCH(20,Daten!$J$4:$J$33,0)),"") -> LAGER | K41: =IFERROR(INDEX(Daten!$E$4:$E$33,MATCH(21,Daten!$J$4:$J$33,0)),"") -> LAGER
A42: =IFERROR(INDEX(Daten!$F$4:$F$33,MATCH(19,Daten!$J$4:$J$33,0)),"") -> GEPRÜFT | F42: =IFERROR(INDEX(Daten!$F$4:$F$33,MATCH(20,Daten!$J$4:$J$33,0)),"") -> GEPRÜFT | K42: =IFERROR(INDEX(Daten!$F$4:$F$33,MATCH(21,Daten!$J$4:$J$33,0)),"") -> GEPRÜFT
A43: =IFERROR(IF(INDEX(Daten!$G$4:$G$33,MATCH(19,Daten!$J$4:$J$33,0))=0,"",INDEX(Daten!$G$4:$G$33,MATCH(19,Daten!$J$4:$J$33,0))),"") -> ZONE A | F43: =IFERROR(IF(INDEX(Daten!$G$4:$G$33,MATCH(20,Daten!$J$4:$J$33,0))=0,"",INDEX(Daten!$G$4:$G$33,MATCH(20,Daten!$J$4:$J$33,0))),"") -> ZONE B | K43: =IFERROR(IF(INDEX(Daten!$G$4:$G$33,MATCH(21,Daten!$J$4:$J$33,0))=0,"",INDEX(Daten!$G$4:$G$33,MATCH(21,Daten!$J$4:$J$33,0))),"") -> ZONE C
A44: =IFERROR(INDEX(Daten!$H$4:$H$33,MATCH(19,Daten!$J$4:$J$33,0)),"") -> CODE-NR. | C44: =IFERROR(INDEX(Daten!$C$4:$C$33,MATCH(19,Daten!$J$4:$J$33,0)),"") -> 000000019 | F44: =IFERROR(INDEX(Daten!$H$4:$H$33,MATCH(20,Daten!$J$4:$J$33,0)),"") -> CODE-NR. | H44: =IFERROR(INDEX(Daten!$C$4:$C$33,MATCH(20,Daten!$J$4:$J$33,0)),"") -> 000000020 | K44: =IFERROR(INDEX(Daten!$H$4:$H$33,MATCH(21,Daten!$J$4:$J$33,0)),"") -> CODE-NR. | M44: =IFERROR(INDEX(Daten!$C$4:$C$33,MATCH(21,Daten!$J$4:$J$33,0)),"") -> 000000021
A46: =IFERROR(INDEX(Daten!$D$4:$D$33,MATCH(22,Daten!$J$4:$J$33,0)),"") -> NORDSTERN BÜROTECHNIK GMBH | F46: =IFERROR(INDEX(Daten!$D$4:$D$33,MATCH(23,Daten!$J$4:$J$33,0)),"") -> NORDSTERN BÜROTECHNIK GMBH | K46: =IFERROR(INDEX(Daten!$D$4:$D$33,MATCH(24,Daten!$J$4:$J$33,0)),"") -> NORDSTERN BÜROTECHNIK GMBH
A47: =IFERROR(INDEX(Daten!$E$4:$E$33,MATCH(22,Daten!$J$4:$J$33,0)),"") -> LAGER | F47: =IFERROR(INDEX(Daten!$E$4:$E$33,MATCH(23,Daten!$J$4:$J$33,0)),"") -> LAGER | K47: =IFERROR(INDEX(Daten!$E$4:$E$33,MATCH(24,Daten!$J$4:$J$33,0)),"") -> LAGER
A48: =IFERROR(INDEX(Daten!$F$4:$F$33,MATCH(22,Daten!$J$4:$J$33,0)),"") -> GEPRÜFT | F48: =IFERROR(INDEX(Daten!$F$4:$F$33,MATCH(23,Daten!$J$4:$J$33,0)),"") -> GEPRÜFT | K48: =IFERROR(INDEX(Daten!$F$4:$F$33,MATCH(24,Daten!$J$4:$J$33,0)),"") -> GEPRÜFT
...

Sheet Einstellungen
B1: Universelle Etikettenvorlage (Deutsch)
B3: Allgemeine Einstellungen | F3: Kurzanleitung
B4: Organisation / Hauptzeile | C4: NORDSTERN BÜROTECHNIK GMBH | F4: 1. In „Daten“ jede Zeile als eigenes Etikett pflegen.
B5: Standard-Zeile 2 | C5: 2026 | F5: 2. In Spalte A nur Zeilen mit „Ja“ drucken.
B6: Standard-Zeile 3 | C6: AKTIV | F6: 3. Die Druckansicht befindet sich im Blatt „Format“.
B7: Standard-Fußtext links | C7: CODE-NR. | F7: 4. Die Felder „Kopfzeile“ bis „Fußtext links“ frei anpassen.
B8: Startnummer | C8: 1 | F8: 5. Das Blatt ist bewusst ohne Schutz aufgebaut.
B9: Stellenzahl für Code | C9: 9
B10: Präfix (optional)
B11: Etiketten pro Zeile | C11: 3
B12: Etikettenzeilen im Formatblatt | C12: 8
B15: Hinweis: Das Formatblatt ist für A4 quer vorbereitet und zeigt 24 Etiketten (3 × 8).

Sheet Daten
A1: Datenliste für die Etiketten
A2: Nur Zeilen mit „Ja“ in Spalte Aktiv erscheinen im Blatt „Format“.
A3: Aktiv | B3: Lfd. Nr. | C3: Code | D3: Kopfzeile | E3: Zeile 2 | F3: Zeile 3 | G3: Zusatzzeile | H3: Fußtext links | I3: Interne Notiz | J3: Druckindex | K3: Vorschau
A4: Ja | B4: 1 | C4: =IF(B4="","",Einstellungen!$C$10&TEXT(Einstellungen!$C$8+B4-1,REPT("0",Einstellungen!$C$9))) -> 000000001 | D4: NORDSTERN BÜROTECHNIK GMBH | E4: 2026 | F4: AKTIV | H4: CODE-NR. | I4: Inventaretikett – Büro 1 | J4: =IF(A4="Ja",COUNTIF($A$4:A4,"Ja"),"") -> 1 | K4: =D4&CHAR(10)&E4&CHAR(10)&F4&IF(G4<>"",CHAR(10)&G4,"")&CHAR(10)&H4&" "&C4 -> NORDSTERN BÜROTECHNIK GMBH 2026 AKTIV CODE-NR. 000000001
A5: Ja | B5: 2 | C5: =IF(B5="","",Einstellungen!$C$10&TEXT(Einstellungen!$C$8+B5-1,REPT("0",Einstellungen!$C$9))) -> 000000002 | D5: NORDSTERN BÜROTECHNIK GMBH | E5: 2026 | F5: AKTIV | H5: CODE-NR. | I5: Inventaretikett – Büro 2 | J5: =IF(A5="Ja",COUNTIF($A$4:A5,"Ja"),"") -> 2 | K5: =D5&CHAR(10)&E5&CHAR(10)&F5&IF(G5<>"",CHAR(10)&G5,"")&CHAR(10)&H5&" "&C5 -> NORDSTERN BÜROTECHNIK GMBH 2026 AKTIV CODE-NR. 000000002
A6: Ja | B6: 3 | C6: =IF(B6="","",Einstellungen!$C$10&TEXT(Einstellungen!$C$8+B6-1,REPT("0",Einstellungen!$C$9))) -> 000000003 | D6: NORDSTERN BÜROTECHNIK GMBH | E6: 2026 | F6: AKTIV | H6: CODE-NR. | I6: Inventaretikett – Büro 3 | J6: =IF(A6="Ja",COUNTIF($A$4:A6,"Ja"),"") -> 3 | K6: =D6&CHAR(10)&E6&CHAR(10)&F6&IF(G6<>"",CHAR(10)&G6,"")&CHAR(10)&H6&" "&C6 -> NORDSTERN BÜROTECHNIK GMBH 2026 AKTIV CODE-NR. 000000003
A7: Ja | B7: 4 | C7: =IF(B7="","",Einstellungen!$C$10&TEXT(Einstellungen!$C$8+B7-1,REPT("0",Einstellungen!$C$9))) -> 000000004 | D7: NORDSTERN BÜROTECHNIK GMBH | E7: 2026 | F7: AKTIV | H7: CODE-NR. | I7: Archiv – Projekt A | J7: =IF(A7="Ja",COUNTIF($A$4:A7,"Ja"),"") -> 4 | K7: =D7&CHAR(10)&E7&CHAR(10)&F7&IF(G7<>"",CHAR(10)&G7,"")&CHAR(10)&H7&" "&C7 -> NORDSTERN BÜROTECHNIK GMBH 2026 AKTIV CODE-NR. 000000004
A8: Ja | B8: 5 | C8: =IF(B8="","",Einstellungen!$C$10&TEXT(Einstellungen!$C$8+B8-1,REPT("0",Einstellungen!$C$9))) -> 000000005 | D8: NORDSTERN BÜROTECHNIK GMBH | E8: 2026 | F8: AKTIV | H8: CODE-NR. | I8: Archiv – Projekt A | J8: =IF(A8="Ja",COUNTIF($A$4:A8,"Ja"),"") -> 5 | K8: =D8&CHAR(10)&E8&CHAR(10)&F8&IF(G8<>"",CHAR(10)&G8,"")&CHAR(10)&H8&" "&C8 -> NORDSTERN BÜROTECHNIK GMBH 2026 AKTIV CODE-NR. 000000005
A9: Ja | B9: 6 | C9: =IF(B9="","",Einstellungen!$C$10&TEXT(Einstellungen!$C$8+B9-1,REPT("0",Einstellungen!$C$9))) -> 000000006 | D9: NORDSTERN BÜROTECHNIK GMBH | E9: 2026 | F9: AKTIV | H9: CODE-NR. | I9: Archiv – Projekt B | J9: =IF(A9="Ja",COUNTIF($A$4:A9,"Ja"),"") -> 6 | K9: =D9&CHAR(10)&E9&CHAR(10)&F9&IF(G9<>"",CHAR(10)&G9,"")&CHAR(10)&H9&" "&C9 -> NORDSTERN BÜROTECHNIK GMBH 2026 AKTIV CODE-NR. 000000006
A10: Ja | B10: 7 | C10: =IF(B10="","",Einstellungen!$C$10&TEXT(Einstellungen!$C$8+B10-1,REPT("0",Einstellungen!$C$9))) -> 000000007 | D10: NORDSTERN BÜROTECHNIK GMBH | E10: 2026 | F10: AKTIV | H10: CODE-NR. | I10: Lager – Regal Nord | J10: =IF(A10="Ja",COUNTIF($A$4:A10,"Ja"),"") -> 7 | K10: =D10&CHAR(10)&E10&CHAR(10)&F10&IF(G10<>"",CHAR(10)&G10,"")&CHAR(10)&H10&" "&C10 -> NORDSTERN BÜROTECHNIK GMBH 2026 AKTIV CODE-NR. 000000007
A11: Ja | B11: 8 | C11: =IF(B11="","",Einstellungen!$C$10&TEXT(Einstellungen!$C$8+B11-1,REPT("0",Einstellungen!$C$9))) -> 000000008 | D11: NORDSTERN BÜROTECHNIK GMBH | E11: 2026 | F11: AKTIV | H11: CODE-NR. | I11: Lager – Regal Nord | J11: =IF(A11="Ja",COUNTIF($A$4:A11,"Ja"),"") -> 8 | K11: =D11&CHAR(10)&E11&CHAR(10)&F11&IF(G11<>"",CHAR(10)&G11,"")&CHAR(10)&H11&" "&C11 -> NORDSTERN BÜROTECHNIK GMBH 2026 AKTIV CODE-NR. 000000008
A12: Ja | B12: 9 | C12: =IF(B12="","",Einstellungen!$C$10&TEXT(Einstellungen!$C$8+B12-1,REPT("0",Einstellungen!$C$9))) -> 000000009 | D12: NORDSTERN BÜROTECHNIK GMBH | E12: 2026 | F12: AKTIV | H12: CODE-NR. | I12: Lager – Regal Süd | J12: =IF(A12="Ja",COUNTIF($A$4:A12,"Ja"),"") -> 9 | K12: =D12&CHAR(10)&E12&CHAR(10)&F12&IF(G12<>"",CHAR(10)&G12,"")&CHAR(10)&H12&" "&C12 -> NORDSTERN BÜROTECHNIK GMBH 2026 AKTIV CODE-NR. 000000009
A13: Ja | B13: 10 | C13: =IF(B13="","",Einstellungen!$C$10&TEXT(Einstellungen!$C$8+B13-1,REPT("0",Einstellungen!$C$9))) -> 000000010 | D13: NORDSTERN BÜROTECHNIK GMBH | E13: 2026 | F13: AKTIV | H13: CODE-NR. | I13: IT – Asset | J13: =IF(A13="Ja",COUNTIF($A$4:A13,"Ja"),"") -> 10 | K13: =D13&CHAR(10)&E13&CHAR(10)&F13&IF(G13<>"",CHAR(10)&G13,"")&CHAR(10)&H13&" "&C13 -> NORDSTERN BÜROTECHNIK GMBH 2026 AKTIV CODE-NR. 000000010
A14: Ja | B14: 11 | C14: =IF(B14="","",Einstellungen!$C$10&TEXT(Einstellungen!$C$8+B14-1,REPT("0",Einstellungen!$C$9))) -> 000000011 | D14: NORDSTERN BÜROTECHNIK GMBH | E14: 2026 | F14: AKTIV | H14: CODE-NR. | I14: IT – Asset | J14: =IF(A14="Ja",COUNTIF($A$4:A14,"Ja"),"") -> 11 | K14: =D14&CHAR(10)&E14&CHAR(10)&F14&IF(G14<>"",CHAR(10)&G14,"")&CHAR(10)&H14&" "&C14 -> NORDSTERN BÜROTECHNIK GMBH 2026 AKTIV CODE-NR. 000000011
A15: Ja | B15: 12 | C15: =IF(B15="","",Einstellungen!$C$10&TEXT(Einstellungen!$C$8+B15-1,REPT("0",Einstellungen!$C$9))) -> 000000012 | D15: NORDSTERN BÜROTECHNIK GMBH | E15: 2026 | F15: AKTIV | H15: CODE-NR. | I15: IT – Asset | J15: =IF(A15="Ja",COUNTIF($A$4:A15,"Ja"),"") -> 12 | K15: =D15&CHAR(10)&E15&CHAR(10)&F15&IF(G15<>"",CHAR(10)&G15,"")&CHAR(10)&H15&" "&C15 -> NORDSTERN BÜROTECHNIK GMBH 2026 AKTIV CODE-NR. 000000012
A16: Ja | B16: 13 | C16: =IF(B16="","",Einstellungen!$C$10&TEXT(Einstellungen!$C$8+B16-1,REPT("0",Einstellungen!$C$9))) -> 000000013 | D16: NORDSTERN BÜROTECHNIK GMBH | E16: ARCHIV | F16: BESTAND | G16: FACH 1 | H16: CODE-NR. | I16: Ersatzgerät | J16: =IF(A16="Ja",COUNTIF($A$4:A16,"Ja"),"") -> 13 | K16: =D16&CHAR(10)&E16&CHAR(10)&F16&IF(G16<>"",CHAR(10)&G16,"")&CHAR(10)&H16&" "&C16 -> NORDSTERN BÜROTECHNIK GMBH ARCHIV BESTAND FACH 1 CODE-NR. 000000013
A17: Ja | B17: 14 | C17: =IF(B17="","",Einstellungen!$C$10&TEXT(Einstellungen!$C$8+B17-1,REPT("0",Einstellungen!$C$9))) -> 000000014 | D17: NORDSTERN BÜROTECHNIK GMBH | E17: ARCHIV | F17: BESTAND | G17: FACH 2 | H17: CODE-NR. | I17: Reserve | J17: =IF(A17="Ja",COUNTIF($A$4:A17,"Ja"),"") -> 14 | K17: =D17&CHAR(10)&E17&CHAR(10)&F17&IF(G17<>"",CHAR(10)&G17,"")&CHAR(10)&H17&" "&C17 -> NORDSTERN BÜROTECHNIK GMBH ARCHIV BESTAND FACH 2 CODE-NR. 000000014
A18: Ja | B18: 15 | C18: =IF(B18="","",Einstellungen!$C$10&TEXT(Einstellungen!$C$8+B18-1,REPT("0",Einstellungen!$C$9))) -> 000000015 | D18: NORDSTERN BÜROTECHNIK GMBH | E18: ARCHIV | F18: BESTAND | G18: FACH 3 | H18: CODE-NR. | I18: Reserve | J18: =IF(A18="Ja",COUNTIF($A$4:A18,"Ja"),"") -> 15 | K18: =D18&CHAR(10)&E18&CHAR(10)&F18&IF(G18<>"",CHAR(10)&G18,"")&CHAR(10)&H18&" "&C18 -> NORDSTERN BÜROTECHNIK GMBH ARCHIV BESTAND FACH 3 CODE-NR. 000000015
A19: Ja | B19: 16 | C19: =IF(B19="","",Einstellungen!$C$10&TEXT(Einstellungen!$C$8+B19-1,REPT("0",Einstellungen!$C$9))) -> 000000016 | D19: NORDSTERN BÜROTECHNIK GMBH | E19: ARCHIV | F19: BESTAND | G19: FACH 4 | H19: CODE-NR. | I19: Messematerial | J19: =IF(A19="Ja",COUNTIF($A$4:A19,"Ja"),"") -> 16 | K19: =D19&CHAR(10)&E19&CHAR(10)&F19&IF(G19<>"",CHAR(10)&G19,"")&CHAR(10)&H19&" "&C19 -> NORDSTERN BÜROTECHNIK GMBH ARCHIV BESTAND FACH 4 CODE-NR. 000000016
A20: Ja | B20: 17 | C20: =IF(B20="","",Einstellungen!$C$10&TEXT(Einstellungen!$C$8+B20-1,REPT("0",Einstellungen!$C$9))) -> 000000017 | D20: NORDSTERN BÜROTECHNIK GMBH | E20: ARCHIV | F20: BESTAND | G20: FACH 5 | H20: CODE-NR. | I20: Messematerial | J20: =IF(A20="Ja",COUNTIF($A$4:A20,"Ja"),"") -> 17 | K20: =D20&CHAR(10)&E20&CHAR(10)&F20&IF(G20<>"",CHAR(10)&G20,"")&CHAR(10)&H20&" "&C20 -> NORDSTERN BÜROTECHNIK GMBH ARCHIV BESTAND FACH 5 CODE-NR. 000000017
A21: Ja | B21: 18 | C21: =IF(B21="","",Einstellungen!$C$10&TEXT(Einstellungen!$C$8+B21-1,REPT("0",Einstellungen!$C$9))) -> 000000018 | D21: NORDSTERN BÜROTECHNIK GMBH | E21: ARCHIV | F21: BESTAND | G21: FACH 6 | H21: CODE-NR. | I21: Messematerial | J21: =IF(A21="Ja",COUNTIF($A$4:A21,"Ja"),"") -> 18 | K21: =D21&CHAR(10)&E21&CHAR(10)&F21&IF(G21<>"",CHAR(10)&G21,"")&CHAR(10)&H21&" "&C21 -> NORDSTERN BÜROTECHNIK GMBH ARCHIV BESTAND FACH 6 CODE-NR. 000000018
A22: Ja | B22: 19 | C22: =IF(B22="","",Einstellungen!$C$10&TEXT(Einstellungen!$C$8+B22-1,REPT("0",Einstellungen!$C$9))) -> 000000019 | D22: NORDSTERN BÜROTECHNIK GMBH | E22: LAGER | F22: GEPRÜFT | G22: ZONE A | H22: CODE-NR. | I22: Ablage | J22: =IF(A22="Ja",COUNTIF($A$4:A22,"Ja"),"") -> 19 | K22: =D22&CHAR(10)&E22&CHAR(10)&F22&IF(G22<>"",CHAR(10)&G22,"")&CHAR(10)&H22&" "&C22 -> NORDSTERN BÜROTECHNIK GMBH LAGER GEPRÜFT ZONE A CODE-NR. 000000019
A23: Ja | B23: 20 | C23: =IF(B23="","",Einstellungen!$C$10&TEXT(Einstellungen!$C$8+B23-1,REPT("0",Einstellungen!$C$9))) -> 000000020 | D23: NORDSTERN BÜROTECHNIK GMBH | E23: LAGER | F23: GEPRÜFT | G23: ZONE B | H23: CODE-NR. | I23: Ablage | J23: =IF(A23="Ja",COUNTIF($A$4:A23,"Ja"),"") -> 20 | K23: =D23&CHAR(10)&E23&CHAR(10)&F23&IF(G23<>"",CHAR(10)&G23,"")&CHAR(10)&H23&" "&C23 -> NORDSTERN BÜROTECHNIK GMBH LAGER GEPRÜFT ZONE B CODE-NR. 000000020
A24: Ja | B24: 21 | C24: =IF(B24="","",Einstellungen!$C$10&TEXT(Einstellungen!$C$8+B24-1,REPT("0",Einstellungen!$C$9))) -> 000000021 | D24: NORDSTERN BÜROTECHNIK GMBH | E24: LAGER | F24: GEPRÜFT | G24: ZONE C | H24: CODE-NR. | I24: Ablage | J24: =IF(A24="Ja",COUNTIF($A$4:A24,"Ja"),"") -> 21 | K24: =D24&CHAR(10)&E24&CHAR(10)&F24&IF(G24<>"",CHAR(10)&G24,"")&CHAR(10)&H24&" "&C24 -> NORDSTERN BÜROTECHNIK GMBH LAGER GEPRÜFT ZONE C CODE-NR. 000000021
A25: Ja | B25: 22 | C25: =IF(B25="","",Einstellungen!$C$10&TEXT(Einstellungen!$C$8+B25-1,REPT("0",Einstellungen!$C$9))) -> 000000022 | D25: NORDSTERN BÜROTECHNIK GMBH | E25: LAGER | F25: GEPRÜFT | G25: ZONE D | H25: CODE-NR. | I25: Ablage | J25: =IF(A25="Ja",COUNTIF($A$4:A25,"Ja"),"") -> 22 | K25: =D25&CHAR(10)&E25&CHAR(10)&F25&IF(G25<>"",CHAR(10)&G25,"")&CHAR(10)&H25&" "&C25 -> NORDSTERN BÜROTECHNIK GMBH LAGER GEPRÜFT ZONE D CODE-NR. 000000022
A26: Ja | B26: 23 | C26: =IF(B26="","",Einstellungen!$C$10&TEXT(Einstellungen!$C$8+B26-1,REPT("0",Einstellungen!$C$9))) -> 000000023 | D26: NORDSTERN BÜROTECHNIK GMBH | E26: LAGER | F26: GEPRÜFT | G26: ZONE E | H26: CODE-NR. | I26: Ablage | J26: =IF(A26="Ja",COUNTIF($A$4:A26,"Ja"),"") -> 23 | K26: =D26&CHAR(10)&E26&CHAR(10)&F26&IF(G26<>"",CHAR(10)&G26,"")&CHAR(10)&H26&" "&C26 -> NORDSTERN BÜROTECHNIK GMBH LAGER GEPRÜFT ZONE E CODE-NR. 000000023
A27: Ja | B27: 24 | C27: =IF(B27="","",Einstellungen!$C$10&TEXT(Einstellungen!$C$8+B27-1,REPT("0",Einstellungen!$C$9))) -> 000000024 | D27: NORDSTERN BÜROTECHNIK GMBH | E27: LAGER | F27: GEPRÜFT | G27: ZONE F | H27: CODE-NR. | I27: Ablage | J27: =IF(A27="Ja",COUNTIF($A$4:A27,"Ja"),"") -> 24 | K27: =D27&CHAR(10)&E27&CHAR(10)&F27&IF(G27<>"",CHAR(10)&G27,"")&CHAR(10)&H27&" "&C27 -> NORDSTERN BÜROTECHNIK GMBH LAGER GEPRÜFT ZONE F CODE-NR. 000000024
... A33: Nein | B33: 30 | C33: =IF(B33="","",Einstellungen!$C$10&TEXT(Einstellungen!$C$8+B33-1,REPT("0",Einstellungen!$C$9))) -> 000000030 | D33: NORDSTERN BÜROTECHNIK GMBH | E33: MUSTER | F33: INAKTIV | G33: Nicht im Druck | H33: CODE-NR. | I33: Inaktiv – Beispiel | J33: =IF(A33="Ja",COUNTIF($A$4:A33,"Ja"),"") | K33: =D33&CHAR(10)&E33&CHAR(10)&F33&IF(G33<>"",CHAR(10)&G33,"")&CHAR(10)&H33&" "&C33 -> NORDSTERN BÜROTECHNIK GMBH MUSTER INAKTIV Nicht im Druck CODE-NR. 000000030
