Workbook

Sheet Etikettenblatt
B1: Etikettenblatt – Druckansicht
B2: Die Vorschau übernimmt automatisch alle Zeilen aus 'Daten' mit 'Ja' in der Spalte 'Drucken'.
B4: Spalten | C4: =Format!$C$10 -> 3 | F4: Zeilen | G4: =Format!$C$11 -> 8 | J4: Papier | K4: =Format!$C$12 -> A4 | N4: Startnummer | Q4: =Format!$C$7 -> 1
B7: =IFERROR(INDEX(Daten!$C$4:$C$39,MATCH(1,Daten!$I$4:$I$39,0)),"") -> MUSTERBETRIEB GMBH | H7: =IFERROR(INDEX(Daten!$C$4:$C$39,MATCH(2,Daten!$I$4:$I$39,0)),"") -> MUSTERBETRIEB GMBH | N7: =IFERROR(INDEX(Daten!$C$4:$C$39,MATCH(3,Daten!$I$4:$I$39,0)),"") -> MUSTERBETRIEB GMBH
B8: =IFERROR(INDEX(Daten!$D$4:$D$39,MATCH(1,Daten!$I$4:$I$39,0)),"") -> 2026 | H8: =IFERROR(INDEX(Daten!$D$4:$D$39,MATCH(2,Daten!$I$4:$I$39,0)),"") -> 2026 | N8: =IFERROR(INDEX(Daten!$D$4:$D$39,MATCH(3,Daten!$I$4:$I$39,0)),"") -> 2026
B9: =IFERROR(INDEX(Daten!$E$4:$E$39,MATCH(1,Daten!$I$4:$I$39,0)),"") -> AKTIV | H9: =IFERROR(INDEX(Daten!$E$4:$E$39,MATCH(2,Daten!$I$4:$I$39,0)),"") -> INAKTIV | N9: =IFERROR(INDEX(Daten!$E$4:$E$39,MATCH(3,Daten!$I$4:$I$39,0)),"") -> WARTUNG
B10: =IFERROR(INDEX(Daten!$F$4:$F$39,MATCH(1,Daten!$I$4:$I$39,0)) & IF(INDEX(Daten!$G$4:$G$39,MATCH(1,Daten!$I$4:$I$39,0))<>""," · " & INDEX(Daten!$G$4:$G$39,MATCH(1,Daten!$I$4:$I$39,0)),""),"") -> Vertrieb · Berlin | H10: =IFERROR(INDEX(Daten!$F$4:$F$39,MATCH(2,Daten!$I$4:$I$39,0)) & IF(INDEX(Daten!$G$4:$G$39,MATCH(2,Daten!$I$4:$I$39,0))<>""," · " & INDEX(Daten!$G$4:$G$39,MATCH(2,Daten!$I$4:$I$39,0)),""),"") -> Lager · Hamburg | N10: =IFERROR(INDEX(Daten!$F$4:$F$39,MATCH(3,Daten!$I$4:$I$39,0)) & IF(INDEX(Daten!$G$4:$G$39,MATCH(3,Daten!$I$4:$I$39,0))<>""," · " & INDEX(Daten!$G$4:$G$39,MATCH(3,Daten!$I$4:$I$39,0)),""),"") -> IT · München
B11: =Format!$C$13 -> NR. | D11: =IFERROR(INDEX(Daten!$B$4:$B$39,MATCH(1,Daten!$I$4:$I$39,0)),"") -> 000000001 | H11: =Format!$C$13 -> NR. | J11: =IFERROR(INDEX(Daten!$B$4:$B$39,MATCH(2,Daten!$I$4:$I$39,0)),"") -> 000000002 | N11: =Format!$C$13 -> NR. | P11: =IFERROR(INDEX(Daten!$B$4:$B$39,MATCH(3,Daten!$I$4:$I$39,0)),"") -> 000000003
B13: =IFERROR(INDEX(Daten!$C$4:$C$39,MATCH(4,Daten!$I$4:$I$39,0)),"") -> MUSTERBETRIEB GMBH | H13: =IFERROR(INDEX(Daten!$C$4:$C$39,MATCH(5,Daten!$I$4:$I$39,0)),"") -> MUSTERBETRIEB GMBH | N13: =IFERROR(INDEX(Daten!$C$4:$C$39,MATCH(6,Daten!$I$4:$I$39,0)),"") -> MUSTERBETRIEB GMBH
B14: =IFERROR(INDEX(Daten!$D$4:$D$39,MATCH(4,Daten!$I$4:$I$39,0)),"") -> 2026 | H14: =IFERROR(INDEX(Daten!$D$4:$D$39,MATCH(5,Daten!$I$4:$I$39,0)),"") -> 2026 | N14: =IFERROR(INDEX(Daten!$D$4:$D$39,MATCH(6,Daten!$I$4:$I$39,0)),"") -> 2026
B15: =IFERROR(INDEX(Daten!$E$4:$E$39,MATCH(4,Daten!$I$4:$I$39,0)),"") -> RESERVE | H15: =IFERROR(INDEX(Daten!$E$4:$E$39,MATCH(5,Daten!$I$4:$I$39,0)),"") -> AKTIV | N15: =IFERROR(INDEX(Daten!$E$4:$E$39,MATCH(6,Daten!$I$4:$I$39,0)),"") -> INAKTIV
B16: =IFERROR(INDEX(Daten!$F$4:$F$39,MATCH(4,Daten!$I$4:$I$39,0)) & IF(INDEX(Daten!$G$4:$G$39,MATCH(4,Daten!$I$4:$I$39,0))<>""," · " & INDEX(Daten!$G$4:$G$39,MATCH(4,Daten!$I$4:$I$39,0)),""),"") -> Produktion · Köln | H16: =IFERROR(INDEX(Daten!$F$4:$F$39,MATCH(5,Daten!$I$4:$I$39,0)) & IF(INDEX(Daten!$G$4:$G$39,MATCH(5,Daten!$I$4:$I$39,0))<>""," · " & INDEX(Daten!$G$4:$G$39,MATCH(5,Daten!$I$4:$I$39,0)),""),"") -> Empfang · Leipzig | N16: =IFERROR(INDEX(Daten!$F$4:$F$39,MATCH(6,Daten!$I$4:$I$39,0)) & IF(INDEX(Daten!$G$4:$G$39,MATCH(6,Daten!$I$4:$I$39,0))<>""," · " & INDEX(Daten!$G$4:$G$39,MATCH(6,Daten!$I$4:$I$39,0)),""),"") -> Service · Stuttgart
B17: =Format!$C$13 -> NR. | D17: =IFERROR(INDEX(Daten!$B$4:$B$39,MATCH(4,Daten!$I$4:$I$39,0)),"") -> 000000004 | H17: =Format!$C$13 -> NR. | J17: =IFERROR(INDEX(Daten!$B$4:$B$39,MATCH(5,Daten!$I$4:$I$39,0)),"") -> 000000005 | N17: =Format!$C$13 -> NR. | P17: =IFERROR(INDEX(Daten!$B$4:$B$39,MATCH(6,Daten!$I$4:$I$39,0)),"") -> 000000006
B19: =IFERROR(INDEX(Daten!$C$4:$C$39,MATCH(7,Daten!$I$4:$I$39,0)),"") -> MUSTERBETRIEB GMBH | H19: =IFERROR(INDEX(Daten!$C$4:$C$39,MATCH(8,Daten!$I$4:$I$39,0)),"") -> MUSTERBETRIEB GMBH | N19: =IFERROR(INDEX(Daten!$C$4:$C$39,MATCH(9,Daten!$I$4:$I$39,0)),"") -> MUSTERBETRIEB GMBH
B20: =IFERROR(INDEX(Daten!$D$4:$D$39,MATCH(7,Daten!$I$4:$I$39,0)),"") -> 2026 | H20: =IFERROR(INDEX(Daten!$D$4:$D$39,MATCH(8,Daten!$I$4:$I$39,0)),"") -> 2026 | N20: =IFERROR(INDEX(Daten!$D$4:$D$39,MATCH(9,Daten!$I$4:$I$39,0)),"") -> 2026
B21: =IFERROR(INDEX(Daten!$E$4:$E$39,MATCH(7,Daten!$I$4:$I$39,0)),"") -> WARTUNG | H21: =IFERROR(INDEX(Daten!$E$4:$E$39,MATCH(8,Daten!$I$4:$I$39,0)),"") -> RESERVE | N21: =IFERROR(INDEX(Daten!$E$4:$E$39,MATCH(9,Daten!$I$4:$I$39,0)),"") -> AKTIV
B22: =IFERROR(INDEX(Daten!$F$4:$F$39,MATCH(7,Daten!$I$4:$I$39,0)) & IF(INDEX(Daten!$G$4:$G$39,MATCH(7,Daten!$I$4:$I$39,0))<>""," · " & INDEX(Daten!$G$4:$G$39,MATCH(7,Daten!$I$4:$I$39,0)),""),"") -> Logistik · Bremen | H22: =IFERROR(INDEX(Daten!$F$4:$F$39,MATCH(8,Daten!$I$4:$I$39,0)) & IF(INDEX(Daten!$G$4:$G$39,MATCH(8,Daten!$I$4:$I$39,0))<>""," · " & INDEX(Daten!$G$4:$G$39,MATCH(8,Daten!$I$4:$I$39,0)),""),"") -> Buchhaltung · Düsseldorf | N22: =IFERROR(INDEX(Daten!$F$4:$F$39,MATCH(9,Daten!$I$4:$I$39,0)) & IF(INDEX(Daten!$G$4:$G$39,MATCH(9,Daten!$I$4:$I$39,0))<>""," · " & INDEX(Daten!$G$4:$G$39,MATCH(9,Daten!$I$4:$I$39,0)),""),"") -> Qualität · Berlin
B23: =Format!$C$13 -> NR. | D23: =IFERROR(INDEX(Daten!$B$4:$B$39,MATCH(7,Daten!$I$4:$I$39,0)),"") -> 000000007 | H23: =Format!$C$13 -> NR. | J23: =IFERROR(INDEX(Daten!$B$4:$B$39,MATCH(8,Daten!$I$4:$I$39,0)),"") -> 000000008 | N23: =Format!$C$13 -> NR. | P23: =IFERROR(INDEX(Daten!$B$4:$B$39,MATCH(9,Daten!$I$4:$I$39,0)),"") -> 000000009
B25: =IFERROR(INDEX(Daten!$C$4:$C$39,MATCH(10,Daten!$I$4:$I$39,0)),"") -> MUSTERBETRIEB GMBH | H25: =IFERROR(INDEX(Daten!$C$4:$C$39,MATCH(11,Daten!$I$4:$I$39,0)),"") -> MUSTERBETRIEB GMBH | N25: =IFERROR(INDEX(Daten!$C$4:$C$39,MATCH(12,Daten!$I$4:$I$39,0)),"") -> MUSTERBETRIEB GMBH
B26: =IFERROR(INDEX(Daten!$D$4:$D$39,MATCH(10,Daten!$I$4:$I$39,0)),"") -> 2026 | H26: =IFERROR(INDEX(Daten!$D$4:$D$39,MATCH(11,Daten!$I$4:$I$39,0)),"") -> 2026 | N26: =IFERROR(INDEX(Daten!$D$4:$D$39,MATCH(12,Daten!$I$4:$I$39,0)),"") -> 2026
B27: =IFERROR(INDEX(Daten!$E$4:$E$39,MATCH(10,Daten!$I$4:$I$39,0)),"") -> AKTIV | H27: =IFERROR(INDEX(Daten!$E$4:$E$39,MATCH(11,Daten!$I$4:$I$39,0)),"") -> WARTUNG | N27: =IFERROR(INDEX(Daten!$E$4:$E$39,MATCH(12,Daten!$I$4:$I$39,0)),"") -> AKTIV
B28: =IFERROR(INDEX(Daten!$F$4:$F$39,MATCH(10,Daten!$I$4:$I$39,0)) & IF(INDEX(Daten!$G$4:$G$39,MATCH(10,Daten!$I$4:$I$39,0))<>""," · " & INDEX(Daten!$G$4:$G$39,MATCH(10,Daten!$I$4:$I$39,0)),""),"") -> Technik · Hamburg | H28: =IFERROR(INDEX(Daten!$F$4:$F$39,MATCH(11,Daten!$I$4:$I$39,0)) & IF(INDEX(Daten!$G$4:$G$39,MATCH(11,Daten!$I$4:$I$39,0))<>""," · " & INDEX(Daten!$G$4:$G$39,MATCH(11,Daten!$I$4:$I$39,0)),""),"") -> Einkauf · München | N28: =IFERROR(INDEX(Daten!$F$4:$F$39,MATCH(12,Daten!$I$4:$I$39,0)) & IF(INDEX(Daten!$G$4:$G$39,MATCH(12,Daten!$I$4:$I$39,0))<>""," · " & INDEX(Daten!$G$4:$G$39,MATCH(12,Daten!$I$4:$I$39,0)),""),"") -> Archiv · Köln
B29: =Format!$C$13 -> NR. | D29: =IFERROR(INDEX(Daten!$B$4:$B$39,MATCH(10,Daten!$I$4:$I$39,0)),"") -> 000000010 | H29: =Format!$C$13 -> NR. | J29: =IFERROR(INDEX(Daten!$B$4:$B$39,MATCH(11,Daten!$I$4:$I$39,0)),"") -> 000000011 | N29: =Format!$C$13 -> NR. | P29: =IFERROR(INDEX(Daten!$B$4:$B$39,MATCH(12,Daten!$I$4:$I$39,0)),"") -> 000000012
B31: =IFERROR(INDEX(Daten!$C$4:$C$39,MATCH(13,Daten!$I$4:$I$39,0)),"") -> MUSTERBETRIEB GMBH | H31: =IFERROR(INDEX(Daten!$C$4:$C$39,MATCH(14,Daten!$I$4:$I$39,0)),"") -> MUSTERBETRIEB GMBH | N31: =IFERROR(INDEX(Daten!$C$4:$C$39,MATCH(15,Daten!$I$4:$I$39,0)),"") -> MUSTERBETRIEB GMBH
B32: =IFERROR(INDEX(Daten!$D$4:$D$39,MATCH(13,Daten!$I$4:$I$39,0)),"") -> 2026 | H32: =IFERROR(INDEX(Daten!$D$4:$D$39,MATCH(14,Daten!$I$4:$I$39,0)),"") -> 2026 | N32: =IFERROR(INDEX(Daten!$D$4:$D$39,MATCH(15,Daten!$I$4:$I$39,0)),"") -> 2026
B33: =IFERROR(INDEX(Daten!$E$4:$E$39,MATCH(13,Daten!$I$4:$I$39,0)),"") -> AKTIV | H33: =IFERROR(INDEX(Daten!$E$4:$E$39,MATCH(14,Daten!$I$4:$I$39,0)),"") -> AKTIV | N33: =IFERROR(INDEX(Daten!$E$4:$E$39,MATCH(15,Daten!$I$4:$I$39,0)),"") -> AKTIV
B34: =IFERROR(INDEX(Daten!$F$4:$F$39,MATCH(13,Daten!$I$4:$I$39,0)) & IF(INDEX(Daten!$G$4:$G$39,MATCH(13,Daten!$I$4:$I$39,0))<>""," · " & INDEX(Daten!$G$4:$G$39,MATCH(13,Daten!$I$4:$I$39,0)),""),"") -> Montage · Leipzig | H34: =IFERROR(INDEX(Daten!$F$4:$F$39,MATCH(14,Daten!$I$4:$I$39,0)) & IF(INDEX(Daten!$G$4:$G$39,MATCH(14,Daten!$I$4:$I$39,0))<>""," · " & INDEX(Daten!$G$4:$G$39,MATCH(14,Daten!$I$4:$I$39,0)),""),"") -> Versand · Stuttgart | N34: =IFERROR(INDEX(Daten!$F$4:$F$39,MATCH(15,Daten!$I$4:$I$39,0)) & IF(INDEX(Daten!$G$4:$G$39,MATCH(15,Daten!$I$4:$I$39,0))<>""," · " & INDEX(Daten!$G$4:$G$39,MATCH(15,Daten!$I$4:$I$39,0)),""),"") -> Support · Bremen
B35: =Format!$C$13 -> NR. | D35: =IFERROR(INDEX(Daten!$B$4:$B$39,MATCH(13,Daten!$I$4:$I$39,0)),"") -> 000000013 | H35: =Format!$C$13 -> NR. | J35: =IFERROR(INDEX(Daten!$B$4:$B$39,MATCH(14,Daten!$I$4:$I$39,0)),"") -> 000000014 | N35: =Format!$C$13 -> NR. | P35: =IFERROR(INDEX(Daten!$B$4:$B$39,MATCH(15,Daten!$I$4:$I$39,0)),"") -> 000000015
B37: =IFERROR(INDEX(Daten!$C$4:$C$39,MATCH(16,Daten!$I$4:$I$39,0)),"") -> MUSTERBETRIEB GMBH | H37: =IFERROR(INDEX(Daten!$C$4:$C$39,MATCH(17,Daten!$I$4:$I$39,0)),"") -> MUSTERBETRIEB GMBH | N37: =IFERROR(INDEX(Daten!$C$4:$C$39,MATCH(18,Daten!$I$4:$I$39,0)),"") -> MUSTERBETRIEB GMBH
B38: =IFERROR(INDEX(Daten!$D$4:$D$39,MATCH(16,Daten!$I$4:$I$39,0)),"") -> 2026 | H38: =IFERROR(INDEX(Daten!$D$4:$D$39,MATCH(17,Daten!$I$4:$I$39,0)),"") -> 2026 | N38: =IFERROR(INDEX(Daten!$D$4:$D$39,MATCH(18,Daten!$I$4:$I$39,0)),"") -> 2026
B39: =IFERROR(INDEX(Daten!$E$4:$E$39,MATCH(16,Daten!$I$4:$I$39,0)),"") -> WARTUNG | H39: =IFERROR(INDEX(Daten!$E$4:$E$39,MATCH(17,Daten!$I$4:$I$39,0)),"") -> AKTIV | N39: =IFERROR(INDEX(Daten!$E$4:$E$39,MATCH(18,Daten!$I$4:$I$39,0)),"") -> AKTIV
B40: =IFERROR(INDEX(Daten!$F$4:$F$39,MATCH(16,Daten!$I$4:$I$39,0)) & IF(INDEX(Daten!$G$4:$G$39,MATCH(16,Daten!$I$4:$I$39,0))<>""," · " & INDEX(Daten!$G$4:$G$39,MATCH(16,Daten!$I$4:$I$39,0)),""),"") -> Personal · Düsseldorf | H40: =IFERROR(INDEX(Daten!$F$4:$F$39,MATCH(17,Daten!$I$4:$I$39,0)) & IF(INDEX(Daten!$G$4:$G$39,MATCH(17,Daten!$I$4:$I$39,0))<>""," · " & INDEX(Daten!$G$4:$G$39,MATCH(17,Daten!$I$4:$I$39,0)),""),"") -> Vertrieb · Berlin | N40: =IFERROR(INDEX(Daten!$F$4:$F$39,MATCH(18,Daten!$I$4:$I$39,0)) & IF(INDEX(Daten!$G$4:$G$39,MATCH(18,Daten!$I$4:$I$39,0))<>""," · " & INDEX(Daten!$G$4:$G$39,MATCH(18,Daten!$I$4:$I$39,0)),""),"") -> Lager · Hamburg
B41: =Format!$C$13 -> NR. | D41: =IFERROR(INDEX(Daten!$B$4:$B$39,MATCH(16,Daten!$I$4:$I$39,0)),"") -> 000000016 | H41: =Format!$C$13 -> NR. | J41: =IFERROR(INDEX(Daten!$B$4:$B$39,MATCH(17,Daten!$I$4:$I$39,0)),"") -> 000000017 | N41: =Format!$C$13 -> NR. | P41: =IFERROR(INDEX(Daten!$B$4:$B$39,MATCH(18,Daten!$I$4:$I$39,0)),"") -> 000000018
B43: =IFERROR(INDEX(Daten!$C$4:$C$39,MATCH(19,Daten!$I$4:$I$39,0)),"") -> MUSTERBETRIEB GMBH | H43: =IFERROR(INDEX(Daten!$C$4:$C$39,MATCH(20,Daten!$I$4:$I$39,0)),"") -> MUSTERBETRIEB GMBH | N43: =IFERROR(INDEX(Daten!$C$4:$C$39,MATCH(21,Daten!$I$4:$I$39,0)),"") -> MUSTERBETRIEB GMBH
B44: =IFERROR(INDEX(Daten!$D$4:$D$39,MATCH(19,Daten!$I$4:$I$39,0)),"") -> 2026 | H44: =IFERROR(INDEX(Daten!$D$4:$D$39,MATCH(20,Daten!$I$4:$I$39,0)),"") -> 2026 | N44: =IFERROR(INDEX(Daten!$D$4:$D$39,MATCH(21,Daten!$I$4:$I$39,0)),"") -> 2026
B45: =IFERROR(INDEX(Daten!$E$4:$E$39,MATCH(19,Daten!$I$4:$I$39,0)),"") -> AKTIV | H45: =IFERROR(INDEX(Daten!$E$4:$E$39,MATCH(20,Daten!$I$4:$I$39,0)),"") -> AKTIV | N45: =IFERROR(INDEX(Daten!$E$4:$E$39,MATCH(21,Daten!$I$4:$I$39,0)),"") -> WARTUNG
B46: =IFERROR(INDEX(Daten!$F$4:$F$39,MATCH(19,Daten!$I$4:$I$39,0)) & IF(INDEX(Daten!$G$4:$G$39,MATCH(19,Daten!$I$4:$I$39,0))<>""," · " & INDEX(Daten!$G$4:$G$39,MATCH(19,Daten!$I$4:$I$39,0)),""),"") -> IT · München | H46: =IFERROR(INDEX(Daten!$F$4:$F$39,MATCH(20,Daten!$I$4:$I$39,0)) & IF(INDEX(Daten!$G$4:$G$39,MATCH(20,Daten!$I$4:$I$39,0))<>""," · " & INDEX(Daten!$G$4:$G$39,MATCH(20,Daten!$I$4:$I$39,0)),""),"") -> Produktion · Köln | N46: =IFERROR(INDEX(Daten!$F$4:$F$39,MATCH(21,Daten!$I$4:$I$39,0)) & IF(INDEX(Daten!$G$4:$G$39,MATCH(21,Daten!$I$4:$I$39,0))<>""," · " & INDEX(Daten!$G$4:$G$39,MATCH(21,Daten!$I$4:$I$39,0)),""),"") -> Empfang · Leipzig
B47: =Format!$C$13 -> NR. | D47: =IFERROR(INDEX(Daten!$B$4:$B$39,MATCH(19,Daten!$I$4:$I$39,0)),"") -> 000000019 | H47: =Format!$C$13 -> NR. | J47: =IFERROR(INDEX(Daten!$B$4:$B$39,MATCH(20,Daten!$I$4:$I$39,0)),"") -> 000000020 | N47: =Format!$C$13 -> NR. | P47: =IFERROR(INDEX(Daten!$B$4:$B$39,MATCH(21,Daten!$I$4:$I$39,0)),"") -> 000000021
B49: =IFERROR(INDEX(Daten!$C$4:$C$39,MATCH(22,Daten!$I$4:$I$39,0)),"") -> MUSTERBETRIEB GMBH | H49: =IFERROR(INDEX(Daten!$C$4:$C$39,MATCH(23,Daten!$I$4:$I$39,0)),"") -> MUSTERBETRIEB GMBH | N49: =IFERROR(INDEX(Daten!$C$4:$C$39,MATCH(24,Daten!$I$4:$I$39,0)),"") -> MUSTERBETRIEB GMBH
B50: =IFERROR(INDEX(Daten!$D$4:$D$39,MATCH(22,Daten!$I$4:$I$39,0)),"") -> 2026 | H50: =IFERROR(INDEX(Daten!$D$4:$D$39,MATCH(23,Daten!$I$4:$I$39,0)),"") -> 2026 | N50: =IFERROR(INDEX(Daten!$D$4:$D$39,MATCH(24,Daten!$I$4:$I$39,0)),"") -> 2026
...

Sheet Daten
A1: Etikettendatenbank
A2: Nur Zeilen mit 'Ja' in der Spalte 'Drucken' erscheinen später im Etikettenblatt.
A3: Drucken | B3: Nummer | C3: Firma | D3: Jahr | E3: Status | F3: Bereich | G3: Standort | H3: Zusatztext | I3: Druckposition
A4: Ja | B4: =TEXT(Format!$C$7+ROW()-4,"000000000") -> 000000001 | C4: =Format!$C$5 -> MUSTERBETRIEB GMBH | D4: =Format!$C$6 -> 2026 | E4: AKTIV | F4: Vertrieb | G4: Berlin | I4: =IF($A4="Ja",COUNTIF($A$4:A4,"Ja"),"") -> 1
A5: Ja | B5: =TEXT(Format!$C$7+ROW()-4,"000000000") -> 000000002 | C5: =Format!$C$5 -> MUSTERBETRIEB GMBH | D5: =Format!$C$6 -> 2026 | E5: INAKTIV | F5: Lager | G5: Hamburg | H5: INTERN | I5: =IF($A5="Ja",COUNTIF($A$4:A5,"Ja"),"") -> 2
A6: Ja | B6: =TEXT(Format!$C$7+ROW()-4,"000000000") -> 000000003 | C6: =Format!$C$5 -> MUSTERBETRIEB GMBH | D6: =Format!$C$6 -> 2026 | E6: WARTUNG | F6: IT | G6: München | H6: 2026 | I6: =IF($A6="Ja",COUNTIF($A$4:A6,"Ja"),"") -> 3
A7: Ja | B7: =TEXT(Format!$C$7+ROW()-4,"000000000") -> 000000004 | C7: =Format!$C$5 -> MUSTERBETRIEB GMBH | D7: =Format!$C$6 -> 2026 | E7: RESERVE | F7: Produktion | G7: Köln | H7: SERIE A | I7: =IF($A7="Ja",COUNTIF($A$4:A7,"Ja"),"") -> 4
A8: Ja | B8: =TEXT(Format!$C$7+ROW()-4,"000000000") -> 000000005 | C8: =Format!$C$5 -> MUSTERBETRIEB GMBH | D8: =Format!$C$6 -> 2026 | E8: AKTIV | F8: Empfang | G8: Leipzig | H8: GERÄT | I8: =IF($A8="Ja",COUNTIF($A$4:A8,"Ja"),"") -> 5
A9: Ja | B9: =TEXT(Format!$C$7+ROW()-4,"000000000") -> 000000006 | C9: =Format!$C$5 -> MUSTERBETRIEB GMBH | D9: =Format!$C$6 -> 2026 | E9: INAKTIV | F9: Service | G9: Stuttgart | H9: REGAL | I9: =IF($A9="Ja",COUNTIF($A$4:A9,"Ja"),"") -> 6
A10: Ja | B10: =TEXT(Format!$C$7+ROW()-4,"000000000") -> 000000007 | C10: =Format!$C$5 -> MUSTERBETRIEB GMBH | D10: =Format!$C$6 -> 2026 | E10: WARTUNG | F10: Logistik | G10: Bremen | I10: =IF($A10="Ja",COUNTIF($A$4:A10,"Ja"),"") -> 7
A11: Ja | B11: =TEXT(Format!$C$7+ROW()-4,"000000000") -> 000000008 | C11: =Format!$C$5 -> MUSTERBETRIEB GMBH | D11: =Format!$C$6 -> 2026 | E11: RESERVE | F11: Buchhaltung | G11: Düsseldorf | H11: BESTAND | I11: =IF($A11="Ja",COUNTIF($A$4:A11,"Ja"),"") -> 8
A12: Ja | B12: =TEXT(Format!$C$7+ROW()-4,"000000000") -> 000000009 | C12: =Format!$C$5 -> MUSTERBETRIEB GMBH | D12: =Format!$C$6 -> 2026 | E12: AKTIV | F12: Qualität | G12: Berlin | I12: =IF($A12="Ja",COUNTIF($A$4:A12,"Ja"),"") -> 9
A13: Ja | B13: =TEXT(Format!$C$7+ROW()-4,"000000000") -> 000000010 | C13: =Format!$C$5 -> MUSTERBETRIEB GMBH | D13: =Format!$C$6 -> 2026 | E13: AKTIV | F13: Technik | G13: Hamburg | H13: INTERN | I13: =IF($A13="Ja",COUNTIF($A$4:A13,"Ja"),"") -> 10
A14: Ja | B14: =TEXT(Format!$C$7+ROW()-4,"000000000") -> 000000011 | C14: =Format!$C$5 -> MUSTERBETRIEB GMBH | D14: =Format!$C$6 -> 2026 | E14: WARTUNG | F14: Einkauf | G14: München | H14: 2026 | I14: =IF($A14="Ja",COUNTIF($A$4:A14,"Ja"),"") -> 11
A15: Ja | B15: =TEXT(Format!$C$7+ROW()-4,"000000000") -> 000000012 | C15: =Format!$C$5 -> MUSTERBETRIEB GMBH | D15: =Format!$C$6 -> 2026 | E15: AKTIV | F15: Archiv | G15: Köln | H15: SERIE A | I15: =IF($A15="Ja",COUNTIF($A$4:A15,"Ja"),"") -> 12
A16: Ja | B16: =TEXT(Format!$C$7+ROW()-4,"000000000") -> 000000013 | C16: =Format!$C$5 -> MUSTERBETRIEB GMBH | D16: =Format!$C$6 -> 2026 | E16: AKTIV | F16: Montage | G16: Leipzig | H16: GERÄT | I16: =IF($A16="Ja",COUNTIF($A$4:A16,"Ja"),"") -> 13
A17: Ja | B17: =TEXT(Format!$C$7+ROW()-4,"000000000") -> 000000014 | C17: =Format!$C$5 -> MUSTERBETRIEB GMBH | D17: =Format!$C$6 -> 2026 | E17: AKTIV | F17: Versand | G17: Stuttgart | H17: REGAL | I17: =IF($A17="Ja",COUNTIF($A$4:A17,"Ja"),"") -> 14
A18: Ja | B18: =TEXT(Format!$C$7+ROW()-4,"000000000") -> 000000015 | C18: =Format!$C$5 -> MUSTERBETRIEB GMBH | D18: =Format!$C$6 -> 2026 | E18: AKTIV | F18: Support | G18: Bremen | I18: =IF($A18="Ja",COUNTIF($A$4:A18,"Ja"),"") -> 15
A19: Ja | B19: =TEXT(Format!$C$7+ROW()-4,"000000000") -> 000000016 | C19: =Format!$C$5 -> MUSTERBETRIEB GMBH | D19: =Format!$C$6 -> 2026 | E19: WARTUNG | F19: Personal | G19: Düsseldorf | H19: BESTAND | I19: =IF($A19="Ja",COUNTIF($A$4:A19,"Ja"),"") -> 16
A20: Ja | B20: =TEXT(Format!$C$7+ROW()-4,"000000000") -> 000000017 | C20: =Format!$C$5 -> MUSTERBETRIEB GMBH | D20: =Format!$C$6 -> 2026 | E20: AKTIV | F20: Vertrieb | G20: Berlin | I20: =IF($A20="Ja",COUNTIF($A$4:A20,"Ja"),"") -> 17
A21: Ja | B21: =TEXT(Format!$C$7+ROW()-4,"000000000") -> 000000018 | C21: =Format!$C$5 -> MUSTERBETRIEB GMBH | D21: =Format!$C$6 -> 2026 | E21: AKTIV | F21: Lager | G21: Hamburg | H21: INTERN | I21: =IF($A21="Ja",COUNTIF($A$4:A21,"Ja"),"") -> 18
A22: Ja | B22: =TEXT(Format!$C$7+ROW()-4,"000000000") -> 000000019 | C22: =Format!$C$5 -> MUSTERBETRIEB GMBH | D22: =Format!$C$6 -> 2026 | E22: AKTIV | F22: IT | G22: München | H22: 2026 | I22: =IF($A22="Ja",COUNTIF($A$4:A22,"Ja"),"") -> 19
A23: Ja | B23: =TEXT(Format!$C$7+ROW()-4,"000000000") -> 000000020 | C23: =Format!$C$5 -> MUSTERBETRIEB GMBH | D23: =Format!$C$6 -> 2026 | E23: AKTIV | F23: Produktion | G23: Köln | H23: SERIE A | I23: =IF($A23="Ja",COUNTIF($A$4:A23,"Ja"),"") -> 20
A24: Ja | B24: =TEXT(Format!$C$7+ROW()-4,"000000000") -> 000000021 | C24: =Format!$C$5 -> MUSTERBETRIEB GMBH | D24: =Format!$C$6 -> 2026 | E24: WARTUNG | F24: Empfang | G24: Leipzig | H24: GERÄT | I24: =IF($A24="Ja",COUNTIF($A$4:A24,"Ja"),"") -> 21
A25: Ja | B25: =TEXT(Format!$C$7+ROW()-4,"000000000") -> 000000022 | C25: =Format!$C$5 -> MUSTERBETRIEB GMBH | D25: =Format!$C$6 -> 2026 | E25: AKTIV | F25: Service | G25: Stuttgart | H25: REGAL | I25: =IF($A25="Ja",COUNTIF($A$4:A25,"Ja"),"") -> 22
A26: Ja | B26: =TEXT(Format!$C$7+ROW()-4,"000000000") -> 000000023 | C26: =Format!$C$5 -> MUSTERBETRIEB GMBH | D26: =Format!$C$6 -> 2026 | E26: AKTIV | F26: Logistik | G26: Bremen | I26: =IF($A26="Ja",COUNTIF($A$4:A26,"Ja"),"") -> 23
A27: Ja | B27: =TEXT(Format!$C$7+ROW()-4,"000000000") -> 000000024 | C27: =Format!$C$5 -> MUSTERBETRIEB GMBH | D27: =Format!$C$6 -> 2026 | E27: AKTIV | F27: Buchhaltung | G27: Düsseldorf | H27: BESTAND | I27: =IF($A27="Ja",COUNTIF($A$4:A27,"Ja"),"") -> 24
A28: Ja | B28: =TEXT(Format!$C$7+ROW()-4,"000000000") -> 000000025 | C28: =Format!$C$5 -> MUSTERBETRIEB GMBH | D28: =Format!$C$6 -> 2026 | E28: AKTIV | F28: Qualität | G28: Berlin | I28: =IF($A28="Ja",COUNTIF($A$4:A28,"Ja"),"") -> 25
A29: Ja | B29: =TEXT(Format!$C$7+ROW()-4,"000000000") -> 000000026 | C29: =Format!$C$5 -> MUSTERBETRIEB GMBH | D29: =Format!$C$6 -> 2026 | E29: WARTUNG | F29: Technik | G29: Hamburg | H29: INTERN | I29: =IF($A29="Ja",COUNTIF($A$4:A29,"Ja"),"") -> 26
A30: Ja | B30: =TEXT(Format!$C$7+ROW()-4,"000000000") -> 000000027 | C30: =Format!$C$5 -> MUSTERBETRIEB GMBH | D30: =Format!$C$6 -> 2026 | E30: AKTIV | F30: Einkauf | G30: München | H30: 2026 | I30: =IF($A30="Ja",COUNTIF($A$4:A30,"Ja"),"") -> 27
A31: Ja | B31: =TEXT(Format!$C$7+ROW()-4,"000000000") -> 000000028 | C31: =Format!$C$5 -> MUSTERBETRIEB GMBH | D31: =Format!$C$6 -> 2026 | E31: AKTIV | F31: Archiv | G31: Köln | H31: SERIE A | I31: =IF($A31="Ja",COUNTIF($A$4:A31,"Ja"),"") -> 28
A32: Nein | B32: =TEXT(Format!$C$7+ROW()-4,"000000000") -> 000000029 | C32: =Format!$C$5 -> MUSTERBETRIEB GMBH | D32: =Format!$C$6 -> 2026 | E32: AKTIV | F32: Montage | G32: Leipzig | H32: GERÄT | I32: =IF($A32="Ja",COUNTIF($A$4:A32,"Ja"),"")
A33: Nein | B33: =TEXT(Format!$C$7+ROW()-4,"000000000") -> 000000030 | C33: =Format!$C$5 -> MUSTERBETRIEB GMBH | D33: =Format!$C$6 -> 2026 | E33: AKTIV | F33: Versand | G33: Stuttgart | H33: REGAL | I33: =IF($A33="Ja",COUNTIF($A$4:A33,"Ja"),"")
A34: Ja | B34: =TEXT(Format!$C$7+ROW()-4,"000000000") -> 000000031 | C34: =Format!$C$5 -> MUSTERBETRIEB GMBH | D34: =Format!$C$6 -> 2026 | E34: WARTUNG | F34: Support | G34: Bremen | I34: =IF($A34="Ja",COUNTIF($A$4:A34,"Ja"),"") -> 29
A35: Nein | B35: =TEXT(Format!$C$7+ROW()-4,"000000000") -> 000000032 | C35: =Format!$C$5 -> MUSTERBETRIEB GMBH | D35: =Format!$C$6 -> 2026 | E35: AKTIV | F35: Personal | G35: Düsseldorf | H35: BESTAND | I35: =IF($A35="Ja",COUNTIF($A$4:A35,"Ja"),"")
A36: Nein | B36: =TEXT(Format!$C$7+ROW()-4,"000000000") -> 000000033 | C36: =Format!$C$5 -> MUSTERBETRIEB GMBH | D36: =Format!$C$6 -> 2026 | E36: AKTIV | F36: Vertrieb | G36: Berlin | I36: =IF($A36="Ja",COUNTIF($A$4:A36,"Ja"),"")
A37: Ja | B37: =TEXT(Format!$C$7+ROW()-4,"000000000") -> 000000034 | C37: =Format!$C$5 -> MUSTERBETRIEB GMBH | D37: =Format!$C$6 -> 2026 | E37: AKTIV | F37: Lager | G37: Hamburg | H37: INTERN | I37: =IF($A37="Ja",COUNTIF($A$4:A37,"Ja"),"") -> 30
A38: Nein | B38: =TEXT(Format!$C$7+ROW()-4,"000000000") -> 000000035 | C38: =Format!$C$5 -> MUSTERBETRIEB GMBH | D38: =Format!$C$6 -> 2026 | E38: AKTIV | F38: IT | G38: München | H38: 2026 | I38: =IF($A38="Ja",COUNTIF($A$4:A38,"Ja"),"")
A39: Nein | B39: =TEXT(Format!$C$7+ROW()-4,"000000000") -> 000000036 | C39: =Format!$C$5 -> MUSTERBETRIEB GMBH | D39: =Format!$C$6 -> 2026 | E39: WARTUNG | F39: Produktion | G39: Köln | H39: SERIE A | I39: =IF($A39="Ja",COUNTIF($A$4:A39,"Ja"),"")

Sheet Format
B2: Einstellungen für die Etikettenvorlage
B5: Firmenname | C5: MUSTERBETRIEB GMBH | D5: Wird automatisch in alle Etiketten übernommen. | F5: Statuswerte
B6: Jahr | C6: 2026 | D6: Kann für Serien oder Jahreskennzeichnungen angepasst werden. | F6: AKTIV
B7: Startnummer | C7: 1 | D7: Die Nummern werden fortlaufend ab dieser Zahl erzeugt. | F7: INAKTIV
B8: Stellen | C8: 9 | D8: Anzahl der Ziffern für die laufende Nummer. | F8: WARTUNG
B9: Standardstatus | C9: AKTIV | D9: Auswahlliste für neue Datensätze. | F9: RESERVE
B10: Etiketten pro Reihe | C10: 3 | D10: Für dieses Layout fest vorgegeben.
B11: Zeilen pro Seite | C11: 8 | D11: Ergibt 24 Etiketten pro Druckseite.
B12: Papierformat | C12: A4 | D12: Optimiert für Hochformat.
B13: Linker Text unten | C13: NR. | D13: Bezeichnung links neben der laufenden Nummer.
B16: Kurzanleitung
B17: 1. In 'Daten' nur in der Spalte 'Drucken' zwischen Ja und Nein wählen.
B18: 2. Nummern, Firma und Jahr werden automatisch vorbereitet, können aber überschrieben werden.
B19: 3. In 'Etikettenblatt' wird die Druckansicht automatisch aus den Zeilen mit 'Ja' erstellt.
