Workbook

Sheet Dashboard
A1: Arbeitsplan Excel – Übersicht
A2: Planungsübersicht für Personal, Stunden, Kosten und Besetzungswarnungen.
A4: Unternehmen | B4: Muster GmbH | D4: Anzahl Mitarbeiter | F4: Aktive Mitarbeiter | H4: Geplante Stunden
A5: Abteilung / Standort | B5: Oldenburg | D5: =COUNTA(Mitarbeiter!$C$6:$C$13) -> 8 | F5: =COUNTIF(Mitarbeiter!$A$6:$A$13,"Ja") -> 8 | H5: =SUM(Arbeitsplan!$K$6:$K$300) -> 976.75
A6: Planungsmonat | B6: März
A7: Planungsjahr | B7: 2026 | D7: Soll-Stunden | F7: Differenz Stunden | H7: Überstunden
A8: Verantwortlicher | B8: Teamleitung | D8: =SUM(Arbeitsplan!$L$6:$L$300) -> 1082.2 | F8: =H5-D8 -> -105.45 | H8: =SUMIF(Arbeitsplan!$R$6:$R$300,"Überstunden",Arbeitsplan!$M$6:$M$300) -> 0
A9: Standard-Währung | B9: EUR
A10: Wochenstart | B10: Montag | D10: Abwesenheitstage | F10: Personalkosten gesamt | H10: Kosten pro Stunde
D11: =SUM(Abwesenheiten!$E$6:$E$20) -> 8 | F11: =SUM(Arbeitsplan!$O$6:$O$300) -> 19786.65 | H11: =IFERROR(F11/H5,0) -> 20.25764
D13: Tage mit Unterbesetzung | F13: Tage mit Überbesetzung | H13: Abdeckungsstatus
D14: =COUNTIF($G$28:$G$58,"Unterbesetzung") -> 1 | F14: =COUNTIF($G$28:$G$58,"Überbesetzung") -> 16 | H14: =IF(D14=0,"OK","Prüfen") -> Prüfen
A17: Mitarbeiter | B17: Rolle | C17: Soll-Stunden | D17: Ist-Stunden | E17: Differenz | F17: Urlaubstage | G17: Krankheitstage | H17: Personalkosten | I17: Status
A18: Anna Keller | B18: =IFERROR(VLOOKUP(A18,Mitarbeiter!$C$6:$I$13,2,FALSE),"") -> Teamleitung | C18: =SUMIF(Arbeitsplan!$D$6:$D$300,A18,Arbeitsplan!$L$6:$L$300) -> 176 | D18: =SUMIF(Arbeitsplan!$D$6:$D$300,A18,Arbeitsplan!$K$6:$K$300) -> 165 | E18: =D18-C18 -> -11 | F18: =SUMIFS(Abwesenheiten!$E$6:$E$20,Abwesenheiten!$A$6:$A$20,A18,Abwesenheiten!$B$6:$B$20,"Urlaub") -> 0 | G18: =SUMIFS(Abwesenheiten!$E$6:$E$20,Abwesenheiten!$A$6:$A$20,A18,Abwesenheiten!$B$6:$B$20,"Krankheit") -> 0 | H18: =SUMIF(Arbeitsplan!$D$6:$D$300,A18,Arbeitsplan!$O$6:$O$300) -> 4042.5 | I18: =IF(AND(E18>=-2,E18<=2),"OK",IF(E18<-2,"Unter Soll","Überstunden")) -> Unter Soll
A19: Ben Schneider | B19: =IFERROR(VLOOKUP(A19,Mitarbeiter!$C$6:$I$13,2,FALSE),"") -> Mitarbeiter | C19: =SUMIF(Arbeitsplan!$D$6:$D$300,A19,Arbeitsplan!$L$6:$L$300) -> 176 | D19: =SUMIF(Arbeitsplan!$D$6:$D$300,A19,Arbeitsplan!$K$6:$K$300) -> 169 | E19: =D19-C19 -> -7 | F19: =SUMIFS(Abwesenheiten!$E$6:$E$20,Abwesenheiten!$A$6:$A$20,A19,Abwesenheiten!$B$6:$B$20,"Urlaub") -> 0 | G19: =SUMIFS(Abwesenheiten!$E$6:$E$20,Abwesenheiten!$A$6:$A$20,A19,Abwesenheiten!$B$6:$B$20,"Krankheit") -> 0 | H19: =SUMIF(Arbeitsplan!$D$6:$D$300,A19,Arbeitsplan!$O$6:$O$300) -> 3126.5 | I19: =IF(AND(E19>=-2,E19<=2),"OK",IF(E19<-2,"Unter Soll","Überstunden")) -> Unter Soll
A20: Clara Hoffmann | B20: =IFERROR(VLOOKUP(A20,Mitarbeiter!$C$6:$I$13,2,FALSE),"") -> Mitarbeiter | C20: =SUMIF(Arbeitsplan!$D$6:$D$300,A20,Arbeitsplan!$L$6:$L$300) -> 95 | D20: =SUMIF(Arbeitsplan!$D$6:$D$300,A20,Arbeitsplan!$K$6:$K$300) -> 75 | E20: =D20-C20 -> -20 | F20: =SUMIFS(Abwesenheiten!$E$6:$E$20,Abwesenheiten!$A$6:$A$20,A20,Abwesenheiten!$B$6:$B$20,"Urlaub") -> 4 | G20: =SUMIFS(Abwesenheiten!$E$6:$E$20,Abwesenheiten!$A$6:$A$20,A20,Abwesenheiten!$B$6:$B$20,"Krankheit") -> 0 | H20: =SUMIF(Arbeitsplan!$D$6:$D$300,A20,Arbeitsplan!$O$6:$O$300) -> 1335 | I20: =IF(AND(E20>=-2,E20<=2),"OK",IF(E20<-2,"Unter Soll","Überstunden")) -> Unter Soll
A21: David Braun | B21: =IFERROR(VLOOKUP(A21,Mitarbeiter!$C$6:$I$13,2,FALSE),"") -> Mitarbeiter | C21: =SUMIF(Arbeitsplan!$D$6:$D$300,A21,Arbeitsplan!$L$6:$L$300) -> 176 | D21: =SUMIF(Arbeitsplan!$D$6:$D$300,A21,Arbeitsplan!$K$6:$K$300) -> 165 | E21: =D21-C21 -> -11 | F21: =SUMIFS(Abwesenheiten!$E$6:$E$20,Abwesenheiten!$A$6:$A$20,A21,Abwesenheiten!$B$6:$B$20,"Urlaub") -> 0 | G21: =SUMIFS(Abwesenheiten!$E$6:$E$20,Abwesenheiten!$A$6:$A$20,A21,Abwesenheiten!$B$6:$B$20,"Krankheit") -> 0 | H21: =SUMIF(Arbeitsplan!$D$6:$D$300,A21,Arbeitsplan!$O$6:$O$300) -> 3168 | I21: =IF(AND(E21>=-2,E21<=2),"OK",IF(E21<-2,"Unter Soll","Überstunden")) -> Unter Soll
A22: Emma Fischer | B22: =IFERROR(VLOOKUP(A22,Mitarbeiter!$C$6:$I$13,2,FALSE),"") -> Verwaltung | C22: =SUMIF(Arbeitsplan!$D$6:$D$300,A22,Arbeitsplan!$L$6:$L$300) -> 167.2 | D22: =SUMIF(Arbeitsplan!$D$6:$D$300,A22,Arbeitsplan!$K$6:$K$300) -> 147 | E22: =D22-C22 -> -20.2 | F22: =SUMIFS(Abwesenheiten!$E$6:$E$20,Abwesenheiten!$A$6:$A$20,A22,Abwesenheiten!$B$6:$B$20,"Urlaub") -> 0 | G22: =SUMIFS(Abwesenheiten!$E$6:$E$20,Abwesenheiten!$A$6:$A$20,A22,Abwesenheiten!$B$6:$B$20,"Krankheit") -> 0 | H22: =SUMIF(Arbeitsplan!$D$6:$D$300,A22,Arbeitsplan!$O$6:$O$300) -> 3234 | I22: =IF(AND(E22>=-2,E22<=2),"OK",IF(E22<-2,"Unter Soll","Überstunden")) -> Unter Soll
A23: Felix Wagner | B23: =IFERROR(VLOOKUP(A23,Mitarbeiter!$C$6:$I$13,2,FALSE),"") -> Aushilfe | C23: =SUMIF(Arbeitsplan!$D$6:$D$300,A23,Arbeitsplan!$L$6:$L$300) -> 52 | D23: =SUMIF(Arbeitsplan!$D$6:$D$300,A23,Arbeitsplan!$K$6:$K$300) -> 44 | E23: =D23-C23 -> -8 | F23: =SUMIFS(Abwesenheiten!$E$6:$E$20,Abwesenheiten!$A$6:$A$20,A23,Abwesenheiten!$B$6:$B$20,"Urlaub") -> 0 | G23: =SUMIFS(Abwesenheiten!$E$6:$E$20,Abwesenheiten!$A$6:$A$20,A23,Abwesenheiten!$B$6:$B$20,"Krankheit") -> 2 | H23: =SUMIF(Arbeitsplan!$D$6:$D$300,A23,Arbeitsplan!$O$6:$O$300) -> 660 | I23: =IF(AND(E23>=-2,E23<=2),"OK",IF(E23<-2,"Unter Soll","Überstunden")) -> Unter Soll
A24: Hannah Weber | B24: =IFERROR(VLOOKUP(A24,Mitarbeiter!$C$6:$I$13,2,FALSE),"") -> Mitarbeiter | C24: =SUMIF(Arbeitsplan!$D$6:$D$300,A24,Arbeitsplan!$L$6:$L$300) -> 48 | D24: =SUMIF(Arbeitsplan!$D$6:$D$300,A24,Arbeitsplan!$K$6:$K$300) -> 40 | E24: =D24-C24 -> -8 | F24: =SUMIFS(Abwesenheiten!$E$6:$E$20,Abwesenheiten!$A$6:$A$20,A24,Abwesenheiten!$B$6:$B$20,"Urlaub") -> 0 | G24: =SUMIFS(Abwesenheiten!$E$6:$E$20,Abwesenheiten!$A$6:$A$20,A24,Abwesenheiten!$B$6:$B$20,"Krankheit") -> 0 | H24: =SUMIF(Arbeitsplan!$D$6:$D$300,A24,Arbeitsplan!$O$6:$O$300) -> 820 | I24: =IF(AND(E24>=-2,E24<=2),"OK",IF(E24<-2,"Unter Soll","Überstunden")) -> Unter Soll
A25: Jonas Meyer | B25: =IFERROR(VLOOKUP(A25,Mitarbeiter!$C$6:$I$13,2,FALSE),"") -> Mitarbeiter | C25: =SUMIF(Arbeitsplan!$D$6:$D$300,A25,Arbeitsplan!$L$6:$L$300) -> 192 | D25: =SUMIF(Arbeitsplan!$D$6:$D$300,A25,Arbeitsplan!$K$6:$K$300) -> 171.75 | E25: =D25-C25 -> -20.25 | F25: =SUMIFS(Abwesenheiten!$E$6:$E$20,Abwesenheiten!$A$6:$A$20,A25,Abwesenheiten!$B$6:$B$20,"Urlaub") -> 0 | G25: =SUMIFS(Abwesenheiten!$E$6:$E$20,Abwesenheiten!$A$6:$A$20,A25,Abwesenheiten!$B$6:$B$20,"Krankheit") -> 0 | H25: =SUMIF(Arbeitsplan!$D$6:$D$300,A25,Arbeitsplan!$O$6:$O$300) -> 3400.65 | I25: =IF(AND(E25>=-2,E25<=2),"OK",IF(E25<-2,"Unter Soll","Überstunden")) -> Unter Soll
A27: Datum | B27: Tag | C27: Bereich | D27: Geplante Mitarbeiter | E27: Mindestbesetzung | F27: Differenz | G27: Status
A28: 46082 | B28: =TEXT(A28,"dddd") -> domingo | C28: Gesamt | D28: =COUNTIFS(Arbeitsplan!$A$6:$A$300,A28,Arbeitsplan!$K$6:$K$300,">0") -> 2 | E28: =IF(WEEKDAY(A28,2)>5,2,5) -> 2 | F28: =D28-E28 -> 0 | G28: =IF(D28<E28,"Unterbesetzung",IF(D28>E28,"Überbesetzung","OK")) -> OK
A29: 46083 | B29: =TEXT(A29,"dddd") -> lunes | C29: Gesamt | D29: =COUNTIFS(Arbeitsplan!$A$6:$A$300,A29,Arbeitsplan!$K$6:$K$300,">0") -> 6 | E29: =IF(WEEKDAY(A29,2)>5,2,5) -> 5 | F29: =D29-E29 -> 1 | G29: =IF(D29<E29,"Unterbesetzung",IF(D29>E29,"Überbesetzung","OK")) -> Überbesetzung
A30: 46084 | B30: =TEXT(A30,"dddd") -> martes | C30: Gesamt | D30: =COUNTIFS(Arbeitsplan!$A$6:$A$300,A30,Arbeitsplan!$K$6:$K$300,">0") -> 6 | E30: =IF(WEEKDAY(A30,2)>5,2,5) -> 5 | F30: =D30-E30 -> 1 | G30: =IF(D30<E30,"Unterbesetzung",IF(D30>E30,"Überbesetzung","OK")) -> Überbesetzung
A31: 46085 | B31: =TEXT(A31,"dddd") -> miércoles | C31: Gesamt | D31: =COUNTIFS(Arbeitsplan!$A$6:$A$300,A31,Arbeitsplan!$K$6:$K$300,">0") -> 6 | E31: =IF(WEEKDAY(A31,2)>5,2,5) -> 5 | F31: =D31-E31 -> 1 | G31: =IF(D31<E31,"Unterbesetzung",IF(D31>E31,"Überbesetzung","OK")) -> Überbesetzung
A32: 46086 | B32: =TEXT(A32,"dddd") -> jueves | C32: Gesamt | D32: =COUNTIFS(Arbeitsplan!$A$6:$A$300,A32,Arbeitsplan!$K$6:$K$300,">0") -> 5 | E32: =IF(WEEKDAY(A32,2)>5,2,5) -> 5 | F32: =D32-E32 -> 0 | G32: =IF(D32<E32,"Unterbesetzung",IF(D32>E32,"Überbesetzung","OK")) -> OK
A33: 46087 | B33: =TEXT(A33,"dddd") -> viernes | C33: Gesamt | D33: =COUNTIFS(Arbeitsplan!$A$6:$A$300,A33,Arbeitsplan!$K$6:$K$300,">0") -> 4 | E33: =IF(WEEKDAY(A33,2)>5,2,5) -> 5 | F33: =D33-E33 -> -1 | G33: =IF(D33<E33,"Unterbesetzung",IF(D33>E33,"Überbesetzung","OK")) -> Unterbesetzung
A34: 46088 | B34: =TEXT(A34,"dddd") -> sábado | C34: Gesamt | D34: =COUNTIFS(Arbeitsplan!$A$6:$A$300,A34,Arbeitsplan!$K$6:$K$300,">0") -> 3 | E34: =IF(WEEKDAY(A34,2)>5,2,5) -> 2 | F34: =D34-E34 -> 1 | G34: =IF(D34<E34,"Unterbesetzung",IF(D34>E34,"Überbesetzung","OK")) -> Überbesetzung
A35: 46089 | B35: =TEXT(A35,"dddd") -> domingo | C35: Gesamt | D35: =COUNTIFS(Arbeitsplan!$A$6:$A$300,A35,Arbeitsplan!$K$6:$K$300,">0") -> 2 | E35: =IF(WEEKDAY(A35,2)>5,2,5) -> 2 | F35: =D35-E35 -> 0 | G35: =IF(D35<E35,"Unterbesetzung",IF(D35>E35,"Überbesetzung","OK")) -> OK
A36: 46090 | B36: =TEXT(A36,"dddd") -> lunes | C36: Gesamt | D36: =COUNTIFS(Arbeitsplan!$A$6:$A$300,A36,Arbeitsplan!$K$6:$K$300,">0") -> 6 | E36: =IF(WEEKDAY(A36,2)>5,2,5) -> 5 | F36: =D36-E36 -> 1 | G36: =IF(D36<E36,"Unterbesetzung",IF(D36>E36,"Überbesetzung","OK")) -> Überbesetzung
A37: 46091 | B37: =TEXT(A37,"dddd") -> martes | C37: Gesamt | D37: =COUNTIFS(Arbeitsplan!$A$6:$A$300,A37,Arbeitsplan!$K$6:$K$300,">0") -> 5 | E37: =IF(WEEKDAY(A37,2)>5,2,5) -> 5 | F37: =D37-E37 -> 0 | G37: =IF(D37<E37,"Unterbesetzung",IF(D37>E37,"Überbesetzung","OK")) -> OK
A38: 46092 | B38: =TEXT(A38,"dddd") -> miércoles | C38: Gesamt | D38: =COUNTIFS(Arbeitsplan!$A$6:$A$300,A38,Arbeitsplan!$K$6:$K$300,">0") -> 6 | E38: =IF(WEEKDAY(A38,2)>5,2,5) -> 5 | F38: =D38-E38 -> 1 | G38: =IF(D38<E38,"Unterbesetzung",IF(D38>E38,"Überbesetzung","OK")) -> Überbesetzung
A39: 46093 | B39: =TEXT(A39,"dddd") -> jueves | C39: Gesamt | D39: =COUNTIFS(Arbeitsplan!$A$6:$A$300,A39,Arbeitsplan!$K$6:$K$300,">0") -> 6 | E39: =IF(WEEKDAY(A39,2)>5,2,5) -> 5 | F39: =D39-E39 -> 1 | G39: =IF(D39<E39,"Unterbesetzung",IF(D39>E39,"Überbesetzung","OK")) -> Überbesetzung
... A58: 46112 | B58: =TEXT(A58,"dddd") -> martes | C58: Gesamt | D58: =COUNTIFS(Arbeitsplan!$A$6:$A$300,A58,Arbeitsplan!$K$6:$K$300,">0") -> 6 | E58: =IF(WEEKDAY(A58,2)>5,2,5) -> 5 | F58: =D58-E58 -> 1 | G58: =IF(D58<E58,"Unterbesetzung",IF(D58>E58,"Überbesetzung","OK")) -> Überbesetzung
A62: Kalenderwoche | B62: Personalkosten
A63: 9 | B63: =SUMIF(Arbeitsplan!$C$6:$C$300,A63,Arbeitsplan!$O$6:$O$300) -> 0
A64: 10 | B64: =SUMIF(Arbeitsplan!$C$6:$C$300,A64,Arbeitsplan!$O$6:$O$300) -> 0
A65: 11 | B65: =SUMIF(Arbeitsplan!$C$6:$C$300,A65,Arbeitsplan!$O$6:$O$300) -> 0
A66: 12 | B66: =SUMIF(Arbeitsplan!$C$6:$C$300,A66,Arbeitsplan!$O$6:$O$300) -> 0
A67: 13 | B67: =SUMIF(Arbeitsplan!$C$6:$C$300,A67,Arbeitsplan!$O$6:$O$300) -> 0
A68: 14 | B68: =SUMIF(Arbeitsplan!$C$6:$C$300,A68,Arbeitsplan!$O$6:$O$300) -> 0

Sheet Arbeitsplan
A1: Arbeitsplan
A2: Schichten, Abwesenheiten und Arbeitszeiten erfassen. Stunden, Kosten und Hinweise werden automatisch berechnet.
A5: Datum | B5: Wochentag | C5: Kalenderwoche | D5: Mitarbeiter | E5: Rolle | F5: Bereich | G5: Schichtart | H5: Start | I5: Ende | J5: Pause Minuten | K5: Geplante Stunden | L5: Soll-Stunden Tag | M5: Differenz | N5: Stundenlohn | O5: Kosten | P5: Abwesenheit | Q5: Status | R5: Hinweis | S5: Notizen
A6: 46082 | B6: =TEXT(A6,"dddd") -> domingo | C6: =_xludf.ISOWEEKNUM(A6) -> #NAME? | D6: Felix Wagner | E6: =IFERROR(VLOOKUP(D6,Mitarbeiter!$C$6:$I$13,2,FALSE),"") -> Aushilfe | F6: =IFERROR(VLOOKUP(D6,Mitarbeiter!$C$6:$I$13,3,FALSE),"") -> Service | G6: Teilzeit | H6: 0.375 | I6: 0.54166667 | J6: 0 | K6: =IF(OR(P6="Urlaub",P6="Krankheit",P6="Frei",P6="Feiertag"),0,IF(OR(H6="",I6=""),0,ROUND((MOD(I6-H6,1)*24)-(J6/60),2))) -> 4 | L6: =IFERROR(VLOOKUP(D6,Mitarbeiter!$C$6:$I$13,6,FALSE),0) -> 4 | M6: =K6-L6 -> 0 | N6: =IFERROR(VLOOKUP(D6,Mitarbeiter!$C$6:$I$13,7,FALSE),0) -> 15 | O6: =K6*N6 -> 60 | Q6: Bestätigt | R6: =IF(P6<>"","Ruhetag / Abwesenheit",IF(M6>2,"Überstunden",IF(M6<-2,"Unter Soll","OK"))) -> OK
A7: 46082 | B7: =TEXT(A7,"dddd") -> domingo | C7: =_xludf.ISOWEEKNUM(A7) -> #NAME? | D7: Clara Hoffmann | E7: =IFERROR(VLOOKUP(D7,Mitarbeiter!$C$6:$I$13,2,FALSE),"") -> Mitarbeiter | F7: =IFERROR(VLOOKUP(D7,Mitarbeiter!$C$6:$I$13,3,FALSE),"") -> Service | G7: Teilzeit | H7: 0.375 | I7: 0.58333333 | J7: 0 | K7: =IF(OR(P7="Urlaub",P7="Krankheit",P7="Frei",P7="Feiertag"),0,IF(OR(H7="",I7=""),0,ROUND((MOD(I7-H7,1)*24)-(J7/60),2))) -> 5 | L7: =IFERROR(VLOOKUP(D7,Mitarbeiter!$C$6:$I$13,6,FALSE),0) -> 5 | M7: =K7-L7 -> 0 | N7: =IFERROR(VLOOKUP(D7,Mitarbeiter!$C$6:$I$13,7,FALSE),0) -> 17.8 | O7: =K7*N7 -> 89 | Q7: Bestätigt | R7: =IF(P7<>"","Ruhetag / Abwesenheit",IF(M7>2,"Überstunden",IF(M7<-2,"Unter Soll","OK"))) -> OK
A8: 46083 | B8: =TEXT(A8,"dddd") -> lunes | C8: =_xludf.ISOWEEKNUM(A8) -> #NAME? | D8: Anna Keller | E8: =IFERROR(VLOOKUP(D8,Mitarbeiter!$C$6:$I$13,2,FALSE),"") -> Teamleitung | F8: =IFERROR(VLOOKUP(D8,Mitarbeiter!$C$6:$I$13,3,FALSE),"") -> Verkauf | G8: Frühschicht | H8: 0.25 | I8: 0.58333333 | J8: 30 | K8: =IF(OR(P8="Urlaub",P8="Krankheit",P8="Frei",P8="Feiertag"),0,IF(OR(H8="",I8=""),0,ROUND((MOD(I8-H8,1)*24)-(J8/60),2))) -> 7.5 | L8: =IFERROR(VLOOKUP(D8,Mitarbeiter!$C$6:$I$13,6,FALSE),0) -> 8 | M8: =K8-L8 -> -0.5 | N8: =IFERROR(VLOOKUP(D8,Mitarbeiter!$C$6:$I$13,7,FALSE),0) -> 24.5 | O8: =K8*N8 -> 183.75 | Q8: Bestätigt | R8: =IF(P8<>"","Ruhetag / Abwesenheit",IF(M8>2,"Überstunden",IF(M8<-2,"Unter Soll","OK"))) -> OK
A9: 46083 | B9: =TEXT(A9,"dddd") -> lunes | C9: =_xludf.ISOWEEKNUM(A9) -> #NAME? | D9: Ben Schneider | E9: =IFERROR(VLOOKUP(D9,Mitarbeiter!$C$6:$I$13,2,FALSE),"") -> Mitarbeiter | F9: =IFERROR(VLOOKUP(D9,Mitarbeiter!$C$6:$I$13,3,FALSE),"") -> Verkauf | G9: Frühschicht | H9: 0.25 | I9: 0.58333333 | J9: 30 | K9: =IF(OR(P9="Urlaub",P9="Krankheit",P9="Frei",P9="Feiertag"),0,IF(OR(H9="",I9=""),0,ROUND((MOD(I9-H9,1)*24)-(J9/60),2))) -> 7.5 | L9: =IFERROR(VLOOKUP(D9,Mitarbeiter!$C$6:$I$13,6,FALSE),0) -> 8 | M9: =K9-L9 -> -0.5 | N9: =IFERROR(VLOOKUP(D9,Mitarbeiter!$C$6:$I$13,7,FALSE),0) -> 18.5 | O9: =K9*N9 -> 138.75 | Q9: Bestätigt | R9: =IF(P9<>"","Ruhetag / Abwesenheit",IF(M9>2,"Überstunden",IF(M9<-2,"Unter Soll","OK"))) -> OK
A10: 46083 | B10: =TEXT(A10,"dddd") -> lunes | C10: =_xludf.ISOWEEKNUM(A10) -> #NAME? | D10: David Braun | E10: =IFERROR(VLOOKUP(D10,Mitarbeiter!$C$6:$I$13,2,FALSE),"") -> Mitarbeiter | F10: =IFERROR(VLOOKUP(D10,Mitarbeiter!$C$6:$I$13,3,FALSE),"") -> Lager | G10: Spätschicht | H10: 0.58333333 | I10: 0.91666667 | J10: 30 | K10: =IF(OR(P10="Urlaub",P10="Krankheit",P10="Frei",P10="Feiertag"),0,IF(OR(H10="",I10=""),0,ROUND((MOD(I10-H10,1)*24)-(J10/60),2))) -> 7.5 | L10: =IFERROR(VLOOKUP(D10,Mitarbeiter!$C$6:$I$13,6,FALSE),0) -> 8 | M10: =K10-L10 -> -0.5 | N10: =IFERROR(VLOOKUP(D10,Mitarbeiter!$C$6:$I$13,7,FALSE),0) -> 19.2 | O10: =K10*N10 -> 144 | Q10: Bestätigt | R10: =IF(P10<>"","Ruhetag / Abwesenheit",IF(M10>2,"Überstunden",IF(M10<-2,"Unter Soll","OK"))) -> OK
A11: 46083 | B11: =TEXT(A11,"dddd") -> lunes | C11: =_xludf.ISOWEEKNUM(A11) -> #NAME? | D11: Emma Fischer | E11: =IFERROR(VLOOKUP(D11,Mitarbeiter!$C$6:$I$13,2,FALSE),"") -> Verwaltung | F11: =IFERROR(VLOOKUP(D11,Mitarbeiter!$C$6:$I$13,3,FALSE),"") -> Büro | G11: Büro | H11: 0.375 | I11: 0.70833333 | J11: 60 | K11: =IF(OR(P11="Urlaub",P11="Krankheit",P11="Frei",P11="Feiertag"),0,IF(OR(H11="",I11=""),0,ROUND((MOD(I11-H11,1)*24)-(J11/60),2))) -> 7 | L11: =IFERROR(VLOOKUP(D11,Mitarbeiter!$C$6:$I$13,6,FALSE),0) -> 7.6 | M11: =K11-L11 -> -0.6 | N11: =IFERROR(VLOOKUP(D11,Mitarbeiter!$C$6:$I$13,7,FALSE),0) -> 22 | O11: =K11*N11 -> 154 | Q11: Bestätigt | R11: =IF(P11<>"","Ruhetag / Abwesenheit",IF(M11>2,"Überstunden",IF(M11<-2,"Unter Soll","OK"))) -> OK
A12: 46083 | B12: =TEXT(A12,"dddd") -> lunes | C12: =_xludf.ISOWEEKNUM(A12) -> #NAME? | D12: Jonas Meyer | E12: =IFERROR(VLOOKUP(D12,Mitarbeiter!$C$6:$I$13,2,FALSE),"") -> Mitarbeiter | F12: =IFERROR(VLOOKUP(D12,Mitarbeiter!$C$6:$I$13,3,FALSE),"") -> Produktion | G12: Frühschicht | H12: 0.25 | I12: 0.58333333 | J12: 30 | K12: =IF(OR(P12="Urlaub",P12="Krankheit",P12="Frei",P12="Feiertag"),0,IF(OR(H12="",I12=""),0,ROUND((MOD(I12-H12,1)*24)-(J12/60),2))) -> 7.5 | L12: =IFERROR(VLOOKUP(D12,Mitarbeiter!$C$6:$I$13,6,FALSE),0) -> 8 | M12: =K12-L12 -> -0.5 | N12: =IFERROR(VLOOKUP(D12,Mitarbeiter!$C$6:$I$13,7,FALSE),0) -> 19.8 | O12: =K12*N12 -> 148.5 | Q12: Bestätigt | R12: =IF(P12<>"","Ruhetag / Abwesenheit",IF(M12>2,"Überstunden",IF(M12<-2,"Unter Soll","OK"))) -> OK
A13: 46083 | B13: =TEXT(A13,"dddd") -> lunes | C13: =_xludf.ISOWEEKNUM(A13) -> #NAME? | D13: Hannah Weber | E13: =IFERROR(VLOOKUP(D13,Mitarbeiter!$C$6:$I$13,2,FALSE),"") -> Mitarbeiter | F13: =IFERROR(VLOOKUP(D13,Mitarbeiter!$C$6:$I$13,3,FALSE),"") -> Pflege | G13: Frühschicht | H13: 0.29166667 | I13: 0.54166667 | J13: 30 | K13: =IF(OR(P13="Urlaub",P13="Krankheit",P13="Frei",P13="Feiertag"),0,IF(OR(H13="",I13=""),0,ROUND((MOD(I13-H13,1)*24)-(J13/60),2))) -> 5.5 | L13: =IFERROR(VLOOKUP(D13,Mitarbeiter!$C$6:$I$13,6,FALSE),0) -> 6 | M13: =K13-L13 -> -0.5 | N13: =IFERROR(VLOOKUP(D13,Mitarbeiter!$C$6:$I$13,7,FALSE),0) -> 20.5 | O13: =K13*N13 -> 112.75 | Q13: Bestätigt | R13: =IF(P13<>"","Ruhetag / Abwesenheit",IF(M13>2,"Überstunden",IF(M13<-2,"Unter Soll","OK"))) -> OK
A14: 46084 | B14: =TEXT(A14,"dddd") -> martes | C14: =_xludf.ISOWEEKNUM(A14) -> #NAME? | D14: Anna Keller | E14: =IFERROR(VLOOKUP(D14,Mitarbeiter!$C$6:$I$13,2,FALSE),"") -> Teamleitung | F14: =IFERROR(VLOOKUP(D14,Mitarbeiter!$C$6:$I$13,3,FALSE),"") -> Verkauf | G14: Frühschicht | H14: 0.25 | I14: 0.58333333 | J14: 30 | K14: =IF(OR(P14="Urlaub",P14="Krankheit",P14="Frei",P14="Feiertag"),0,IF(OR(H14="",I14=""),0,ROUND((MOD(I14-H14,1)*24)-(J14/60),2))) -> 7.5 | L14: =IFERROR(VLOOKUP(D14,Mitarbeiter!$C$6:$I$13,6,FALSE),0) -> 8 | M14: =K14-L14 -> -0.5 | N14: =IFERROR(VLOOKUP(D14,Mitarbeiter!$C$6:$I$13,7,FALSE),0) -> 24.5 | O14: =K14*N14 -> 183.75 | Q14: Bestätigt | R14: =IF(P14<>"","Ruhetag / Abwesenheit",IF(M14>2,"Überstunden",IF(M14<-2,"Unter Soll","OK"))) -> OK
A15: 46084 | B15: =TEXT(A15,"dddd") -> martes | C15: =_xludf.ISOWEEKNUM(A15) -> #NAME? | D15: Ben Schneider | E15: =IFERROR(VLOOKUP(D15,Mitarbeiter!$C$6:$I$13,2,FALSE),"") -> Mitarbeiter | F15: =IFERROR(VLOOKUP(D15,Mitarbeiter!$C$6:$I$13,3,FALSE),"") -> Verkauf | G15: Frühschicht | H15: 0.25 | I15: 0.58333333 | J15: 30 | K15: =IF(OR(P15="Urlaub",P15="Krankheit",P15="Frei",P15="Feiertag"),0,IF(OR(H15="",I15=""),0,ROUND((MOD(I15-H15,1)*24)-(J15/60),2))) -> 7.5 | L15: =IFERROR(VLOOKUP(D15,Mitarbeiter!$C$6:$I$13,6,FALSE),0) -> 8 | M15: =K15-L15 -> -0.5 | N15: =IFERROR(VLOOKUP(D15,Mitarbeiter!$C$6:$I$13,7,FALSE),0) -> 18.5 | O15: =K15*N15 -> 138.75 | Q15: Bestätigt | R15: =IF(P15<>"","Ruhetag / Abwesenheit",IF(M15>2,"Überstunden",IF(M15<-2,"Unter Soll","OK"))) -> OK
A16: 46084 | B16: =TEXT(A16,"dddd") -> martes | C16: =_xludf.ISOWEEKNUM(A16) -> #NAME? | D16: David Braun | E16: =IFERROR(VLOOKUP(D16,Mitarbeiter!$C$6:$I$13,2,FALSE),"") -> Mitarbeiter | F16: =IFERROR(VLOOKUP(D16,Mitarbeiter!$C$6:$I$13,3,FALSE),"") -> Lager | G16: Spätschicht | H16: 0.58333333 | I16: 0.91666667 | J16: 30 | K16: =IF(OR(P16="Urlaub",P16="Krankheit",P16="Frei",P16="Feiertag"),0,IF(OR(H16="",I16=""),0,ROUND((MOD(I16-H16,1)*24)-(J16/60),2))) -> 7.5 | L16: =IFERROR(VLOOKUP(D16,Mitarbeiter!$C$6:$I$13,6,FALSE),0) -> 8 | M16: =K16-L16 -> -0.5 | N16: =IFERROR(VLOOKUP(D16,Mitarbeiter!$C$6:$I$13,7,FALSE),0) -> 19.2 | O16: =K16*N16 -> 144 | Q16: Bestätigt | R16: =IF(P16<>"","Ruhetag / Abwesenheit",IF(M16>2,"Überstunden",IF(M16<-2,"Unter Soll","OK"))) -> OK
A17: 46084 | B17: =TEXT(A17,"dddd") -> martes | C17: =_xludf.ISOWEEKNUM(A17) -> #NAME? | D17: Emma Fischer | E17: =IFERROR(VLOOKUP(D17,Mitarbeiter!$C$6:$I$13,2,FALSE),"") -> Verwaltung | F17: =IFERROR(VLOOKUP(D17,Mitarbeiter!$C$6:$I$13,3,FALSE),"") -> Büro | G17: Büro | H17: 0.375 | I17: 0.70833333 | J17: 60 | K17: =IF(OR(P17="Urlaub",P17="Krankheit",P17="Frei",P17="Feiertag"),0,IF(OR(H17="",I17=""),0,ROUND((MOD(I17-H17,1)*24)-(J17/60),2))) -> 7 | L17: =IFERROR(VLOOKUP(D17,Mitarbeiter!$C$6:$I$13,6,FALSE),0) -> 7.6 | M17: =K17-L17 -> -0.6 | N17: =IFERROR(VLOOKUP(D17,Mitarbeiter!$C$6:$I$13,7,FALSE),0) -> 22 | O17: =K17*N17 -> 154 | Q17: Bestätigt | R17: =IF(P17<>"","Ruhetag / Abwesenheit",IF(M17>2,"Überstunden",IF(M17<-2,"Unter Soll","OK"))) -> OK
... A34: 46087 | B34: =TEXT(A34,"dddd") -> viernes | C34: =_xludf.ISOWEEKNUM(A34) -> #NAME? | D34: Emma Fischer | E34: =IFERROR(VLOOKUP(D34,Mitarbeiter!$C$6:$I$13,2,FALSE),"") -> Verwaltung | F34: =IFERROR(VLOOKUP(D34,Mitarbeiter!$C$6:$I$13,3,FALSE),"") -> Büro | G34: Büro | H34: 0.375 | I34: 0.70833333 | J34: 60 | K34: =IF(OR(P34="Urlaub",P34="Krankheit",P34="Frei",P34="Feiertag"),0,IF(OR(H34="",I34=""),0,ROUND((MOD(I34-H34,1)*24)-(J34/60),2))) -> 7 | L34: =IFERROR(VLOOKUP(D34,Mitarbeiter!$C$6:$I$13,6,FALSE),0) -> 7.6 | M34: =K34-L34 -> -0.6 | N34: =IFERROR(VLOOKUP(D34,Mitarbeiter!$C$6:$I$13,7,FALSE),0) -> 22 | O34: =K34*N34 -> 154 | Q34: Bestätigt | R34: =IF(P34<>"","Ruhetag / Abwesenheit",IF(M34>2,"Überstunden",IF(M34<-2,"Unter Soll","OK"))) -> OK
A35: 46087 | B35: =TEXT(A35,"dddd") -> viernes | C35: =_xludf.ISOWEEKNUM(A35) -> #NAME? | D35: Jonas Meyer | E35: =IFERROR(VLOOKUP(D35,Mitarbeiter!$C$6:$I$13,2,FALSE),"") -> Mitarbeiter | F35: =IFERROR(VLOOKUP(D35,Mitarbeiter!$C$6:$I$13,3,FALSE),"") -> Produktion | G35: Frei | J35: 0 | K35: =IF(OR(P35="Urlaub",P35="Krankheit",P35="Frei",P35="Feiertag"),0,IF(OR(H35="",I35=""),0,ROUND((MOD(I35-H35,1)*24)-(J35/60),2))) -> 0 | L35: =IFERROR(VLOOKUP(D35,Mitarbeiter!$C$6:$I$13,6,FALSE),0) -> 8 | M35: =K35-L35 -> -8 | N35: =IFERROR(VLOOKUP(D35,Mitarbeiter!$C$6:$I$13,7,FALSE),0) -> 19.8 | O35: =K35*N35 -> 0 | P35: Frei | Q35: Bestätigt | R35: =IF(P35<>"","Ruhetag / Abwesenheit",IF(M35>2,"Überstunden",IF(M35<-2,"Unter Soll","OK"))) -> Ruhetag / Abwesenheit
A36: 46088 | B36: =TEXT(A36,"dddd") -> sábado | C36: =_xludf.ISOWEEKNUM(A36) -> #NAME? | D36: Felix Wagner | E36: =IFERROR(VLOOKUP(D36,Mitarbeiter!$C$6:$I$13,2,FALSE),"") -> Aushilfe | F36: =IFERROR(VLOOKUP(D36,Mitarbeiter!$C$6:$I$13,3,FALSE),"") -> Service | G36: Teilzeit | H36: 0.375 | I36: 0.54166667 | J36: 0 | K36: =IF(OR(P36="Urlaub",P36="Krankheit",P36="Frei",P36="Feiertag"),0,IF(OR(H36="",I36=""),0,ROUND((MOD(I36-H36,1)*24)-(J36/60),2))) -> 4 | L36: =IFERROR(VLOOKUP(D36,Mitarbeiter!$C$6:$I$13,6,FALSE),0) -> 4 | M36: =K36-L36 -> 0 | N36: =IFERROR(VLOOKUP(D36,Mitarbeiter!$C$6:$I$13,7,FALSE),0) -> 15 | O36: =K36*N36 -> 60 | Q36: Bestätigt | R36: =IF(P36<>"","Ruhetag / Abwesenheit",IF(M36>2,"Überstunden",IF(M36<-2,"Unter Soll","OK"))) -> OK
A37: 46088 | B37: =TEXT(A37,"dddd") -> sábado | C37: =_xludf.ISOWEEKNUM(A37) -> #NAME? | D37: Clara Hoffmann | E37: =IFERROR(VLOOKUP(D37,Mitarbeiter!$C$6:$I$13,2,FALSE),"") -> Mitarbeiter | F37: =IFERROR(VLOOKUP(D37,Mitarbeiter!$C$6:$I$13,3,FALSE),"") -> Service | G37: Teilzeit | H37: 0.375 | I37: 0.58333333 | J37: 0 | K37: =IF(OR(P37="Urlaub",P37="Krankheit",P37="Frei",P37="Feiertag"),0,IF(OR(H37="",I37=""),0,ROUND((MOD(I37-H37,1)*24)-(J37/60),2))) -> 5 | L37: =IFERROR(VLOOKUP(D37,Mitarbeiter!$C$6:$I$13,6,FALSE),0) -> 5 | M37: =K37-L37 -> 0 | N37: =IFERROR(VLOOKUP(D37,Mitarbeiter!$C$6:$I$13,7,FALSE),0) -> 17.8 | O37: =K37*N37 -> 89 | Q37: Bestätigt | R37: =IF(P37<>"","Ruhetag / Abwesenheit",IF(M37>2,"Überstunden",IF(M37<-2,"Unter Soll","OK"))) -> OK
A38: 46088 | B38: =TEXT(A38,"dddd") -> sábado | C38: =_xludf.ISOWEEKNUM(A38) -> #NAME? | D38: Jonas Meyer | E38: =IFERROR(VLOOKUP(D38,Mitarbeiter!$C$6:$I$13,2,FALSE),"") -> Mitarbeiter | F38: =IFERROR(VLOOKUP(D38,Mitarbeiter!$C$6:$I$13,3,FALSE),"") -> Produktion | G38: Frühschicht | H38: 0.25 | I38: 0.58333333 | J38: 30 | K38: =IF(OR(P38="Urlaub",P38="Krankheit",P38="Frei",P38="Feiertag"),0,IF(OR(H38="",I38=""),0,ROUND((MOD(I38-H38,1)*24)-(J38/60),2))) -> 7.5 | L38: =IFERROR(VLOOKUP(D38,Mitarbeiter!$C$6:$I$13,6,FALSE),0) -> 8 | M38: =K38-L38 -> -0.5 | N38: =IFERROR(VLOOKUP(D38,Mitarbeiter!$C$6:$I$13,7,FALSE),0) -> 19.8 | O38: =K38*N38 -> 148.5 | Q38: Bestätigt | R38: =IF(P38<>"","Ruhetag / Abwesenheit",IF(M38>2,"Überstunden",IF(M38<-2,"Unter Soll","OK"))) -> OK
A39: 46089 | B39: =TEXT(A39,"dddd") -> domingo | C39: =_xludf.ISOWEEKNUM(A39) -> #NAME? | D39: Felix Wagner | E39: =IFERROR(VLOOKUP(D39,Mitarbeiter!$C$6:$I$13,2,FALSE),"") -> Aushilfe | F39: =IFERROR(VLOOKUP(D39,Mitarbeiter!$C$6:$I$13,3,FALSE),"") -> Service | G39: Teilzeit | H39: 0.375 | I39: 0.54166667 | J39: 0 | K39: =IF(OR(P39="Urlaub",P39="Krankheit",P39="Frei",P39="Feiertag"),0,IF(OR(H39="",I39=""),0,ROUND((MOD(I39-H39,1)*24)-(J39/60),2))) -> 4 | L39: =IFERROR(VLOOKUP(D39,Mitarbeiter!$C$6:$I$13,6,FALSE),0) -> 4 | M39: =K39-L39 -> 0 | N39: =IFERROR(VLOOKUP(D39,Mitarbeiter!$C$6:$I$13,7,FALSE),0) -> 15 | O39: =K39*N39 -> 60 | Q39: Bestätigt | R39: =IF(P39<>"","Ruhetag / Abwesenheit",IF(M39>2,"Überstunden",IF(M39<-2,"Unter Soll","OK"))) -> OK
A40: 46089 | B40: =TEXT(A40,"dddd") -> domingo | C40: =_xludf.ISOWEEKNUM(A40) -> #NAME? | D40: Clara Hoffmann | E40: =IFERROR(VLOOKUP(D40,Mitarbeiter!$C$6:$I$13,2,FALSE),"") -> Mitarbeiter | F40: =IFERROR(VLOOKUP(D40,Mitarbeiter!$C$6:$I$13,3,FALSE),"") -> Service | G40: Teilzeit | H40: 0.375 | I40: 0.58333333 | J40: 0 | K40: =IF(OR(P40="Urlaub",P40="Krankheit",P40="Frei",P40="Feiertag"),0,IF(OR(H40="",I40=""),0,ROUND((MOD(I40-H40,1)*24)-(J40/60),2))) -> 5 | L40: =IFERROR(VLOOKUP(D40,Mitarbeiter!$C$6:$I$13,6,FALSE),0) -> 5 | M40: =K40-L40 -> 0 | N40: =IFERROR(VLOOKUP(D40,Mitarbeiter!$C$6:$I$13,7,FALSE),0) -> 17.8 | O40: =K40*N40 -> 89 | Q40: Bestätigt | R40: =IF(P40<>"","Ruhetag / Abwesenheit",IF(M40>2,"Überstunden",IF(M40<-2,"Unter Soll","OK"))) -> OK
A41: 46090 | B41: =TEXT(A41,"dddd") -> lunes | C41: =_xludf.ISOWEEKNUM(A41) -> #NAME? | D41: Anna Keller | E41: =IFERROR(VLOOKUP(D41,Mitarbeiter!$C$6:$I$13,2,FALSE),"") -> Teamleitung | F41: =IFERROR(VLOOKUP(D41,Mitarbeiter!$C$6:$I$13,3,FALSE),"") -> Verkauf | G41: Frühschicht | H41: 0.25 | I41: 0.58333333 | J41: 30 | K41: =IF(OR(P41="Urlaub",P41="Krankheit",P41="Frei",P41="Feiertag"),0,IF(OR(H41="",I41=""),0,ROUND((MOD(I41-H41,1)*24)-(J41/60),2))) -> 7.5 | L41: =IFERROR(VLOOKUP(D41,Mitarbeiter!$C$6:$I$13,6,FALSE),0) -> 8 | M41: =K41-L41 -> -0.5 | N41: =IFERROR(VLOOKUP(D41,Mitarbeiter!$C$6:$I$13,7,FALSE),0) -> 24.5 | O41: =K41*N41 -> 183.75 | Q41: Bestätigt | R41: =IF(P41<>"","Ruhetag / Abwesenheit",IF(M41>2,"Überstunden",IF(M41<-2,"Unter Soll","OK"))) -> OK
A42: 46090 | B42: =TEXT(A42,"dddd") -> lunes | C42: =_xludf.ISOWEEKNUM(A42) -> #NAME? | D42: Ben Schneider | E42: =IFERROR(VLOOKUP(D42,Mitarbeiter!$C$6:$I$13,2,FALSE),"") -> Mitarbeiter | F42: =IFERROR(VLOOKUP(D42,Mitarbeiter!$C$6:$I$13,3,FALSE),"") -> Verkauf | G42: Frühschicht | H42: 0.25 | I42: 0.58333333 | J42: 30 | K42: =IF(OR(P42="Urlaub",P42="Krankheit",P42="Frei",P42="Feiertag"),0,IF(OR(H42="",I42=""),0,ROUND((MOD(I42-H42,1)*24)-(J42/60),2))) -> 7.5 | L42: =IFERROR(VLOOKUP(D42,Mitarbeiter!$C$6:$I$13,6,FALSE),0) -> 8 | M42: =K42-L42 -> -0.5 | N42: =IFERROR(VLOOKUP(D42,Mitarbeiter!$C$6:$I$13,7,FALSE),0) -> 18.5 | O42: =K42*N42 -> 138.75 | Q42: Bestätigt | R42: =IF(P42<>"","Ruhetag / Abwesenheit",IF(M42>2,"Überstunden",IF(M42<-2,"Unter Soll","OK"))) -> OK
A43: 46090 | B43: =TEXT(A43,"dddd") -> lunes | C43: =_xludf.ISOWEEKNUM(A43) -> #NAME? | D43: David Braun | E43: =IFERROR(VLOOKUP(D43,Mitarbeiter!$C$6:$I$13,2,FALSE),"") -> Mitarbeiter | F43: =IFERROR(VLOOKUP(D43,Mitarbeiter!$C$6:$I$13,3,FALSE),"") -> Lager | G43: Spätschicht | H43: 0.58333333 | I43: 0.91666667 | J43: 30 | K43: =IF(OR(P43="Urlaub",P43="Krankheit",P43="Frei",P43="Feiertag"),0,IF(OR(H43="",I43=""),0,ROUND((MOD(I43-H43,1)*24)-(J43/60),2))) -> 7.5 | L43: =IFERROR(VLOOKUP(D43,Mitarbeiter!$C$6:$I$13,6,FALSE),0) -> 8 | M43: =K43-L43 -> -0.5 | N43: =IFERROR(VLOOKUP(D43,Mitarbeiter!$C$6:$I$13,7,FALSE),0) -> 19.2 | O43: =K43*N43 -> 144 | Q43: Bestätigt | R43: =IF(P43<>"","Ruhetag / Abwesenheit",IF(M43>2,"Überstunden",IF(M43<-2,"Unter Soll","OK"))) -> OK
A44: 46090 | B44: =TEXT(A44,"dddd") -> lunes | C44: =_xludf.ISOWEEKNUM(A44) -> #NAME? | D44: Emma Fischer | E44: =IFERROR(VLOOKUP(D44,Mitarbeiter!$C$6:$I$13,2,FALSE),"") -> Verwaltung | F44: =IFERROR(VLOOKUP(D44,Mitarbeiter!$C$6:$I$13,3,FALSE),"") -> Büro | G44: Büro | H44: 0.375 | I44: 0.70833333 | J44: 60 | K44: =IF(OR(P44="Urlaub",P44="Krankheit",P44="Frei",P44="Feiertag"),0,IF(OR(H44="",I44=""),0,ROUND((MOD(I44-H44,1)*24)-(J44/60),2))) -> 7 | L44: =IFERROR(VLOOKUP(D44,Mitarbeiter!$C$6:$I$13,6,FALSE),0) -> 7.6 | M44: =K44-L44 -> -0.6 | N44: =IFERROR(VLOOKUP(D44,Mitarbeiter!$C$6:$I$13,7,FALSE),0) -> 22 | O44: =K44*N44 -> 154 | Q44: Bestätigt | R44: =IF(P44<>"","Ruhetag / Abwesenheit",IF(M44>2,"Überstunden",IF(M44<-2,"Unter Soll","OK"))) -> OK
A45: 46090 | B45: =TEXT(A45,"dddd") -> lunes | C45: =_xludf.ISOWEEKNUM(A45) -> #NAME? | D45: Jonas Meyer | E45: =IFERROR(VLOOKUP(D45,Mitarbeiter!$C$6:$I$13,2,FALSE),"") -> Mitarbeiter | F45: =IFERROR(VLOOKUP(D45,Mitarbeiter!$C$6:$I$13,3,FALSE),"") -> Produktion | G45: Frühschicht | H45: 0.25 | I45: 0.58333333 | J45: 30 | K45: =IF(OR(P45="Urlaub",P45="Krankheit",P45="Frei",P45="Feiertag"),0,IF(OR(H45="",I45=""),0,ROUND((MOD(I45-H45,1)*24)-(J45/60),2))) -> 7.5 | L45: =IFERROR(VLOOKUP(D45,Mitarbeiter!$C$6:$I$13,6,FALSE),0) -> 8 | M45: =K45-L45 -> -0.5 | N45: =IFERROR(VLOOKUP(D45,Mitarbeiter!$C$6:$I$13,7,FALSE),0) -> 19.8 | O45: =K45*N45 -> 148.5 | Q45: Bestätigt | R45: =IF(P45<>"","Ruhetag / Abwesenheit",IF(M45>2,"Überstunden",IF(M45<-2,"Unter Soll","OK"))) -> OK
A46: 46090 | B46: =TEXT(A46,"dddd") -> lunes | C46: =_xludf.ISOWEEKNUM(A46) -> #NAME? | D46: Hannah Weber | E46: =IFERROR(VLOOKUP(D46,Mitarbeiter!$C$6:$I$13,2,FALSE),"") -> Mitarbeiter | F46: =IFERROR(VLOOKUP(D46,Mitarbeiter!$C$6:$I$13,3,FALSE),"") -> Pflege | G46: Frühschicht | H46: 0.29166667 | I46: 0.54166667 | J46: 30 | K46: =IF(OR(P46="Urlaub",P46="Krankheit",P46="Frei",P46="Feiertag"),0,IF(OR(H46="",I46=""),0,ROUND((MOD(I46-H46,1)*24)-(J46/60),2))) -> 5.5 | L46: =IFERROR(VLOOKUP(D46,Mitarbeiter!$C$6:$I$13,6,FALSE),0) -> 6 | M46: =K46-L46 -> -0.5 | N46: =IFERROR(VLOOKUP(D46,Mitarbeiter!$C$6:$I$13,7,FALSE),0) -> 20.5 | O46: =K46*N46 -> 112.75 | Q46: Bestätigt | R46: =IF(P46<>"","Ruhetag / Abwesenheit",IF(M46>2,"Überstunden",IF(M46<-2,"Unter Soll","OK"))) -> OK
A47: 46090 | B47: =TEXT(A47,"dddd") -> lunes | C47: =_xludf.ISOWEEKNUM(A47) -> #NAME? | D47: Clara Hoffmann | E47: =IFERROR(VLOOKUP(D47,Mitarbeiter!$C$6:$I$13,2,FALSE),"") -> Mitarbeiter | F47: =IFERROR(VLOOKUP(D47,Mitarbeiter!$C$6:$I$13,3,FALSE),"") -> Service | G47: Frei | J47: 0 | K47: =IF(OR(P47="Urlaub",P47="Krankheit",P47="Frei",P47="Feiertag"),0,IF(OR(H47="",I47=""),0,ROUND((MOD(I47-H47,1)*24)-(J47/60),2))) -> 0 | L47: =IFERROR(VLOOKUP(D47,Mitarbeiter!$C$6:$I$13,6,FALSE),0) -> 5 | M47: =K47-L47 -> -5 | N47: =IFERROR(VLOOKUP(D47,Mitarbeiter!$C$6:$I$13,7,FALSE),0) -> 17.8 | O47: =K47*N47 -> 0 | P47: Urlaub | Q47: Bestätigt | R47: =IF(P47<>"","Ruhetag / Abwesenheit",IF(M47>2,"Überstunden",IF(M47<-2,"Unter Soll","OK"))) -> Ruhetag / Abwesenheit
A48: 46091 | B48: =TEXT(A48,"dddd") -> martes | C48: =_xludf.ISOWEEKNUM(A48) -> #NAME? | D48: Anna Keller | E48: =IFERROR(VLOOKUP(D48,Mitarbeiter!$C$6:$I$13,2,FALSE),"") -> Teamleitung | F48: =IFERROR(VLOOKUP(D48,Mitarbeiter!$C$6:$I$13,3,FALSE),"") -> Verkauf | G48: Frühschicht | H48: 0.25 | I48: 0.58333333 | J48: 30 | K48: =IF(OR(P48="Urlaub",P48="Krankheit",P48="Frei",P48="Feiertag"),0,IF(OR(H48="",I48=""),0,ROUND((MOD(I48-H48,1)*24)-(J48/60),2))) -> 7.5 | L48: =IFERROR(VLOOKUP(D48,Mitarbeiter!$C$6:$I$13,6,FALSE),0) -> 8 | M48: =K48-L48 -> -0.5 | N48: =IFERROR(VLOOKUP(D48,Mitarbeiter!$C$6:$I$13,7,FALSE),0) -> 24.5 | O48: =K48*N48 -> 183.75 | Q48: Bestätigt | R48: =IF(P48<>"","Ruhetag / Abwesenheit",IF(M48>2,"Überstunden",IF(M48<-2,"Unter Soll","OK"))) -> OK
A49: 46091 | B49: =TEXT(A49,"dddd") -> martes | C49: =_xludf.ISOWEEKNUM(A49) -> #NAME? | D49: Ben Schneider | E49: =IFERROR(VLOOKUP(D49,Mitarbeiter!$C$6:$I$13,2,FALSE),"") -> Mitarbeiter | F49: =IFERROR(VLOOKUP(D49,Mitarbeiter!$C$6:$I$13,3,FALSE),"") -> Verkauf | G49: Frühschicht | H49: 0.25 | I49: 0.66666667 | J49: 30 | K49: =IF(OR(P49="Urlaub",P49="Krankheit",P49="Frei",P49="Feiertag"),0,IF(OR(H49="",I49=""),0,ROUND((MOD(I49-H49,1)*24)-(J49/60),2))) -> 9.5 | L49: =IFERROR(VLOOKUP(D49,Mitarbeiter!$C$6:$I$13,6,FALSE),0) -> 8 | M49: =K49-L49 -> 1.5 | N49: =IFERROR(VLOOKUP(D49,Mitarbeiter!$C$6:$I$13,7,FALSE),0) -> 18.5 | O49: =K49*N49 -> 175.75 | Q49: Bestätigt | R49: =IF(P49<>"","Ruhetag / Abwesenheit",IF(M49>2,"Überstunden",IF(M49<-2,"Unter Soll","OK"))) -> OK
A50: 46091 | B50: =TEXT(A50,"dddd") -> martes | C50: =_xludf.ISOWEEKNUM(A50) -> #NAME? | D50: David Braun | E50: =IFERROR(VLOOKUP(D50,Mitarbeiter!$C$6:$I$13,2,FALSE),"") -> Mitarbeiter | F50: =IFERROR(VLOOKUP(D50,Mitarbeiter!$C$6:$I$13,3,FALSE),"") -> Lager | G50: Spätschicht | H50: 0.58333333 | I50: 0.91666667 | J50: 30 | K50: =IF(OR(P50="Urlaub",P50="Krankheit",P50="Frei",P50="Feiertag"),0,IF(OR(H50="",I50=""),0,ROUND((MOD(I50-H50,1)*24)-(J50/60),2))) -> 7.5 | L50: =IFERROR(VLOOKUP(D50,Mitarbeiter!$C$6:$I$13,6,FALSE),0) -> 8 | M50: =K50-L50 -> -0.5 | N50: =IFERROR(VLOOKUP(D50,Mitarbeiter!$C$6:$I$13,7,FALSE),0) -> 19.2 | O50: =K50*N50 -> 144 | Q50: Bestätigt | R50: =IF(P50<>"","Ruhetag / Abwesenheit",IF(M50>2,"Überstunden",IF(M50<-2,"Unter Soll","OK"))) -> OK
A51: 46091 | B51: =TEXT(A51,"dddd") -> martes | C51: =_xludf.ISOWEEKNUM(A51) -> #NAME? | D51: Emma Fischer | E51: =IFERROR(VLOOKUP(D51,Mitarbeiter!$C$6:$I$13,2,FALSE),"") -> Verwaltung | F51: =IFERROR(VLOOKUP(D51,Mitarbeiter!$C$6:$I$13,3,FALSE),"") -> Büro | G51: Büro | H51: 0.375 | I51: 0.70833333 | J51: 60 | K51: =IF(OR(P51="Urlaub",P51="Krankheit",P51="Frei",P51="Feiertag"),0,IF(OR(H51="",I51=""),0,ROUND((MOD(I51-H51,1)*24)-(J51/60),2))) -> 7 | L51: =IFERROR(VLOOKUP(D51,Mitarbeiter!$C$6:$I$13,6,FALSE),0) -> 7.6 | M51: =K51-L51 -> -0.6 | N51: =IFERROR(VLOOKUP(D51,Mitarbeiter!$C$6:$I$13,7,FALSE),0) -> 22 | O51: =K51*N51 -> 154 | Q51: Bestätigt | R51: =IF(P51<>"","Ruhetag / Abwesenheit",IF(M51>2,"Überstunden",IF(M51<-2,"Unter Soll","OK"))) -> OK
A52: 46091 | B52: =TEXT(A52,"dddd") -> martes | C52: =_xludf.ISOWEEKNUM(A52) -> #NAME? | D52: Jonas Meyer | E52: =IFERROR(VLOOKUP(D52,Mitarbeiter!$C$6:$I$13,2,FALSE),"") -> Mitarbeiter | F52: =IFERROR(VLOOKUP(D52,Mitarbeiter!$C$6:$I$13,3,FALSE),"") -> Produktion | G52: Frühschicht | H52: 0.25 | I52: 0.58333333 | J52: 30 | K52: =IF(OR(P52="Urlaub",P52="Krankheit",P52="Frei",P52="Feiertag"),0,IF(OR(H52="",I52=""),0,ROUND((MOD(I52-H52,1)*24)-(J52/60),2))) -> 7.5 | L52: =IFERROR(VLOOKUP(D52,Mitarbeiter!$C$6:$I$13,6,FALSE),0) -> 8 | M52: =K52-L52 -> -0.5 | N52: =IFERROR(VLOOKUP(D52,Mitarbeiter!$C$6:$I$13,7,FALSE),0) -> 19.8 | O52: =K52*N52 -> 148.5 | Q52: Bestätigt | R52: =IF(P52<>"","Ruhetag / Abwesenheit",IF(M52>2,"Überstunden",IF(M52<-2,"Unter Soll","OK"))) -> OK
A53: 46091 | B53: =TEXT(A53,"dddd") -> martes | C53: =_xludf.ISOWEEKNUM(A53) -> #NAME? | D53: Clara Hoffmann | E53: =IFERROR(VLOOKUP(D53,Mitarbeiter!$C$6:$I$13,2,FALSE),"") -> Mitarbeiter | F53: =IFERROR(VLOOKUP(D53,Mitarbeiter!$C$6:$I$13,3,FALSE),"") -> Service | G53: Frei | J53: 0 | K53: =IF(OR(P53="Urlaub",P53="Krankheit",P53="Frei",P53="Feiertag"),0,IF(OR(H53="",I53=""),0,ROUND((MOD(I53-H53,1)*24)-(J53/60),2))) -> 0 | L53: =IFERROR(VLOOKUP(D53,Mitarbeiter!$C$6:$I$13,6,FALSE),0) -> 5 | M53: =K53-L53 -> -5 | N53: =IFERROR(VLOOKUP(D53,Mitarbeiter!$C$6:$I$13,7,FALSE),0) -> 17.8 | O53: =K53*N53 -> 0 | P53: Urlaub | Q53: Bestätigt | R53: =IF(P53<>"","Ruhetag / Abwesenheit",IF(M53>2,"Überstunden",IF(M53<-2,"Unter Soll","OK"))) -> Ruhetag / Abwesenheit
A54: 46092 | B54: =TEXT(A54,"dddd") -> miércoles | C54: =_xludf.ISOWEEKNUM(A54) -> #NAME? | D54: Anna Keller | E54: =IFERROR(VLOOKUP(D54,Mitarbeiter!$C$6:$I$13,2,FALSE),"") -> Teamleitung | F54: =IFERROR(VLOOKUP(D54,Mitarbeiter!$C$6:$I$13,3,FALSE),"") -> Verkauf | G54: Frühschicht | H54: 0.25 | I54: 0.58333333 | J54: 30 | K54: =IF(OR(P54="Urlaub",P54="Krankheit",P54="Frei",P54="Feiertag"),0,IF(OR(H54="",I54=""),0,ROUND((MOD(I54-H54,1)*24)-(J54/60),2))) -> 7.5 | L54: =IFERROR(VLOOKUP(D54,Mitarbeiter!$C$6:$I$13,6,FALSE),0) -> 8 | M54: =K54-L54 -> -0.5 | N54: =IFERROR(VLOOKUP(D54,Mitarbeiter!$C$6:$I$13,7,FALSE),0) -> 24.5 | O54: =K54*N54 -> 183.75 | Q54: Bestätigt | R54: =IF(P54<>"","Ruhetag / Abwesenheit",IF(M54>2,"Überstunden",IF(M54<-2,"Unter Soll","OK"))) -> OK
A55: 46092 | B55: =TEXT(A55,"dddd") -> miércoles | C55: =_xludf.ISOWEEKNUM(A55) -> #NAME? | D55: Ben Schneider | E55: =IFERROR(VLOOKUP(D55,Mitarbeiter!$C$6:$I$13,2,FALSE),"") -> Mitarbeiter | F55: =IFERROR(VLOOKUP(D55,Mitarbeiter!$C$6:$I$13,3,FALSE),"") -> Verkauf | G55: Frühschicht | H55: 0.25 | I55: 0.58333333 | J55: 30 | K55: =IF(OR(P55="Urlaub",P55="Krankheit",P55="Frei",P55="Feiertag"),0,IF(OR(H55="",I55=""),0,ROUND((MOD(I55-H55,1)*24)-(J55/60),2))) -> 7.5 | L55: =IFERROR(VLOOKUP(D55,Mitarbeiter!$C$6:$I$13,6,FALSE),0) -> 8 | M55: =K55-L55 -> -0.5 | N55: =IFERROR(VLOOKUP(D55,Mitarbeiter!$C$6:$I$13,7,FALSE),0) -> 18.5 | O55: =K55*N55 -> 138.75 | Q55: Bestätigt | R55: =IF(P55<>"","Ruhetag / Abwesenheit",IF(M55>2,"Überstunden",IF(M55<-2,"Unter Soll","OK"))) -> OK
A56: 46092 | B56: =TEXT(A56,"dddd") -> miércoles | C56: =_xludf.ISOWEEKNUM(A56) -> #NAME? | D56: David Braun | E56: =IFERROR(VLOOKUP(D56,Mitarbeiter!$C$6:$I$13,2,FALSE),"") -> Mitarbeiter | F56: =IFERROR(VLOOKUP(D56,Mitarbeiter!$C$6:$I$13,3,FALSE),"") -> Lager | G56: Spätschicht | H56: 0.58333333 | I56: 0.91666667 | J56: 30 | K56: =IF(OR(P56="Urlaub",P56="Krankheit",P56="Frei",P56="Feiertag"),0,IF(OR(H56="",I56=""),0,ROUND((MOD(I56-H56,1)*24)-(J56/60),2))) -> 7.5 | L56: =IFERROR(VLOOKUP(D56,Mitarbeiter!$C$6:$I$13,6,FALSE),0) -> 8 | M56: =K56-L56 -> -0.5 | N56: =IFERROR(VLOOKUP(D56,Mitarbeiter!$C$6:$I$13,7,FALSE),0) -> 19.2 | O56: =K56*N56 -> 144 | Q56: Bestätigt | R56: =IF(P56<>"","Ruhetag / Abwesenheit",IF(M56>2,"Überstunden",IF(M56<-2,"Unter Soll","OK"))) -> OK
A57: 46092 | B57: =TEXT(A57,"dddd") -> miércoles | C57: =_xludf.ISOWEEKNUM(A57) -> #NAME? | D57: Emma Fischer | E57: =IFERROR(VLOOKUP(D57,Mitarbeiter!$C$6:$I$13,2,FALSE),"") -> Verwaltung | F57: =IFERROR(VLOOKUP(D57,Mitarbeiter!$C$6:$I$13,3,FALSE),"") -> Büro | G57: Büro | H57: 0.375 | I57: 0.70833333 | J57: 60 | K57: =IF(OR(P57="Urlaub",P57="Krankheit",P57="Frei",P57="Feiertag"),0,IF(OR(H57="",I57=""),0,ROUND((MOD(I57-H57,1)*24)-(J57/60),2))) -> 7 | L57: =IFERROR(VLOOKUP(D57,Mitarbeiter!$C$6:$I$13,6,FALSE),0) -> 7.6 | M57: =K57-L57 -> -0.6 | N57: =IFERROR(VLOOKUP(D57,Mitarbeiter!$C$6:$I$13,7,FALSE),0) -> 22 | O57: =K57*N57 -> 154 | Q57: Bestätigt | R57: =IF(P57<>"","Ruhetag / Abwesenheit",IF(M57>2,"Überstunden",IF(M57<-2,"Unter Soll","OK"))) -> OK
A58: 46092 | B58: =TEXT(A58,"dddd") -> miércoles | C58: =_xludf.ISOWEEKNUM(A58) -> #NAME? | D58: Jonas Meyer | E58: =IFERROR(VLOOKUP(D58,Mitarbeiter!$C$6:$I$13,2,FALSE),"") -> Mitarbeiter | F58: =IFERROR(VLOOKUP(D58,Mitarbeiter!$C$6:$I$13,3,FALSE),"") -> Produktion | G58: Frühschicht | H58: 0.25 | I58: 0.58333333 | J58: 30 | K58: =IF(OR(P58="Urlaub",P58="Krankheit",P58="Frei",P58="Feiertag"),0,IF(OR(H58="",I58=""),0,ROUND((MOD(I58-H58,1)*24)-(J58/60),2))) -> 7.5 | L58: =IFERROR(VLOOKUP(D58,Mitarbeiter!$C$6:$I$13,6,FALSE),0) -> 8 | M58: =K58-L58 -> -0.5 | N58: =IFERROR(VLOOKUP(D58,Mitarbeiter!$C$6:$I$13,7,FALSE),0) -> 19.8 | O58: =K58*N58 -> 148.5 | Q58: Bestätigt | R58: =IF(P58<>"","Ruhetag / Abwesenheit",IF(M58>2,"Überstunden",IF(M58<-2,"Unter Soll","OK"))) -> OK
A59: 46092 | B59: =TEXT(A59,"dddd") -> miércoles | C59: =_xludf.ISOWEEKNUM(A59) -> #NAME? | D59: Hannah Weber | E59: =IFERROR(VLOOKUP(D59,Mitarbeiter!$C$6:$I$13,2,FALSE),"") -> Mitarbeiter | F59: =IFERROR(VLOOKUP(D59,Mitarbeiter!$C$6:$I$13,3,FALSE),"") -> Pflege | G59: Frühschicht | H59: 0.29166667 | I59: 0.54166667 | J59: 30 | K59: =IF(OR(P59="Urlaub",P59="Krankheit",P59="Frei",P59="Feiertag"),0,IF(OR(H59="",I59=""),0,ROUND((MOD(I59-H59,1)*24)-(J59/60),2))) -> 5.5 | L59: =IFERROR(VLOOKUP(D59,Mitarbeiter!$C$6:$I$13,6,FALSE),0) -> 6 | M59: =K59-L59 -> -0.5 | N59: =IFERROR(VLOOKUP(D59,Mitarbeiter!$C$6:$I$13,7,FALSE),0) -> 20.5 | O59: =K59*N59 -> 112.75 | Q59: Bestätigt | R59: =IF(P59<>"","Ruhetag / Abwesenheit",IF(M59>2,"Überstunden",IF(M59<-2,"Unter Soll","OK"))) -> OK
A60: 46092 | B60: =TEXT(A60,"dddd") -> miércoles | C60: =_xludf.ISOWEEKNUM(A60) -> #NAME? | D60: Clara Hoffmann | E60: =IFERROR(VLOOKUP(D60,Mitarbeiter!$C$6:$I$13,2,FALSE),"") -> Mitarbeiter | F60: =IFERROR(VLOOKUP(D60,Mitarbeiter!$C$6:$I$13,3,FALSE),"") -> Service | G60: Frei | J60: 0 | K60: =IF(OR(P60="Urlaub",P60="Krankheit",P60="Frei",P60="Feiertag"),0,IF(OR(H60="",I60=""),0,ROUND((MOD(I60-H60,1)*24)-(J60/60),2))) -> 0 | L60: =IFERROR(VLOOKUP(D60,Mitarbeiter!$C$6:$I$13,6,FALSE),0) -> 5 | M60: =K60-L60 -> -5 | N60: =IFERROR(VLOOKUP(D60,Mitarbeiter!$C$6:$I$13,7,FALSE),0) -> 17.8 | O60: =K60*N60 -> 0 | P60: Urlaub | Q60: Bestätigt | R60: =IF(P60<>"","Ruhetag / Abwesenheit",IF(M60>2,"Überstunden",IF(M60<-2,"Unter Soll","OK"))) -> Ruhetag / Abwesenheit
A61: 46093 | B61: =TEXT(A61,"dddd") -> jueves | C61: =_xludf.ISOWEEKNUM(A61) -> #NAME? | D61: Anna Keller | E61: =IFERROR(VLOOKUP(D61,Mitarbeiter!$C$6:$I$13,2,FALSE),"") -> Teamleitung | F61: =IFERROR(VLOOKUP(D61,Mitarbeiter!$C$6:$I$13,3,FALSE),"") -> Verkauf | G61: Frühschicht | H61: 0.25 | I61: 0.58333333 | J61: 30 | K61: =IF(OR(P61="Urlaub",P61="Krankheit",P61="Frei",P61="Feiertag"),0,IF(OR(H61="",I61=""),0,ROUND((MOD(I61-H61,1)*24)-(J61/60),2))) -> 7.5 | L61: =IFERROR(VLOOKUP(D61,Mitarbeiter!$C$6:$I$13,6,FALSE),0) -> 8 | M61: =K61-L61 -> -0.5 | N61: =IFERROR(VLOOKUP(D61,Mitarbeiter!$C$6:$I$13,7,FALSE),0) -> 24.5 | O61: =K61*N61 -> 183.75 | Q61: Bestätigt | R61: =IF(P61<>"","Ruhetag / Abwesenheit",IF(M61>2,"Überstunden",IF(M61<-2,"Unter Soll","OK"))) -> OK
A62: 46093 | B62: =TEXT(A62,"dddd") -> jueves | C62: =_xludf.ISOWEEKNUM(A62) -> #NAME? | D62: Ben Schneider | E62: =IFERROR(VLOOKUP(D62,Mitarbeiter!$C$6:$I$13,2,FALSE),"") -> Mitarbeiter | F62: =IFERROR(VLOOKUP(D62,Mitarbeiter!$C$6:$I$13,3,FALSE),"") -> Verkauf | G62: Frühschicht | H62: 0.25 | I62: 0.58333333 | J62: 30 | K62: =IF(OR(P62="Urlaub",P62="Krankheit",P62="Frei",P62="Feiertag"),0,IF(OR(H62="",I62=""),0,ROUND((MOD(I62-H62,1)*24)-(J62/60),2))) -> 7.5 | L62: =IFERROR(VLOOKUP(D62,Mitarbeiter!$C$6:$I$13,6,FALSE),0) -> 8 | M62: =K62-L62 -> -0.5 | N62: =IFERROR(VLOOKUP(D62,Mitarbeiter!$C$6:$I$13,7,FALSE),0) -> 18.5 | O62: =K62*N62 -> 138.75 | Q62: Bestätigt | R62: =IF(P62<>"","Ruhetag / Abwesenheit",IF(M62>2,"Überstunden",IF(M62<-2,"Unter Soll","OK"))) -> OK
A63: 46093 | B63: =TEXT(A63,"dddd") -> jueves | C63: =_xludf.ISOWEEKNUM(A63) -> #NAME? | D63: David Braun | E63: =IFERROR(VLOOKUP(D63,Mitarbeiter!$C$6:$I$13,2,FALSE),"") -> Mitarbeiter | F63: =IFERROR(VLOOKUP(D63,Mitarbeiter!$C$6:$I$13,3,FALSE),"") -> Lager | G63: Spätschicht | H63: 0.58333333 | I63: 0.91666667 | J63: 30 | K63: =IF(OR(P63="Urlaub",P63="Krankheit",P63="Frei",P63="Feiertag"),0,IF(OR(H63="",I63=""),0,ROUND((MOD(I63-H63,1)*24)-(J63/60),2))) -> 7.5 | L63: =IFERROR(VLOOKUP(D63,Mitarbeiter!$C$6:$I$13,6,FALSE),0) -> 8 | M63: =K63-L63 -> -0.5 | N63: =IFERROR(VLOOKUP(D63,Mitarbeiter!$C$6:$I$13,7,FALSE),0) -> 19.2 | O63: =K63*N63 -> 144 | Q63: Bestätigt | R63: =IF(P63<>"","Ruhetag / Abwesenheit",IF(M63>2,"Überstunden",IF(M63<-2,"Unter Soll","OK"))) -> OK
A64: 46093 | B64: =TEXT(A64,"dddd") -> jueves | C64: =_xludf.ISOWEEKNUM(A64) -> #NAME? | D64: Emma Fischer | E64: =IFERROR(VLOOKUP(D64,Mitarbeiter!$C$6:$I$13,2,FALSE),"") -> Verwaltung | F64: =IFERROR(VLOOKUP(D64,Mitarbeiter!$C$6:$I$13,3,FALSE),"") -> Büro | G64: Büro | H64: 0.375 | I64: 0.70833333 | J64: 60 | K64: =IF(OR(P64="Urlaub",P64="Krankheit",P64="Frei",P64="Feiertag"),0,IF(OR(H64="",I64=""),0,ROUND((MOD(I64-H64,1)*24)-(J64/60),2))) -> 7 | L64: =IFERROR(VLOOKUP(D64,Mitarbeiter!$C$6:$I$13,6,FALSE),0) -> 7.6 | M64: =K64-L64 -> -0.6 | N64: =IFERROR(VLOOKUP(D64,Mitarbeiter!$C$6:$I$13,7,FALSE),0) -> 22 | O64: =K64*N64 -> 154 | Q64: Bestätigt | R64: =IF(P64<>"","Ruhetag / Abwesenheit",IF(M64>2,"Überstunden",IF(M64<-2,"Unter Soll","OK"))) -> OK
A65: 46093 | B65: =TEXT(A65,"dddd") -> jueves | C65: =_xludf.ISOWEEKNUM(A65) -> #NAME? | D65: Jonas Meyer | E65: =IFERROR(VLOOKUP(D65,Mitarbeiter!$C$6:$I$13,2,FALSE),"") -> Mitarbeiter | F65: =IFERROR(VLOOKUP(D65,Mitarbeiter!$C$6:$I$13,3,FALSE),"") -> Produktion | G65: Frühschicht | H65: 0.25 | I65: 0.58333333 | J65: 30 | K65: =IF(OR(P65="Urlaub",P65="Krankheit",P65="Frei",P65="Feiertag"),0,IF(OR(H65="",I65=""),0,ROUND((MOD(I65-H65,1)*24)-(J65/60),2))) -> 7.5 | L65: =IFERROR(VLOOKUP(D65,Mitarbeiter!$C$6:$I$13,6,FALSE),0) -> 8 | M65: =K65-L65 -> -0.5 | N65: =IFERROR(VLOOKUP(D65,Mitarbeiter!$C$6:$I$13,7,FALSE),0) -> 19.8 | O65: =K65*N65 -> 148.5 | Q65: Bestätigt | R65: =IF(P65<>"","Ruhetag / Abwesenheit",IF(M65>2,"Überstunden",IF(M65<-2,"Unter Soll","OK"))) -> OK
A66: 46093 | B66: =TEXT(A66,"dddd") -> jueves | C66: =_xludf.ISOWEEKNUM(A66) -> #NAME? | D66: Clara Hoffmann | E66: =IFERROR(VLOOKUP(D66,Mitarbeiter!$C$6:$I$13,2,FALSE),"") -> Mitarbeiter | F66: =IFERROR(VLOOKUP(D66,Mitarbeiter!$C$6:$I$13,3,FALSE),"") -> Service | G66: Frei | J66: 0 | K66: =IF(OR(P66="Urlaub",P66="Krankheit",P66="Frei",P66="Feiertag"),0,IF(OR(H66="",I66=""),0,ROUND((MOD(I66-H66,1)*24)-(J66/60),2))) -> 0 | L66: =IFERROR(VLOOKUP(D66,Mitarbeiter!$C$6:$I$13,6,FALSE),0) -> 5 | M66: =K66-L66 -> -5 | N66: =IFERROR(VLOOKUP(D66,Mitarbeiter!$C$6:$I$13,7,FALSE),0) -> 17.8 | O66: =K66*N66 -> 0 | P66: Urlaub | Q66: Bestätigt | R66: =IF(P66<>"","Ruhetag / Abwesenheit",IF(M66>2,"Überstunden",IF(M66<-2,"Unter Soll","OK"))) -> Ruhetag / Abwesenheit
A67: 46093 | B67: =TEXT(A67,"dddd") -> jueves | C67: =_xludf.ISOWEEKNUM(A67) -> #NAME? | D67: Felix Wagner | E67: =IFERROR(VLOOKUP(D67,Mitarbeiter!$C$6:$I$13,2,FALSE),"") -> Aushilfe | F67: =IFERROR(VLOOKUP(D67,Mitarbeiter!$C$6:$I$13,3,FALSE),"") -> Service | G67: Teilzeit | H67: 0.375 | I67: 0.54166667 | J67: 0 | K67: =IF(OR(P67="Urlaub",P67="Krankheit",P67="Frei",P67="Feiertag"),0,IF(OR(H67="",I67=""),0,ROUND((MOD(I67-H67,1)*24)-(J67/60),2))) -> 4 | L67: =IFERROR(VLOOKUP(D67,Mitarbeiter!$C$6:$I$13,6,FALSE),0) -> 4 | M67: =K67-L67 -> 0 | N67: =IFERROR(VLOOKUP(D67,Mitarbeiter!$C$6:$I$13,7,FALSE),0) -> 15 | O67: =K67*N67 -> 60 | Q67: Bestätigt | R67: =IF(P67<>"","Ruhetag / Abwesenheit",IF(M67>2,"Überstunden",IF(M67<-2,"Unter Soll","OK"))) -> OK
A68: 46094 | B68: =TEXT(A68,"dddd") -> viernes | C68: =_xludf.ISOWEEKNUM(A68) -> #NAME? | D68: Anna Keller | E68: =IFERROR(VLOOKUP(D68,Mitarbeiter!$C$6:$I$13,2,FALSE),"") -> Teamleitung | F68: =IFERROR(VLOOKUP(D68,Mitarbeiter!$C$6:$I$13,3,FALSE),"") -> Verkauf | G68: Frühschicht | H68: 0.25 | I68: 0.58333333 | J68: 30 | K68: =IF(OR(P68="Urlaub",P68="Krankheit",P68="Frei",P68="Feiertag"),0,IF(OR(H68="",I68=""),0,ROUND((MOD(I68-H68,1)*24)-(J68/60),2))) -> 7.5 | L68: =IFERROR(VLOOKUP(D68,Mitarbeiter!$C$6:$I$13,6,FALSE),0) -> 8 | M68: =K68-L68 -> -0.5 | N68: =IFERROR(VLOOKUP(D68,Mitarbeiter!$C$6:$I$13,7,FALSE),0) -> 24.5 | O68: =K68*N68 -> 183.75 | Q68: Bestätigt | R68: =IF(P68<>"","Ruhetag / Abwesenheit",IF(M68>2,"Überstunden",IF(M68<-2,"Unter Soll","OK"))) -> OK
A69: 46094 | B69: =TEXT(A69,"dddd") -> viernes | C69: =_xludf.ISOWEEKNUM(A69) -> #NAME? | D69: Ben Schneider | E69: =IFERROR(VLOOKUP(D69,Mitarbeiter!$C$6:$I$13,2,FALSE),"") -> Mitarbeiter | F69: =IFERROR(VLOOKUP(D69,Mitarbeiter!$C$6:$I$13,3,FALSE),"") -> Verkauf | G69: Frühschicht | H69: 0.25 | I69: 0.58333333 | J69: 30 | K69: =IF(OR(P69="Urlaub",P69="Krankheit",P69="Frei",P69="Feiertag"),0,IF(OR(H69="",I69=""),0,ROUND((MOD(I69-H69,1)*24)-(J69/60),2))) -> 7.5 | L69: =IFERROR(VLOOKUP(D69,Mitarbeiter!$C$6:$I$13,6,FALSE),0) -> 8 | M69: =K69-L69 -> -0.5 | N69: =IFERROR(VLOOKUP(D69,Mitarbeiter!$C$6:$I$13,7,FALSE),0) -> 18.5 | O69: =K69*N69 -> 138.75 | Q69: Bestätigt | R69: =IF(P69<>"","Ruhetag / Abwesenheit",IF(M69>2,"Überstunden",IF(M69<-2,"Unter Soll","OK"))) -> OK
A70: 46094 | B70: =TEXT(A70,"dddd") -> viernes | C70: =_xludf.ISOWEEKNUM(A70) -> #NAME? | D70: David Braun | E70: =IFERROR(VLOOKUP(D70,Mitarbeiter!$C$6:$I$13,2,FALSE),"") -> Mitarbeiter | F70: =IFERROR(VLOOKUP(D70,Mitarbeiter!$C$6:$I$13,3,FALSE),"") -> Lager | G70: Spätschicht | H70: 0.58333333 | I70: 0.91666667 | J70: 30 | K70: =IF(OR(P70="Urlaub",P70="Krankheit",P70="Frei",P70="Feiertag"),0,IF(OR(H70="",I70=""),0,ROUND((MOD(I70-H70,1)*24)-(J70/60),2))) -> 7.5 | L70: =IFERROR(VLOOKUP(D70,Mitarbeiter!$C$6:$I$13,6,FALSE),0) -> 8 | M70: =K70-L70 -> -0.5 | N70: =IFERROR(VLOOKUP(D70,Mitarbeiter!$C$6:$I$13,7,FALSE),0) -> 19.2 | O70: =K70*N70 -> 144 | Q70: Bestätigt | R70: =IF(P70<>"","Ruhetag / Abwesenheit",IF(M70>2,"Überstunden",IF(M70<-2,"Unter Soll","OK"))) -> OK
A71: 46094 | B71: =TEXT(A71,"dddd") -> viernes | C71: =_xludf.ISOWEEKNUM(A71) -> #NAME? | D71: Emma Fischer | E71: =IFERROR(VLOOKUP(D71,Mitarbeiter!$C$6:$I$13,2,FALSE),"") -> Verwaltung | F71: =IFERROR(VLOOKUP(D71,Mitarbeiter!$C$6:$I$13,3,FALSE),"") -> Büro | G71: Büro | H71: 0.375 | I71: 0.70833333 | J71: 60 | K71: =IF(OR(P71="Urlaub",P71="Krankheit",P71="Frei",P71="Feiertag"),0,IF(OR(H71="",I71=""),0,ROUND((MOD(I71-H71,1)*24)-(J71/60),2))) -> 7 | L71: =IFERROR(VLOOKUP(D71,Mitarbeiter!$C$6:$I$13,6,FALSE),0) -> 7.6 | M71: =K71-L71 -> -0.6 | N71: =IFERROR(VLOOKUP(D71,Mitarbeiter!$C$6:$I$13,7,FALSE),0) -> 22 | O71: =K71*N71 -> 154 | Q71: Bestätigt | R71: =IF(P71<>"","Ruhetag / Abwesenheit",IF(M71>2,"Überstunden",IF(M71<-2,"Unter Soll","OK"))) -> OK
A72: 46094 | B72: =TEXT(A72,"dddd") -> viernes | C72: =_xludf.ISOWEEKNUM(A72) -> #NAME? | D72: Jonas Meyer | E72: =IFERROR(VLOOKUP(D72,Mitarbeiter!$C$6:$I$13,2,FALSE),"") -> Mitarbeiter | F72: =IFERROR(VLOOKUP(D72,Mitarbeiter!$C$6:$I$13,3,FALSE),"") -> Produktion | G72: Frühschicht | H72: 0.25 | I72: 0.58333333 | J72: 30 | K72: =IF(OR(P72="Urlaub",P72="Krankheit",P72="Frei",P72="Feiertag"),0,IF(OR(H72="",I72=""),0,ROUND((MOD(I72-H72,1)*24)-(J72/60),2))) -> 7.5 | L72: =IFERROR(VLOOKUP(D72,Mitarbeiter!$C$6:$I$13,6,FALSE),0) -> 8 | M72: =K72-L72 -> -0.5 | N72: =IFERROR(VLOOKUP(D72,Mitarbeiter!$C$6:$I$13,7,FALSE),0) -> 19.8 | O72: =K72*N72 -> 148.5 | Q72: Bestätigt | R72: =IF(P72<>"","Ruhetag / Abwesenheit",IF(M72>2,"Überstunden",IF(M72<-2,"Unter Soll","OK"))) -> OK
A73: 46095 | B73: =TEXT(A73,"dddd") -> sábado | C73: =_xludf.ISOWEEKNUM(A73) -> #NAME? | D73: Felix Wagner | E73: =IFERROR(VLOOKUP(D73,Mitarbeiter!$C$6:$I$13,2,FALSE),"") -> Aushilfe | F73: =IFERROR(VLOOKUP(D73,Mitarbeiter!$C$6:$I$13,3,FALSE),"") -> Service | G73: Teilzeit | H73: 0.375 | I73: 0.54166667 | J73: 0 | K73: =IF(OR(P73="Urlaub",P73="Krankheit",P73="Frei",P73="Feiertag"),0,IF(OR(H73="",I73=""),0,ROUND((MOD(I73-H73,1)*24)-(J73/60),2))) -> 4 | L73: =IFERROR(VLOOKUP(D73,Mitarbeiter!$C$6:$I$13,6,FALSE),0) -> 4 | M73: =K73-L73 -> 0 | N73: =IFERROR(VLOOKUP(D73,Mitarbeiter!$C$6:$I$13,7,FALSE),0) -> 15 | O73: =K73*N73 -> 60 | Q73: Bestätigt | R73: =IF(P73<>"","Ruhetag / Abwesenheit",IF(M73>2,"Überstunden",IF(M73<-2,"Unter Soll","OK"))) -> OK
A74: 46095 | B74: =TEXT(A74,"dddd") -> sábado | C74: =_xludf.ISOWEEKNUM(A74) -> #NAME? | D74: Clara Hoffmann | E74: =IFERROR(VLOOKUP(D74,Mitarbeiter!$C$6:$I$13,2,FALSE),"") -> Mitarbeiter | F74: =IFERROR(VLOOKUP(D74,Mitarbeiter!$C$6:$I$13,3,FALSE),"") -> Service | G74: Teilzeit | H74: 0.375 | I74: 0.58333333 | J74: 0 | K74: =IF(OR(P74="Urlaub",P74="Krankheit",P74="Frei",P74="Feiertag"),0,IF(OR(H74="",I74=""),0,ROUND((MOD(I74-H74,1)*24)-(J74/60),2))) -> 5 | L74: =IFERROR(VLOOKUP(D74,Mitarbeiter!$C$6:$I$13,6,FALSE),0) -> 5 | M74: =K74-L74 -> 0 | N74: =IFERROR(VLOOKUP(D74,Mitarbeiter!$C$6:$I$13,7,FALSE),0) -> 17.8 | O74: =K74*N74 -> 89 | Q74: Bestätigt | R74: =IF(P74<>"","Ruhetag / Abwesenheit",IF(M74>2,"Überstunden",IF(M74<-2,"Unter Soll","OK"))) -> OK
A75: 46096 | B75: =TEXT(A75,"dddd") -> domingo | C75: =_xludf.ISOWEEKNUM(A75) -> #NAME? | D75: Felix Wagner | E75: =IFERROR(VLOOKUP(D75,Mitarbeiter!$C$6:$I$13,2,FALSE),"") -> Aushilfe | F75: =IFERROR(VLOOKUP(D75,Mitarbeiter!$C$6:$I$13,3,FALSE),"") -> Service | G75: Teilzeit | H75: 0.375 | I75: 0.54166667 | J75: 0 | K75: =IF(OR(P75="Urlaub",P75="Krankheit",P75="Frei",P75="Feiertag"),0,IF(OR(H75="",I75=""),0,ROUND((MOD(I75-H75,1)*24)-(J75/60),2))) -> 4 | L75: =IFERROR(VLOOKUP(D75,Mitarbeiter!$C$6:$I$13,6,FALSE),0) -> 4 | M75: =K75-L75 -> 0 | N75: =IFERROR(VLOOKUP(D75,Mitarbeiter!$C$6:$I$13,7,FALSE),0) -> 15 | O75: =K75*N75 -> 60 | Q75: Bestätigt | R75: =IF(P75<>"","Ruhetag / Abwesenheit",IF(M75>2,"Überstunden",IF(M75<-2,"Unter Soll","OK"))) -> OK
A76: 46096 | B76: =TEXT(A76,"dddd") -> domingo | C76: =_xludf.ISOWEEKNUM(A76) -> #NAME? | D76: Clara Hoffmann | E76: =IFERROR(VLOOKUP(D76,Mitarbeiter!$C$6:$I$13,2,FALSE),"") -> Mitarbeiter | F76: =IFERROR(VLOOKUP(D76,Mitarbeiter!$C$6:$I$13,3,FALSE),"") -> Service | G76: Teilzeit | H76: 0.375 | I76: 0.58333333 | J76: 0 | K76: =IF(OR(P76="Urlaub",P76="Krankheit",P76="Frei",P76="Feiertag"),0,IF(OR(H76="",I76=""),0,ROUND((MOD(I76-H76,1)*24)-(J76/60),2))) -> 5 | L76: =IFERROR(VLOOKUP(D76,Mitarbeiter!$C$6:$I$13,6,FALSE),0) -> 5 | M76: =K76-L76 -> 0 | N76: =IFERROR(VLOOKUP(D76,Mitarbeiter!$C$6:$I$13,7,FALSE),0) -> 17.8 | O76: =K76*N76 -> 89 | Q76: Bestätigt | R76: =IF(P76<>"","Ruhetag / Abwesenheit",IF(M76>2,"Überstunden",IF(M76<-2,"Unter Soll","OK"))) -> OK
A77: 46097 | B77: =TEXT(A77,"dddd") -> lunes | C77: =_xludf.ISOWEEKNUM(A77) -> #NAME? | D77: Anna Keller | E77: =IFERROR(VLOOKUP(D77,Mitarbeiter!$C$6:$I$13,2,FALSE),"") -> Teamleitung | F77: =IFERROR(VLOOKUP(D77,Mitarbeiter!$C$6:$I$13,3,FALSE),"") -> Verkauf | G77: Frühschicht | H77: 0.25 | I77: 0.58333333 | J77: 30 | K77: =IF(OR(P77="Urlaub",P77="Krankheit",P77="Frei",P77="Feiertag"),0,IF(OR(H77="",I77=""),0,ROUND((MOD(I77-H77,1)*24)-(J77/60),2))) -> 7.5 | L77: =IFERROR(VLOOKUP(D77,Mitarbeiter!$C$6:$I$13,6,FALSE),0) -> 8 | M77: =K77-L77 -> -0.5 | N77: =IFERROR(VLOOKUP(D77,Mitarbeiter!$C$6:$I$13,7,FALSE),0) -> 24.5 | O77: =K77*N77 -> 183.75 | Q77: Bestätigt | R77: =IF(P77<>"","Ruhetag / Abwesenheit",IF(M77>2,"Überstunden",IF(M77<-2,"Unter Soll","OK"))) -> OK
A78: 46097 | B78: =TEXT(A78,"dddd") -> lunes | C78: =_xludf.ISOWEEKNUM(A78) -> #NAME? | D78: Ben Schneider | E78: =IFERROR(VLOOKUP(D78,Mitarbeiter!$C$6:$I$13,2,FALSE),"") -> Mitarbeiter | F78: =IFERROR(VLOOKUP(D78,Mitarbeiter!$C$6:$I$13,3,FALSE),"") -> Verkauf | G78: Frühschicht | H78: 0.25 | I78: 0.58333333 | J78: 30 | K78: =IF(OR(P78="Urlaub",P78="Krankheit",P78="Frei",P78="Feiertag"),0,IF(OR(H78="",I78=""),0,ROUND((MOD(I78-H78,1)*24)-(J78/60),2))) -> 7.5 | L78: =IFERROR(VLOOKUP(D78,Mitarbeiter!$C$6:$I$13,6,FALSE),0) -> 8 | M78: =K78-L78 -> -0.5 | N78: =IFERROR(VLOOKUP(D78,Mitarbeiter!$C$6:$I$13,7,FALSE),0) -> 18.5 | O78: =K78*N78 -> 138.75 | Q78: Bestätigt | R78: =IF(P78<>"","Ruhetag / Abwesenheit",IF(M78>2,"Überstunden",IF(M78<-2,"Unter Soll","OK"))) -> OK
... A82: 46097 | B82: =TEXT(A82,"dddd") -> lunes | C82: =_xludf.ISOWEEKNUM(A82) -> #NAME? | D82: Hannah Weber | E82: =IFERROR(VLOOKUP(D82,Mitarbeiter!$C$6:$I$13,2,FALSE),"") -> Mitarbeiter | F82: =IFERROR(VLOOKUP(D82,Mitarbeiter!$C$6:$I$13,3,FALSE),"") -> Pflege | G82: Frühschicht | H82: 0.29166667 | I82: 0.54166667 | J82: 30 | K82: =IF(OR(P82="Urlaub",P82="Krankheit",P82="Frei",P82="Feiertag"),0,IF(OR(H82="",I82=""),0,ROUND((MOD(I82-H82,1)*24)-(J82/60),2))) -> 5.5 | L82: =IFERROR(VLOOKUP(D82,Mitarbeiter!$C$6:$I$13,6,FALSE),0) -> 6 | M82: =K82-L82 -> -0.5 | N82: =IFERROR(VLOOKUP(D82,Mitarbeiter!$C$6:$I$13,7,FALSE),0) -> 20.5 | O82: =K82*N82 -> 112.75 | Q82: Bestätigt | R82: =IF(P82<>"","Ruhetag / Abwesenheit",IF(M82>2,"Überstunden",IF(M82<-2,"Unter Soll","OK"))) -> OK
A83: 46097 | B83: =TEXT(A83,"dddd") -> lunes | C83: =_xludf.ISOWEEKNUM(A83) -> #NAME? | D83: Felix Wagner | E83: =IFERROR(VLOOKUP(D83,Mitarbeiter!$C$6:$I$13,2,FALSE),"") -> Aushilfe | F83: =IFERROR(VLOOKUP(D83,Mitarbeiter!$C$6:$I$13,3,FALSE),"") -> Service | G83: Frei | J83: 0 | K83: =IF(OR(P83="Urlaub",P83="Krankheit",P83="Frei",P83="Feiertag"),0,IF(OR(H83="",I83=""),0,ROUND((MOD(I83-H83,1)*24)-(J83/60),2))) -> 0 | L83: =IFERROR(VLOOKUP(D83,Mitarbeiter!$C$6:$I$13,6,FALSE),0) -> 4 | M83: =K83-L83 -> -4 | N83: =IFERROR(VLOOKUP(D83,Mitarbeiter!$C$6:$I$13,7,FALSE),0) -> 15 | O83: =K83*N83 -> 0 | P83: Krankheit | Q83: Offen | R83: =IF(P83<>"","Ruhetag / Abwesenheit",IF(M83>2,"Überstunden",IF(M83<-2,"Unter Soll","OK"))) -> Ruhetag / Abwesenheit
A84: 46098 | B84: =TEXT(A84,"dddd") -> martes | C84: =_xludf.ISOWEEKNUM(A84) -> #NAME? | D84: Anna Keller | E84: =IFERROR(VLOOKUP(D84,Mitarbeiter!$C$6:$I$13,2,FALSE),"") -> Teamleitung | F84: =IFERROR(VLOOKUP(D84,Mitarbeiter!$C$6:$I$13,3,FALSE),"") -> Verkauf | G84: Frühschicht | H84: 0.25 | I84: 0.58333333 | J84: 30 | K84: =IF(OR(P84="Urlaub",P84="Krankheit",P84="Frei",P84="Feiertag"),0,IF(OR(H84="",I84=""),0,ROUND((MOD(I84-H84,1)*24)-(J84/60),2))) -> 7.5 | L84: =IFERROR(VLOOKUP(D84,Mitarbeiter!$C$6:$I$13,6,FALSE),0) -> 8 | M84: =K84-L84 -> -0.5 | N84: =IFERROR(VLOOKUP(D84,Mitarbeiter!$C$6:$I$13,7,FALSE),0) -> 24.5 | O84: =K84*N84 -> 183.75 | Q84: Bestätigt | R84: =IF(P84<>"","Ruhetag / Abwesenheit",IF(M84>2,"Überstunden",IF(M84<-2,"Unter Soll","OK"))) -> OK
A85: 46098 | B85: =TEXT(A85,"dddd") -> martes | C85: =_xludf.ISOWEEKNUM(A85) -> #NAME? | D85: Ben Schneider | E85: =IFERROR(VLOOKUP(D85,Mitarbeiter!$C$6:$I$13,2,FALSE),"") -> Mitarbeiter | F85: =IFERROR(VLOOKUP(D85,Mitarbeiter!$C$6:$I$13,3,FALSE),"") -> Verkauf | G85: Frühschicht | H85: 0.25 | I85: 0.58333333 | J85: 30 | K85: =IF(OR(P85="Urlaub",P85="Krankheit",P85="Frei",P85="Feiertag"),0,IF(OR(H85="",I85=""),0,ROUND((MOD(I85-H85,1)*24)-(J85/60),2))) -> 7.5 | L85: =IFERROR(VLOOKUP(D85,Mitarbeiter!$C$6:$I$13,6,FALSE),0) -> 8 | M85: =K85-L85 -> -0.5 | N85: =IFERROR(VLOOKUP(D85,Mitarbeiter!$C$6:$I$13,7,FALSE),0) -> 18.5 | O85: =K85*N85 -> 138.75 | Q85: Bestätigt | R85: =IF(P85<>"","Ruhetag / Abwesenheit",IF(M85>2,"Überstunden",IF(M85<-2,"Unter Soll","OK"))) -> OK
A86: 46098 | B86: =TEXT(A86,"dddd") -> martes | C86: =_xludf.ISOWEEKNUM(A86) -> #NAME? | D86: David Braun | E86: =IFERROR(VLOOKUP(D86,Mitarbeiter!$C$6:$I$13,2,FALSE),"") -> Mitarbeiter | F86: =IFERROR(VLOOKUP(D86,Mitarbeiter!$C$6:$I$13,3,FALSE),"") -> Lager | G86: Spätschicht | H86: 0.58333333 | I86: 0.91666667 | J86: 30 | K86: =IF(OR(P86="Urlaub",P86="Krankheit",P86="Frei",P86="Feiertag"),0,IF(OR(H86="",I86=""),0,ROUND((MOD(I86-H86,1)*24)-(J86/60),2))) -> 7.5 | L86: =IFERROR(VLOOKUP(D86,Mitarbeiter!$C$6:$I$13,6,FALSE),0) -> 8 | M86: =K86-L86 -> -0.5 | N86: =IFERROR(VLOOKUP(D86,Mitarbeiter!$C$6:$I$13,7,FALSE),0) -> 19.2 | O86: =K86*N86 -> 144 | Q86: Bestätigt | R86: =IF(P86<>"","Ruhetag / Abwesenheit",IF(M86>2,"Überstunden",IF(M86<-2,"Unter Soll","OK"))) -> OK
A87: 46098 | B87: =TEXT(A87,"dddd") -> martes | C87: =_xludf.ISOWEEKNUM(A87) -> #NAME? | D87: Emma Fischer | E87: =IFERROR(VLOOKUP(D87,Mitarbeiter!$C$6:$I$13,2,FALSE),"") -> Verwaltung | F87: =IFERROR(VLOOKUP(D87,Mitarbeiter!$C$6:$I$13,3,FALSE),"") -> Büro | G87: Büro | H87: 0.375 | I87: 0.70833333 | J87: 60 | K87: =IF(OR(P87="Urlaub",P87="Krankheit",P87="Frei",P87="Feiertag"),0,IF(OR(H87="",I87=""),0,ROUND((MOD(I87-H87,1)*24)-(J87/60),2))) -> 7 | L87: =IFERROR(VLOOKUP(D87,Mitarbeiter!$C$6:$I$13,6,FALSE),0) -> 7.6 | M87: =K87-L87 -> -0.6 | N87: =IFERROR(VLOOKUP(D87,Mitarbeiter!$C$6:$I$13,7,FALSE),0) -> 22 | O87: =K87*N87 -> 154 | Q87: Bestätigt | R87: =IF(P87<>"","Ruhetag / Abwesenheit",IF(M87>2,"Überstunden",IF(M87<-2,"Unter Soll","OK"))) -> OK
A88: 46098 | B88: =TEXT(A88,"dddd") -> martes | C88: =_xludf.ISOWEEKNUM(A88) -> #NAME? | D88: Jonas Meyer | E88: =IFERROR(VLOOKUP(D88,Mitarbeiter!$C$6:$I$13,2,FALSE),"") -> Mitarbeiter | F88: =IFERROR(VLOOKUP(D88,Mitarbeiter!$C$6:$I$13,3,FALSE),"") -> Produktion | G88: Nachtschicht | H88: 0.91666667 | I88: 0.25 | J88: 45 | K88: =IF(OR(P88="Urlaub",P88="Krankheit",P88="Frei",P88="Feiertag"),0,IF(OR(H88="",I88=""),0,ROUND((MOD(I88-H88,1)*24)-(J88/60),2))) -> 7.25 | L88: =IFERROR(VLOOKUP(D88,Mitarbeiter!$C$6:$I$13,6,FALSE),0) -> 8 | M88: =K88-L88 -> -0.75 | N88: =IFERROR(VLOOKUP(D88,Mitarbeiter!$C$6:$I$13,7,FALSE),0) -> 19.8 | O88: =K88*N88 -> 143.55 | Q88: Bestätigt | R88: =IF(P88<>"","Ruhetag / Abwesenheit",IF(M88>2,"Überstunden",IF(M88<-2,"Unter Soll","OK"))) -> OK
A89: 46098 | B89: =TEXT(A89,"dddd") -> martes | C89: =_xludf.ISOWEEKNUM(A89) -> #NAME? | D89: Clara Hoffmann | E89: =IFERROR(VLOOKUP(D89,Mitarbeiter!$C$6:$I$13,2,FALSE),"") -> Mitarbeiter | F89: =IFERROR(VLOOKUP(D89,Mitarbeiter!$C$6:$I$13,3,FALSE),"") -> Service | G89: Teilzeit | H89: 0.375 | I89: 0.58333333 | J89: 0 | K89: =IF(OR(P89="Urlaub",P89="Krankheit",P89="Frei",P89="Feiertag"),0,IF(OR(H89="",I89=""),0,ROUND((MOD(I89-H89,1)*24)-(J89/60),2))) -> 5 | L89: =IFERROR(VLOOKUP(D89,Mitarbeiter!$C$6:$I$13,6,FALSE),0) -> 5 | M89: =K89-L89 -> 0 | N89: =IFERROR(VLOOKUP(D89,Mitarbeiter!$C$6:$I$13,7,FALSE),0) -> 17.8 | O89: =K89*N89 -> 89 | Q89: Bestätigt | R89: =IF(P89<>"","Ruhetag / Abwesenheit",IF(M89>2,"Überstunden",IF(M89<-2,"Unter Soll","OK"))) -> OK
A90: 46098 | B90: =TEXT(A90,"dddd") -> martes | C90: =_xludf.ISOWEEKNUM(A90) -> #NAME? | D90: Felix Wagner | E90: =IFERROR(VLOOKUP(D90,Mitarbeiter!$C$6:$I$13,2,FALSE),"") -> Aushilfe | F90: =IFERROR(VLOOKUP(D90,Mitarbeiter!$C$6:$I$13,3,FALSE),"") -> Service | G90: Frei | J90: 0 | K90: =IF(OR(P90="Urlaub",P90="Krankheit",P90="Frei",P90="Feiertag"),0,IF(OR(H90="",I90=""),0,ROUND((MOD(I90-H90,1)*24)-(J90/60),2))) -> 0 | L90: =IFERROR(VLOOKUP(D90,Mitarbeiter!$C$6:$I$13,6,FALSE),0) -> 4 | M90: =K90-L90 -> -4 | N90: =IFERROR(VLOOKUP(D90,Mitarbeiter!$C$6:$I$13,7,FALSE),0) -> 15 | O90: =K90*N90 -> 0 | P90: Krankheit | Q90: Offen | R90: =IF(P90<>"","Ruhetag / Abwesenheit",IF(M90>2,"Überstunden",IF(M90<-2,"Unter Soll","OK"))) -> Ruhetag / Abwesenheit
A91: 46099 | B91: =TEXT(A91,"dddd") -> miércoles | C91: =_xludf.ISOWEEKNUM(A91) -> #NAME? | D91: Anna Keller | E91: =IFERROR(VLOOKUP(D91,Mitarbeiter!$C$6:$I$13,2,FALSE),"") -> Teamleitung | F91: =IFERROR(VLOOKUP(D91,Mitarbeiter!$C$6:$I$13,3,FALSE),"") -> Verkauf | G91: Frühschicht | H91: 0.25 | I91: 0.58333333 | J91: 30 | K91: =IF(OR(P91="Urlaub",P91="Krankheit",P91="Frei",P91="Feiertag"),0,IF(OR(H91="",I91=""),0,ROUND((MOD(I91-H91,1)*24)-(J91/60),2))) -> 7.5 | L91: =IFERROR(VLOOKUP(D91,Mitarbeiter!$C$6:$I$13,6,FALSE),0) -> 8 | M91: =K91-L91 -> -0.5 | N91: =IFERROR(VLOOKUP(D91,Mitarbeiter!$C$6:$I$13,7,FALSE),0) -> 24.5 | O91: =K91*N91 -> 183.75 | Q91: Bestätigt | R91: =IF(P91<>"","Ruhetag / Abwesenheit",IF(M91>2,"Überstunden",IF(M91<-2,"Unter Soll","OK"))) -> OK
A92: 46099 | B92: =TEXT(A92,"dddd") -> miércoles | C92: =_xludf.ISOWEEKNUM(A92) -> #NAME? | D92: Ben Schneider | E92: =IFERROR(VLOOKUP(D92,Mitarbeiter!$C$6:$I$13,2,FALSE),"") -> Mitarbeiter | F92: =IFERROR(VLOOKUP(D92,Mitarbeiter!$C$6:$I$13,3,FALSE),"") -> Verkauf | G92: Frühschicht | H92: 0.25 | I92: 0.58333333 | J92: 30 | K92: =IF(OR(P92="Urlaub",P92="Krankheit",P92="Frei",P92="Feiertag"),0,IF(OR(H92="",I92=""),0,ROUND((MOD(I92-H92,1)*24)-(J92/60),2))) -> 7.5 | L92: =IFERROR(VLOOKUP(D92,Mitarbeiter!$C$6:$I$13,6,FALSE),0) -> 8 | M92: =K92-L92 -> -0.5 | N92: =IFERROR(VLOOKUP(D92,Mitarbeiter!$C$6:$I$13,7,FALSE),0) -> 18.5 | O92: =K92*N92 -> 138.75 | Q92: Bestätigt | R92: =IF(P92<>"","Ruhetag / Abwesenheit",IF(M92>2,"Überstunden",IF(M92<-2,"Unter Soll","OK"))) -> OK
A93: 46099 | B93: =TEXT(A93,"dddd") -> miércoles | C93: =_xludf.ISOWEEKNUM(A93) -> #NAME? | D93: David Braun | E93: =IFERROR(VLOOKUP(D93,Mitarbeiter!$C$6:$I$13,2,FALSE),"") -> Mitarbeiter | F93: =IFERROR(VLOOKUP(D93,Mitarbeiter!$C$6:$I$13,3,FALSE),"") -> Lager | G93: Spätschicht | H93: 0.58333333 | I93: 0.91666667 | J93: 30 | K93: =IF(OR(P93="Urlaub",P93="Krankheit",P93="Frei",P93="Feiertag"),0,IF(OR(H93="",I93=""),0,ROUND((MOD(I93-H93,1)*24)-(J93/60),2))) -> 7.5 | L93: =IFERROR(VLOOKUP(D93,Mitarbeiter!$C$6:$I$13,6,FALSE),0) -> 8 | M93: =K93-L93 -> -0.5 | N93: =IFERROR(VLOOKUP(D93,Mitarbeiter!$C$6:$I$13,7,FALSE),0) -> 19.2 | O93: =K93*N93 -> 144 | Q93: Bestätigt | R93: =IF(P93<>"","Ruhetag / Abwesenheit",IF(M93>2,"Überstunden",IF(M93<-2,"Unter Soll","OK"))) -> OK
A94: 46099 | B94: =TEXT(A94,"dddd") -> miércoles | C94: =_xludf.ISOWEEKNUM(A94) -> #NAME? | D94: Emma Fischer | E94: =IFERROR(VLOOKUP(D94,Mitarbeiter!$C$6:$I$13,2,FALSE),"") -> Verwaltung | F94: =IFERROR(VLOOKUP(D94,Mitarbeiter!$C$6:$I$13,3,FALSE),"") -> Büro | G94: Büro | H94: 0.375 | I94: 0.70833333 | J94: 60 | K94: =IF(OR(P94="Urlaub",P94="Krankheit",P94="Frei",P94="Feiertag"),0,IF(OR(H94="",I94=""),0,ROUND((MOD(I94-H94,1)*24)-(J94/60),2))) -> 7 | L94: =IFERROR(VLOOKUP(D94,Mitarbeiter!$C$6:$I$13,6,FALSE),0) -> 7.6 | M94: =K94-L94 -> -0.6 | N94: =IFERROR(VLOOKUP(D94,Mitarbeiter!$C$6:$I$13,7,FALSE),0) -> 22 | O94: =K94*N94 -> 154 | Q94: Bestätigt | R94: =IF(P94<>"","Ruhetag / Abwesenheit",IF(M94>2,"Überstunden",IF(M94<-2,"Unter Soll","OK"))) -> OK
A95: 46099 | B95: =TEXT(A95,"dddd") -> miércoles | C95: =_xludf.ISOWEEKNUM(A95) -> #NAME? | D95: Jonas Meyer | E95: =IFERROR(VLOOKUP(D95,Mitarbeiter!$C$6:$I$13,2,FALSE),"") -> Mitarbeiter | F95: =IFERROR(VLOOKUP(D95,Mitarbeiter!$C$6:$I$13,3,FALSE),"") -> Produktion | G95: Frühschicht | H95: 0.25 | I95: 0.58333333 | J95: 30 | K95: =IF(OR(P95="Urlaub",P95="Krankheit",P95="Frei",P95="Feiertag"),0,IF(OR(H95="",I95=""),0,ROUND((MOD(I95-H95,1)*24)-(J95/60),2))) -> 7.5 | L95: =IFERROR(VLOOKUP(D95,Mitarbeiter!$C$6:$I$13,6,FALSE),0) -> 8 | M95: =K95-L95 -> -0.5 | N95: =IFERROR(VLOOKUP(D95,Mitarbeiter!$C$6:$I$13,7,FALSE),0) -> 19.8 | O95: =K95*N95 -> 148.5 | Q95: Bestätigt | R95: =IF(P95<>"","Ruhetag / Abwesenheit",IF(M95>2,"Überstunden",IF(M95<-2,"Unter Soll","OK"))) -> OK
A96: 46100 | B96: =TEXT(A96,"dddd") -> jueves | C96: =_xludf.ISOWEEKNUM(A96) -> #NAME? | D96: Anna Keller | E96: =IFERROR(VLOOKUP(D96,Mitarbeiter!$C$6:$I$13,2,FALSE),"") -> Teamleitung | F96: =IFERROR(VLOOKUP(D96,Mitarbeiter!$C$6:$I$13,3,FALSE),"") -> Verkauf | G96: Frühschicht | H96: 0.25 | I96: 0.58333333 | J96: 30 | K96: =IF(OR(P96="Urlaub",P96="Krankheit",P96="Frei",P96="Feiertag"),0,IF(OR(H96="",I96=""),0,ROUND((MOD(I96-H96,1)*24)-(J96/60),2))) -> 7.5 | L96: =IFERROR(VLOOKUP(D96,Mitarbeiter!$C$6:$I$13,6,FALSE),0) -> 8 | M96: =K96-L96 -> -0.5 | N96: =IFERROR(VLOOKUP(D96,Mitarbeiter!$C$6:$I$13,7,FALSE),0) -> 24.5 | O96: =K96*N96 -> 183.75 | Q96: Bestätigt | R96: =IF(P96<>"","Ruhetag / Abwesenheit",IF(M96>2,"Überstunden",IF(M96<-2,"Unter Soll","OK"))) -> OK
A97: 46100 | B97: =TEXT(A97,"dddd") -> jueves | C97: =_xludf.ISOWEEKNUM(A97) -> #NAME? | D97: Ben Schneider | E97: =IFERROR(VLOOKUP(D97,Mitarbeiter!$C$6:$I$13,2,FALSE),"") -> Mitarbeiter | F97: =IFERROR(VLOOKUP(D97,Mitarbeiter!$C$6:$I$13,3,FALSE),"") -> Verkauf | G97: Frühschicht | H97: 0.25 | I97: 0.58333333 | J97: 30 | K97: =IF(OR(P97="Urlaub",P97="Krankheit",P97="Frei",P97="Feiertag"),0,IF(OR(H97="",I97=""),0,ROUND((MOD(I97-H97,1)*24)-(J97/60),2))) -> 7.5 | L97: =IFERROR(VLOOKUP(D97,Mitarbeiter!$C$6:$I$13,6,FALSE),0) -> 8 | M97: =K97-L97 -> -0.5 | N97: =IFERROR(VLOOKUP(D97,Mitarbeiter!$C$6:$I$13,7,FALSE),0) -> 18.5 | O97: =K97*N97 -> 138.75 | Q97: Bestätigt | R97: =IF(P97<>"","Ruhetag / Abwesenheit",IF(M97>2,"Überstunden",IF(M97<-2,"Unter Soll","OK"))) -> OK
A98: 46100 | B98: =TEXT(A98,"dddd") -> jueves | C98: =_xludf.ISOWEEKNUM(A98) -> #NAME? | D98: David Braun | E98: =IFERROR(VLOOKUP(D98,Mitarbeiter!$C$6:$I$13,2,FALSE),"") -> Mitarbeiter | F98: =IFERROR(VLOOKUP(D98,Mitarbeiter!$C$6:$I$13,3,FALSE),"") -> Lager | G98: Spätschicht | H98: 0.58333333 | I98: 0.91666667 | J98: 30 | K98: =IF(OR(P98="Urlaub",P98="Krankheit",P98="Frei",P98="Feiertag"),0,IF(OR(H98="",I98=""),0,ROUND((MOD(I98-H98,1)*24)-(J98/60),2))) -> 7.5 | L98: =IFERROR(VLOOKUP(D98,Mitarbeiter!$C$6:$I$13,6,FALSE),0) -> 8 | M98: =K98-L98 -> -0.5 | N98: =IFERROR(VLOOKUP(D98,Mitarbeiter!$C$6:$I$13,7,FALSE),0) -> 19.2 | O98: =K98*N98 -> 144 | Q98: Bestätigt | R98: =IF(P98<>"","Ruhetag / Abwesenheit",IF(M98>2,"Überstunden",IF(M98<-2,"Unter Soll","OK"))) -> OK
A99: 46100 | B99: =TEXT(A99,"dddd") -> jueves | C99: =_xludf.ISOWEEKNUM(A99) -> #NAME? | D99: Emma Fischer | E99: =IFERROR(VLOOKUP(D99,Mitarbeiter!$C$6:$I$13,2,FALSE),"") -> Verwaltung | F99: =IFERROR(VLOOKUP(D99,Mitarbeiter!$C$6:$I$13,3,FALSE),"") -> Büro | G99: Büro | H99: 0.375 | I99: 0.70833333 | J99: 60 | K99: =IF(OR(P99="Urlaub",P99="Krankheit",P99="Frei",P99="Feiertag"),0,IF(OR(H99="",I99=""),0,ROUND((MOD(I99-H99,1)*24)-(J99/60),2))) -> 7 | L99: =IFERROR(VLOOKUP(D99,Mitarbeiter!$C$6:$I$13,6,FALSE),0) -> 7.6 | M99: =K99-L99 -> -0.6 | N99: =IFERROR(VLOOKUP(D99,Mitarbeiter!$C$6:$I$13,7,FALSE),0) -> 22 | O99: =K99*N99 -> 154 | Q99: Bestätigt | R99: =IF(P99<>"","Ruhetag / Abwesenheit",IF(M99>2,"Überstunden",IF(M99<-2,"Unter Soll","OK"))) -> OK
A100: 46100 | B100: =TEXT(A100,"dddd") -> jueves | C100: =_xludf.ISOWEEKNUM(A100) -> #NAME? | D100: Jonas Meyer | E100: =IFERROR(VLOOKUP(D100,Mitarbeiter!$C$6:$I$13,2,FALSE),"") -> Mitarbeiter | F100: =IFERROR(VLOOKUP(D100,Mitarbeiter!$C$6:$I$13,3,FALSE),"") -> Produktion | G100: Frühschicht | H100: 0.25 | I100: 0.58333333 | J100: 30 | K100: =IF(OR(P100="Urlaub",P100="Krankheit",P100="Frei",P100="Feiertag"),0,IF(OR(H100="",I100=""),0,ROUND((MOD(I100-H100,1)*24)-(J100/60),2))) -> 7.5 | L100: =IFERROR(VLOOKUP(D100,Mitarbeiter!$C$6:$I$13,6,FALSE),0) -> 8 | M100: =K100-L100 -> -0.5 | N100: =IFERROR(VLOOKUP(D100,Mitarbeiter!$C$6:$I$13,7,FALSE),0) -> 19.8 | O100: =K100*N100 -> 148.5 | Q100: Bestätigt | R100: =IF(P100<>"","Ruhetag / Abwesenheit",IF(M100>2,"Überstunden",IF(M100<-2,"Unter Soll","OK"))) -> OK
A101: 46100 | B101: =TEXT(A101,"dddd") -> jueves | C101: =_xludf.ISOWEEKNUM(A101) -> #NAME? | D101: Clara Hoffmann | E101: =IFERROR(VLOOKUP(D101,Mitarbeiter!$C$6:$I$13,2,FALSE),"") -> Mitarbeiter | F101: =IFERROR(VLOOKUP(D101,Mitarbeiter!$C$6:$I$13,3,FALSE),"") -> Service | G101: Teilzeit | H101: 0.375 | I101: 0.58333333 | J101: 0 | K101: =IF(OR(P101="Urlaub",P101="Krankheit",P101="Frei",P101="Feiertag"),0,IF(OR(H101="",I101=""),0,ROUND((MOD(I101-H101,1)*24)-(J101/60),2))) -> 5 | L101: =IFERROR(VLOOKUP(D101,Mitarbeiter!$C$6:$I$13,6,FALSE),0) -> 5 | M101: =K101-L101 -> 0 | N101: =IFERROR(VLOOKUP(D101,Mitarbeiter!$C$6:$I$13,7,FALSE),0) -> 17.8 | O101: =K101*N101 -> 89 | Q101: Bestätigt | R101: =IF(P101<>"","Ruhetag / Abwesenheit",IF(M101>2,"Überstunden",IF(M101<-2,"Unter Soll","OK"))) -> OK
A102: 46101 | B102: =TEXT(A102,"dddd") -> viernes | C102: =_xludf.ISOWEEKNUM(A102) -> #NAME? | D102: Anna Keller | E102: =IFERROR(VLOOKUP(D102,Mitarbeiter!$C$6:$I$13,2,FALSE),"") -> Teamleitung | F102: =IFERROR(VLOOKUP(D102,Mitarbeiter!$C$6:$I$13,3,FALSE),"") -> Verkauf | G102: Frühschicht | H102: 0.25 | I102: 0.58333333 | J102: 30 | K102: =IF(OR(P102="Urlaub",P102="Krankheit",P102="Frei",P102="Feiertag"),0,IF(OR(H102="",I102=""),0,ROUND((MOD(I102-H102,1)*24)-(J102/60),2))) -> 7.5 | L102: =IFERROR(VLOOKUP(D102,Mitarbeiter!$C$6:$I$13,6,FALSE),0) -> 8 | M102: =K102-L102 -> -0.5 | N102: =IFERROR(VLOOKUP(D102,Mitarbeiter!$C$6:$I$13,7,FALSE),0) -> 24.5 | O102: =K102*N102 -> 183.75 | Q102: Bestätigt | R102: =IF(P102<>"","Ruhetag / Abwesenheit",IF(M102>2,"Überstunden",IF(M102<-2,"Unter Soll","OK"))) -> OK
... A120: 46105 | B120: =TEXT(A120,"dddd") -> martes | C120: =_xludf.ISOWEEKNUM(A120) -> #NAME? | D120: David Braun | E120: =IFERROR(VLOOKUP(D120,Mitarbeiter!$C$6:$I$13,2,FALSE),"") -> Mitarbeiter | F120: =IFERROR(VLOOKUP(D120,Mitarbeiter!$C$6:$I$13,3,FALSE),"") -> Lager | G120: Spätschicht | H120: 0.58333333 | I120: 0.91666667 | J120: 30 | K120: =IF(OR(P120="Urlaub",P120="Krankheit",P120="Frei",P120="Feiertag"),0,IF(OR(H120="",I120=""),0,ROUND((MOD(I120-H120,1)*24)-(J120/60),2))) -> 7.5 | L120: =IFERROR(VLOOKUP(D120,Mitarbeiter!$C$6:$I$13,6,FALSE),0) -> 8 | M120: =K120-L120 -> -0.5 | N120: =IFERROR(VLOOKUP(D120,Mitarbeiter!$C$6:$I$13,7,FALSE),0) -> 19.2 | O120: =K120*N120 -> 144 | Q120: Bestätigt | R120: =IF(P120<>"","Ruhetag / Abwesenheit",IF(M120>2,"Überstunden",IF(M120<-2,"Unter Soll","OK"))) -> OK
A121: 46105 | B121: =TEXT(A121,"dddd") -> martes | C121: =_xludf.ISOWEEKNUM(A121) -> #NAME? | D121: Emma Fischer | E121: =IFERROR(VLOOKUP(D121,Mitarbeiter!$C$6:$I$13,2,FALSE),"") -> Verwaltung | F121: =IFERROR(VLOOKUP(D121,Mitarbeiter!$C$6:$I$13,3,FALSE),"") -> Büro | G121: Büro | J121: 0 | K121: =IF(OR(P121="Urlaub",P121="Krankheit",P121="Frei",P121="Feiertag"),0,IF(OR(H121="",I121=""),0,ROUND((MOD(I121-H121,1)*24)-(J121/60),2))) -> 0 | L121: =IFERROR(VLOOKUP(D121,Mitarbeiter!$C$6:$I$13,6,FALSE),0) -> 7.6 | M121: =K121-L121 -> -7.6 | N121: =IFERROR(VLOOKUP(D121,Mitarbeiter!$C$6:$I$13,7,FALSE),0) -> 22 | O121: =K121*N121 -> 0 | P121: Fortbildung | Q121: Bestätigt | R121: =IF(P121<>"","Ruhetag / Abwesenheit",IF(M121>2,"Überstunden",IF(M121<-2,"Unter Soll","OK"))) -> Ruhetag / Abwesenheit
A122: 46105 | B122: =TEXT(A122,"dddd") -> martes | C122: =_xludf.ISOWEEKNUM(A122) -> #NAME? | D122: Jonas Meyer | E122: =IFERROR(VLOOKUP(D122,Mitarbeiter!$C$6:$I$13,2,FALSE),"") -> Mitarbeiter | F122: =IFERROR(VLOOKUP(D122,Mitarbeiter!$C$6:$I$13,3,FALSE),"") -> Produktion | G122: Frühschicht | H122: 0.25 | I122: 0.58333333 | J122: 30 | K122: =IF(OR(P122="Urlaub",P122="Krankheit",P122="Frei",P122="Feiertag"),0,IF(OR(H122="",I122=""),0,ROUND((MOD(I122-H122,1)*24)-(J122/60),2))) -> 7.5 | L122: =IFERROR(VLOOKUP(D122,Mitarbeiter!$C$6:$I$13,6,FALSE),0) -> 8 | M122: =K122-L122 -> -0.5 | N122: =IFERROR(VLOOKUP(D122,Mitarbeiter!$C$6:$I$13,7,FALSE),0) -> 19.8 | O122: =K122*N122 -> 148.5 | Q122: Bestätigt | R122: =IF(P122<>"","Ruhetag / Abwesenheit",IF(M122>2,"Überstunden",IF(M122<-2,"Unter Soll","OK"))) -> OK
A123: 46105 | B123: =TEXT(A123,"dddd") -> martes | C123: =_xludf.ISOWEEKNUM(A123) -> #NAME? | D123: Clara Hoffmann | E123: =IFERROR(VLOOKUP(D123,Mitarbeiter!$C$6:$I$13,2,FALSE),"") -> Mitarbeiter | F123: =IFERROR(VLOOKUP(D123,Mitarbeiter!$C$6:$I$13,3,FALSE),"") -> Service | G123: Teilzeit | H123: 0.375 | I123: 0.58333333 | J123: 0 | K123: =IF(OR(P123="Urlaub",P123="Krankheit",P123="Frei",P123="Feiertag"),0,IF(OR(H123="",I123=""),0,ROUND((MOD(I123-H123,1)*24)-(J123/60),2))) -> 5 | L123: =IFERROR(VLOOKUP(D123,Mitarbeiter!$C$6:$I$13,6,FALSE),0) -> 5 | M123: =K123-L123 -> 0 | N123: =IFERROR(VLOOKUP(D123,Mitarbeiter!$C$6:$I$13,7,FALSE),0) -> 17.8 | O123: =K123*N123 -> 89 | Q123: Bestätigt | R123: =IF(P123<>"","Ruhetag / Abwesenheit",IF(M123>2,"Überstunden",IF(M123<-2,"Unter Soll","OK"))) -> OK
A124: 46106 | B124: =TEXT(A124,"dddd") -> miércoles | C124: =_xludf.ISOWEEKNUM(A124) -> #NAME? | D124: Anna Keller | E124: =IFERROR(VLOOKUP(D124,Mitarbeiter!$C$6:$I$13,2,FALSE),"") -> Teamleitung | F124: =IFERROR(VLOOKUP(D124,Mitarbeiter!$C$6:$I$13,3,FALSE),"") -> Verkauf | G124: Frühschicht | H124: 0.25 | I124: 0.58333333 | J124: 30 | K124: =IF(OR(P124="Urlaub",P124="Krankheit",P124="Frei",P124="Feiertag"),0,IF(OR(H124="",I124=""),0,ROUND((MOD(I124-H124,1)*24)-(J124/60),2))) -> 7.5 | L124: =IFERROR(VLOOKUP(D124,Mitarbeiter!$C$6:$I$13,6,FALSE),0) -> 8 | M124: =K124-L124 -> -0.5 | N124: =IFERROR(VLOOKUP(D124,Mitarbeiter!$C$6:$I$13,7,FALSE),0) -> 24.5 | O124: =K124*N124 -> 183.75 | Q124: Bestätigt | R124: =IF(P124<>"","Ruhetag / Abwesenheit",IF(M124>2,"Überstunden",IF(M124<-2,"Unter Soll","OK"))) -> OK
A125: 46106 | B125: =TEXT(A125,"dddd") -> miércoles | C125: =_xludf.ISOWEEKNUM(A125) -> #NAME? | D125: Ben Schneider | E125: =IFERROR(VLOOKUP(D125,Mitarbeiter!$C$6:$I$13,2,FALSE),"") -> Mitarbeiter | F125: =IFERROR(VLOOKUP(D125,Mitarbeiter!$C$6:$I$13,3,FALSE),"") -> Verkauf | G125: Frühschicht | H125: 0.25 | I125: 0.66666667 | J125: 30 | K125: =IF(OR(P125="Urlaub",P125="Krankheit",P125="Frei",P125="Feiertag"),0,IF(OR(H125="",I125=""),0,ROUND((MOD(I125-H125,1)*24)-(J125/60),2))) -> 9.5 | L125: =IFERROR(VLOOKUP(D125,Mitarbeiter!$C$6:$I$13,6,FALSE),0) -> 8 | M125: =K125-L125 -> 1.5 | N125: =IFERROR(VLOOKUP(D125,Mitarbeiter!$C$6:$I$13,7,FALSE),0) -> 18.5 | O125: =K125*N125 -> 175.75 | Q125: Bestätigt | R125: =IF(P125<>"","Ruhetag / Abwesenheit",IF(M125>2,"Überstunden",IF(M125<-2,"Unter Soll","OK"))) -> OK
A126: 46106 | B126: =TEXT(A126,"dddd") -> miércoles | C126: =_xludf.ISOWEEKNUM(A126) -> #NAME? | D126: David Braun | E126: =IFERROR(VLOOKUP(D126,Mitarbeiter!$C$6:$I$13,2,FALSE),"") -> Mitarbeiter | F126: =IFERROR(VLOOKUP(D126,Mitarbeiter!$C$6:$I$13,3,FALSE),"") -> Lager | G126: Spätschicht | H126: 0.58333333 | I126: 0.91666667 | J126: 30 | K126: =IF(OR(P126="Urlaub",P126="Krankheit",P126="Frei",P126="Feiertag"),0,IF(OR(H126="",I126=""),0,ROUND((MOD(I126-H126,1)*24)-(J126/60),2))) -> 7.5 | L126: =IFERROR(VLOOKUP(D126,Mitarbeiter!$C$6:$I$13,6,FALSE),0) -> 8 | M126: =K126-L126 -> -0.5 | N126: =IFERROR(VLOOKUP(D126,Mitarbeiter!$C$6:$I$13,7,FALSE),0) -> 19.2 | O126: =K126*N126 -> 144 | Q126: Bestätigt | R126: =IF(P126<>"","Ruhetag / Abwesenheit",IF(M126>2,"Überstunden",IF(M126<-2,"Unter Soll","OK"))) -> OK
A127: 46106 | B127: =TEXT(A127,"dddd") -> miércoles | C127: =_xludf.ISOWEEKNUM(A127) -> #NAME? | D127: Emma Fischer | E127: =IFERROR(VLOOKUP(D127,Mitarbeiter!$C$6:$I$13,2,FALSE),"") -> Verwaltung | F127: =IFERROR(VLOOKUP(D127,Mitarbeiter!$C$6:$I$13,3,FALSE),"") -> Büro | G127: Büro | H127: 0.375 | I127: 0.70833333 | J127: 60 | K127: =IF(OR(P127="Urlaub",P127="Krankheit",P127="Frei",P127="Feiertag"),0,IF(OR(H127="",I127=""),0,ROUND((MOD(I127-H127,1)*24)-(J127/60),2))) -> 7 | L127: =IFERROR(VLOOKUP(D127,Mitarbeiter!$C$6:$I$13,6,FALSE),0) -> 7.6 | M127: =K127-L127 -> -0.6 | N127: =IFERROR(VLOOKUP(D127,Mitarbeiter!$C$6:$I$13,7,FALSE),0) -> 22 | O127: =K127*N127 -> 154 | Q127: Bestätigt | R127: =IF(P127<>"","Ruhetag / Abwesenheit",IF(M127>2,"Überstunden",IF(M127<-2,"Unter Soll","OK"))) -> OK
A128: 46106 | B128: =TEXT(A128,"dddd") -> miércoles | C128: =_xludf.ISOWEEKNUM(A128) -> #NAME? | D128: Jonas Meyer | E128: =IFERROR(VLOOKUP(D128,Mitarbeiter!$C$6:$I$13,2,FALSE),"") -> Mitarbeiter | F128: =IFERROR(VLOOKUP(D128,Mitarbeiter!$C$6:$I$13,3,FALSE),"") -> Produktion | G128: Frühschicht | H128: 0.25 | I128: 0.58333333 | J128: 30 | K128: =IF(OR(P128="Urlaub",P128="Krankheit",P128="Frei",P128="Feiertag"),0,IF(OR(H128="",I128=""),0,ROUND((MOD(I128-H128,1)*24)-(J128/60),2))) -> 7.5 | L128: =IFERROR(VLOOKUP(D128,Mitarbeiter!$C$6:$I$13,6,FALSE),0) -> 8 | M128: =K128-L128 -> -0.5 | N128: =IFERROR(VLOOKUP(D128,Mitarbeiter!$C$6:$I$13,7,FALSE),0) -> 19.8 | O128: =K128*N128 -> 148.5 | Q128: Bestätigt | R128: =IF(P128<>"","Ruhetag / Abwesenheit",IF(M128>2,"Überstunden",IF(M128<-2,"Unter Soll","OK"))) -> OK
A129: 46106 | B129: =TEXT(A129,"dddd") -> miércoles | C129: =_xludf.ISOWEEKNUM(A129) -> #NAME? | D129: Hannah Weber | E129: =IFERROR(VLOOKUP(D129,Mitarbeiter!$C$6:$I$13,2,FALSE),"") -> Mitarbeiter | F129: =IFERROR(VLOOKUP(D129,Mitarbeiter!$C$6:$I$13,3,FALSE),"") -> Pflege | G129: Frühschicht | H129: 0.29166667 | I129: 0.54166667 | J129: 30 | K129: =IF(OR(P129="Urlaub",P129="Krankheit",P129="Frei",P129="Feiertag"),0,IF(OR(H129="",I129=""),0,ROUND((MOD(I129-H129,1)*24)-(J129/60),2))) -> 5.5 | L129: =IFERROR(VLOOKUP(D129,Mitarbeiter!$C$6:$I$13,6,FALSE),0) -> 6 | M129: =K129-L129 -> -0.5 | N129: =IFERROR(VLOOKUP(D129,Mitarbeiter!$C$6:$I$13,7,FALSE),0) -> 20.5 | O129: =K129*N129 -> 112.75 | Q129: Bestätigt | R129: =IF(P129<>"","Ruhetag / Abwesenheit",IF(M129>2,"Überstunden",IF(M129<-2,"Unter Soll","OK"))) -> OK
A130: 46107 | B130: =TEXT(A130,"dddd") -> jueves | C130: =_xludf.ISOWEEKNUM(A130) -> #NAME? | D130: Anna Keller | E130: =IFERROR(VLOOKUP(D130,Mitarbeiter!$C$6:$I$13,2,FALSE),"") -> Teamleitung | F130: =IFERROR(VLOOKUP(D130,Mitarbeiter!$C$6:$I$13,3,FALSE),"") -> Verkauf | G130: Frühschicht | H130: 0.25 | I130: 0.58333333 | J130: 30 | K130: =IF(OR(P130="Urlaub",P130="Krankheit",P130="Frei",P130="Feiertag"),0,IF(OR(H130="",I130=""),0,ROUND((MOD(I130-H130,1)*24)-(J130/60),2))) -> 7.5 | L130: =IFERROR(VLOOKUP(D130,Mitarbeiter!$C$6:$I$13,6,FALSE),0) -> 8 | M130: =K130-L130 -> -0.5 | N130: =IFERROR(VLOOKUP(D130,Mitarbeiter!$C$6:$I$13,7,FALSE),0) -> 24.5 | O130: =K130*N130 -> 183.75 | Q130: Bestätigt | R130: =IF(P130<>"","Ruhetag / Abwesenheit",IF(M130>2,"Überstunden",IF(M130<-2,"Unter Soll","OK"))) -> OK
A131: 46107 | B131: =TEXT(A131,"dddd") -> jueves | C131: =_xludf.ISOWEEKNUM(A131) -> #NAME? | D131: Ben Schneider | E131: =IFERROR(VLOOKUP(D131,Mitarbeiter!$C$6:$I$13,2,FALSE),"") -> Mitarbeiter | F131: =IFERROR(VLOOKUP(D131,Mitarbeiter!$C$6:$I$13,3,FALSE),"") -> Verkauf | G131: Frühschicht | H131: 0.25 | I131: 0.58333333 | J131: 30 | K131: =IF(OR(P131="Urlaub",P131="Krankheit",P131="Frei",P131="Feiertag"),0,IF(OR(H131="",I131=""),0,ROUND((MOD(I131-H131,1)*24)-(J131/60),2))) -> 7.5 | L131: =IFERROR(VLOOKUP(D131,Mitarbeiter!$C$6:$I$13,6,FALSE),0) -> 8 | M131: =K131-L131 -> -0.5 | N131: =IFERROR(VLOOKUP(D131,Mitarbeiter!$C$6:$I$13,7,FALSE),0) -> 18.5 | O131: =K131*N131 -> 138.75 | Q131: Bestätigt | R131: =IF(P131<>"","Ruhetag / Abwesenheit",IF(M131>2,"Überstunden",IF(M131<-2,"Unter Soll","OK"))) -> OK
A132: 46107 | B132: =TEXT(A132,"dddd") -> jueves | C132: =_xludf.ISOWEEKNUM(A132) -> #NAME? | D132: David Braun | E132: =IFERROR(VLOOKUP(D132,Mitarbeiter!$C$6:$I$13,2,FALSE),"") -> Mitarbeiter | F132: =IFERROR(VLOOKUP(D132,Mitarbeiter!$C$6:$I$13,3,FALSE),"") -> Lager | G132: Spätschicht | H132: 0.58333333 | I132: 0.91666667 | J132: 30 | K132: =IF(OR(P132="Urlaub",P132="Krankheit",P132="Frei",P132="Feiertag"),0,IF(OR(H132="",I132=""),0,ROUND((MOD(I132-H132,1)*24)-(J132/60),2))) -> 7.5 | L132: =IFERROR(VLOOKUP(D132,Mitarbeiter!$C$6:$I$13,6,FALSE),0) -> 8 | M132: =K132-L132 -> -0.5 | N132: =IFERROR(VLOOKUP(D132,Mitarbeiter!$C$6:$I$13,7,FALSE),0) -> 19.2 | O132: =K132*N132 -> 144 | Q132: Bestätigt | R132: =IF(P132<>"","Ruhetag / Abwesenheit",IF(M132>2,"Überstunden",IF(M132<-2,"Unter Soll","OK"))) -> OK
A133: 46107 | B133: =TEXT(A133,"dddd") -> jueves | C133: =_xludf.ISOWEEKNUM(A133) -> #NAME? | D133: Emma Fischer | E133: =IFERROR(VLOOKUP(D133,Mitarbeiter!$C$6:$I$13,2,FALSE),"") -> Verwaltung | F133: =IFERROR(VLOOKUP(D133,Mitarbeiter!$C$6:$I$13,3,FALSE),"") -> Büro | G133: Büro | H133: 0.375 | I133: 0.70833333 | J133: 60 | K133: =IF(OR(P133="Urlaub",P133="Krankheit",P133="Frei",P133="Feiertag"),0,IF(OR(H133="",I133=""),0,ROUND((MOD(I133-H133,1)*24)-(J133/60),2))) -> 7 | L133: =IFERROR(VLOOKUP(D133,Mitarbeiter!$C$6:$I$13,6,FALSE),0) -> 7.6 | M133: =K133-L133 -> -0.6 | N133: =IFERROR(VLOOKUP(D133,Mitarbeiter!$C$6:$I$13,7,FALSE),0) -> 22 | O133: =K133*N133 -> 154 | Q133: Bestätigt | R133: =IF(P133<>"","Ruhetag / Abwesenheit",IF(M133>2,"Überstunden",IF(M133<-2,"Unter Soll","OK"))) -> OK
... A157: 46112 | B157: =TEXT(A157,"dddd") -> martes | C157: =_xludf.ISOWEEKNUM(A157) -> #NAME? | D157: Clara Hoffmann | E157: =IFERROR(VLOOKUP(D157,Mitarbeiter!$C$6:$I$13,2,FALSE),"") -> Mitarbeiter | F157: =IFERROR(VLOOKUP(D157,Mitarbeiter!$C$6:$I$13,3,FALSE),"") -> Service | G157: Teilzeit | H157: 0.375 | I157: 0.58333333 | J157: 0 | K157: =IF(OR(P157="Urlaub",P157="Krankheit",P157="Frei",P157="Feiertag"),0,IF(OR(H157="",I157=""),0,ROUND((MOD(I157-H157,1)*24)-(J157/60),2))) -> 5 | L157: =IFERROR(VLOOKUP(D157,Mitarbeiter!$C$6:$I$13,6,FALSE),0) -> 5 | M157: =K157-L157 -> 0 | N157: =IFERROR(VLOOKUP(D157,Mitarbeiter!$C$6:$I$13,7,FALSE),0) -> 17.8 | O157: =K157*N157 -> 89 | Q157: Bestätigt | R157: =IF(P157<>"","Ruhetag / Abwesenheit",IF(M157>2,"Überstunden",IF(M157<-2,"Unter Soll","OK"))) -> OK

Sheet Mitarbeiter
A1: Mitarbeiterdaten
A2: Stammdaten für die Planung. Diese Werte steuern Rollen, Soll-Stunden und Stundenlöhne im Arbeitsplan.
A5: Aktiv | B5: Mitarbeiter-ID | C5: Mitarbeiter | D5: Rolle | E5: Bereich | F5: Beschäftigungsart | G5: Soll-Stunden pro Woche | H5: Soll-Stunden pro Tag | I5: Stundenlohn | J5: Eintrittsdatum | K5: E-Mail | L5: Telefon | M5: Notizen
A6: Ja | B6: M001 | C6: Anna Keller | D6: Teamleitung | E6: Verkauf | F6: Vollzeit | G6: 40 | H6: 8 | I6: 24.5 | J6: 44571 | K6: anna.keller@example.de | L6: +49 441 100001 | M6: Teamleitung Verkauf
A7: Ja | B7: M002 | C7: Ben Schneider | D7: Mitarbeiter | E7: Verkauf | F7: Vollzeit | G7: 40 | H7: 8 | I7: 18.5 | J7: 44409 | K7: ben.schneider@example.de | L7: +49 441 100002
A8: Ja | B8: M003 | C8: Clara Hoffmann | D8: Mitarbeiter | E8: Service | F8: Teilzeit | G8: 25 | H8: 5 | I8: 17.8 | J8: 45031 | K8: clara.hoffmann@example.de | L8: +49 441 100003 | M8: Teilzeit vormittags
A9: Ja | B9: M004 | C9: David Braun | D9: Mitarbeiter | E9: Lager | F9: Vollzeit | G9: 40 | H9: 8 | I9: 19.2 | J9: 44136 | K9: david.braun@example.de | L9: +49 441 100004
A10: Ja | B10: M005 | C10: Emma Fischer | D10: Verwaltung | E10: Büro | F10: Vollzeit | G10: 38 | H10: 7.6 | I10: 22 | J10: 44713 | K10: emma.fischer@example.de | L10: +49 441 100005 | M10: Bürozeiten
A11: Ja | B11: M006 | C11: Felix Wagner | D11: Aushilfe | E11: Service | F11: Minijob | G11: 12 | H11: 4 | I11: 15 | J11: 45323 | K11: felix.wagner@example.de | L11: +49 441 100006 | M11: Wochenende möglich
A12: Ja | B12: M007 | C12: Hannah Weber | D12: Mitarbeiter | E12: Pflege | F12: Teilzeit | G12: 30 | H12: 6 | I12: 20.5 | J12: 45170 | K12: hannah.weber@example.de | L12: +49 441 100007
A13: Ja | B13: M008 | C13: Jonas Meyer | D13: Mitarbeiter | E13: Produktion | F13: Vollzeit | G13: 40 | H13: 8 | I13: 19.8 | J13: 43586 | K13: jonas.meyer@example.de | L13: +49 441 100008

Sheet Abwesenheiten
A1: Abwesenheiten
A2: Urlaub, Krankheit, Frei und weitere Abwesenheiten erfassen.
A5: Mitarbeiter | B5: Abwesenheitsart | C5: Startdatum | D5: Enddatum | E5: Tage | F5: Genehmigt | G5: Vertretung | H5: Kommentar
A6: Clara Hoffmann | B6: Urlaub | C6: 46090 | D6: 46093 | E6: =IFERROR(D6-C6+1,0) -> 4 | F6: Ja | G6: Felix Wagner | H6: Geplanter Urlaub
A7: Felix Wagner | B7: Krankheit | C7: 46097 | D7: 46098 | E7: =IFERROR(D7-C7+1,0) -> 2 | F7: Offen | G7: Clara Hoffmann | H7: Kurzfristig
A8: Emma Fischer | B8: Fortbildung | C8: 46105 | D8: 46105 | E8: =IFERROR(D8-C8+1,0) -> 1 | F8: Ja | G8: Anna Keller | H8: Seminar
A9: Jonas Meyer | B9: Frei | C9: 46087 | D9: 46087 | E9: =IFERROR(D9-C9+1,0) -> 1 | F9: Ja | G9: David Braun | H9: Freier Tag

Sheet Listen
A1: Listen
A2: Editierbare Listen für Dropdown-Felder.
A5: Schichtarten | C5: Rollen | E5: Bereiche | G5: Beschäftigungsarten | I5: Abwesenheitsarten | K5: Status | M5: JaNein | O5: Genehmigung | Q5: Monate | S5: Währungen | U5: Verantwortliche
A6: Frühschicht | C6: Teamleitung | E6: Verkauf | G6: Vollzeit | I6: Urlaub | K6: Offen | M6: Ja | O6: Ja | Q6: Januar | S6: EUR | U6: Geschäftsführung
A7: Spätschicht | C7: Mitarbeiter | E7: Service | G7: Teilzeit | I7: Krankheit | K7: Bestätigt | M7: Nein | O7: Nein | Q7: Februar | S7: CHF | U7: Teamleitung
A8: Nachtschicht | C8: Aushilfe | E8: Lager | G8: Minijob | I8: Frei | K8: Geändert | O8: Offen | Q8: März | S8: USD | U8: Personalabteilung
A9: Büro | C9: Verwaltung | E9: Büro | G9: Aushilfe | I9: Feiertag | K9: Abgesagt | Q9: April | U9: Schichtleitung
A10: Teilzeit | C10: Schichtleitung | E10: Pflege | G10: Werkstudent | I10: Fortbildung | Q10: Mai | U10: Verwaltung
A11: Frei | C11: Freelancer | E11: Produktion | G11: Freelancer | I11: Sonstiges | Q11: Juni
A12: Bereitschaft | E12: Küche | Q12: Juli
A13: Sonderdienst | E13: Reinigung | Q13: August
Q14: September
Q15: Oktober
Q16: November
Q17: Dezember
