Workbook

Sheet Lookups
A1: Auswirkung | D1: Eintrittswahrscheinlichkeit | G1: Strategie | I1: Status | K1: Kategorie | M1: Organisationseinheit
A2: Unwesentlich | B2: 1 | D2: Niedrig | E2: 1 | G2: Vermeiden | I2: Offen | K2: Strategisch | M2: Geschäftsführung
A3: Gering | B3: 2 | D3: Niedrig-Mittel | E3: 2 | G3: Vermindern | I3: In Bearbeitung | K3: Operativ | M3: Finanzen
A4: Moderat | B4: 3 | D4: Mittel | E4: 3 | G4: Übertragen | I4: Geplant | K4: Finanziell | M4: Controlling
A5: Erheblich | B5: 4 | D5: Mittel-Hoch | E5: 4 | G5: Akzeptieren | I5: Erledigt | K5: Recht/Compliance | M5: IT
A6: Katastrophal | B6: 5 | D6: Hoch | E6: 5 | I6: Akzeptiert | K6: IT/Cyber | M6: Operations
K7: Personal | M7: Einkauf
K8: Datenschutz | M8: Produktion
K9: Lieferkette | M9: Vertrieb
K10: Reputation | M10: Marketing
K11: Arbeitssicherheit | M11: HR/Personal
M12: Recht & Compliance
M13: Projektmanagement

Sheet Hinweise
B2: Risikoanalyse Excel Vorlage
B3: Generische Vorlage für Identifikation, Bewertung, Behandlung und Monitoring von Risiken
B5: Kurzanleitung
B6: 1 | C6: Stammdaten erfassen | D6: Organisationseinheit, Bearbeiter, Datum der Analyse und nächstes Review eintragen.
B7: 2 | C7: Ziel definieren | D7: Das betroffene Ziel, Projekt, Vorhaben oder den Prozess in der großen Beschreibungszelle festhalten.
B8: 3 | C8: Risiken bewerten | D8: Je Risiko Kategorie, Beschreibung, Kontrollen, Auswirkungen und Eintrittswahrscheinlichkeit auswählen. Der Risikowert wird automatisch berechnet.
B9: 4 | C9: Maßnahmen planen | D9: Strategie, Maßnahme, Verantwortliche Person und Zieltermin pflegen.
B10: 5 | C10: Nachverfolgung | D10: Im Risikoregister Residual-Risiko bewerten und Status aktualisieren.
B13: Bewertungslogik
B14: Auswirkung | C14: 1 Unwesentlich | 2 Gering | 3 Moderat | 4 Erheblich | 5 Katastrophal
B15: Eintrittswahrscheinlichkeit | C15: 1 Niedrig | 2 Niedrig-Mittel | 3 Mittel | 4 Mittel-Hoch | 5 Hoch
B16: Risikowert | C16: Risikowert = Auswirkung × Eintrittswahrscheinlichkeit
B17: Ampel | C17: 1-4 niedrig | 5-11 mittel | 12-25 hoch

Sheet Risikoanalyse
A3: Risikoanalyse
A4: Vorlage zur strukturierten Erfassung, Bewertung und Behandlung von Risiken
A5: Bereich / Einheit:
A6: Organisationseinheit: | B6: Geschäftsführung
A7: Bearbeitet von:
A8: Datum der Analyse: | B8: 46105.353
A9: Nächstes Review:
A12: Ziel / Prozess / Vorhaben: | B12: Kurz beschreiben, welches Ziel, welcher Prozess oder welches Vorhaben durch die Analyse abgedeckt wird.
I14: Risikoberechnung
A15: Risiko-ID | B15: Risikokategorie | C15: Risikobeschreibung | D15: Bestehende Kontrollen / heutige Steuerung | E15: Ursachen / Auslöser | F15: Mögliche Auswirkungen | G15: Auswirkung | H15: Eintritts- wahrscheinlichkeit | I15: Auswirkung (Wert) | J15: Wahrscheinlichkeit (Wert) | K15: Risikowert | L15: Beteiligte | M15: Strategie | N15: Maßnahme / zusätzliche Steuerung | O15: Verantwortlich | P15: Zieltermin | Q15: Status
A17: Risiko 01 | B17: Operativ | C17: Beispielhafte operative Unterbrechung | G17: Gering | H17: Niedrig-Mittel | I17: =IF(G17="","",VLOOKUP(G17,Lookups!$A$2:$B$6,2,FALSE)) -> 2 | J17: =IF(H17="","",VLOOKUP(H17,Lookups!$D$2:$E$6,2,FALSE)) -> 2 | K17: =IF(OR(I17="",J17=""),"",I17*J17) -> 4 | M17: Vermindern | Q17: Offen
A18: Risiko 02 | B18: Finanziell | C18: Beispielhafte Budgetabweichung | G18: Unwesentlich | H18: Mittel-Hoch | I18: =IF(G18="","",VLOOKUP(G18,Lookups!$A$2:$B$6,2,FALSE)) -> 1 | J18: =IF(H18="","",VLOOKUP(H18,Lookups!$D$2:$E$6,2,FALSE)) -> 4 | K18: =IF(OR(I18="",J18=""),"",I18*J18) -> 4 | M18: Akzeptieren | Q18: Offen
A19: Risiko 03 | B19: Recht/Compliance | C19: Beispielhafter Compliance-Vorfall | G19: Katastrophal | H19: Niedrig-Mittel | I19: =IF(G19="","",VLOOKUP(G19,Lookups!$A$2:$B$6,2,FALSE)) -> 5 | J19: =IF(H19="","",VLOOKUP(H19,Lookups!$D$2:$E$6,2,FALSE)) -> 2 | K19: =IF(OR(I19="",J19=""),"",I19*J19) -> 10 | M19: Vermeiden | Q19: Offen
A20: Risiko 04 | B20: IT/Cyber | C20: Beispielhafter IT-Ausfall | G20: Gering | H20: Hoch | I20: =IF(G20="","",VLOOKUP(G20,Lookups!$A$2:$B$6,2,FALSE)) -> 2 | J20: =IF(H20="","",VLOOKUP(H20,Lookups!$D$2:$E$6,2,FALSE)) -> 5 | K20: =IF(OR(I20="",J20=""),"",I20*J20) -> 10 | M20: Vermindern | Q20: In Bearbeitung
I21: =IF(G21="","",VLOOKUP(G21,Lookups!$A$2:$B$6,2,FALSE)) | J21: =IF(H21="","",VLOOKUP(H21,Lookups!$D$2:$E$6,2,FALSE)) | K21: =IF(OR(I21="",J21=""),"",I21*J21)
I22: =IF(G22="","",VLOOKUP(G22,Lookups!$A$2:$B$6,2,FALSE)) | J22: =IF(H22="","",VLOOKUP(H22,Lookups!$D$2:$E$6,2,FALSE)) | K22: =IF(OR(I22="",J22=""),"",I22*J22)
I23: =IF(G23="","",VLOOKUP(G23,Lookups!$A$2:$B$6,2,FALSE)) | J23: =IF(H23="","",VLOOKUP(H23,Lookups!$D$2:$E$6,2,FALSE)) | K23: =IF(OR(I23="",J23=""),"",I23*J23)
I24: =IF(G24="","",VLOOKUP(G24,Lookups!$A$2:$B$6,2,FALSE)) | J24: =IF(H24="","",VLOOKUP(H24,Lookups!$D$2:$E$6,2,FALSE)) | K24: =IF(OR(I24="",J24=""),"",I24*J24)
I25: =IF(G25="","",VLOOKUP(G25,Lookups!$A$2:$B$6,2,FALSE)) | J25: =IF(H25="","",VLOOKUP(H25,Lookups!$D$2:$E$6,2,FALSE)) | K25: =IF(OR(I25="",J25=""),"",I25*J25)
I26: =IF(G26="","",VLOOKUP(G26,Lookups!$A$2:$B$6,2,FALSE)) | J26: =IF(H26="","",VLOOKUP(H26,Lookups!$D$2:$E$6,2,FALSE)) | K26: =IF(OR(I26="",J26=""),"",I26*J26)
I27: =IF(G27="","",VLOOKUP(G27,Lookups!$A$2:$B$6,2,FALSE)) | J27: =IF(H27="","",VLOOKUP(H27,Lookups!$D$2:$E$6,2,FALSE)) | K27: =IF(OR(I27="",J27=""),"",I27*J27)
I28: =IF(G28="","",VLOOKUP(G28,Lookups!$A$2:$B$6,2,FALSE)) | J28: =IF(H28="","",VLOOKUP(H28,Lookups!$D$2:$E$6,2,FALSE)) | K28: =IF(OR(I28="",J28=""),"",I28*J28)
I29: =IF(G29="","",VLOOKUP(G29,Lookups!$A$2:$B$6,2,FALSE)) | J29: =IF(H29="","",VLOOKUP(H29,Lookups!$D$2:$E$6,2,FALSE)) | K29: =IF(OR(I29="",J29=""),"",I29*J29)
I30: =IF(G30="","",VLOOKUP(G30,Lookups!$A$2:$B$6,2,FALSE)) | J30: =IF(H30="","",VLOOKUP(H30,Lookups!$D$2:$E$6,2,FALSE)) | K30: =IF(OR(I30="",J30=""),"",I30*J30)
I31: =IF(G31="","",VLOOKUP(G31,Lookups!$A$2:$B$6,2,FALSE)) | J31: =IF(H31="","",VLOOKUP(H31,Lookups!$D$2:$E$6,2,FALSE)) | K31: =IF(OR(I31="",J31=""),"",I31*J31)
I32: =IF(G32="","",VLOOKUP(G32,Lookups!$A$2:$B$6,2,FALSE)) | J32: =IF(H32="","",VLOOKUP(H32,Lookups!$D$2:$E$6,2,FALSE)) | K32: =IF(OR(I32="",J32=""),"",I32*J32)
... I36: =IF(G36="","",VLOOKUP(G36,Lookups!$A$2:$B$6,2,FALSE)) | J36: =IF(H36="","",VLOOKUP(H36,Lookups!$D$2:$E$6,2,FALSE)) | K36: =IF(OR(I36="",J36=""),"",I36*J36)
A39: Bewertungsskala
A40: AUSWIRKUNG | D40: EINTRITTSWAHRSCHEINLICHKEIT
A41: (1) Unwesentlich – kaum operative, finanzielle oder reputative Wirkung. | D41: (1) Niedrig – kurzfristig eher unwahrscheinlich.
A42: (2) Gering – begrenzte Wirkung, lokal beherrschbar. | D42: (2) Niedrig-Mittel – möglich, aber nicht naheliegend.
A43: (3) Moderat – spürbare Störung, Mehraufwand oder begrenzte Folgekosten. | D43: (3) Mittel – realistische Eintrittschance, Gegenmaßnahmen sinnvoll.
A44: (4) Erheblich – deutliche Zielgefährdung, hoher Managementaufwand, mögliche Eskalation. | D44: (4) Mittel-Hoch – eher wahrscheinlich, aktive Steuerung erforderlich.
A45: (5) Katastrophal – existenzielle oder schwerwiegende Auswirkung auf Betrieb, Compliance, Sicherheit oder Reputation. | D45: (5) Hoch – hohe Eintrittswahrscheinlichkeit, sofortige Maßnahmen nötig.
A47: Hinweis: Die ersten vier Beispielrisiken können überschrieben oder gelöscht werden. Leere Eingaben erzeugen bewusst keine 0- oder #N/A-Werte.

Sheet Risikoregister
A3: Risikoregister
A5: Bereich / Einheit: | B5: =IF(Risikoanalyse!B5="","",Risikoanalyse!B5)
A6: Organisationseinheit: | B6: =IF(Risikoanalyse!B6="","",Risikoanalyse!B6) -> Geschäftsführung
A7: Bearbeitet von: | B7: =IF(Risikoanalyse!B7="","",Risikoanalyse!B7)
A8: Datum: | B8: =IF(Risikoanalyse!B8="","",Risikoanalyse!B8) -> 46105.353
A9: Nächstes Review: | B9: =IF(Risikoanalyse!B9="","",Risikoanalyse!B9)
K11: Risikobewertung
A12: Identifiziertes Risiko | B12: Maßnahmen zur Risikobehandlung | C12: Verantwortlich | D12: Updates / Statuskommentar | E12: Zieltermin | F12: Ist-Termin | G12: Residual- Auswirkung | H12: Residual- Wahrscheinlichkeit | I12: Residual- Auswirkung (Wert) | J12: Residual- Wahrscheinlichkeit (Wert) | K12: Score (original) | L12: Score (residual)
A13: =IF(Risikoanalyse!A17="","",Risikoanalyse!A17) -> Risiko 01 | B13: =IF(Risikoanalyse!N17="","",Risikoanalyse!N17) | C13: =IF(Risikoanalyse!O17="","",Risikoanalyse!O17) | E13: =IF(Risikoanalyse!P17="","",Risikoanalyse!P17) | I13: =IF(G13="","",VLOOKUP(G13,Lookups!$A$2:$B$6,2,FALSE)) | J13: =IF(H13="","",VLOOKUP(H13,Lookups!$D$2:$E$6,2,FALSE)) | K13: =IF(Risikoanalyse!A17="","",Risikoanalyse!K17) -> 4 | L13: =IF(OR(I13="",J13=""),"",I13*J13)
A14: =IF(Risikoanalyse!A18="","",Risikoanalyse!A18) -> Risiko 02 | B14: =IF(Risikoanalyse!N18="","",Risikoanalyse!N18) | C14: =IF(Risikoanalyse!O18="","",Risikoanalyse!O18) | E14: =IF(Risikoanalyse!P18="","",Risikoanalyse!P18) | I14: =IF(G14="","",VLOOKUP(G14,Lookups!$A$2:$B$6,2,FALSE)) | J14: =IF(H14="","",VLOOKUP(H14,Lookups!$D$2:$E$6,2,FALSE)) | K14: =IF(Risikoanalyse!A18="","",Risikoanalyse!K18) -> 4 | L14: =IF(OR(I14="",J14=""),"",I14*J14)
A15: =IF(Risikoanalyse!A19="","",Risikoanalyse!A19) -> Risiko 03 | B15: =IF(Risikoanalyse!N19="","",Risikoanalyse!N19) | C15: =IF(Risikoanalyse!O19="","",Risikoanalyse!O19) | E15: =IF(Risikoanalyse!P19="","",Risikoanalyse!P19) | I15: =IF(G15="","",VLOOKUP(G15,Lookups!$A$2:$B$6,2,FALSE)) | J15: =IF(H15="","",VLOOKUP(H15,Lookups!$D$2:$E$6,2,FALSE)) | K15: =IF(Risikoanalyse!A19="","",Risikoanalyse!K19) -> 10 | L15: =IF(OR(I15="",J15=""),"",I15*J15)
A16: =IF(Risikoanalyse!A20="","",Risikoanalyse!A20) -> Risiko 04 | B16: =IF(Risikoanalyse!N20="","",Risikoanalyse!N20) | C16: =IF(Risikoanalyse!O20="","",Risikoanalyse!O20) | E16: =IF(Risikoanalyse!P20="","",Risikoanalyse!P20) | I16: =IF(G16="","",VLOOKUP(G16,Lookups!$A$2:$B$6,2,FALSE)) | J16: =IF(H16="","",VLOOKUP(H16,Lookups!$D$2:$E$6,2,FALSE)) | K16: =IF(Risikoanalyse!A20="","",Risikoanalyse!K20) -> 10 | L16: =IF(OR(I16="",J16=""),"",I16*J16)
A17: =IF(Risikoanalyse!A21="","",Risikoanalyse!A21) | B17: =IF(Risikoanalyse!N21="","",Risikoanalyse!N21) | C17: =IF(Risikoanalyse!O21="","",Risikoanalyse!O21) | E17: =IF(Risikoanalyse!P21="","",Risikoanalyse!P21) | I17: =IF(G17="","",VLOOKUP(G17,Lookups!$A$2:$B$6,2,FALSE)) | J17: =IF(H17="","",VLOOKUP(H17,Lookups!$D$2:$E$6,2,FALSE)) | K17: =IF(Risikoanalyse!A21="","",Risikoanalyse!K21) | L17: =IF(OR(I17="",J17=""),"",I17*J17)
A18: =IF(Risikoanalyse!A22="","",Risikoanalyse!A22) | B18: =IF(Risikoanalyse!N22="","",Risikoanalyse!N22) | C18: =IF(Risikoanalyse!O22="","",Risikoanalyse!O22) | E18: =IF(Risikoanalyse!P22="","",Risikoanalyse!P22) | I18: =IF(G18="","",VLOOKUP(G18,Lookups!$A$2:$B$6,2,FALSE)) | J18: =IF(H18="","",VLOOKUP(H18,Lookups!$D$2:$E$6,2,FALSE)) | K18: =IF(Risikoanalyse!A22="","",Risikoanalyse!K22) | L18: =IF(OR(I18="",J18=""),"",I18*J18)
A19: =IF(Risikoanalyse!A23="","",Risikoanalyse!A23) | B19: =IF(Risikoanalyse!N23="","",Risikoanalyse!N23) | C19: =IF(Risikoanalyse!O23="","",Risikoanalyse!O23) | E19: =IF(Risikoanalyse!P23="","",Risikoanalyse!P23) | I19: =IF(G19="","",VLOOKUP(G19,Lookups!$A$2:$B$6,2,FALSE)) | J19: =IF(H19="","",VLOOKUP(H19,Lookups!$D$2:$E$6,2,FALSE)) | K19: =IF(Risikoanalyse!A23="","",Risikoanalyse!K23) | L19: =IF(OR(I19="",J19=""),"",I19*J19)
A20: =IF(Risikoanalyse!A24="","",Risikoanalyse!A24) | B20: =IF(Risikoanalyse!N24="","",Risikoanalyse!N24) | C20: =IF(Risikoanalyse!O24="","",Risikoanalyse!O24) | E20: =IF(Risikoanalyse!P24="","",Risikoanalyse!P24) | I20: =IF(G20="","",VLOOKUP(G20,Lookups!$A$2:$B$6,2,FALSE)) | J20: =IF(H20="","",VLOOKUP(H20,Lookups!$D$2:$E$6,2,FALSE)) | K20: =IF(Risikoanalyse!A24="","",Risikoanalyse!K24) | L20: =IF(OR(I20="",J20=""),"",I20*J20)
A21: =IF(Risikoanalyse!A25="","",Risikoanalyse!A25) | B21: =IF(Risikoanalyse!N25="","",Risikoanalyse!N25) | C21: =IF(Risikoanalyse!O25="","",Risikoanalyse!O25) | E21: =IF(Risikoanalyse!P25="","",Risikoanalyse!P25) | I21: =IF(G21="","",VLOOKUP(G21,Lookups!$A$2:$B$6,2,FALSE)) | J21: =IF(H21="","",VLOOKUP(H21,Lookups!$D$2:$E$6,2,FALSE)) | K21: =IF(Risikoanalyse!A25="","",Risikoanalyse!K25) | L21: =IF(OR(I21="",J21=""),"",I21*J21)
A22: =IF(Risikoanalyse!A26="","",Risikoanalyse!A26) | B22: =IF(Risikoanalyse!N26="","",Risikoanalyse!N26) | C22: =IF(Risikoanalyse!O26="","",Risikoanalyse!O26) | E22: =IF(Risikoanalyse!P26="","",Risikoanalyse!P26) | I22: =IF(G22="","",VLOOKUP(G22,Lookups!$A$2:$B$6,2,FALSE)) | J22: =IF(H22="","",VLOOKUP(H22,Lookups!$D$2:$E$6,2,FALSE)) | K22: =IF(Risikoanalyse!A26="","",Risikoanalyse!K26) | L22: =IF(OR(I22="",J22=""),"",I22*J22)
A23: =IF(Risikoanalyse!A27="","",Risikoanalyse!A27) | B23: =IF(Risikoanalyse!N27="","",Risikoanalyse!N27) | C23: =IF(Risikoanalyse!O27="","",Risikoanalyse!O27) | E23: =IF(Risikoanalyse!P27="","",Risikoanalyse!P27) | I23: =IF(G23="","",VLOOKUP(G23,Lookups!$A$2:$B$6,2,FALSE)) | J23: =IF(H23="","",VLOOKUP(H23,Lookups!$D$2:$E$6,2,FALSE)) | K23: =IF(Risikoanalyse!A27="","",Risikoanalyse!K27) | L23: =IF(OR(I23="",J23=""),"",I23*J23)
A24: =IF(Risikoanalyse!A28="","",Risikoanalyse!A28) | B24: =IF(Risikoanalyse!N28="","",Risikoanalyse!N28) | C24: =IF(Risikoanalyse!O28="","",Risikoanalyse!O28) | E24: =IF(Risikoanalyse!P28="","",Risikoanalyse!P28) | I24: =IF(G24="","",VLOOKUP(G24,Lookups!$A$2:$B$6,2,FALSE)) | J24: =IF(H24="","",VLOOKUP(H24,Lookups!$D$2:$E$6,2,FALSE)) | K24: =IF(Risikoanalyse!A28="","",Risikoanalyse!K28) | L24: =IF(OR(I24="",J24=""),"",I24*J24)
... A32: =IF(Risikoanalyse!A36="","",Risikoanalyse!A36) | B32: =IF(Risikoanalyse!N36="","",Risikoanalyse!N36) | C32: =IF(Risikoanalyse!O36="","",Risikoanalyse!O36) | E32: =IF(Risikoanalyse!P36="","",Risikoanalyse!P36) | I32: =IF(G32="","",VLOOKUP(G32,Lookups!$A$2:$B$6,2,FALSE)) | J32: =IF(H32="","",VLOOKUP(H32,Lookups!$D$2:$E$6,2,FALSE)) | K32: =IF(Risikoanalyse!A36="","",Risikoanalyse!K36) | L32: =IF(OR(I32="",J32=""),"",I32*J32)
J35: Risikostufen
K36: Niedrig | 1-4
K37: Mittel | 5-11
K38: Hoch | 12-25

Sheet Heatmap
B2: Heatmap der Risiken
B3: Die Matrix zeigt aktuelle Risiken aus der Haupttabelle anhand von Auswirkung (x) und Eintrittswahrscheinlichkeit (y).
B5: 1 | C5: 2 | D5: 3 | E5: 4 | F5: 5 | I5: Aktuelle Risiken
A6: 5 | B6: =IFERROR(INDEX(Risikoanalyse!$A$17:$A$36,MATCH(1,INDEX((Risikoanalyse!$I$17:$I$36=1)*(Risikoanalyse!$J$17:$J$36=5),0),0)),"") | C6: =IFERROR(INDEX(Risikoanalyse!$A$17:$A$36,MATCH(1,INDEX((Risikoanalyse!$I$17:$I$36=2)*(Risikoanalyse!$J$17:$J$36=5),0),0)),"") -> Risiko 04 | D6: =IFERROR(INDEX(Risikoanalyse!$A$17:$A$36,MATCH(1,INDEX((Risikoanalyse!$I$17:$I$36=3)*(Risikoanalyse!$J$17:$J$36=5),0),0)),"") | E6: =IFERROR(INDEX(Risikoanalyse!$A$17:$A$36,MATCH(1,INDEX((Risikoanalyse!$I$17:$I$36=4)*(Risikoanalyse!$J$17:$J$36=5),0),0)),"") | F6: =IFERROR(INDEX(Risikoanalyse!$A$17:$A$36,MATCH(1,INDEX((Risikoanalyse!$I$17:$I$36=5)*(Risikoanalyse!$J$17:$J$36=5),0),0)),"") | I6: Risiko-ID | J6: Kategorie | K6: Score | L6: Status
A7: 4 | B7: =IFERROR(INDEX(Risikoanalyse!$A$17:$A$36,MATCH(1,INDEX((Risikoanalyse!$I$17:$I$36=1)*(Risikoanalyse!$J$17:$J$36=4),0),0)),"") -> Risiko 02 | C7: =IFERROR(INDEX(Risikoanalyse!$A$17:$A$36,MATCH(1,INDEX((Risikoanalyse!$I$17:$I$36=2)*(Risikoanalyse!$J$17:$J$36=4),0),0)),"") | D7: =IFERROR(INDEX(Risikoanalyse!$A$17:$A$36,MATCH(1,INDEX((Risikoanalyse!$I$17:$I$36=3)*(Risikoanalyse!$J$17:$J$36=4),0),0)),"") | E7: =IFERROR(INDEX(Risikoanalyse!$A$17:$A$36,MATCH(1,INDEX((Risikoanalyse!$I$17:$I$36=4)*(Risikoanalyse!$J$17:$J$36=4),0),0)),"") | F7: =IFERROR(INDEX(Risikoanalyse!$A$17:$A$36,MATCH(1,INDEX((Risikoanalyse!$I$17:$I$36=5)*(Risikoanalyse!$J$17:$J$36=4),0),0)),"") | I7: =IF(Risikoanalyse!A17="","",Risikoanalyse!A17) -> Risiko 01 | J7: =IF(Risikoanalyse!A17="","",Risikoanalyse!B17) -> Operativ | K7: =IF(Risikoanalyse!A17="","",Risikoanalyse!K17) -> 4 | L7: =IF(Risikoanalyse!A17="","",Risikoanalyse!Q17) -> Offen
A8: 3 | B8: =IFERROR(INDEX(Risikoanalyse!$A$17:$A$36,MATCH(1,INDEX((Risikoanalyse!$I$17:$I$36=1)*(Risikoanalyse!$J$17:$J$36=3),0),0)),"") | C8: =IFERROR(INDEX(Risikoanalyse!$A$17:$A$36,MATCH(1,INDEX((Risikoanalyse!$I$17:$I$36=2)*(Risikoanalyse!$J$17:$J$36=3),0),0)),"") | D8: =IFERROR(INDEX(Risikoanalyse!$A$17:$A$36,MATCH(1,INDEX((Risikoanalyse!$I$17:$I$36=3)*(Risikoanalyse!$J$17:$J$36=3),0),0)),"") | E8: =IFERROR(INDEX(Risikoanalyse!$A$17:$A$36,MATCH(1,INDEX((Risikoanalyse!$I$17:$I$36=4)*(Risikoanalyse!$J$17:$J$36=3),0),0)),"") | F8: =IFERROR(INDEX(Risikoanalyse!$A$17:$A$36,MATCH(1,INDEX((Risikoanalyse!$I$17:$I$36=5)*(Risikoanalyse!$J$17:$J$36=3),0),0)),"") | I8: =IF(Risikoanalyse!A18="","",Risikoanalyse!A18) -> Risiko 02 | J8: =IF(Risikoanalyse!A18="","",Risikoanalyse!B18) -> Finanziell | K8: =IF(Risikoanalyse!A18="","",Risikoanalyse!K18) -> 4 | L8: =IF(Risikoanalyse!A18="","",Risikoanalyse!Q18) -> Offen
A9: 2 | B9: =IFERROR(INDEX(Risikoanalyse!$A$17:$A$36,MATCH(1,INDEX((Risikoanalyse!$I$17:$I$36=1)*(Risikoanalyse!$J$17:$J$36=2),0),0)),"") | C9: =IFERROR(INDEX(Risikoanalyse!$A$17:$A$36,MATCH(1,INDEX((Risikoanalyse!$I$17:$I$36=2)*(Risikoanalyse!$J$17:$J$36=2),0),0)),"") -> Risiko 01 | D9: =IFERROR(INDEX(Risikoanalyse!$A$17:$A$36,MATCH(1,INDEX((Risikoanalyse!$I$17:$I$36=3)*(Risikoanalyse!$J$17:$J$36=2),0),0)),"") | E9: =IFERROR(INDEX(Risikoanalyse!$A$17:$A$36,MATCH(1,INDEX((Risikoanalyse!$I$17:$I$36=4)*(Risikoanalyse!$J$17:$J$36=2),0),0)),"") | F9: =IFERROR(INDEX(Risikoanalyse!$A$17:$A$36,MATCH(1,INDEX((Risikoanalyse!$I$17:$I$36=5)*(Risikoanalyse!$J$17:$J$36=2),0),0)),"") -> Risiko 03 | I9: =IF(Risikoanalyse!A19="","",Risikoanalyse!A19) -> Risiko 03 | J9: =IF(Risikoanalyse!A19="","",Risikoanalyse!B19) -> Recht/Compliance | K9: =IF(Risikoanalyse!A19="","",Risikoanalyse!K19) -> 10 | L9: =IF(Risikoanalyse!A19="","",Risikoanalyse!Q19) -> Offen
A10: 1 | B10: =IFERROR(INDEX(Risikoanalyse!$A$17:$A$36,MATCH(1,INDEX((Risikoanalyse!$I$17:$I$36=1)*(Risikoanalyse!$J$17:$J$36=1),0),0)),"") | C10: =IFERROR(INDEX(Risikoanalyse!$A$17:$A$36,MATCH(1,INDEX((Risikoanalyse!$I$17:$I$36=2)*(Risikoanalyse!$J$17:$J$36=1),0),0)),"") | D10: =IFERROR(INDEX(Risikoanalyse!$A$17:$A$36,MATCH(1,INDEX((Risikoanalyse!$I$17:$I$36=3)*(Risikoanalyse!$J$17:$J$36=1),0),0)),"") | E10: =IFERROR(INDEX(Risikoanalyse!$A$17:$A$36,MATCH(1,INDEX((Risikoanalyse!$I$17:$I$36=4)*(Risikoanalyse!$J$17:$J$36=1),0),0)),"") | F10: =IFERROR(INDEX(Risikoanalyse!$A$17:$A$36,MATCH(1,INDEX((Risikoanalyse!$I$17:$I$36=5)*(Risikoanalyse!$J$17:$J$36=1),0),0)),"") | I10: =IF(Risikoanalyse!A20="","",Risikoanalyse!A20) -> Risiko 04 | J10: =IF(Risikoanalyse!A20="","",Risikoanalyse!B20) -> IT/Cyber | K10: =IF(Risikoanalyse!A20="","",Risikoanalyse!K20) -> 10 | L10: =IF(Risikoanalyse!A20="","",Risikoanalyse!Q20) -> In Bearbeitung
I11: =IF(Risikoanalyse!A21="","",Risikoanalyse!A21) | J11: =IF(Risikoanalyse!A21="","",Risikoanalyse!B21) | K11: =IF(Risikoanalyse!A21="","",Risikoanalyse!K21) | L11: =IF(Risikoanalyse!A21="","",Risikoanalyse!Q21)
D12: Auswirkung | I12: =IF(Risikoanalyse!A22="","",Risikoanalyse!A22) | J12: =IF(Risikoanalyse!A22="","",Risikoanalyse!B22) | K12: =IF(Risikoanalyse!A22="","",Risikoanalyse!K22) | L12: =IF(Risikoanalyse!A22="","",Risikoanalyse!Q22)
I13: =IF(Risikoanalyse!A23="","",Risikoanalyse!A23) | J13: =IF(Risikoanalyse!A23="","",Risikoanalyse!B23) | K13: =IF(Risikoanalyse!A23="","",Risikoanalyse!K23) | L13: =IF(Risikoanalyse!A23="","",Risikoanalyse!Q23)
I14: =IF(Risikoanalyse!A24="","",Risikoanalyse!A24) | J14: =IF(Risikoanalyse!A24="","",Risikoanalyse!B24) | K14: =IF(Risikoanalyse!A24="","",Risikoanalyse!K24) | L14: =IF(Risikoanalyse!A24="","",Risikoanalyse!Q24)
I15: =IF(Risikoanalyse!A25="","",Risikoanalyse!A25) | J15: =IF(Risikoanalyse!A25="","",Risikoanalyse!B25) | K15: =IF(Risikoanalyse!A25="","",Risikoanalyse!K25) | L15: =IF(Risikoanalyse!A25="","",Risikoanalyse!Q25)
I16: =IF(Risikoanalyse!A26="","",Risikoanalyse!A26) | J16: =IF(Risikoanalyse!A26="","",Risikoanalyse!B26) | K16: =IF(Risikoanalyse!A26="","",Risikoanalyse!K26) | L16: =IF(Risikoanalyse!A26="","",Risikoanalyse!Q26)
I17: =IF(Risikoanalyse!A27="","",Risikoanalyse!A27) | J17: =IF(Risikoanalyse!A27="","",Risikoanalyse!B27) | K17: =IF(Risikoanalyse!A27="","",Risikoanalyse!K27) | L17: =IF(Risikoanalyse!A27="","",Risikoanalyse!Q27)
I18: =IF(Risikoanalyse!A28="","",Risikoanalyse!A28) | J18: =IF(Risikoanalyse!A28="","",Risikoanalyse!B28) | K18: =IF(Risikoanalyse!A28="","",Risikoanalyse!K28) | L18: =IF(Risikoanalyse!A28="","",Risikoanalyse!Q28)
I20: Legende Score
J21: Niedrig | 1-4
J22: Mittel | 5-11
J23: Hoch | 12-25
