Workbook

Sheet Januar
B1: ="Januar "&$K$3 -> Januar 2026 | L1: 1
B2: =IF($K$4="Montag","Montag","Sonntag") -> Montag | C2: =IF($K$4="Montag","Dienstag","Montag") -> Dienstag | D2: =IF($K$4="Montag","Mittwoch","Dienstag") -> Mittwoch | E2: =IF($K$4="Montag","Donnerstag","Mittwoch") -> Donnerstag | F2: =IF($K$4="Montag","Freitag","Donnerstag") -> Freitag | G2: =IF($K$4="Montag","Samstag","Freitag") -> Samstag | H2: =IF($K$4="Montag","Sonntag","Samstag") -> Sonntag | J2: Einstellungen | L2: =$K$3 -> 2026
B3: =IF(MONTH(L10)=L1,DAY(L10),"") | C3: =IF(MONTH(M10)=L1,DAY(M10),"") | D3: =IF(MONTH(N10)=L1,DAY(N10),"") | E3: =IF(MONTH(O10)=L1,DAY(O10),"") -> 1 | F3: =IF(MONTH(P10)=L1,DAY(P10),"") -> 2 | G3: =IF(MONTH(Q10)=L1,DAY(Q10),"") -> 3 | H3: =IF(MONTH(R10)=L1,DAY(R10),"") -> 4 | J3: Jahr | K3: 2026 | L3: =$K$4 -> Montag
J4: Wochenstart | K4: Montag | L4: =DATE(L2,L1,1) -> 46023
B5: =IF(MONTH(L11)=L1,DAY(L11),"") -> 5 | C5: =IF(MONTH(M11)=L1,DAY(M11),"") -> 6 | D5: =IF(MONTH(N11)=L1,DAY(N11),"") -> 7 | E5: =IF(MONTH(O11)=L1,DAY(O11),"") -> 8 | F5: =IF(MONTH(P11)=L1,DAY(P11),"") -> 9 | G5: =IF(MONTH(Q11)=L1,DAY(Q11),"") -> 10 | H5: =IF(MONTH(R11)=L1,DAY(R11),"") -> 11 | J5: Hinweis | K5: Steuert alle Monate | L5: =IF(L3="Montag",WEEKDAY(L4,2)-1,WEEKDAY(L4,1)-1) -> 3
B6: Budget prüfen | E6: Projektkickoff 10:00 Raum A | L6: =L4-L5 -> 46020
B7: =IF(MONTH(L12)=L1,DAY(L12),"") -> 12 | C7: =IF(MONTH(M12)=L1,DAY(M12),"") -> 13 | D7: =IF(MONTH(N12)=L1,DAY(N12),"") -> 14 | E7: =IF(MONTH(O12)=L1,DAY(O12),"") -> 15 | F7: =IF(MONTH(P12)=L1,DAY(P12),"") -> 16 | G7: =IF(MONTH(Q12)=L1,DAY(Q12),"") -> 17 | H7: =IF(MONTH(R12)=L1,DAY(R12),"") -> 18
E8: Arzttermin 16:30
B9: =IF(MONTH(L13)=L1,DAY(L13),"") -> 19 | C9: =IF(MONTH(M13)=L1,DAY(M13),"") -> 20 | D9: =IF(MONTH(N13)=L1,DAY(N13),"") -> 21 | E9: =IF(MONTH(O13)=L1,DAY(O13),"") -> 22 | F9: =IF(MONTH(P13)=L1,DAY(P13),"") -> 23 | G9: =IF(MONTH(Q13)=L1,DAY(Q13),"") -> 24 | H9: =IF(MONTH(R13)=L1,DAY(R13),"") -> 25
E10: Team-Workshop | L10: =L6 -> 46020 | M10: =L10+1 -> 46021 | N10: =M10+1 -> 46022 | O10: =N10+1 -> 46023 | P10: =O10+1 -> 46024 | Q10: =P10+1 -> 46025 | R10: =Q10+1 -> 46026
B11: =IF(MONTH(L14)=L1,DAY(L14),"") -> 26 | C11: =IF(MONTH(M14)=L1,DAY(M14),"") -> 27 | D11: =IF(MONTH(N14)=L1,DAY(N14),"") -> 28 | E11: =IF(MONTH(O14)=L1,DAY(O14),"") -> 29 | F11: =IF(MONTH(P14)=L1,DAY(P14),"") -> 30 | G11: =IF(MONTH(Q14)=L1,DAY(Q14),"") -> 31 | H11: =IF(MONTH(R14)=L1,DAY(R14),"") | L11: =L10+7 -> 46027 | M11: =L11+1 -> 46028 | N11: =M11+1 -> 46029 | O11: =N11+1 -> 46030 | P11: =O11+1 -> 46031 | Q11: =P11+1 -> 46032 | R11: =Q11+1 -> 46033
L12: =L11+7 -> 46034 | M12: =L12+1 -> 46035 | N12: =M12+1 -> 46036 | O12: =N12+1 -> 46037 | P12: =O12+1 -> 46038 | Q12: =P12+1 -> 46039 | R12: =Q12+1 -> 46040
B13: =IF(MONTH(L15)=L1,DAY(L15),"") | C13: =IF(MONTH(M15)=L1,DAY(M15),"") | D13: =IF(MONTH(N15)=L1,DAY(N15),"") | E13: =IF(MONTH(O15)=L1,DAY(O15),"") | F13: =IF(MONTH(P15)=L1,DAY(P15),"") | G13: =IF(MONTH(Q15)=L1,DAY(Q15),"") | H13: =IF(MONTH(R15)=L1,DAY(R15),"") | L13: =L12+7 -> 46041 | M13: =L13+1 -> 46042 | N13: =M13+1 -> 46043 | O13: =N13+1 -> 46044 | P13: =O13+1 -> 46045 | Q13: =P13+1 -> 46046 | R13: =Q13+1 -> 46047
L14: =L13+7 -> 46048 | M14: =L14+1 -> 46049 | N14: =M14+1 -> 46050 | O14: =N14+1 -> 46051 | P14: =O14+1 -> 46052 | Q14: =P14+1 -> 46053 | R14: =Q14+1 -> 46054
B15: Notizen: | L15: =L14+7 -> 46055 | M15: =L15+1 -> 46056 | N15: =M15+1 -> 46057 | O15: =N15+1 -> 46058 | P15: =O15+1 -> 46059 | Q15: =P15+1 -> 46060 | R15: =Q15+1 -> 46061
B16: Beispielmonat mit einigen Terminen. Jahr und Wochenstart können rechts oben geändert werden.

Sheet Februar
B1: ="Februar "&Januar!$K$3 -> Februar 2026 | J1: 2
B2: =IF(Januar!$K$4="Montag","Montag","Sonntag") -> Montag | C2: =IF(Januar!$K$4="Montag","Dienstag","Montag") -> Dienstag | D2: =IF(Januar!$K$4="Montag","Mittwoch","Dienstag") -> Mittwoch | E2: =IF(Januar!$K$4="Montag","Donnerstag","Mittwoch") -> Donnerstag | F2: =IF(Januar!$K$4="Montag","Freitag","Donnerstag") -> Freitag | G2: =IF(Januar!$K$4="Montag","Samstag","Freitag") -> Samstag | H2: =IF(Januar!$K$4="Montag","Sonntag","Samstag") -> Sonntag | J2: =Januar!$K$3 -> 2026
B3: =IF(MONTH(J10)=J1,DAY(J10),"") | C3: =IF(MONTH(K10)=J1,DAY(K10),"") | D3: =IF(MONTH(L10)=J1,DAY(L10),"") | E3: =IF(MONTH(M10)=J1,DAY(M10),"") | F3: =IF(MONTH(N10)=J1,DAY(N10),"") | G3: =IF(MONTH(O10)=J1,DAY(O10),"") | H3: =IF(MONTH(P10)=J1,DAY(P10),"") -> 1 | J3: =Januar!$K$4 -> Montag
J4: =DATE(J2,J1,1) -> 46054
B5: =IF(MONTH(J11)=J1,DAY(J11),"") -> 2 | C5: =IF(MONTH(K11)=J1,DAY(K11),"") -> 3 | D5: =IF(MONTH(L11)=J1,DAY(L11),"") -> 4 | E5: =IF(MONTH(M11)=J1,DAY(M11),"") -> 5 | F5: =IF(MONTH(N11)=J1,DAY(N11),"") -> 6 | G5: =IF(MONTH(O11)=J1,DAY(O11),"") -> 7 | H5: =IF(MONTH(P11)=J1,DAY(P11),"") -> 8 | J5: =IF(J3="Montag",WEEKDAY(J4,2)-1,WEEKDAY(J4,1)-1) -> 6
C6: Rechnung senden | J6: =J4-J5 -> 46048
B7: =IF(MONTH(J12)=J1,DAY(J12),"") -> 9 | C7: =IF(MONTH(K12)=J1,DAY(K12),"") -> 10 | D7: =IF(MONTH(L12)=J1,DAY(L12),"") -> 11 | E7: =IF(MONTH(M12)=J1,DAY(M12),"") -> 12 | F7: =IF(MONTH(N12)=J1,DAY(N12),"") -> 13 | G7: =IF(MONTH(O12)=J1,DAY(O12),"") -> 14 | H7: =IF(MONTH(P12)=J1,DAY(P12),"") -> 15
G8: Abendessen reservieren
B9: =IF(MONTH(J13)=J1,DAY(J13),"") -> 16 | C9: =IF(MONTH(K13)=J1,DAY(K13),"") -> 17 | D9: =IF(MONTH(L13)=J1,DAY(L13),"") -> 18 | E9: =IF(MONTH(M13)=J1,DAY(M13),"") -> 19 | F9: =IF(MONTH(N13)=J1,DAY(N13),"") -> 20 | G9: =IF(MONTH(O13)=J1,DAY(O13),"") -> 21 | H9: =IF(MONTH(P13)=J1,DAY(P13),"") -> 22
J10: =J6 -> 46048 | K10: =J10+1 -> 46049 | L10: =K10+1 -> 46050 | M10: =L10+1 -> 46051 | N10: =M10+1 -> 46052 | O10: =N10+1 -> 46053 | P10: =O10+1 -> 46054
B11: =IF(MONTH(J14)=J1,DAY(J14),"") -> 23 | C11: =IF(MONTH(K14)=J1,DAY(K14),"") -> 24 | D11: =IF(MONTH(L14)=J1,DAY(L14),"") -> 25 | E11: =IF(MONTH(M14)=J1,DAY(M14),"") -> 26 | F11: =IF(MONTH(N14)=J1,DAY(N14),"") -> 27 | G11: =IF(MONTH(O14)=J1,DAY(O14),"") -> 28 | H11: =IF(MONTH(P14)=J1,DAY(P14),"") | J11: =J10+7 -> 46055 | K11: =J11+1 -> 46056 | L11: =K11+1 -> 46057 | M11: =L11+1 -> 46058 | N11: =M11+1 -> 46059 | O11: =N11+1 -> 46060 | P11: =O11+1 -> 46061
B12: Monatsreview | J12: =J11+7 -> 46062 | K12: =J12+1 -> 46063 | L12: =K12+1 -> 46064 | M12: =L12+1 -> 46065 | N12: =M12+1 -> 46066 | O12: =N12+1 -> 46067 | P12: =O12+1 -> 46068
B13: =IF(MONTH(J15)=J1,DAY(J15),"") | C13: =IF(MONTH(K15)=J1,DAY(K15),"") | D13: =IF(MONTH(L15)=J1,DAY(L15),"") | E13: =IF(MONTH(M15)=J1,DAY(M15),"") | F13: =IF(MONTH(N15)=J1,DAY(N15),"") | G13: =IF(MONTH(O15)=J1,DAY(O15),"") | H13: =IF(MONTH(P15)=J1,DAY(P15),"") | J13: =J12+7 -> 46069 | K13: =J13+1 -> 46070 | L13: =K13+1 -> 46071 | M13: =L13+1 -> 46072 | N13: =M13+1 -> 46073 | O13: =N13+1 -> 46074 | P13: =O13+1 -> 46075
J14: =J13+7 -> 46076 | K14: =J14+1 -> 46077 | L14: =K14+1 -> 46078 | M14: =L14+1 -> 46079 | N14: =M14+1 -> 46080 | O14: =N14+1 -> 46081 | P14: =O14+1 -> 46082
B15: Notizen: | J15: =J14+7 -> 46083 | K15: =J15+1 -> 46084 | L15: =K15+1 -> 46085 | M15: =L15+1 -> 46086 | N15: =M15+1 -> 46087 | O15: =N15+1 -> 46088 | P15: =O15+1 -> 46089
B16: Monat für kurze Aufgaben und Erinnerungen.

Sheet März
B1: ="März "&Januar!$K$3 -> März 2026 | J1: 3
B2: =IF(Januar!$K$4="Montag","Montag","Sonntag") -> Montag | C2: =IF(Januar!$K$4="Montag","Dienstag","Montag") -> Dienstag | D2: =IF(Januar!$K$4="Montag","Mittwoch","Dienstag") -> Mittwoch | E2: =IF(Januar!$K$4="Montag","Donnerstag","Mittwoch") -> Donnerstag | F2: =IF(Januar!$K$4="Montag","Freitag","Donnerstag") -> Freitag | G2: =IF(Januar!$K$4="Montag","Samstag","Freitag") -> Samstag | H2: =IF(Januar!$K$4="Montag","Sonntag","Samstag") -> Sonntag | J2: =Januar!$K$3 -> 2026
B3: =IF(MONTH(J10)=J1,DAY(J10),"") | C3: =IF(MONTH(K10)=J1,DAY(K10),"") | D3: =IF(MONTH(L10)=J1,DAY(L10),"") | E3: =IF(MONTH(M10)=J1,DAY(M10),"") | F3: =IF(MONTH(N10)=J1,DAY(N10),"") | G3: =IF(MONTH(O10)=J1,DAY(O10),"") | H3: =IF(MONTH(P10)=J1,DAY(P10),"") -> 1 | J3: =Januar!$K$4 -> Montag
J4: =DATE(J2,J1,1) -> 46082
B5: =IF(MONTH(J11)=J1,DAY(J11),"") -> 2 | C5: =IF(MONTH(K11)=J1,DAY(K11),"") -> 3 | D5: =IF(MONTH(L11)=J1,DAY(L11),"") -> 4 | E5: =IF(MONTH(M11)=J1,DAY(M11),"") -> 5 | F5: =IF(MONTH(N11)=J1,DAY(N11),"") -> 6 | G5: =IF(MONTH(O11)=J1,DAY(O11),"") -> 7 | H5: =IF(MONTH(P11)=J1,DAY(P11),"") -> 8 | J5: =IF(J3="Montag",WEEKDAY(J4,2)-1,WEEKDAY(J4,1)-1) -> 6
C6: Messe Berlin | J6: =J4-J5 -> 46076
B7: =IF(MONTH(J12)=J1,DAY(J12),"") -> 9 | C7: =IF(MONTH(K12)=J1,DAY(K12),"") -> 10 | D7: =IF(MONTH(L12)=J1,DAY(L12),"") -> 11 | E7: =IF(MONTH(M12)=J1,DAY(M12),"") -> 12 | F7: =IF(MONTH(N12)=J1,DAY(N12),"") -> 13 | G7: =IF(MONTH(O12)=J1,DAY(O12),"") -> 14 | H7: =IF(MONTH(P12)=J1,DAY(P12),"") -> 15
E8: Demo mit Kunde
B9: =IF(MONTH(J13)=J1,DAY(J13),"") -> 16 | C9: =IF(MONTH(K13)=J1,DAY(K13),"") -> 17 | D9: =IF(MONTH(L13)=J1,DAY(L13),"") -> 18 | E9: =IF(MONTH(M13)=J1,DAY(M13),"") -> 19 | F9: =IF(MONTH(N13)=J1,DAY(N13),"") -> 20 | G9: =IF(MONTH(O13)=J1,DAY(O13),"") -> 21 | H9: =IF(MONTH(P13)=J1,DAY(P13),"") -> 22
J10: =J6 -> 46076 | K10: =J10+1 -> 46077 | L10: =K10+1 -> 46078 | M10: =L10+1 -> 46079 | N10: =M10+1 -> 46080 | O10: =N10+1 -> 46081 | P10: =O10+1 -> 46082
B11: =IF(MONTH(J14)=J1,DAY(J14),"") -> 23 | C11: =IF(MONTH(K14)=J1,DAY(K14),"") -> 24 | D11: =IF(MONTH(L14)=J1,DAY(L14),"") -> 25 | E11: =IF(MONTH(M14)=J1,DAY(M14),"") -> 26 | F11: =IF(MONTH(N14)=J1,DAY(N14),"") -> 27 | G11: =IF(MONTH(O14)=J1,DAY(O14),"") -> 28 | H11: =IF(MONTH(P14)=J1,DAY(P14),"") -> 29 | J11: =J10+7 -> 46083 | K11: =J11+1 -> 46084 | L11: =K11+1 -> 46085 | M11: =L11+1 -> 46086 | N11: =M11+1 -> 46087 | O11: =N11+1 -> 46088 | P11: =O11+1 -> 46089
D12: Bericht finalisieren | J12: =J11+7 -> 46090 | K12: =J12+1 -> 46091 | L12: =K12+1 -> 46092 | M12: =L12+1 -> 46093 | N12: =M12+1 -> 46094 | O12: =N12+1 -> 46095 | P12: =O12+1 -> 46096
B13: =IF(MONTH(J15)=J1,DAY(J15),"") -> 30 | C13: =IF(MONTH(K15)=J1,DAY(K15),"") -> 31 | D13: =IF(MONTH(L15)=J1,DAY(L15),"") | E13: =IF(MONTH(M15)=J1,DAY(M15),"") | F13: =IF(MONTH(N15)=J1,DAY(N15),"") | G13: =IF(MONTH(O15)=J1,DAY(O15),"") | H13: =IF(MONTH(P15)=J1,DAY(P15),"") | J13: =J12+7 -> 46097 | K13: =J13+1 -> 46098 | L13: =K13+1 -> 46099 | M13: =L13+1 -> 46100 | N13: =M13+1 -> 46101 | O13: =N13+1 -> 46102 | P13: =O13+1 -> 46103
J14: =J13+7 -> 46104 | K14: =J14+1 -> 46105 | L14: =K14+1 -> 46106 | M14: =L14+1 -> 46107 | N14: =M14+1 -> 46108 | O14: =N14+1 -> 46109 | P14: =O14+1 -> 46110
B15: Notizen: | J15: =J14+7 -> 46111 | K15: =J15+1 -> 46112 | L15: =K15+1 -> 46113 | M15: =L15+1 -> 46114 | N15: =M15+1 -> 46115 | O15: =N15+1 -> 46116 | P15: =O15+1 -> 46117
B16: Beispieldaten zur Veranschaulichung.

Sheet April
B1: ="April "&Januar!$K$3 -> April 2026 | J1: 4
B2: =IF(Januar!$K$4="Montag","Montag","Sonntag") -> Montag | C2: =IF(Januar!$K$4="Montag","Dienstag","Montag") -> Dienstag | D2: =IF(Januar!$K$4="Montag","Mittwoch","Dienstag") -> Mittwoch | E2: =IF(Januar!$K$4="Montag","Donnerstag","Mittwoch") -> Donnerstag | F2: =IF(Januar!$K$4="Montag","Freitag","Donnerstag") -> Freitag | G2: =IF(Januar!$K$4="Montag","Samstag","Freitag") -> Samstag | H2: =IF(Januar!$K$4="Montag","Sonntag","Samstag") -> Sonntag | J2: =Januar!$K$3 -> 2026
B3: =IF(MONTH(J10)=J1,DAY(J10),"") | C3: =IF(MONTH(K10)=J1,DAY(K10),"") | D3: =IF(MONTH(L10)=J1,DAY(L10),"") -> 1 | E3: =IF(MONTH(M10)=J1,DAY(M10),"") -> 2 | F3: =IF(MONTH(N10)=J1,DAY(N10),"") -> 3 | G3: =IF(MONTH(O10)=J1,DAY(O10),"") -> 4 | H3: =IF(MONTH(P10)=J1,DAY(P10),"") -> 5 | J3: =Januar!$K$4 -> Montag
J4: =DATE(J2,J1,1) -> 46113
B5: =IF(MONTH(J11)=J1,DAY(J11),"") -> 6 | C5: =IF(MONTH(K11)=J1,DAY(K11),"") -> 7 | D5: =IF(MONTH(L11)=J1,DAY(L11),"") -> 8 | E5: =IF(MONTH(M11)=J1,DAY(M11),"") -> 9 | F5: =IF(MONTH(N11)=J1,DAY(N11),"") -> 10 | G5: =IF(MONTH(O11)=J1,DAY(O11),"") -> 11 | H5: =IF(MONTH(P11)=J1,DAY(P11),"") -> 12 | J5: =IF(J3="Montag",WEEKDAY(J4,2)-1,WEEKDAY(J4,1)-1) -> 2
E6: Reise nach München | J6: =J4-J5 -> 46111
B7: =IF(MONTH(J12)=J1,DAY(J12),"") -> 13 | C7: =IF(MONTH(K12)=J1,DAY(K12),"") -> 14 | D7: =IF(MONTH(L12)=J1,DAY(L12),"") -> 15 | E7: =IF(MONTH(M12)=J1,DAY(M12),"") -> 16 | F7: =IF(MONTH(N12)=J1,DAY(N12),"") -> 17 | G7: =IF(MONTH(O12)=J1,DAY(O12),"") -> 18 | H7: =IF(MONTH(P12)=J1,DAY(P12),"") -> 19
E8: Projektstatus
B9: =IF(MONTH(J13)=J1,DAY(J13),"") -> 20 | C9: =IF(MONTH(K13)=J1,DAY(K13),"") -> 21 | D9: =IF(MONTH(L13)=J1,DAY(L13),"") -> 22 | E9: =IF(MONTH(M13)=J1,DAY(M13),"") -> 23 | F9: =IF(MONTH(N13)=J1,DAY(N13),"") -> 24 | G9: =IF(MONTH(O13)=J1,DAY(O13),"") -> 25 | H9: =IF(MONTH(P13)=J1,DAY(P13),"") -> 26
J10: =J6 -> 46111 | K10: =J10+1 -> 46112 | L10: =K10+1 -> 46113 | M10: =L10+1 -> 46114 | N10: =M10+1 -> 46115 | O10: =N10+1 -> 46116 | P10: =O10+1 -> 46117
B11: =IF(MONTH(J14)=J1,DAY(J14),"") -> 27 | C11: =IF(MONTH(K14)=J1,DAY(K14),"") -> 28 | D11: =IF(MONTH(L14)=J1,DAY(L14),"") -> 29 | E11: =IF(MONTH(M14)=J1,DAY(M14),"") -> 30 | F11: =IF(MONTH(N14)=J1,DAY(N14),"") | G11: =IF(MONTH(O14)=J1,DAY(O14),"") | H11: =IF(MONTH(P14)=J1,DAY(P14),"") | J11: =J10+7 -> 46118 | K11: =J11+1 -> 46119 | L11: =K11+1 -> 46120 | M11: =L11+1 -> 46121 | N11: =M11+1 -> 46122 | O11: =N11+1 -> 46123 | P11: =O11+1 -> 46124
C12: Zahlungen prüfen | J12: =J11+7 -> 46125 | K12: =J12+1 -> 46126 | L12: =K12+1 -> 46127 | M12: =L12+1 -> 46128 | N12: =M12+1 -> 46129 | O12: =N12+1 -> 46130 | P12: =O12+1 -> 46131
B13: =IF(MONTH(J15)=J1,DAY(J15),"") | C13: =IF(MONTH(K15)=J1,DAY(K15),"") | D13: =IF(MONTH(L15)=J1,DAY(L15),"") | E13: =IF(MONTH(M15)=J1,DAY(M15),"") | F13: =IF(MONTH(N15)=J1,DAY(N15),"") | G13: =IF(MONTH(O15)=J1,DAY(O15),"") | H13: =IF(MONTH(P15)=J1,DAY(P15),"") | J13: =J12+7 -> 46132 | K13: =J13+1 -> 46133 | L13: =K13+1 -> 46134 | M13: =L13+1 -> 46135 | N13: =M13+1 -> 46136 | O13: =N13+1 -> 46137 | P13: =O13+1 -> 46138
J14: =J13+7 -> 46139 | K14: =J14+1 -> 46140 | L14: =K14+1 -> 46141 | M14: =L14+1 -> 46142 | N14: =M14+1 -> 46143 | O14: =N14+1 -> 46144 | P14: =O14+1 -> 46145
B15: Notizen: | J15: =J14+7 -> 46146 | K15: =J15+1 -> 46147 | L15: =K15+1 -> 46148 | M15: =L15+1 -> 46149 | N15: =M15+1 -> 46150 | O15: =N15+1 -> 46151 | P15: =O15+1 -> 46152
B16: Reisen, Besprechungen und offene Punkte.

Sheet Mai
B1: ="Mai "&Januar!$K$3 -> Mai 2026 | J1: 5
B2: =IF(Januar!$K$4="Montag","Montag","Sonntag") -> Montag | C2: =IF(Januar!$K$4="Montag","Dienstag","Montag") -> Dienstag | D2: =IF(Januar!$K$4="Montag","Mittwoch","Dienstag") -> Mittwoch | E2: =IF(Januar!$K$4="Montag","Donnerstag","Mittwoch") -> Donnerstag | F2: =IF(Januar!$K$4="Montag","Freitag","Donnerstag") -> Freitag | G2: =IF(Januar!$K$4="Montag","Samstag","Freitag") -> Samstag | H2: =IF(Januar!$K$4="Montag","Sonntag","Samstag") -> Sonntag | J2: =Januar!$K$3 -> 2026
B3: =IF(MONTH(J10)=J1,DAY(J10),"") | C3: =IF(MONTH(K10)=J1,DAY(K10),"") | D3: =IF(MONTH(L10)=J1,DAY(L10),"") | E3: =IF(MONTH(M10)=J1,DAY(M10),"") | F3: =IF(MONTH(N10)=J1,DAY(N10),"") -> 1 | G3: =IF(MONTH(O10)=J1,DAY(O10),"") -> 2 | H3: =IF(MONTH(P10)=J1,DAY(P10),"") -> 3 | J3: =Januar!$K$4 -> Montag
J4: =DATE(J2,J1,1) -> 46143
B5: =IF(MONTH(J11)=J1,DAY(J11),"") -> 4 | C5: =IF(MONTH(K11)=J1,DAY(K11),"") -> 5 | D5: =IF(MONTH(L11)=J1,DAY(L11),"") -> 6 | E5: =IF(MONTH(M11)=J1,DAY(M11),"") -> 7 | F5: =IF(MONTH(N11)=J1,DAY(N11),"") -> 8 | G5: =IF(MONTH(O11)=J1,DAY(O11),"") -> 9 | H5: =IF(MONTH(P11)=J1,DAY(P11),"") -> 10 | J5: =IF(J3="Montag",WEEKDAY(J4,2)-1,WEEKDAY(J4,1)-1) -> 4
D6: Content-Plan | J6: =J4-J5 -> 46139
B7: =IF(MONTH(J12)=J1,DAY(J12),"") -> 11 | C7: =IF(MONTH(K12)=J1,DAY(K12),"") -> 12 | D7: =IF(MONTH(L12)=J1,DAY(L12),"") -> 13 | E7: =IF(MONTH(M12)=J1,DAY(M12),"") -> 14 | F7: =IF(MONTH(N12)=J1,DAY(N12),"") -> 15 | G7: =IF(MONTH(O12)=J1,DAY(O12),"") -> 16 | H7: =IF(MONTH(P12)=J1,DAY(P12),"") -> 17
B9: =IF(MONTH(J13)=J1,DAY(J13),"") -> 18 | C9: =IF(MONTH(K13)=J1,DAY(K13),"") -> 19 | D9: =IF(MONTH(L13)=J1,DAY(L13),"") -> 20 | E9: =IF(MONTH(M13)=J1,DAY(M13),"") -> 21 | F9: =IF(MONTH(N13)=J1,DAY(N13),"") -> 22 | G9: =IF(MONTH(O13)=J1,DAY(O13),"") -> 23 | H9: =IF(MONTH(P13)=J1,DAY(P13),"") -> 24
B10: Kundenpräsentation | J10: =J6 -> 46139 | K10: =J10+1 -> 46140 | L10: =K10+1 -> 46141 | M10: =L10+1 -> 46142 | N10: =M10+1 -> 46143 | O10: =N10+1 -> 46144 | P10: =O10+1 -> 46145
B11: =IF(MONTH(J14)=J1,DAY(J14),"") -> 25 | C11: =IF(MONTH(K14)=J1,DAY(K14),"") -> 26 | D11: =IF(MONTH(L14)=J1,DAY(L14),"") -> 27 | E11: =IF(MONTH(M14)=J1,DAY(M14),"") -> 28 | F11: =IF(MONTH(N14)=J1,DAY(N14),"") -> 29 | G11: =IF(MONTH(O14)=J1,DAY(O14),"") -> 30 | H11: =IF(MONTH(P14)=J1,DAY(P14),"") -> 31 | J11: =J10+7 -> 46146 | K11: =J11+1 -> 46147 | L11: =K11+1 -> 46148 | M11: =L11+1 -> 46149 | N11: =M11+1 -> 46150 | O11: =N11+1 -> 46151 | P11: =O11+1 -> 46152
D12: Quartalsziele prüfen | J12: =J11+7 -> 46153 | K12: =J12+1 -> 46154 | L12: =K12+1 -> 46155 | M12: =L12+1 -> 46156 | N12: =M12+1 -> 46157 | O12: =N12+1 -> 46158 | P12: =O12+1 -> 46159
B13: =IF(MONTH(J15)=J1,DAY(J15),"") | C13: =IF(MONTH(K15)=J1,DAY(K15),"") | D13: =IF(MONTH(L15)=J1,DAY(L15),"") | E13: =IF(MONTH(M15)=J1,DAY(M15),"") | F13: =IF(MONTH(N15)=J1,DAY(N15),"") | G13: =IF(MONTH(O15)=J1,DAY(O15),"") | H13: =IF(MONTH(P15)=J1,DAY(P15),"") | J13: =J12+7 -> 46160 | K13: =J13+1 -> 46161 | L13: =K13+1 -> 46162 | M13: =L13+1 -> 46163 | N13: =M13+1 -> 46164 | O13: =N13+1 -> 46165 | P13: =O13+1 -> 46166
J14: =J13+7 -> 46167 | K14: =J14+1 -> 46168 | L14: =K14+1 -> 46169 | M14: =L14+1 -> 46170 | N14: =M14+1 -> 46171 | O14: =N14+1 -> 46172 | P14: =O14+1 -> 46173
B15: Notizen: | J15: =J14+7 -> 46174 | K15: =J15+1 -> 46175 | L15: =K15+1 -> 46176 | M15: =L15+1 -> 46177 | N15: =M15+1 -> 46178 | O15: =N15+1 -> 46179 | P15: =O15+1 -> 46180
B16: Vertrieb, Präsentationen und Planung.

Sheet Juni
B1: ="Juni "&Januar!$K$3 -> Juni 2026 | J1: 6
B2: =IF(Januar!$K$4="Montag","Montag","Sonntag") -> Montag | C2: =IF(Januar!$K$4="Montag","Dienstag","Montag") -> Dienstag | D2: =IF(Januar!$K$4="Montag","Mittwoch","Dienstag") -> Mittwoch | E2: =IF(Januar!$K$4="Montag","Donnerstag","Mittwoch") -> Donnerstag | F2: =IF(Januar!$K$4="Montag","Freitag","Donnerstag") -> Freitag | G2: =IF(Januar!$K$4="Montag","Samstag","Freitag") -> Samstag | H2: =IF(Januar!$K$4="Montag","Sonntag","Samstag") -> Sonntag | J2: =Januar!$K$3 -> 2026
B3: =IF(MONTH(J10)=J1,DAY(J10),"") -> 1 | C3: =IF(MONTH(K10)=J1,DAY(K10),"") -> 2 | D3: =IF(MONTH(L10)=J1,DAY(L10),"") -> 3 | E3: =IF(MONTH(M10)=J1,DAY(M10),"") -> 4 | F3: =IF(MONTH(N10)=J1,DAY(N10),"") -> 5 | G3: =IF(MONTH(O10)=J1,DAY(O10),"") -> 6 | H3: =IF(MONTH(P10)=J1,DAY(P10),"") -> 7 | J3: =Januar!$K$4 -> Montag
B4: Monatsziel definieren | J4: =DATE(J2,J1,1) -> 46174
B5: =IF(MONTH(J11)=J1,DAY(J11),"") -> 8 | C5: =IF(MONTH(K11)=J1,DAY(K11),"") -> 9 | D5: =IF(MONTH(L11)=J1,DAY(L11),"") -> 10 | E5: =IF(MONTH(M11)=J1,DAY(M11),"") -> 11 | F5: =IF(MONTH(N11)=J1,DAY(N11),"") -> 12 | G5: =IF(MONTH(O11)=J1,DAY(O11),"") -> 13 | H5: =IF(MONTH(P11)=J1,DAY(P11),"") -> 14 | J5: =IF(J3="Montag",WEEKDAY(J4,2)-1,WEEKDAY(J4,1)-1) -> 0
E6: Team-Lunch 12:30 | J6: =J4-J5 -> 46174
B7: =IF(MONTH(J12)=J1,DAY(J12),"") -> 15 | C7: =IF(MONTH(K12)=J1,DAY(K12),"") -> 16 | D7: =IF(MONTH(L12)=J1,DAY(L12),"") -> 17 | E7: =IF(MONTH(M12)=J1,DAY(M12),"") -> 18 | F7: =IF(MONTH(N12)=J1,DAY(N12),"") -> 19 | G7: =IF(MONTH(O12)=J1,DAY(O12),"") -> 20 | H7: =IF(MONTH(P12)=J1,DAY(P12),"") -> 21
B9: =IF(MONTH(J13)=J1,DAY(J13),"") -> 22 | C9: =IF(MONTH(K13)=J1,DAY(K13),"") -> 23 | D9: =IF(MONTH(L13)=J1,DAY(L13),"") -> 24 | E9: =IF(MONTH(M13)=J1,DAY(M13),"") -> 25 | F9: =IF(MONTH(N13)=J1,DAY(N13),"") -> 26 | G9: =IF(MONTH(O13)=J1,DAY(O13),"") -> 27 | H9: =IF(MONTH(P13)=J1,DAY(P13),"") -> 28
D10: Offene Punkte schließen | J10: =J6 -> 46174 | K10: =J10+1 -> 46175 | L10: =K10+1 -> 46176 | M10: =L10+1 -> 46177 | N10: =M10+1 -> 46178 | O10: =N10+1 -> 46179 | P10: =O10+1 -> 46180
B11: =IF(MONTH(J14)=J1,DAY(J14),"") -> 29 | C11: =IF(MONTH(K14)=J1,DAY(K14),"") -> 30 | D11: =IF(MONTH(L14)=J1,DAY(L14),"") | E11: =IF(MONTH(M14)=J1,DAY(M14),"") | F11: =IF(MONTH(N14)=J1,DAY(N14),"") | G11: =IF(MONTH(O14)=J1,DAY(O14),"") | H11: =IF(MONTH(P14)=J1,DAY(P14),"") | J11: =J10+7 -> 46181 | K11: =J11+1 -> 46182 | L11: =K11+1 -> 46183 | M11: =L11+1 -> 46184 | N11: =M11+1 -> 46185 | O11: =N11+1 -> 46186 | P11: =O11+1 -> 46187
J12: =J11+7 -> 46188 | K12: =J12+1 -> 46189 | L12: =K12+1 -> 46190 | M12: =L12+1 -> 46191 | N12: =M12+1 -> 46192 | O12: =N12+1 -> 46193 | P12: =O12+1 -> 46194
B13: =IF(MONTH(J15)=J1,DAY(J15),"") | C13: =IF(MONTH(K15)=J1,DAY(K15),"") | D13: =IF(MONTH(L15)=J1,DAY(L15),"") | E13: =IF(MONTH(M15)=J1,DAY(M15),"") | F13: =IF(MONTH(N15)=J1,DAY(N15),"") | G13: =IF(MONTH(O15)=J1,DAY(O15),"") | H13: =IF(MONTH(P15)=J1,DAY(P15),"") | J13: =J12+7 -> 46195 | K13: =J13+1 -> 46196 | L13: =K13+1 -> 46197 | M13: =L13+1 -> 46198 | N13: =M13+1 -> 46199 | O13: =N13+1 -> 46200 | P13: =O13+1 -> 46201
J14: =J13+7 -> 46202 | K14: =J14+1 -> 46203 | L14: =K14+1 -> 46204 | M14: =L14+1 -> 46205 | N14: =M14+1 -> 46206 | O14: =N14+1 -> 46207 | P14: =O14+1 -> 46208
B15: Notizen: | J15: =J14+7 -> 46209 | K15: =J15+1 -> 46210 | L15: =K15+1 -> 46211 | M15: =L15+1 -> 46212 | N15: =M15+1 -> 46213 | O15: =N15+1 -> 46214 | P15: =O15+1 -> 46215
B16: Ziele, Lunches und Monatsabschluss.

Sheet Juli
B1: ="Juli "&Januar!$K$3 -> Juli 2026 | J1: 7
B2: =IF(Januar!$K$4="Montag","Montag","Sonntag") -> Montag | C2: =IF(Januar!$K$4="Montag","Dienstag","Montag") -> Dienstag | D2: =IF(Januar!$K$4="Montag","Mittwoch","Dienstag") -> Mittwoch | E2: =IF(Januar!$K$4="Montag","Donnerstag","Mittwoch") -> Donnerstag | F2: =IF(Januar!$K$4="Montag","Freitag","Donnerstag") -> Freitag | G2: =IF(Januar!$K$4="Montag","Samstag","Freitag") -> Samstag | H2: =IF(Januar!$K$4="Montag","Sonntag","Samstag") -> Sonntag | J2: =Januar!$K$3 -> 2026
B3: =IF(MONTH(J10)=J1,DAY(J10),"") | C3: =IF(MONTH(K10)=J1,DAY(K10),"") | D3: =IF(MONTH(L10)=J1,DAY(L10),"") -> 1 | E3: =IF(MONTH(M10)=J1,DAY(M10),"") -> 2 | F3: =IF(MONTH(N10)=J1,DAY(N10),"") -> 3 | G3: =IF(MONTH(O10)=J1,DAY(O10),"") -> 4 | H3: =IF(MONTH(P10)=J1,DAY(P10),"") -> 5 | J3: =Januar!$K$4 -> Montag
J4: =DATE(J2,J1,1) -> 46204
B5: =IF(MONTH(J11)=J1,DAY(J11),"") -> 6 | C5: =IF(MONTH(K11)=J1,DAY(K11),"") -> 7 | D5: =IF(MONTH(L11)=J1,DAY(L11),"") -> 8 | E5: =IF(MONTH(M11)=J1,DAY(M11),"") -> 9 | F5: =IF(MONTH(N11)=J1,DAY(N11),"") -> 10 | G5: =IF(MONTH(O11)=J1,DAY(O11),"") -> 11 | H5: =IF(MONTH(P11)=J1,DAY(P11),"") -> 12 | J5: =IF(J3="Montag",WEEKDAY(J4,2)-1,WEEKDAY(J4,1)-1) -> 2
C6: Sommeraktion starten | J6: =J4-J5 -> 46202
B7: =IF(MONTH(J12)=J1,DAY(J12),"") -> 13 | C7: =IF(MONTH(K12)=J1,DAY(K12),"") -> 14 | D7: =IF(MONTH(L12)=J1,DAY(L12),"") -> 15 | E7: =IF(MONTH(M12)=J1,DAY(M12),"") -> 16 | F7: =IF(MONTH(N12)=J1,DAY(N12),"") -> 17 | G7: =IF(MONTH(O12)=J1,DAY(O12),"") -> 18 | H7: =IF(MONTH(P12)=J1,DAY(P12),"") -> 19
B9: =IF(MONTH(J13)=J1,DAY(J13),"") -> 20 | C9: =IF(MONTH(K13)=J1,DAY(K13),"") -> 21 | D9: =IF(MONTH(L13)=J1,DAY(L13),"") -> 22 | E9: =IF(MONTH(M13)=J1,DAY(M13),"") -> 23 | F9: =IF(MONTH(N13)=J1,DAY(N13),"") -> 24 | G9: =IF(MONTH(O13)=J1,DAY(O13),"") -> 25 | H9: =IF(MONTH(P13)=J1,DAY(P13),"") -> 26
B10: Sommerurlaub | J10: =J6 -> 46202 | K10: =J10+1 -> 46203 | L10: =K10+1 -> 46204 | M10: =L10+1 -> 46205 | N10: =M10+1 -> 46206 | O10: =N10+1 -> 46207 | P10: =O10+1 -> 46208
B11: =IF(MONTH(J14)=J1,DAY(J14),"") -> 27 | C11: =IF(MONTH(K14)=J1,DAY(K14),"") -> 28 | D11: =IF(MONTH(L14)=J1,DAY(L14),"") -> 29 | E11: =IF(MONTH(M14)=J1,DAY(M14),"") -> 30 | F11: =IF(MONTH(N14)=J1,DAY(N14),"") -> 31 | G11: =IF(MONTH(O14)=J1,DAY(O14),"") | H11: =IF(MONTH(P14)=J1,DAY(P14),"") | J11: =J10+7 -> 46209 | K11: =J11+1 -> 46210 | L11: =K11+1 -> 46211 | M11: =L11+1 -> 46212 | N11: =M11+1 -> 46213 | O11: =N11+1 -> 46214 | P11: =O11+1 -> 46215
D12: Reisekosten erfassen | J12: =J11+7 -> 46216 | K12: =J12+1 -> 46217 | L12: =K12+1 -> 46218 | M12: =L12+1 -> 46219 | N12: =M12+1 -> 46220 | O12: =N12+1 -> 46221 | P12: =O12+1 -> 46222
B13: =IF(MONTH(J15)=J1,DAY(J15),"") | C13: =IF(MONTH(K15)=J1,DAY(K15),"") | D13: =IF(MONTH(L15)=J1,DAY(L15),"") | E13: =IF(MONTH(M15)=J1,DAY(M15),"") | F13: =IF(MONTH(N15)=J1,DAY(N15),"") | G13: =IF(MONTH(O15)=J1,DAY(O15),"") | H13: =IF(MONTH(P15)=J1,DAY(P15),"") | J13: =J12+7 -> 46223 | K13: =J13+1 -> 46224 | L13: =K13+1 -> 46225 | M13: =L13+1 -> 46226 | N13: =M13+1 -> 46227 | O13: =N13+1 -> 46228 | P13: =O13+1 -> 46229
J14: =J13+7 -> 46230 | K14: =J14+1 -> 46231 | L14: =K14+1 -> 46232 | M14: =L14+1 -> 46233 | N14: =M14+1 -> 46234 | O14: =N14+1 -> 46235 | P14: =O14+1 -> 46236
B15: Notizen: | J15: =J14+7 -> 46237 | K15: =J15+1 -> 46238 | L15: =K15+1 -> 46239 | M15: =L15+1 -> 46240 | N15: =M15+1 -> 46241 | O15: =N15+1 -> 46242 | P15: =O15+1 -> 46243
B16: Sommerplanung und Urlaub.

Sheet August
B1: ="August "&Januar!$K$3 -> August 2026 | J1: 8
B2: =IF(Januar!$K$4="Montag","Montag","Sonntag") -> Montag | C2: =IF(Januar!$K$4="Montag","Dienstag","Montag") -> Dienstag | D2: =IF(Januar!$K$4="Montag","Mittwoch","Dienstag") -> Mittwoch | E2: =IF(Januar!$K$4="Montag","Donnerstag","Mittwoch") -> Donnerstag | F2: =IF(Januar!$K$4="Montag","Freitag","Donnerstag") -> Freitag | G2: =IF(Januar!$K$4="Montag","Samstag","Freitag") -> Samstag | H2: =IF(Januar!$K$4="Montag","Sonntag","Samstag") -> Sonntag | J2: =Januar!$K$3 -> 2026
B3: =IF(MONTH(J10)=J1,DAY(J10),"") | C3: =IF(MONTH(K10)=J1,DAY(K10),"") | D3: =IF(MONTH(L10)=J1,DAY(L10),"") | E3: =IF(MONTH(M10)=J1,DAY(M10),"") | F3: =IF(MONTH(N10)=J1,DAY(N10),"") | G3: =IF(MONTH(O10)=J1,DAY(O10),"") -> 1 | H3: =IF(MONTH(P10)=J1,DAY(P10),"") -> 2 | J3: =Januar!$K$4 -> Montag
J4: =DATE(J2,J1,1) -> 46235
B5: =IF(MONTH(J11)=J1,DAY(J11),"") -> 3 | C5: =IF(MONTH(K11)=J1,DAY(K11),"") -> 4 | D5: =IF(MONTH(L11)=J1,DAY(L11),"") -> 5 | E5: =IF(MONTH(M11)=J1,DAY(M11),"") -> 6 | F5: =IF(MONTH(N11)=J1,DAY(N11),"") -> 7 | G5: =IF(MONTH(O11)=J1,DAY(O11),"") -> 8 | H5: =IF(MONTH(P11)=J1,DAY(P11),"") -> 9 | J5: =IF(J3="Montag",WEEKDAY(J4,2)-1,WEEKDAY(J4,1)-1) -> 5
C6: Backlog sortieren | J6: =J4-J5 -> 46230
B7: =IF(MONTH(J12)=J1,DAY(J12),"") -> 10 | C7: =IF(MONTH(K12)=J1,DAY(K12),"") -> 11 | D7: =IF(MONTH(L12)=J1,DAY(L12),"") -> 12 | E7: =IF(MONTH(M12)=J1,DAY(M12),"") -> 13 | F7: =IF(MONTH(N12)=J1,DAY(N12),"") -> 14 | G7: =IF(MONTH(O12)=J1,DAY(O12),"") -> 15 | H7: =IF(MONTH(P12)=J1,DAY(P12),"") -> 16
C8: Teamgrillabend
B9: =IF(MONTH(J13)=J1,DAY(J13),"") -> 17 | C9: =IF(MONTH(K13)=J1,DAY(K13),"") -> 18 | D9: =IF(MONTH(L13)=J1,DAY(L13),"") -> 19 | E9: =IF(MONTH(M13)=J1,DAY(M13),"") -> 20 | F9: =IF(MONTH(N13)=J1,DAY(N13),"") -> 21 | G9: =IF(MONTH(O13)=J1,DAY(O13),"") -> 22 | H9: =IF(MONTH(P13)=J1,DAY(P13),"") -> 23
J10: =J6 -> 46230 | K10: =J10+1 -> 46231 | L10: =K10+1 -> 46232 | M10: =L10+1 -> 46233 | N10: =M10+1 -> 46234 | O10: =N10+1 -> 46235 | P10: =O10+1 -> 46236
B11: =IF(MONTH(J14)=J1,DAY(J14),"") -> 24 | C11: =IF(MONTH(K14)=J1,DAY(K14),"") -> 25 | D11: =IF(MONTH(L14)=J1,DAY(L14),"") -> 26 | E11: =IF(MONTH(M14)=J1,DAY(M14),"") -> 27 | F11: =IF(MONTH(N14)=J1,DAY(N14),"") -> 28 | G11: =IF(MONTH(O14)=J1,DAY(O14),"") -> 29 | H11: =IF(MONTH(P14)=J1,DAY(P14),"") -> 30 | J11: =J10+7 -> 46237 | K11: =J11+1 -> 46238 | L11: =K11+1 -> 46239 | M11: =L11+1 -> 46240 | N11: =M11+1 -> 46241 | O11: =N11+1 -> 46242 | P11: =O11+1 -> 46243
D12: Abgabefrist | J12: =J11+7 -> 46244 | K12: =J12+1 -> 46245 | L12: =K12+1 -> 46246 | M12: =L12+1 -> 46247 | N12: =M12+1 -> 46248 | O12: =N12+1 -> 46249 | P12: =O12+1 -> 46250
B13: =IF(MONTH(J15)=J1,DAY(J15),"") -> 31 | C13: =IF(MONTH(K15)=J1,DAY(K15),"") | D13: =IF(MONTH(L15)=J1,DAY(L15),"") | E13: =IF(MONTH(M15)=J1,DAY(M15),"") | F13: =IF(MONTH(N15)=J1,DAY(N15),"") | G13: =IF(MONTH(O15)=J1,DAY(O15),"") | H13: =IF(MONTH(P15)=J1,DAY(P15),"") | J13: =J12+7 -> 46251 | K13: =J13+1 -> 46252 | L13: =K13+1 -> 46253 | M13: =L13+1 -> 46254 | N13: =M13+1 -> 46255 | O13: =N13+1 -> 46256 | P13: =O13+1 -> 46257
J14: =J13+7 -> 46258 | K14: =J14+1 -> 46259 | L14: =K14+1 -> 46260 | M14: =L14+1 -> 46261 | N14: =M14+1 -> 46262 | O14: =N14+1 -> 46263 | P14: =O14+1 -> 46264
B15: Notizen: | J15: =J14+7 -> 46265 | K15: =J15+1 -> 46266 | L15: =K15+1 -> 46267 | M15: =L15+1 -> 46268 | N15: =M15+1 -> 46269 | O15: =N15+1 -> 46270 | P15: =O15+1 -> 46271
B16: Backlog, Team-Event und Fristen.

Sheet September
B1: ="September "&Januar!$K$3 -> September 2026 | J1: 9
B2: =IF(Januar!$K$4="Montag","Montag","Sonntag") -> Montag | C2: =IF(Januar!$K$4="Montag","Dienstag","Montag") -> Dienstag | D2: =IF(Januar!$K$4="Montag","Mittwoch","Dienstag") -> Mittwoch | E2: =IF(Januar!$K$4="Montag","Donnerstag","Mittwoch") -> Donnerstag | F2: =IF(Januar!$K$4="Montag","Freitag","Donnerstag") -> Freitag | G2: =IF(Januar!$K$4="Montag","Samstag","Freitag") -> Samstag | H2: =IF(Januar!$K$4="Montag","Sonntag","Samstag") -> Sonntag | J2: =Januar!$K$3 -> 2026
B3: =IF(MONTH(J10)=J1,DAY(J10),"") | C3: =IF(MONTH(K10)=J1,DAY(K10),"") -> 1 | D3: =IF(MONTH(L10)=J1,DAY(L10),"") -> 2 | E3: =IF(MONTH(M10)=J1,DAY(M10),"") -> 3 | F3: =IF(MONTH(N10)=J1,DAY(N10),"") -> 4 | G3: =IF(MONTH(O10)=J1,DAY(O10),"") -> 5 | H3: =IF(MONTH(P10)=J1,DAY(P10),"") -> 6 | J3: =Januar!$K$4 -> Montag
J4: =DATE(J2,J1,1) -> 46266
B5: =IF(MONTH(J11)=J1,DAY(J11),"") -> 7 | C5: =IF(MONTH(K11)=J1,DAY(K11),"") -> 8 | D5: =IF(MONTH(L11)=J1,DAY(L11),"") -> 9 | E5: =IF(MONTH(M11)=J1,DAY(M11),"") -> 10 | F5: =IF(MONTH(N11)=J1,DAY(N11),"") -> 11 | G5: =IF(MONTH(O11)=J1,DAY(O11),"") -> 12 | H5: =IF(MONTH(P11)=J1,DAY(P11),"") -> 13 | J5: =IF(J3="Montag",WEEKDAY(J4,2)-1,WEEKDAY(J4,1)-1) -> 1
B6: Schulstart vorbereiten | J6: =J4-J5 -> 46265
B7: =IF(MONTH(J12)=J1,DAY(J12),"") -> 14 | C7: =IF(MONTH(K12)=J1,DAY(K12),"") -> 15 | D7: =IF(MONTH(L12)=J1,DAY(L12),"") -> 16 | E7: =IF(MONTH(M12)=J1,DAY(M12),"") -> 17 | F7: =IF(MONTH(N12)=J1,DAY(N12),"") -> 18 | G7: =IF(MONTH(O12)=J1,DAY(O12),"") -> 19 | H7: =IF(MONTH(P12)=J1,DAY(P12),"") -> 20
C8: Kundencall 09:00
B9: =IF(MONTH(J13)=J1,DAY(J13),"") -> 21 | C9: =IF(MONTH(K13)=J1,DAY(K13),"") -> 22 | D9: =IF(MONTH(L13)=J1,DAY(L13),"") -> 23 | E9: =IF(MONTH(M13)=J1,DAY(M13),"") -> 24 | F9: =IF(MONTH(N13)=J1,DAY(N13),"") -> 25 | G9: =IF(MONTH(O13)=J1,DAY(O13),"") -> 26 | H9: =IF(MONTH(P13)=J1,DAY(P13),"") -> 27
J10: =J6 -> 46265 | K10: =J10+1 -> 46266 | L10: =K10+1 -> 46267 | M10: =L10+1 -> 46268 | N10: =M10+1 -> 46269 | O10: =N10+1 -> 46270 | P10: =O10+1 -> 46271
B11: =IF(MONTH(J14)=J1,DAY(J14),"") -> 28 | C11: =IF(MONTH(K14)=J1,DAY(K14),"") -> 29 | D11: =IF(MONTH(L14)=J1,DAY(L14),"") -> 30 | E11: =IF(MONTH(M14)=J1,DAY(M14),"") | F11: =IF(MONTH(N14)=J1,DAY(N14),"") | G11: =IF(MONTH(O14)=J1,DAY(O14),"") | H11: =IF(MONTH(P14)=J1,DAY(P14),"") | J11: =J10+7 -> 46272 | K11: =J11+1 -> 46273 | L11: =K11+1 -> 46274 | M11: =L11+1 -> 46275 | N11: =M11+1 -> 46276 | O11: =N11+1 -> 46277 | P11: =O11+1 -> 46278
D12: Monatsabschluss | J12: =J11+7 -> 46279 | K12: =J12+1 -> 46280 | L12: =K12+1 -> 46281 | M12: =L12+1 -> 46282 | N12: =M12+1 -> 46283 | O12: =N12+1 -> 46284 | P12: =O12+1 -> 46285
B13: =IF(MONTH(J15)=J1,DAY(J15),"") | C13: =IF(MONTH(K15)=J1,DAY(K15),"") | D13: =IF(MONTH(L15)=J1,DAY(L15),"") | E13: =IF(MONTH(M15)=J1,DAY(M15),"") | F13: =IF(MONTH(N15)=J1,DAY(N15),"") | G13: =IF(MONTH(O15)=J1,DAY(O15),"") | H13: =IF(MONTH(P15)=J1,DAY(P15),"") | J13: =J12+7 -> 46286 | K13: =J13+1 -> 46287 | L13: =K13+1 -> 46288 | M13: =L13+1 -> 46289 | N13: =M13+1 -> 46290 | O13: =N13+1 -> 46291 | P13: =O13+1 -> 46292
J14: =J13+7 -> 46293 | K14: =J14+1 -> 46294 | L14: =K14+1 -> 46295 | M14: =L14+1 -> 46296 | N14: =M14+1 -> 46297 | O14: =N14+1 -> 46298 | P14: =O14+1 -> 46299
B15: Notizen: | J15: =J14+7 -> 46300 | K15: =J15+1 -> 46301 | L15: =K15+1 -> 46302 | M15: =L15+1 -> 46303 | N15: =M15+1 -> 46304 | O15: =N15+1 -> 46305 | P15: =O15+1 -> 46306
B16: Vorbereitung und Monatsende.

Sheet Oktober
B1: ="Oktober "&Januar!$K$3 -> Oktober 2026 | J1: 10
B2: =IF(Januar!$K$4="Montag","Montag","Sonntag") -> Montag | C2: =IF(Januar!$K$4="Montag","Dienstag","Montag") -> Dienstag | D2: =IF(Januar!$K$4="Montag","Mittwoch","Dienstag") -> Mittwoch | E2: =IF(Januar!$K$4="Montag","Donnerstag","Mittwoch") -> Donnerstag | F2: =IF(Januar!$K$4="Montag","Freitag","Donnerstag") -> Freitag | G2: =IF(Januar!$K$4="Montag","Samstag","Freitag") -> Samstag | H2: =IF(Januar!$K$4="Montag","Sonntag","Samstag") -> Sonntag | J2: =Januar!$K$3 -> 2026
B3: =IF(MONTH(J10)=J1,DAY(J10),"") | C3: =IF(MONTH(K10)=J1,DAY(K10),"") | D3: =IF(MONTH(L10)=J1,DAY(L10),"") | E3: =IF(MONTH(M10)=J1,DAY(M10),"") -> 1 | F3: =IF(MONTH(N10)=J1,DAY(N10),"") -> 2 | G3: =IF(MONTH(O10)=J1,DAY(O10),"") -> 3 | H3: =IF(MONTH(P10)=J1,DAY(P10),"") -> 4 | J3: =Januar!$K$4 -> Montag
J4: =DATE(J2,J1,1) -> 46296
B5: =IF(MONTH(J11)=J1,DAY(J11),"") -> 5 | C5: =IF(MONTH(K11)=J1,DAY(K11),"") -> 6 | D5: =IF(MONTH(L11)=J1,DAY(L11),"") -> 7 | E5: =IF(MONTH(M11)=J1,DAY(M11),"") -> 8 | F5: =IF(MONTH(N11)=J1,DAY(N11),"") -> 9 | G5: =IF(MONTH(O11)=J1,DAY(O11),"") -> 10 | H5: =IF(MONTH(P11)=J1,DAY(P11),"") -> 11 | J5: =IF(J3="Montag",WEEKDAY(J4,2)-1,WEEKDAY(J4,1)-1) -> 3
E6: Strategie-Workshop | J6: =J4-J5 -> 46293
B7: =IF(MONTH(J12)=J1,DAY(J12),"") -> 12 | C7: =IF(MONTH(K12)=J1,DAY(K12),"") -> 13 | D7: =IF(MONTH(L12)=J1,DAY(L12),"") -> 14 | E7: =IF(MONTH(M12)=J1,DAY(M12),"") -> 15 | F7: =IF(MONTH(N12)=J1,DAY(N12),"") -> 16 | G7: =IF(MONTH(O12)=J1,DAY(O12),"") -> 17 | H7: =IF(MONTH(P12)=J1,DAY(P12),"") -> 18
B9: =IF(MONTH(J13)=J1,DAY(J13),"") -> 19 | C9: =IF(MONTH(K13)=J1,DAY(K13),"") -> 20 | D9: =IF(MONTH(L13)=J1,DAY(L13),"") -> 21 | E9: =IF(MONTH(M13)=J1,DAY(M13),"") -> 22 | F9: =IF(MONTH(N13)=J1,DAY(N13),"") -> 23 | G9: =IF(MONTH(O13)=J1,DAY(O13),"") -> 24 | H9: =IF(MONTH(P13)=J1,DAY(P13),"") -> 25
D10: Präsentation üben | J10: =J6 -> 46293 | K10: =J10+1 -> 46294 | L10: =K10+1 -> 46295 | M10: =L10+1 -> 46296 | N10: =M10+1 -> 46297 | O10: =N10+1 -> 46298 | P10: =O10+1 -> 46299
B11: =IF(MONTH(J14)=J1,DAY(J14),"") -> 26 | C11: =IF(MONTH(K14)=J1,DAY(K14),"") -> 27 | D11: =IF(MONTH(L14)=J1,DAY(L14),"") -> 28 | E11: =IF(MONTH(M14)=J1,DAY(M14),"") -> 29 | F11: =IF(MONTH(N14)=J1,DAY(N14),"") -> 30 | G11: =IF(MONTH(O14)=J1,DAY(O14),"") -> 31 | H11: =IF(MONTH(P14)=J1,DAY(P14),"") | J11: =J10+7 -> 46300 | K11: =J11+1 -> 46301 | L11: =K11+1 -> 46302 | M11: =L11+1 -> 46303 | N11: =M11+1 -> 46304 | O11: =N11+1 -> 46305 | P11: =O11+1 -> 46306
G12: Halloween Event | J12: =J11+7 -> 46307 | K12: =J12+1 -> 46308 | L12: =K12+1 -> 46309 | M12: =L12+1 -> 46310 | N12: =M12+1 -> 46311 | O12: =N12+1 -> 46312 | P12: =O12+1 -> 46313
B13: =IF(MONTH(J15)=J1,DAY(J15),"") | C13: =IF(MONTH(K15)=J1,DAY(K15),"") | D13: =IF(MONTH(L15)=J1,DAY(L15),"") | E13: =IF(MONTH(M15)=J1,DAY(M15),"") | F13: =IF(MONTH(N15)=J1,DAY(N15),"") | G13: =IF(MONTH(O15)=J1,DAY(O15),"") | H13: =IF(MONTH(P15)=J1,DAY(P15),"") | J13: =J12+7 -> 46314 | K13: =J13+1 -> 46315 | L13: =K13+1 -> 46316 | M13: =L13+1 -> 46317 | N13: =M13+1 -> 46318 | O13: =N13+1 -> 46319 | P13: =O13+1 -> 46320
J14: =J13+7 -> 46321 | K14: =J14+1 -> 46322 | L14: =K14+1 -> 46323 | M14: =L14+1 -> 46324 | N14: =M14+1 -> 46325 | O14: =N14+1 -> 46326 | P14: =O14+1 -> 46327
B15: Notizen: | J15: =J14+7 -> 46328 | K15: =J15+1 -> 46329 | L15: =K15+1 -> 46330 | M15: =L15+1 -> 46331 | N15: =M15+1 -> 46332 | O15: =N15+1 -> 46333 | P15: =O15+1 -> 46334
B16: Workshops und Events.

Sheet November
B1: ="November "&Januar!$K$3 -> November 2026 | J1: 11
B2: =IF(Januar!$K$4="Montag","Montag","Sonntag") -> Montag | C2: =IF(Januar!$K$4="Montag","Dienstag","Montag") -> Dienstag | D2: =IF(Januar!$K$4="Montag","Mittwoch","Dienstag") -> Mittwoch | E2: =IF(Januar!$K$4="Montag","Donnerstag","Mittwoch") -> Donnerstag | F2: =IF(Januar!$K$4="Montag","Freitag","Donnerstag") -> Freitag | G2: =IF(Januar!$K$4="Montag","Samstag","Freitag") -> Samstag | H2: =IF(Januar!$K$4="Montag","Sonntag","Samstag") -> Sonntag | J2: =Januar!$K$3 -> 2026
B3: =IF(MONTH(J10)=J1,DAY(J10),"") | C3: =IF(MONTH(K10)=J1,DAY(K10),"") | D3: =IF(MONTH(L10)=J1,DAY(L10),"") | E3: =IF(MONTH(M10)=J1,DAY(M10),"") | F3: =IF(MONTH(N10)=J1,DAY(N10),"") | G3: =IF(MONTH(O10)=J1,DAY(O10),"") | H3: =IF(MONTH(P10)=J1,DAY(P10),"") -> 1 | J3: =Januar!$K$4 -> Montag
J4: =DATE(J2,J1,1) -> 46327
B5: =IF(MONTH(J11)=J1,DAY(J11),"") -> 2 | C5: =IF(MONTH(K11)=J1,DAY(K11),"") -> 3 | D5: =IF(MONTH(L11)=J1,DAY(L11),"") -> 4 | E5: =IF(MONTH(M11)=J1,DAY(M11),"") -> 5 | F5: =IF(MONTH(N11)=J1,DAY(N11),"") -> 6 | G5: =IF(MONTH(O11)=J1,DAY(O11),"") -> 7 | H5: =IF(MONTH(P11)=J1,DAY(P11),"") -> 8 | J5: =IF(J3="Montag",WEEKDAY(J4,2)-1,WEEKDAY(J4,1)-1) -> 6
J6: =J4-J5 -> 46321
B7: =IF(MONTH(J12)=J1,DAY(J12),"") -> 9 | C7: =IF(MONTH(K12)=J1,DAY(K12),"") -> 10 | D7: =IF(MONTH(L12)=J1,DAY(L12),"") -> 11 | E7: =IF(MONTH(M12)=J1,DAY(M12),"") -> 12 | F7: =IF(MONTH(N12)=J1,DAY(N12),"") -> 13 | G7: =IF(MONTH(O12)=J1,DAY(O12),"") -> 14 | H7: =IF(MONTH(P12)=J1,DAY(P12),"") -> 15
E8: Strategie-Review
B9: =IF(MONTH(J13)=J1,DAY(J13),"") -> 16 | C9: =IF(MONTH(K13)=J1,DAY(K13),"") -> 17 | D9: =IF(MONTH(L13)=J1,DAY(L13),"") -> 18 | E9: =IF(MONTH(M13)=J1,DAY(M13),"") -> 19 | F9: =IF(MONTH(N13)=J1,DAY(N13),"") -> 20 | G9: =IF(MONTH(O13)=J1,DAY(O13),"") -> 21 | H9: =IF(MONTH(P13)=J1,DAY(P13),"") -> 22
E10: Angebote nachfassen | J10: =J6 -> 46321 | K10: =J10+1 -> 46322 | L10: =K10+1 -> 46323 | M10: =L10+1 -> 46324 | N10: =M10+1 -> 46325 | O10: =N10+1 -> 46326 | P10: =O10+1 -> 46327
B11: =IF(MONTH(J14)=J1,DAY(J14),"") -> 23 | C11: =IF(MONTH(K14)=J1,DAY(K14),"") -> 24 | D11: =IF(MONTH(L14)=J1,DAY(L14),"") -> 25 | E11: =IF(MONTH(M14)=J1,DAY(M14),"") -> 26 | F11: =IF(MONTH(N14)=J1,DAY(N14),"") -> 27 | G11: =IF(MONTH(O14)=J1,DAY(O14),"") -> 28 | H11: =IF(MONTH(P14)=J1,DAY(P14),"") -> 29 | J11: =J10+7 -> 46328 | K11: =J11+1 -> 46329 | L11: =K11+1 -> 46330 | M11: =L11+1 -> 46331 | N11: =M11+1 -> 46332 | O11: =N11+1 -> 46333 | P11: =O11+1 -> 46334
F12: Planung Dezember | J12: =J11+7 -> 46335 | K12: =J12+1 -> 46336 | L12: =K12+1 -> 46337 | M12: =L12+1 -> 46338 | N12: =M12+1 -> 46339 | O12: =N12+1 -> 46340 | P12: =O12+1 -> 46341
B13: =IF(MONTH(J15)=J1,DAY(J15),"") -> 30 | C13: =IF(MONTH(K15)=J1,DAY(K15),"") | D13: =IF(MONTH(L15)=J1,DAY(L15),"") | E13: =IF(MONTH(M15)=J1,DAY(M15),"") | F13: =IF(MONTH(N15)=J1,DAY(N15),"") | G13: =IF(MONTH(O15)=J1,DAY(O15),"") | H13: =IF(MONTH(P15)=J1,DAY(P15),"") | J13: =J12+7 -> 46342 | K13: =J13+1 -> 46343 | L13: =K13+1 -> 46344 | M13: =L13+1 -> 46345 | N13: =M13+1 -> 46346 | O13: =N13+1 -> 46347 | P13: =O13+1 -> 46348
J14: =J13+7 -> 46349 | K14: =J14+1 -> 46350 | L14: =K14+1 -> 46351 | M14: =L14+1 -> 46352 | N14: =M14+1 -> 46353 | O14: =N14+1 -> 46354 | P14: =O14+1 -> 46355
B15: Notizen: | J15: =J14+7 -> 46356 | K15: =J15+1 -> 46357 | L15: =K15+1 -> 46358 | M15: =L15+1 -> 46359 | N15: =M15+1 -> 46360 | O15: =N15+1 -> 46361 | P15: =O15+1 -> 46362
B16: Review- und Planungsmonat.

Sheet Dezember
B1: ="Dezember "&Januar!$K$3 -> Dezember 2026 | J1: 12
B2: =IF(Januar!$K$4="Montag","Montag","Sonntag") -> Montag | C2: =IF(Januar!$K$4="Montag","Dienstag","Montag") -> Dienstag | D2: =IF(Januar!$K$4="Montag","Mittwoch","Dienstag") -> Mittwoch | E2: =IF(Januar!$K$4="Montag","Donnerstag","Mittwoch") -> Donnerstag | F2: =IF(Januar!$K$4="Montag","Freitag","Donnerstag") -> Freitag | G2: =IF(Januar!$K$4="Montag","Samstag","Freitag") -> Samstag | H2: =IF(Januar!$K$4="Montag","Sonntag","Samstag") -> Sonntag | J2: =Januar!$K$3 -> 2026
B3: =IF(MONTH(J10)=J1,DAY(J10),"") | C3: =IF(MONTH(K10)=J1,DAY(K10),"") -> 1 | D3: =IF(MONTH(L10)=J1,DAY(L10),"") -> 2 | E3: =IF(MONTH(M10)=J1,DAY(M10),"") -> 3 | F3: =IF(MONTH(N10)=J1,DAY(N10),"") -> 4 | G3: =IF(MONTH(O10)=J1,DAY(O10),"") -> 5 | H3: =IF(MONTH(P10)=J1,DAY(P10),"") -> 6 | J3: =Januar!$K$4 -> Montag
E4: Geschenke besorgen | J4: =DATE(J2,J1,1) -> 46357
B5: =IF(MONTH(J11)=J1,DAY(J11),"") -> 7 | C5: =IF(MONTH(K11)=J1,DAY(K11),"") -> 8 | D5: =IF(MONTH(L11)=J1,DAY(L11),"") -> 9 | E5: =IF(MONTH(M11)=J1,DAY(M11),"") -> 10 | F5: =IF(MONTH(N11)=J1,DAY(N11),"") -> 11 | G5: =IF(MONTH(O11)=J1,DAY(O11),"") -> 12 | H5: =IF(MONTH(P11)=J1,DAY(P11),"") -> 13 | J5: =IF(J3="Montag",WEEKDAY(J4,2)-1,WEEKDAY(J4,1)-1) -> 1
F6: Jahresabschluss-Meeting | J6: =J4-J5 -> 46356
B7: =IF(MONTH(J12)=J1,DAY(J12),"") -> 14 | C7: =IF(MONTH(K12)=J1,DAY(K12),"") -> 15 | D7: =IF(MONTH(L12)=J1,DAY(L12),"") -> 16 | E7: =IF(MONTH(M12)=J1,DAY(M12),"") -> 17 | F7: =IF(MONTH(N12)=J1,DAY(N12),"") -> 18 | G7: =IF(MONTH(O12)=J1,DAY(O12),"") -> 19 | H7: =IF(MONTH(P12)=J1,DAY(P12),"") -> 20
B9: =IF(MONTH(J13)=J1,DAY(J13),"") -> 21 | C9: =IF(MONTH(K13)=J1,DAY(K13),"") -> 22 | D9: =IF(MONTH(L13)=J1,DAY(L13),"") -> 23 | E9: =IF(MONTH(M13)=J1,DAY(M13),"") -> 24 | F9: =IF(MONTH(N13)=J1,DAY(N13),"") -> 25 | G9: =IF(MONTH(O13)=J1,DAY(O13),"") -> 26 | H9: =IF(MONTH(P13)=J1,DAY(P13),"") -> 27
E10: Heiligabend | J10: =J6 -> 46356 | K10: =J10+1 -> 46357 | L10: =K10+1 -> 46358 | M10: =L10+1 -> 46359 | N10: =M10+1 -> 46360 | O10: =N10+1 -> 46361 | P10: =O10+1 -> 46362
B11: =IF(MONTH(J14)=J1,DAY(J14),"") -> 28 | C11: =IF(MONTH(K14)=J1,DAY(K14),"") -> 29 | D11: =IF(MONTH(L14)=J1,DAY(L14),"") -> 30 | E11: =IF(MONTH(M14)=J1,DAY(M14),"") -> 31 | F11: =IF(MONTH(N14)=J1,DAY(N14),"") | G11: =IF(MONTH(O14)=J1,DAY(O14),"") | H11: =IF(MONTH(P14)=J1,DAY(P14),"") | J11: =J10+7 -> 46363 | K11: =J11+1 -> 46364 | L11: =K11+1 -> 46365 | M11: =L11+1 -> 46366 | N11: =M11+1 -> 46367 | O11: =N11+1 -> 46368 | P11: =O11+1 -> 46369
E12: Silvester | J12: =J11+7 -> 46370 | K12: =J12+1 -> 46371 | L12: =K12+1 -> 46372 | M12: =L12+1 -> 46373 | N12: =M12+1 -> 46374 | O12: =N12+1 -> 46375 | P12: =O12+1 -> 46376
B13: =IF(MONTH(J15)=J1,DAY(J15),"") | C13: =IF(MONTH(K15)=J1,DAY(K15),"") | D13: =IF(MONTH(L15)=J1,DAY(L15),"") | E13: =IF(MONTH(M15)=J1,DAY(M15),"") | F13: =IF(MONTH(N15)=J1,DAY(N15),"") | G13: =IF(MONTH(O15)=J1,DAY(O15),"") | H13: =IF(MONTH(P15)=J1,DAY(P15),"") | J13: =J12+7 -> 46377 | K13: =J13+1 -> 46378 | L13: =K13+1 -> 46379 | M13: =L13+1 -> 46380 | N13: =M13+1 -> 46381 | O13: =N13+1 -> 46382 | P13: =O13+1 -> 46383
J14: =J13+7 -> 46384 | K14: =J14+1 -> 46385 | L14: =K14+1 -> 46386 | M14: =L14+1 -> 46387 | N14: =M14+1 -> 46388 | O14: =N14+1 -> 46389 | P14: =O14+1 -> 46390
B15: Notizen: | J15: =J14+7 -> 46391 | K15: =J15+1 -> 46392 | L15: =K15+1 -> 46393 | M15: =L15+1 -> 46394 | N15: =M15+1 -> 46395 | O15: =N15+1 -> 46396 | P15: =O15+1 -> 46397
B16: Jahresabschluss und Feiertage.
