Workbook

Sheet Artikeldatenbank
B2: ARTIKELDATENBANK
B3: Artikel | C3: Artikel-Nr.
B4: Artikel-Name 1 | C4: A00001
B5: Artikel-Name 2 | C5: A00002
B6: Artikel-Name 3 | C6: A00003
B7: Artikel-Name 4 | C7: A00004
B8: Artikel-Name 5 | C8: A00005
B9: Artikel-Name 6 | C9: A00006
B10: Artikel-Name 7 | C10: A00007
B11: Artikel-Name 8 | C11: A00008
B12: Artikel-Name 9 | C12: A00009
B13: Artikel-Name 10 | C13: A00010
B14: Artikel-Name 11 | C14: A00011
B15: Artikel-Name 12 | C15: A00012

Sheet Eingänge & Ausgänge
B2: EINGÄNGE & AUSGÄNGE
B3: Datum | C3: Artikel-Nr. | D3: Eingänge | E3: Ausgänge
B4: 45662 | C4: A00001 | D4: 120
B5: 45664 | C5: A00002 | D5: 50
B6: 45667 | C6: A00003 | D6: 30
B7: 45669 | C7: A00001 | E7: 40
B8: 45674 | C8: A00004 | D8: 200
B9: 45677 | C9: A00002 | E9: 10
B10: 45680 | C10: A00005 | D10: 90
B11: 45684 | C11: A00003 | E11: 5
B12: 45689 | C12: A00006 | D12: 60
B13: 45692 | C13: A00006 | E13: 15

Sheet Lagerbestand
B2: LAGERBESTAND
B3: Artikel | C3: Artikelnr. | D3: Anfangsbestand | E3: Eingänge | F3: Ausgänge | G3: Aktueller Bestand
B4: =IF(Artikeldatenbank!B4="","",Artikeldatenbank!B4) | C4: =IF(Artikeldatenbank!C4="","",Artikeldatenbank!C4) | D4: 300 | E4: =IF($C4="","",SUMIFS('Eingänge & Ausgänge'!$D$4:$D$2003,'Eingänge & Ausgänge'!$C$4:$C$2003,$C4)) | F4: =IF($C4="","",SUMIFS('Eingänge & Ausgänge'!$E$4:$E$2003,'Eingänge & Ausgänge'!$C$4:$C$2003,$C4)) | G4: =IF($C4="","",$D4+$E4-$F4)
B5: =IF(Artikeldatenbank!B5="","",Artikeldatenbank!B5) | C5: =IF(Artikeldatenbank!C5="","",Artikeldatenbank!C5) | D5: 120 | E5: =IF($C5="","",SUMIFS('Eingänge & Ausgänge'!$D$4:$D$2003,'Eingänge & Ausgänge'!$C$4:$C$2003,$C5)) | F5: =IF($C5="","",SUMIFS('Eingänge & Ausgänge'!$E$4:$E$2003,'Eingänge & Ausgänge'!$C$4:$C$2003,$C5)) | G5: =IF($C5="","",$D5+$E5-$F5)
B6: =IF(Artikeldatenbank!B6="","",Artikeldatenbank!B6) | C6: =IF(Artikeldatenbank!C6="","",Artikeldatenbank!C6) | D6: 60 | E6: =IF($C6="","",SUMIFS('Eingänge & Ausgänge'!$D$4:$D$2003,'Eingänge & Ausgänge'!$C$4:$C$2003,$C6)) | F6: =IF($C6="","",SUMIFS('Eingänge & Ausgänge'!$E$4:$E$2003,'Eingänge & Ausgänge'!$C$4:$C$2003,$C6)) | G6: =IF($C6="","",$D6+$E6-$F6)
B7: =IF(Artikeldatenbank!B7="","",Artikeldatenbank!B7) | C7: =IF(Artikeldatenbank!C7="","",Artikeldatenbank!C7) | D7: 200 | E7: =IF($C7="","",SUMIFS('Eingänge & Ausgänge'!$D$4:$D$2003,'Eingänge & Ausgänge'!$C$4:$C$2003,$C7)) | F7: =IF($C7="","",SUMIFS('Eingänge & Ausgänge'!$E$4:$E$2003,'Eingänge & Ausgänge'!$C$4:$C$2003,$C7)) | G7: =IF($C7="","",$D7+$E7-$F7)
B8: =IF(Artikeldatenbank!B8="","",Artikeldatenbank!B8) | C8: =IF(Artikeldatenbank!C8="","",Artikeldatenbank!C8) | D8: 90 | E8: =IF($C8="","",SUMIFS('Eingänge & Ausgänge'!$D$4:$D$2003,'Eingänge & Ausgänge'!$C$4:$C$2003,$C8)) | F8: =IF($C8="","",SUMIFS('Eingänge & Ausgänge'!$E$4:$E$2003,'Eingänge & Ausgänge'!$C$4:$C$2003,$C8)) | G8: =IF($C8="","",$D8+$E8-$F8)
B9: =IF(Artikeldatenbank!B9="","",Artikeldatenbank!B9) | C9: =IF(Artikeldatenbank!C9="","",Artikeldatenbank!C9) | D9: 40 | E9: =IF($C9="","",SUMIFS('Eingänge & Ausgänge'!$D$4:$D$2003,'Eingänge & Ausgänge'!$C$4:$C$2003,$C9)) | F9: =IF($C9="","",SUMIFS('Eingänge & Ausgänge'!$E$4:$E$2003,'Eingänge & Ausgänge'!$C$4:$C$2003,$C9)) | G9: =IF($C9="","",$D9+$E9-$F9)
B10: =IF(Artikeldatenbank!B10="","",Artikeldatenbank!B10) | C10: =IF(Artikeldatenbank!C10="","",Artikeldatenbank!C10) | D10: 0 | E10: =IF($C10="","",SUMIFS('Eingänge & Ausgänge'!$D$4:$D$2003,'Eingänge & Ausgänge'!$C$4:$C$2003,$C10)) | F10: =IF($C10="","",SUMIFS('Eingänge & Ausgänge'!$E$4:$E$2003,'Eingänge & Ausgänge'!$C$4:$C$2003,$C10)) | G10: =IF($C10="","",$D10+$E10-$F10)
B11: =IF(Artikeldatenbank!B11="","",Artikeldatenbank!B11) | C11: =IF(Artikeldatenbank!C11="","",Artikeldatenbank!C11) | D11: 10 | E11: =IF($C11="","",SUMIFS('Eingänge & Ausgänge'!$D$4:$D$2003,'Eingänge & Ausgänge'!$C$4:$C$2003,$C11)) | F11: =IF($C11="","",SUMIFS('Eingänge & Ausgänge'!$E$4:$E$2003,'Eingänge & Ausgänge'!$C$4:$C$2003,$C11)) | G11: =IF($C11="","",$D11+$E11-$F11)
B12: =IF(Artikeldatenbank!B12="","",Artikeldatenbank!B12) | C12: =IF(Artikeldatenbank!C12="","",Artikeldatenbank!C12) | D12: 15 | E12: =IF($C12="","",SUMIFS('Eingänge & Ausgänge'!$D$4:$D$2003,'Eingänge & Ausgänge'!$C$4:$C$2003,$C12)) | F12: =IF($C12="","",SUMIFS('Eingänge & Ausgänge'!$E$4:$E$2003,'Eingänge & Ausgänge'!$C$4:$C$2003,$C12)) | G12: =IF($C12="","",$D12+$E12-$F12)
B13: =IF(Artikeldatenbank!B13="","",Artikeldatenbank!B13) | C13: =IF(Artikeldatenbank!C13="","",Artikeldatenbank!C13) | D13: 25 | E13: =IF($C13="","",SUMIFS('Eingänge & Ausgänge'!$D$4:$D$2003,'Eingänge & Ausgänge'!$C$4:$C$2003,$C13)) | F13: =IF($C13="","",SUMIFS('Eingänge & Ausgänge'!$E$4:$E$2003,'Eingänge & Ausgänge'!$C$4:$C$2003,$C13)) | G13: =IF($C13="","",$D13+$E13-$F13)
B14: =IF(Artikeldatenbank!B14="","",Artikeldatenbank!B14) | C14: =IF(Artikeldatenbank!C14="","",Artikeldatenbank!C14) | D14: 5 | E14: =IF($C14="","",SUMIFS('Eingänge & Ausgänge'!$D$4:$D$2003,'Eingänge & Ausgänge'!$C$4:$C$2003,$C14)) | F14: =IF($C14="","",SUMIFS('Eingänge & Ausgänge'!$E$4:$E$2003,'Eingänge & Ausgänge'!$C$4:$C$2003,$C14)) | G14: =IF($C14="","",$D14+$E14-$F14)
B15: =IF(Artikeldatenbank!B15="","",Artikeldatenbank!B15) | C15: =IF(Artikeldatenbank!C15="","",Artikeldatenbank!C15) | D15: 12 | E15: =IF($C15="","",SUMIFS('Eingänge & Ausgänge'!$D$4:$D$2003,'Eingänge & Ausgänge'!$C$4:$C$2003,$C15)) | F15: =IF($C15="","",SUMIFS('Eingänge & Ausgänge'!$E$4:$E$2003,'Eingänge & Ausgänge'!$C$4:$C$2003,$C15)) | G15: =IF($C15="","",$D15+$E15-$F15)
B16: =IF(Artikeldatenbank!B16="","",Artikeldatenbank!B16) | C16: =IF(Artikeldatenbank!C16="","",Artikeldatenbank!C16) | E16: =IF($C16="","",SUMIFS('Eingänge & Ausgänge'!$D$4:$D$2003,'Eingänge & Ausgänge'!$C$4:$C$2003,$C16)) | F16: =IF($C16="","",SUMIFS('Eingänge & Ausgänge'!$E$4:$E$2003,'Eingänge & Ausgänge'!$C$4:$C$2003,$C16)) | G16: =IF($C16="","",$D16+$E16-$F16)
B17: =IF(Artikeldatenbank!B17="","",Artikeldatenbank!B17) | C17: =IF(Artikeldatenbank!C17="","",Artikeldatenbank!C17) | E17: =IF($C17="","",SUMIFS('Eingänge & Ausgänge'!$D$4:$D$2003,'Eingänge & Ausgänge'!$C$4:$C$2003,$C17)) | F17: =IF($C17="","",SUMIFS('Eingänge & Ausgänge'!$E$4:$E$2003,'Eingänge & Ausgänge'!$C$4:$C$2003,$C17)) | G17: =IF($C17="","",$D17+$E17-$F17)
B18: =IF(Artikeldatenbank!B18="","",Artikeldatenbank!B18) | C18: =IF(Artikeldatenbank!C18="","",Artikeldatenbank!C18) | E18: =IF($C18="","",SUMIFS('Eingänge & Ausgänge'!$D$4:$D$2003,'Eingänge & Ausgänge'!$C$4:$C$2003,$C18)) | F18: =IF($C18="","",SUMIFS('Eingänge & Ausgänge'!$E$4:$E$2003,'Eingänge & Ausgänge'!$C$4:$C$2003,$C18)) | G18: =IF($C18="","",$D18+$E18-$F18)
B19: =IF(Artikeldatenbank!B19="","",Artikeldatenbank!B19) | C19: =IF(Artikeldatenbank!C19="","",Artikeldatenbank!C19) | E19: =IF($C19="","",SUMIFS('Eingänge & Ausgänge'!$D$4:$D$2003,'Eingänge & Ausgänge'!$C$4:$C$2003,$C19)) | F19: =IF($C19="","",SUMIFS('Eingänge & Ausgänge'!$E$4:$E$2003,'Eingänge & Ausgänge'!$C$4:$C$2003,$C19)) | G19: =IF($C19="","",$D19+$E19-$F19)
B20: =IF(Artikeldatenbank!B20="","",Artikeldatenbank!B20) | C20: =IF(Artikeldatenbank!C20="","",Artikeldatenbank!C20) | E20: =IF($C20="","",SUMIFS('Eingänge & Ausgänge'!$D$4:$D$2003,'Eingänge & Ausgänge'!$C$4:$C$2003,$C20)) | F20: =IF($C20="","",SUMIFS('Eingänge & Ausgänge'!$E$4:$E$2003,'Eingänge & Ausgänge'!$C$4:$C$2003,$C20)) | G20: =IF($C20="","",$D20+$E20-$F20)
B21: =IF(Artikeldatenbank!B21="","",Artikeldatenbank!B21) | C21: =IF(Artikeldatenbank!C21="","",Artikeldatenbank!C21) | E21: =IF($C21="","",SUMIFS('Eingänge & Ausgänge'!$D$4:$D$2003,'Eingänge & Ausgänge'!$C$4:$C$2003,$C21)) | F21: =IF($C21="","",SUMIFS('Eingänge & Ausgänge'!$E$4:$E$2003,'Eingänge & Ausgänge'!$C$4:$C$2003,$C21)) | G21: =IF($C21="","",$D21+$E21-$F21)
B22: =IF(Artikeldatenbank!B22="","",Artikeldatenbank!B22) | C22: =IF(Artikeldatenbank!C22="","",Artikeldatenbank!C22) | E22: =IF($C22="","",SUMIFS('Eingänge & Ausgänge'!$D$4:$D$2003,'Eingänge & Ausgänge'!$C$4:$C$2003,$C22)) | F22: =IF($C22="","",SUMIFS('Eingänge & Ausgänge'!$E$4:$E$2003,'Eingänge & Ausgänge'!$C$4:$C$2003,$C22)) | G22: =IF($C22="","",$D22+$E22-$F22)
B23: =IF(Artikeldatenbank!B23="","",Artikeldatenbank!B23) | C23: =IF(Artikeldatenbank!C23="","",Artikeldatenbank!C23) | E23: =IF($C23="","",SUMIFS('Eingänge & Ausgänge'!$D$4:$D$2003,'Eingänge & Ausgänge'!$C$4:$C$2003,$C23)) | F23: =IF($C23="","",SUMIFS('Eingänge & Ausgänge'!$E$4:$E$2003,'Eingänge & Ausgänge'!$C$4:$C$2003,$C23)) | G23: =IF($C23="","",$D23+$E23-$F23)
B24: =IF(Artikeldatenbank!B24="","",Artikeldatenbank!B24) | C24: =IF(Artikeldatenbank!C24="","",Artikeldatenbank!C24) | E24: =IF($C24="","",SUMIFS('Eingänge & Ausgänge'!$D$4:$D$2003,'Eingänge & Ausgänge'!$C$4:$C$2003,$C24)) | F24: =IF($C24="","",SUMIFS('Eingänge & Ausgänge'!$E$4:$E$2003,'Eingänge & Ausgänge'!$C$4:$C$2003,$C24)) | G24: =IF($C24="","",$D24+$E24-$F24)
B25: =IF(Artikeldatenbank!B25="","",Artikeldatenbank!B25) | C25: =IF(Artikeldatenbank!C25="","",Artikeldatenbank!C25) | E25: =IF($C25="","",SUMIFS('Eingänge & Ausgänge'!$D$4:$D$2003,'Eingänge & Ausgänge'!$C$4:$C$2003,$C25)) | F25: =IF($C25="","",SUMIFS('Eingänge & Ausgänge'!$E$4:$E$2003,'Eingänge & Ausgänge'!$C$4:$C$2003,$C25)) | G25: =IF($C25="","",$D25+$E25-$F25)
B26: =IF(Artikeldatenbank!B26="","",Artikeldatenbank!B26) | C26: =IF(Artikeldatenbank!C26="","",Artikeldatenbank!C26) | E26: =IF($C26="","",SUMIFS('Eingänge & Ausgänge'!$D$4:$D$2003,'Eingänge & Ausgänge'!$C$4:$C$2003,$C26)) | F26: =IF($C26="","",SUMIFS('Eingänge & Ausgänge'!$E$4:$E$2003,'Eingänge & Ausgänge'!$C$4:$C$2003,$C26)) | G26: =IF($C26="","",$D26+$E26-$F26)
B27: =IF(Artikeldatenbank!B27="","",Artikeldatenbank!B27) | C27: =IF(Artikeldatenbank!C27="","",Artikeldatenbank!C27) | E27: =IF($C27="","",SUMIFS('Eingänge & Ausgänge'!$D$4:$D$2003,'Eingänge & Ausgänge'!$C$4:$C$2003,$C27)) | F27: =IF($C27="","",SUMIFS('Eingänge & Ausgänge'!$E$4:$E$2003,'Eingänge & Ausgänge'!$C$4:$C$2003,$C27)) | G27: =IF($C27="","",$D27+$E27-$F27)
... B503: =IF(Artikeldatenbank!B503="","",Artikeldatenbank!B503) | C503: =IF(Artikeldatenbank!C503="","",Artikeldatenbank!C503) | E503: =IF($C503="","",SUMIFS('Eingänge & Ausgänge'!$D$4:$D$2003,'Eingänge & Ausgänge'!$C$4:$C$2003,$C503)) | F503: =IF($C503="","",SUMIFS('Eingänge & Ausgänge'!$E$4:$E$2003,'Eingänge & Ausgänge'!$C$4:$C$2003,$C503)) | G503: =IF($C503="","",$D503+$E503-$F503)
