Workbook
Name ScaleValues: Listen!$A$2:$A$6
Name RolesList: Listen!$D$2:$D$9

Sheet Qualifikationsmatrix
A1: Qualifikationsmatrix / Kompetenzmatrix
A3: Unternehmen/Team | F3: Skala
A4: Bereich | F4: =Listen!A2&" - "&Listen!B2
A5: Datum der Überprüfung | F5: =Listen!A3&" - "&Listen!B3
F6: =Listen!A4&" - "&Listen!B4
A7: Abteilung | B7: Mitarbeiter | C7: Rolle / Position | D7: Kompetenz 1 | E7: Kompetenz 2 | F7: Kompetenz 3 | G7: Kompetenz 4 | H7: Kompetenz 5 | I7: Kompetenz 6 | J7: Kompetenz 7 | K7: Kompetenz 8 | L7: Kompetenz 9 | M7: Kompetenz 10 | N7: Kompetenz 11 | O7: Kompetenz 12 | P7: Soll Kompetenz 1 | Q7: Soll Kompetenz 2 | R7: Soll Kompetenz 3 | S7: Soll Kompetenz 4 | T7: Soll Kompetenz 5 | U7: Soll Kompetenz 6 | V7: Soll Kompetenz 7 | W7: Soll Kompetenz 8 | X7: Soll Kompetenz 9 | Y7: Soll Kompetenz 10 | Z7: Soll Kompetenz 11 | AA7: Soll Kompetenz 12 | AB7: Durchschnitt (Ist) | AC7: Lücken (Ist<Soll) | AD7: Abdeckung % (Ist>=Soll)
A8: Produktion | B8: Anna Pérez | C8: Mitarbeiter | D8: 2 | E8: 2 | F8: 1 | G8: 3 | H8: 2 | I8: 2 | J8: 1 | K8: 2 | L8: 3 | M8: 2 | N8: 2 | O8: 1 | P8: =IF($C8="","",XLOOKUP($C8,Listen!$A$10:$A$15,Listen!$B$10:$B$15,"")) | Q8: =IF($C8="","",XLOOKUP($C8,Listen!$A$10:$A$15,Listen!$C$10:$C$15,"")) | R8: =IF($C8="","",XLOOKUP($C8,Listen!$A$10:$A$15,Listen!$D$10:$D$15,"")) | S8: =IF($C8="","",XLOOKUP($C8,Listen!$A$10:$A$15,Listen!$E$10:$E$15,"")) | T8: =IF($C8="","",XLOOKUP($C8,Listen!$A$10:$A$15,Listen!$F$10:$F$15,"")) | U8: =IF($C8="","",XLOOKUP($C8,Listen!$A$10:$A$15,Listen!$G$10:$G$15,"")) | V8: =IF($C8="","",XLOOKUP($C8,Listen!$A$10:$A$15,Listen!$H$10:$H$15,"")) | W8: =IF($C8="","",XLOOKUP($C8,Listen!$A$10:$A$15,Listen!$I$10:$I$15,"")) | X8: =IF($C8="","",XLOOKUP($C8,Listen!$A$10:$A$15,Listen!$J$10:$J$15,"")) | Y8: =IF($C8="","",XLOOKUP($C8,Listen!$A$10:$A$15,Listen!$K$10:$K$15,"")) | Z8: =IF($C8="","",XLOOKUP($C8,Listen!$A$10:$A$15,Listen!$L$10:$L$15,"")) | AA8: =IF($C8="","",XLOOKUP($C8,Listen!$A$10:$A$15,Listen!$M$10:$M$15,"")) | AB8: =IF(COUNTA($D8:$O8)=0,"",AVERAGE($D8:$O8)) | AC8: =IF($C8="","",SUMPRODUCT(--($D8:$O8<>""),--($P8:$AA8<>""),--($D8:$O8<$P8:$AA8))) | AD8: =IF($C8="","",IF(SUMPRODUCT(--($P8:$AA8<>"" ))=0,"",SUMPRODUCT(--($D8:$O8<>""),--($P8:$AA8<>""),--($D8:$O8>=$P8:$AA8)) / SUMPRODUCT(--($P8:$AA8<>"" ))))
A9: Qualität | B9: Luis Gómez | C9: Qualität | D9: 3 | E9: 2 | F9: 2 | G9: 2 | H9: 3 | I9: 3 | J9: 2 | K9: 2 | L9: 2 | M9: 3 | N9: 2 | O9: 2 | P9: =IF($C9="","",XLOOKUP($C9,Listen!$A$10:$A$15,Listen!$B$10:$B$15,"")) | Q9: =IF($C9="","",XLOOKUP($C9,Listen!$A$10:$A$15,Listen!$C$10:$C$15,"")) | R9: =IF($C9="","",XLOOKUP($C9,Listen!$A$10:$A$15,Listen!$D$10:$D$15,"")) | S9: =IF($C9="","",XLOOKUP($C9,Listen!$A$10:$A$15,Listen!$E$10:$E$15,"")) | T9: =IF($C9="","",XLOOKUP($C9,Listen!$A$10:$A$15,Listen!$F$10:$F$15,"")) | U9: =IF($C9="","",XLOOKUP($C9,Listen!$A$10:$A$15,Listen!$G$10:$G$15,"")) | V9: =IF($C9="","",XLOOKUP($C9,Listen!$A$10:$A$15,Listen!$H$10:$H$15,"")) | W9: =IF($C9="","",XLOOKUP($C9,Listen!$A$10:$A$15,Listen!$I$10:$I$15,"")) | X9: =IF($C9="","",XLOOKUP($C9,Listen!$A$10:$A$15,Listen!$J$10:$J$15,"")) | Y9: =IF($C9="","",XLOOKUP($C9,Listen!$A$10:$A$15,Listen!$K$10:$K$15,"")) | Z9: =IF($C9="","",XLOOKUP($C9,Listen!$A$10:$A$15,Listen!$L$10:$L$15,"")) | AA9: =IF($C9="","",XLOOKUP($C9,Listen!$A$10:$A$15,Listen!$M$10:$M$15,"")) | AB9: =IF(COUNTA($D9:$O9)=0,"",AVERAGE($D9:$O9)) | AC9: =IF($C9="","",SUMPRODUCT(--($D9:$O9<>""),--($P9:$AA9<>""),--($D9:$O9<$P9:$AA9))) | AD9: =IF($C9="","",IF(SUMPRODUCT(--($P9:$AA9<>"" ))=0,"",SUMPRODUCT(--($D9:$O9<>""),--($P9:$AA9<>""),--($D9:$O9>=$P9:$AA9)) / SUMPRODUCT(--($P9:$AA9<>"" ))))
A10: IT | B10: Marta Ruiz | C10: Analyst | D10: 2 | E10: 3 | F10: 3 | G10: 2 | H10: 2 | I10: 2 | J10: 3 | K10: 3 | L10: 2 | M10: 2 | N10: 3 | O10: 2 | P10: =IF($C10="","",XLOOKUP($C10,Listen!$A$10:$A$15,Listen!$B$10:$B$15,"")) | Q10: =IF($C10="","",XLOOKUP($C10,Listen!$A$10:$A$15,Listen!$C$10:$C$15,"")) | R10: =IF($C10="","",XLOOKUP($C10,Listen!$A$10:$A$15,Listen!$D$10:$D$15,"")) | S10: =IF($C10="","",XLOOKUP($C10,Listen!$A$10:$A$15,Listen!$E$10:$E$15,"")) | T10: =IF($C10="","",XLOOKUP($C10,Listen!$A$10:$A$15,Listen!$F$10:$F$15,"")) | U10: =IF($C10="","",XLOOKUP($C10,Listen!$A$10:$A$15,Listen!$G$10:$G$15,"")) | V10: =IF($C10="","",XLOOKUP($C10,Listen!$A$10:$A$15,Listen!$H$10:$H$15,"")) | W10: =IF($C10="","",XLOOKUP($C10,Listen!$A$10:$A$15,Listen!$I$10:$I$15,"")) | X10: =IF($C10="","",XLOOKUP($C10,Listen!$A$10:$A$15,Listen!$J$10:$J$15,"")) | Y10: =IF($C10="","",XLOOKUP($C10,Listen!$A$10:$A$15,Listen!$K$10:$K$15,"")) | Z10: =IF($C10="","",XLOOKUP($C10,Listen!$A$10:$A$15,Listen!$L$10:$L$15,"")) | AA10: =IF($C10="","",XLOOKUP($C10,Listen!$A$10:$A$15,Listen!$M$10:$M$15,"")) | AB10: =IF(COUNTA($D10:$O10)=0,"",AVERAGE($D10:$O10)) | AC10: =IF($C10="","",SUMPRODUCT(--($D10:$O10<>""),--($P10:$AA10<>""),--($D10:$O10<$P10:$AA10))) | AD10: =IF($C10="","",IF(SUMPRODUCT(--($P10:$AA10<>"" ))=0,"",SUMPRODUCT(--($D10:$O10<>""),--($P10:$AA10<>""),--($D10:$O10>=$P10:$AA10)) / SUMPRODUCT(--($P10:$AA10<>"" ))))
P11: =IF($C11="","",XLOOKUP($C11,Listen!$A$10:$A$15,Listen!$B$10:$B$15,"")) | Q11: =IF($C11="","",XLOOKUP($C11,Listen!$A$10:$A$15,Listen!$C$10:$C$15,"")) | R11: =IF($C11="","",XLOOKUP($C11,Listen!$A$10:$A$15,Listen!$D$10:$D$15,"")) | S11: =IF($C11="","",XLOOKUP($C11,Listen!$A$10:$A$15,Listen!$E$10:$E$15,"")) | T11: =IF($C11="","",XLOOKUP($C11,Listen!$A$10:$A$15,Listen!$F$10:$F$15,"")) | U11: =IF($C11="","",XLOOKUP($C11,Listen!$A$10:$A$15,Listen!$G$10:$G$15,"")) | V11: =IF($C11="","",XLOOKUP($C11,Listen!$A$10:$A$15,Listen!$H$10:$H$15,"")) | W11: =IF($C11="","",XLOOKUP($C11,Listen!$A$10:$A$15,Listen!$I$10:$I$15,"")) | X11: =IF($C11="","",XLOOKUP($C11,Listen!$A$10:$A$15,Listen!$J$10:$J$15,"")) | Y11: =IF($C11="","",XLOOKUP($C11,Listen!$A$10:$A$15,Listen!$K$10:$K$15,"")) | Z11: =IF($C11="","",XLOOKUP($C11,Listen!$A$10:$A$15,Listen!$L$10:$L$15,"")) | AA11: =IF($C11="","",XLOOKUP($C11,Listen!$A$10:$A$15,Listen!$M$10:$M$15,"")) | AB11: =IF(COUNTA($D11:$O11)=0,"",AVERAGE($D11:$O11)) | AC11: =IF($C11="","",SUMPRODUCT(--($D11:$O11<>""),--($P11:$AA11<>""),--($D11:$O11<$P11:$AA11))) | AD11: =IF($C11="","",IF(SUMPRODUCT(--($P11:$AA11<>"" ))=0,"",SUMPRODUCT(--($D11:$O11<>""),--($P11:$AA11<>""),--($D11:$O11>=$P11:$AA11)) / SUMPRODUCT(--($P11:$AA11<>"" ))))
P12: =IF($C12="","",XLOOKUP($C12,Listen!$A$10:$A$15,Listen!$B$10:$B$15,"")) | Q12: =IF($C12="","",XLOOKUP($C12,Listen!$A$10:$A$15,Listen!$C$10:$C$15,"")) | R12: =IF($C12="","",XLOOKUP($C12,Listen!$A$10:$A$15,Listen!$D$10:$D$15,"")) | S12: =IF($C12="","",XLOOKUP($C12,Listen!$A$10:$A$15,Listen!$E$10:$E$15,"")) | T12: =IF($C12="","",XLOOKUP($C12,Listen!$A$10:$A$15,Listen!$F$10:$F$15,"")) | U12: =IF($C12="","",XLOOKUP($C12,Listen!$A$10:$A$15,Listen!$G$10:$G$15,"")) | V12: =IF($C12="","",XLOOKUP($C12,Listen!$A$10:$A$15,Listen!$H$10:$H$15,"")) | W12: =IF($C12="","",XLOOKUP($C12,Listen!$A$10:$A$15,Listen!$I$10:$I$15,"")) | X12: =IF($C12="","",XLOOKUP($C12,Listen!$A$10:$A$15,Listen!$J$10:$J$15,"")) | Y12: =IF($C12="","",XLOOKUP($C12,Listen!$A$10:$A$15,Listen!$K$10:$K$15,"")) | Z12: =IF($C12="","",XLOOKUP($C12,Listen!$A$10:$A$15,Listen!$L$10:$L$15,"")) | AA12: =IF($C12="","",XLOOKUP($C12,Listen!$A$10:$A$15,Listen!$M$10:$M$15,"")) | AB12: =IF(COUNTA($D12:$O12)=0,"",AVERAGE($D12:$O12)) | AC12: =IF($C12="","",SUMPRODUCT(--($D12:$O12<>""),--($P12:$AA12<>""),--($D12:$O12<$P12:$AA12))) | AD12: =IF($C12="","",IF(SUMPRODUCT(--($P12:$AA12<>"" ))=0,"",SUMPRODUCT(--($D12:$O12<>""),--($P12:$AA12<>""),--($D12:$O12>=$P12:$AA12)) / SUMPRODUCT(--($P12:$AA12<>"" ))))
P13: =IF($C13="","",XLOOKUP($C13,Listen!$A$10:$A$15,Listen!$B$10:$B$15,"")) | Q13: =IF($C13="","",XLOOKUP($C13,Listen!$A$10:$A$15,Listen!$C$10:$C$15,"")) | R13: =IF($C13="","",XLOOKUP($C13,Listen!$A$10:$A$15,Listen!$D$10:$D$15,"")) | S13: =IF($C13="","",XLOOKUP($C13,Listen!$A$10:$A$15,Listen!$E$10:$E$15,"")) | T13: =IF($C13="","",XLOOKUP($C13,Listen!$A$10:$A$15,Listen!$F$10:$F$15,"")) | U13: =IF($C13="","",XLOOKUP($C13,Listen!$A$10:$A$15,Listen!$G$10:$G$15,"")) | V13: =IF($C13="","",XLOOKUP($C13,Listen!$A$10:$A$15,Listen!$H$10:$H$15,"")) | W13: =IF($C13="","",XLOOKUP($C13,Listen!$A$10:$A$15,Listen!$I$10:$I$15,"")) | X13: =IF($C13="","",XLOOKUP($C13,Listen!$A$10:$A$15,Listen!$J$10:$J$15,"")) | Y13: =IF($C13="","",XLOOKUP($C13,Listen!$A$10:$A$15,Listen!$K$10:$K$15,"")) | Z13: =IF($C13="","",XLOOKUP($C13,Listen!$A$10:$A$15,Listen!$L$10:$L$15,"")) | AA13: =IF($C13="","",XLOOKUP($C13,Listen!$A$10:$A$15,Listen!$M$10:$M$15,"")) | AB13: =IF(COUNTA($D13:$O13)=0,"",AVERAGE($D13:$O13)) | AC13: =IF($C13="","",SUMPRODUCT(--($D13:$O13<>""),--($P13:$AA13<>""),--($D13:$O13<$P13:$AA13))) | AD13: =IF($C13="","",IF(SUMPRODUCT(--($P13:$AA13<>"" ))=0,"",SUMPRODUCT(--($D13:$O13<>""),--($P13:$AA13<>""),--($D13:$O13>=$P13:$AA13)) / SUMPRODUCT(--($P13:$AA13<>"" ))))
P14: =IF($C14="","",XLOOKUP($C14,Listen!$A$10:$A$15,Listen!$B$10:$B$15,"")) | Q14: =IF($C14="","",XLOOKUP($C14,Listen!$A$10:$A$15,Listen!$C$10:$C$15,"")) | R14: =IF($C14="","",XLOOKUP($C14,Listen!$A$10:$A$15,Listen!$D$10:$D$15,"")) | S14: =IF($C14="","",XLOOKUP($C14,Listen!$A$10:$A$15,Listen!$E$10:$E$15,"")) | T14: =IF($C14="","",XLOOKUP($C14,Listen!$A$10:$A$15,Listen!$F$10:$F$15,"")) | U14: =IF($C14="","",XLOOKUP($C14,Listen!$A$10:$A$15,Listen!$G$10:$G$15,"")) | V14: =IF($C14="","",XLOOKUP($C14,Listen!$A$10:$A$15,Listen!$H$10:$H$15,"")) | W14: =IF($C14="","",XLOOKUP($C14,Listen!$A$10:$A$15,Listen!$I$10:$I$15,"")) | X14: =IF($C14="","",XLOOKUP($C14,Listen!$A$10:$A$15,Listen!$J$10:$J$15,"")) | Y14: =IF($C14="","",XLOOKUP($C14,Listen!$A$10:$A$15,Listen!$K$10:$K$15,"")) | Z14: =IF($C14="","",XLOOKUP($C14,Listen!$A$10:$A$15,Listen!$L$10:$L$15,"")) | AA14: =IF($C14="","",XLOOKUP($C14,Listen!$A$10:$A$15,Listen!$M$10:$M$15,"")) | AB14: =IF(COUNTA($D14:$O14)=0,"",AVERAGE($D14:$O14)) | AC14: =IF($C14="","",SUMPRODUCT(--($D14:$O14<>""),--($P14:$AA14<>""),--($D14:$O14<$P14:$AA14))) | AD14: =IF($C14="","",IF(SUMPRODUCT(--($P14:$AA14<>"" ))=0,"",SUMPRODUCT(--($D14:$O14<>""),--($P14:$AA14<>""),--($D14:$O14>=$P14:$AA14)) / SUMPRODUCT(--($P14:$AA14<>"" ))))
P15: =IF($C15="","",XLOOKUP($C15,Listen!$A$10:$A$15,Listen!$B$10:$B$15,"")) | Q15: =IF($C15="","",XLOOKUP($C15,Listen!$A$10:$A$15,Listen!$C$10:$C$15,"")) | R15: =IF($C15="","",XLOOKUP($C15,Listen!$A$10:$A$15,Listen!$D$10:$D$15,"")) | S15: =IF($C15="","",XLOOKUP($C15,Listen!$A$10:$A$15,Listen!$E$10:$E$15,"")) | T15: =IF($C15="","",XLOOKUP($C15,Listen!$A$10:$A$15,Listen!$F$10:$F$15,"")) | U15: =IF($C15="","",XLOOKUP($C15,Listen!$A$10:$A$15,Listen!$G$10:$G$15,"")) | V15: =IF($C15="","",XLOOKUP($C15,Listen!$A$10:$A$15,Listen!$H$10:$H$15,"")) | W15: =IF($C15="","",XLOOKUP($C15,Listen!$A$10:$A$15,Listen!$I$10:$I$15,"")) | X15: =IF($C15="","",XLOOKUP($C15,Listen!$A$10:$A$15,Listen!$J$10:$J$15,"")) | Y15: =IF($C15="","",XLOOKUP($C15,Listen!$A$10:$A$15,Listen!$K$10:$K$15,"")) | Z15: =IF($C15="","",XLOOKUP($C15,Listen!$A$10:$A$15,Listen!$L$10:$L$15,"")) | AA15: =IF($C15="","",XLOOKUP($C15,Listen!$A$10:$A$15,Listen!$M$10:$M$15,"")) | AB15: =IF(COUNTA($D15:$O15)=0,"",AVERAGE($D15:$O15)) | AC15: =IF($C15="","",SUMPRODUCT(--($D15:$O15<>""),--($P15:$AA15<>""),--($D15:$O15<$P15:$AA15))) | AD15: =IF($C15="","",IF(SUMPRODUCT(--($P15:$AA15<>"" ))=0,"",SUMPRODUCT(--($D15:$O15<>""),--($P15:$AA15<>""),--($D15:$O15>=$P15:$AA15)) / SUMPRODUCT(--($P15:$AA15<>"" ))))
P16: =IF($C16="","",XLOOKUP($C16,Listen!$A$10:$A$15,Listen!$B$10:$B$15,"")) | Q16: =IF($C16="","",XLOOKUP($C16,Listen!$A$10:$A$15,Listen!$C$10:$C$15,"")) | R16: =IF($C16="","",XLOOKUP($C16,Listen!$A$10:$A$15,Listen!$D$10:$D$15,"")) | S16: =IF($C16="","",XLOOKUP($C16,Listen!$A$10:$A$15,Listen!$E$10:$E$15,"")) | T16: =IF($C16="","",XLOOKUP($C16,Listen!$A$10:$A$15,Listen!$F$10:$F$15,"")) | U16: =IF($C16="","",XLOOKUP($C16,Listen!$A$10:$A$15,Listen!$G$10:$G$15,"")) | V16: =IF($C16="","",XLOOKUP($C16,Listen!$A$10:$A$15,Listen!$H$10:$H$15,"")) | W16: =IF($C16="","",XLOOKUP($C16,Listen!$A$10:$A$15,Listen!$I$10:$I$15,"")) | X16: =IF($C16="","",XLOOKUP($C16,Listen!$A$10:$A$15,Listen!$J$10:$J$15,"")) | Y16: =IF($C16="","",XLOOKUP($C16,Listen!$A$10:$A$15,Listen!$K$10:$K$15,"")) | Z16: =IF($C16="","",XLOOKUP($C16,Listen!$A$10:$A$15,Listen!$L$10:$L$15,"")) | AA16: =IF($C16="","",XLOOKUP($C16,Listen!$A$10:$A$15,Listen!$M$10:$M$15,"")) | AB16: =IF(COUNTA($D16:$O16)=0,"",AVERAGE($D16:$O16)) | AC16: =IF($C16="","",SUMPRODUCT(--($D16:$O16<>""),--($P16:$AA16<>""),--($D16:$O16<$P16:$AA16))) | AD16: =IF($C16="","",IF(SUMPRODUCT(--($P16:$AA16<>"" ))=0,"",SUMPRODUCT(--($D16:$O16<>""),--($P16:$AA16<>""),--($D16:$O16>=$P16:$AA16)) / SUMPRODUCT(--($P16:$AA16<>"" ))))
P17: =IF($C17="","",XLOOKUP($C17,Listen!$A$10:$A$15,Listen!$B$10:$B$15,"")) | Q17: =IF($C17="","",XLOOKUP($C17,Listen!$A$10:$A$15,Listen!$C$10:$C$15,"")) | R17: =IF($C17="","",XLOOKUP($C17,Listen!$A$10:$A$15,Listen!$D$10:$D$15,"")) | S17: =IF($C17="","",XLOOKUP($C17,Listen!$A$10:$A$15,Listen!$E$10:$E$15,"")) | T17: =IF($C17="","",XLOOKUP($C17,Listen!$A$10:$A$15,Listen!$F$10:$F$15,"")) | U17: =IF($C17="","",XLOOKUP($C17,Listen!$A$10:$A$15,Listen!$G$10:$G$15,"")) | V17: =IF($C17="","",XLOOKUP($C17,Listen!$A$10:$A$15,Listen!$H$10:$H$15,"")) | W17: =IF($C17="","",XLOOKUP($C17,Listen!$A$10:$A$15,Listen!$I$10:$I$15,"")) | X17: =IF($C17="","",XLOOKUP($C17,Listen!$A$10:$A$15,Listen!$J$10:$J$15,"")) | Y17: =IF($C17="","",XLOOKUP($C17,Listen!$A$10:$A$15,Listen!$K$10:$K$15,"")) | Z17: =IF($C17="","",XLOOKUP($C17,Listen!$A$10:$A$15,Listen!$L$10:$L$15,"")) | AA17: =IF($C17="","",XLOOKUP($C17,Listen!$A$10:$A$15,Listen!$M$10:$M$15,"")) | AB17: =IF(COUNTA($D17:$O17)=0,"",AVERAGE($D17:$O17)) | AC17: =IF($C17="","",SUMPRODUCT(--($D17:$O17<>""),--($P17:$AA17<>""),--($D17:$O17<$P17:$AA17))) | AD17: =IF($C17="","",IF(SUMPRODUCT(--($P17:$AA17<>"" ))=0,"",SUMPRODUCT(--($D17:$O17<>""),--($P17:$AA17<>""),--($D17:$O17>=$P17:$AA17)) / SUMPRODUCT(--($P17:$AA17<>"" ))))
P18: =IF($C18="","",XLOOKUP($C18,Listen!$A$10:$A$15,Listen!$B$10:$B$15,"")) | Q18: =IF($C18="","",XLOOKUP($C18,Listen!$A$10:$A$15,Listen!$C$10:$C$15,"")) | R18: =IF($C18="","",XLOOKUP($C18,Listen!$A$10:$A$15,Listen!$D$10:$D$15,"")) | S18: =IF($C18="","",XLOOKUP($C18,Listen!$A$10:$A$15,Listen!$E$10:$E$15,"")) | T18: =IF($C18="","",XLOOKUP($C18,Listen!$A$10:$A$15,Listen!$F$10:$F$15,"")) | U18: =IF($C18="","",XLOOKUP($C18,Listen!$A$10:$A$15,Listen!$G$10:$G$15,"")) | V18: =IF($C18="","",XLOOKUP($C18,Listen!$A$10:$A$15,Listen!$H$10:$H$15,"")) | W18: =IF($C18="","",XLOOKUP($C18,Listen!$A$10:$A$15,Listen!$I$10:$I$15,"")) | X18: =IF($C18="","",XLOOKUP($C18,Listen!$A$10:$A$15,Listen!$J$10:$J$15,"")) | Y18: =IF($C18="","",XLOOKUP($C18,Listen!$A$10:$A$15,Listen!$K$10:$K$15,"")) | Z18: =IF($C18="","",XLOOKUP($C18,Listen!$A$10:$A$15,Listen!$L$10:$L$15,"")) | AA18: =IF($C18="","",XLOOKUP($C18,Listen!$A$10:$A$15,Listen!$M$10:$M$15,"")) | AB18: =IF(COUNTA($D18:$O18)=0,"",AVERAGE($D18:$O18)) | AC18: =IF($C18="","",SUMPRODUCT(--($D18:$O18<>""),--($P18:$AA18<>""),--($D18:$O18<$P18:$AA18))) | AD18: =IF($C18="","",IF(SUMPRODUCT(--($P18:$AA18<>"" ))=0,"",SUMPRODUCT(--($D18:$O18<>""),--($P18:$AA18<>""),--($D18:$O18>=$P18:$AA18)) / SUMPRODUCT(--($P18:$AA18<>"" ))))
P19: =IF($C19="","",XLOOKUP($C19,Listen!$A$10:$A$15,Listen!$B$10:$B$15,"")) | Q19: =IF($C19="","",XLOOKUP($C19,Listen!$A$10:$A$15,Listen!$C$10:$C$15,"")) | R19: =IF($C19="","",XLOOKUP($C19,Listen!$A$10:$A$15,Listen!$D$10:$D$15,"")) | S19: =IF($C19="","",XLOOKUP($C19,Listen!$A$10:$A$15,Listen!$E$10:$E$15,"")) | T19: =IF($C19="","",XLOOKUP($C19,Listen!$A$10:$A$15,Listen!$F$10:$F$15,"")) | U19: =IF($C19="","",XLOOKUP($C19,Listen!$A$10:$A$15,Listen!$G$10:$G$15,"")) | V19: =IF($C19="","",XLOOKUP($C19,Listen!$A$10:$A$15,Listen!$H$10:$H$15,"")) | W19: =IF($C19="","",XLOOKUP($C19,Listen!$A$10:$A$15,Listen!$I$10:$I$15,"")) | X19: =IF($C19="","",XLOOKUP($C19,Listen!$A$10:$A$15,Listen!$J$10:$J$15,"")) | Y19: =IF($C19="","",XLOOKUP($C19,Listen!$A$10:$A$15,Listen!$K$10:$K$15,"")) | Z19: =IF($C19="","",XLOOKUP($C19,Listen!$A$10:$A$15,Listen!$L$10:$L$15,"")) | AA19: =IF($C19="","",XLOOKUP($C19,Listen!$A$10:$A$15,Listen!$M$10:$M$15,"")) | AB19: =IF(COUNTA($D19:$O19)=0,"",AVERAGE($D19:$O19)) | AC19: =IF($C19="","",SUMPRODUCT(--($D19:$O19<>""),--($P19:$AA19<>""),--($D19:$O19<$P19:$AA19))) | AD19: =IF($C19="","",IF(SUMPRODUCT(--($P19:$AA19<>"" ))=0,"",SUMPRODUCT(--($D19:$O19<>""),--($P19:$AA19<>""),--($D19:$O19>=$P19:$AA19)) / SUMPRODUCT(--($P19:$AA19<>"" ))))
P20: =IF($C20="","",XLOOKUP($C20,Listen!$A$10:$A$15,Listen!$B$10:$B$15,"")) | Q20: =IF($C20="","",XLOOKUP($C20,Listen!$A$10:$A$15,Listen!$C$10:$C$15,"")) | R20: =IF($C20="","",XLOOKUP($C20,Listen!$A$10:$A$15,Listen!$D$10:$D$15,"")) | S20: =IF($C20="","",XLOOKUP($C20,Listen!$A$10:$A$15,Listen!$E$10:$E$15,"")) | T20: =IF($C20="","",XLOOKUP($C20,Listen!$A$10:$A$15,Listen!$F$10:$F$15,"")) | U20: =IF($C20="","",XLOOKUP($C20,Listen!$A$10:$A$15,Listen!$G$10:$G$15,"")) | V20: =IF($C20="","",XLOOKUP($C20,Listen!$A$10:$A$15,Listen!$H$10:$H$15,"")) | W20: =IF($C20="","",XLOOKUP($C20,Listen!$A$10:$A$15,Listen!$I$10:$I$15,"")) | X20: =IF($C20="","",XLOOKUP($C20,Listen!$A$10:$A$15,Listen!$J$10:$J$15,"")) | Y20: =IF($C20="","",XLOOKUP($C20,Listen!$A$10:$A$15,Listen!$K$10:$K$15,"")) | Z20: =IF($C20="","",XLOOKUP($C20,Listen!$A$10:$A$15,Listen!$L$10:$L$15,"")) | AA20: =IF($C20="","",XLOOKUP($C20,Listen!$A$10:$A$15,Listen!$M$10:$M$15,"")) | AB20: =IF(COUNTA($D20:$O20)=0,"",AVERAGE($D20:$O20)) | AC20: =IF($C20="","",SUMPRODUCT(--($D20:$O20<>""),--($P20:$AA20<>""),--($D20:$O20<$P20:$AA20))) | AD20: =IF($C20="","",IF(SUMPRODUCT(--($P20:$AA20<>"" ))=0,"",SUMPRODUCT(--($D20:$O20<>""),--($P20:$AA20<>""),--($D20:$O20>=$P20:$AA20)) / SUMPRODUCT(--($P20:$AA20<>"" ))))
P21: =IF($C21="","",XLOOKUP($C21,Listen!$A$10:$A$15,Listen!$B$10:$B$15,"")) | Q21: =IF($C21="","",XLOOKUP($C21,Listen!$A$10:$A$15,Listen!$C$10:$C$15,"")) | R21: =IF($C21="","",XLOOKUP($C21,Listen!$A$10:$A$15,Listen!$D$10:$D$15,"")) | S21: =IF($C21="","",XLOOKUP($C21,Listen!$A$10:$A$15,Listen!$E$10:$E$15,"")) | T21: =IF($C21="","",XLOOKUP($C21,Listen!$A$10:$A$15,Listen!$F$10:$F$15,"")) | U21: =IF($C21="","",XLOOKUP($C21,Listen!$A$10:$A$15,Listen!$G$10:$G$15,"")) | V21: =IF($C21="","",XLOOKUP($C21,Listen!$A$10:$A$15,Listen!$H$10:$H$15,"")) | W21: =IF($C21="","",XLOOKUP($C21,Listen!$A$10:$A$15,Listen!$I$10:$I$15,"")) | X21: =IF($C21="","",XLOOKUP($C21,Listen!$A$10:$A$15,Listen!$J$10:$J$15,"")) | Y21: =IF($C21="","",XLOOKUP($C21,Listen!$A$10:$A$15,Listen!$K$10:$K$15,"")) | Z21: =IF($C21="","",XLOOKUP($C21,Listen!$A$10:$A$15,Listen!$L$10:$L$15,"")) | AA21: =IF($C21="","",XLOOKUP($C21,Listen!$A$10:$A$15,Listen!$M$10:$M$15,"")) | AB21: =IF(COUNTA($D21:$O21)=0,"",AVERAGE($D21:$O21)) | AC21: =IF($C21="","",SUMPRODUCT(--($D21:$O21<>""),--($P21:$AA21<>""),--($D21:$O21<$P21:$AA21))) | AD21: =IF($C21="","",IF(SUMPRODUCT(--($P21:$AA21<>"" ))=0,"",SUMPRODUCT(--($D21:$O21<>""),--($P21:$AA21<>""),--($D21:$O21>=$P21:$AA21)) / SUMPRODUCT(--($P21:$AA21<>"" ))))
P22: =IF($C22="","",XLOOKUP($C22,Listen!$A$10:$A$15,Listen!$B$10:$B$15,"")) | Q22: =IF($C22="","",XLOOKUP($C22,Listen!$A$10:$A$15,Listen!$C$10:$C$15,"")) | R22: =IF($C22="","",XLOOKUP($C22,Listen!$A$10:$A$15,Listen!$D$10:$D$15,"")) | S22: =IF($C22="","",XLOOKUP($C22,Listen!$A$10:$A$15,Listen!$E$10:$E$15,"")) | T22: =IF($C22="","",XLOOKUP($C22,Listen!$A$10:$A$15,Listen!$F$10:$F$15,"")) | U22: =IF($C22="","",XLOOKUP($C22,Listen!$A$10:$A$15,Listen!$G$10:$G$15,"")) | V22: =IF($C22="","",XLOOKUP($C22,Listen!$A$10:$A$15,Listen!$H$10:$H$15,"")) | W22: =IF($C22="","",XLOOKUP($C22,Listen!$A$10:$A$15,Listen!$I$10:$I$15,"")) | X22: =IF($C22="","",XLOOKUP($C22,Listen!$A$10:$A$15,Listen!$J$10:$J$15,"")) | Y22: =IF($C22="","",XLOOKUP($C22,Listen!$A$10:$A$15,Listen!$K$10:$K$15,"")) | Z22: =IF($C22="","",XLOOKUP($C22,Listen!$A$10:$A$15,Listen!$L$10:$L$15,"")) | AA22: =IF($C22="","",XLOOKUP($C22,Listen!$A$10:$A$15,Listen!$M$10:$M$15,"")) | AB22: =IF(COUNTA($D22:$O22)=0,"",AVERAGE($D22:$O22)) | AC22: =IF($C22="","",SUMPRODUCT(--($D22:$O22<>""),--($P22:$AA22<>""),--($D22:$O22<$P22:$AA22))) | AD22: =IF($C22="","",IF(SUMPRODUCT(--($P22:$AA22<>"" ))=0,"",SUMPRODUCT(--($D22:$O22<>""),--($P22:$AA22<>""),--($D22:$O22>=$P22:$AA22)) / SUMPRODUCT(--($P22:$AA22<>"" ))))
... P207: =IF($C207="","",XLOOKUP($C207,Listen!$A$10:$A$15,Listen!$B$10:$B$15,"")) | Q207: =IF($C207="","",XLOOKUP($C207,Listen!$A$10:$A$15,Listen!$C$10:$C$15,"")) | R207: =IF($C207="","",XLOOKUP($C207,Listen!$A$10:$A$15,Listen!$D$10:$D$15,"")) | S207: =IF($C207="","",XLOOKUP($C207,Listen!$A$10:$A$15,Listen!$E$10:$E$15,"")) | T207: =IF($C207="","",XLOOKUP($C207,Listen!$A$10:$A$15,Listen!$F$10:$F$15,"")) | U207: =IF($C207="","",XLOOKUP($C207,Listen!$A$10:$A$15,Listen!$G$10:$G$15,"")) | V207: =IF($C207="","",XLOOKUP($C207,Listen!$A$10:$A$15,Listen!$H$10:$H$15,"")) | W207: =IF($C207="","",XLOOKUP($C207,Listen!$A$10:$A$15,Listen!$I$10:$I$15,"")) | X207: =IF($C207="","",XLOOKUP($C207,Listen!$A$10:$A$15,Listen!$J$10:$J$15,"")) | Y207: =IF($C207="","",XLOOKUP($C207,Listen!$A$10:$A$15,Listen!$K$10:$K$15,"")) | Z207: =IF($C207="","",XLOOKUP($C207,Listen!$A$10:$A$15,Listen!$L$10:$L$15,"")) | AA207: =IF($C207="","",XLOOKUP($C207,Listen!$A$10:$A$15,Listen!$M$10:$M$15,"")) | AB207: =IF(COUNTA($D207:$O207)=0,"",AVERAGE($D207:$O207)) | AC207: =IF($C207="","",SUMPRODUCT(--($D207:$O207<>""),--($P207:$AA207<>""),--($D207:$O207<$P207:$AA207))) | AD207: =IF($C207="","",IF(SUMPRODUCT(--($P207:$AA207<>"" ))=0,"",SUMPRODUCT(--($D207:$O207<>""),--($P207:$AA207<>""),--($D207:$O207>=$P207:$AA207)) / SUMPRODUCT(--($P207:$AA207<>"" ))))

Sheet Listen
A1: Wert | B1: Bezeichnung | D1: Rolle | F1: Kompetenz | G1: Kategorie
A2: 0 | B2: Nicht zutreffend | D2: Mitarbeiter | F2: Kompetenz 1
A3: 1 | B3: Grundkenntnisse | D3: Schichtleiter | F3: Kompetenz 2
A4: 2 | B4: Mittel | D4: Analyst | F4: Kompetenz 3
A5: 3 | B5: Fortgeschritten | D5: Techniker | F5: Kompetenz 4
A6: 4 | B6: Experte | D6: Teamleiter | F6: Kompetenz 5
D7: Qualität | F7: Kompetenz 6
D8: Instandhaltung | F8: Kompetenz 7
A9: Rolle | B9: Kompetenz 1 | C9: Kompetenz 2 | D9: Kompetenz 3 | E9: Kompetenz 4 | F9: Kompetenz 5 | G9: Kompetenz 6 | H9: Kompetenz 7 | I9: Kompetenz 8 | J9: Kompetenz 9 | K9: Kompetenz 10 | L9: Kompetenz 11 | M9: Kompetenz 12
A10: Mitarbeiter | B10: 2 | C10: 2 | D10: 2 | E10: 2 | F10: 2 | G10: 2 | H10: 2 | I10: 2 | J10: 2 | K10: 2 | L10: 2 | M10: 2
A11: Schichtleiter | B11: 2 | C11: 2 | D11: 2 | E11: 2 | F11: 2 | G11: 2 | H11: 2 | I11: 2 | J11: 2 | K11: 2 | L11: 2 | M11: 2
A12: Analyst | B12: 2 | C12: 2 | D12: 2 | E12: 2 | F12: 2 | G12: 2 | H12: 2 | I12: 2 | J12: 2 | K12: 2 | L12: 2 | M12: 2
A13: Techniker | B13: 2 | C13: 2 | D13: 2 | E13: 2 | F13: 2 | G13: 2 | H13: 2 | I13: 2 | J13: 2 | K13: 2 | L13: 2 | M13: 2
A14: Teamleiter | B14: 2 | C14: 2 | D14: 2 | E14: 2 | F14: 2 | G14: 2 | H14: 2 | I14: 2 | J14: 2 | K14: 2 | L14: 2 | M14: 2
A15: Qualität | B15: 2 | C15: 2 | D15: 2 | E15: 2 | F15: 2 | G15: 2 | H15: 2 | I15: 2 | J15: 2 | K15: 2 | L15: 2 | M15: 2
