Workbook

Sheet Getränke
A1: Kalkulation Getränke
A2: Fülle D,E,F (optional G,I). Steuere USt, Zielmarge und Rundung in 'Einstellungen'.
A3: Kategorie | B3: Getränk | C3: Einkaufsformat | D3: Einkaufspreis je Einheit (€) | E3: Volumen je Einheit (ml) | F3: Portionsgröße (ml) | G3: Schwund/Verlust (%) | H3: Kosten je Portion (€) | I3: Zielmarge (%) | J3: Netto-Preis empfohlen (€) | K3: USt (€) | L3: empf. Verkaufspreis (€) | M3: Reale Marge (%)
A4: Kaffee/Tee | B4: Latte Macchiato | C4: Tasse 300 ml | D4: 0.9 | E4: 300 | F4: 300 | G4: 0 | H4: =IFERROR((D4/E4)*F4*(1+G4/100),"") -> 0.9 | J4: =IFERROR(H4/(1-IF(ISBLANK(I4),Einstellungen!$B$4,I4)/100),"") -> 3 | K4: =IFERROR(J4*Einstellungen!$B$3/100,"") -> 0.57 | L4: =IFERROR(ROUND((J4+K4)/(Einstellungen!$B$5+0),0)*(Einstellungen!$B$5+0),"") -> 3.6 | M4: =IFERROR(100*((L4/(1+Einstellungen!$B$3/100))-H4)/(L4/(1+Einstellungen!$B$3/100)),"") -> 70.25
A5: Bier | B5: Craft Bier | C5: Flasche 330 ml | D5: 1.2 | E5: 330 | F5: 330 | G5: 0 | H5: =IFERROR((D5/E5)*F5*(1+G5/100),"") -> 1.2 | J5: =IFERROR(H5/(1-IF(ISBLANK(I5),Einstellungen!$B$4,I5)/100),"") -> 4 | K5: =IFERROR(J5*Einstellungen!$B$3/100,"") -> 0.76 | L5: =IFERROR(ROUND((J5+K5)/(Einstellungen!$B$5+0),0)*(Einstellungen!$B$5+0),"") -> 4.8 | M5: =IFERROR(100*((L5/(1+Einstellungen!$B$3/100))-H5)/(L5/(1+Einstellungen!$B$3/100)),"") -> 70.25
A6: Wein | B6: Hauswein Rot | C6: Flasche 750 ml | D6: 5.5 | E6: 750 | F6: 150 | G6: 5 | H6: =IFERROR((D6/E6)*F6*(1+G6/100),"") -> 1.155 | J6: =IFERROR(H6/(1-IF(ISBLANK(I6),Einstellungen!$B$4,I6)/100),"") -> 3.85 | K6: =IFERROR(J6*Einstellungen!$B$3/100,"") -> 0.7315 | L6: =IFERROR(ROUND((J6+K6)/(Einstellungen!$B$5+0),0)*(Einstellungen!$B$5+0),"") -> 4.6 | M6: =IFERROR(100*((L6/(1+Einstellungen!$B$3/100))-H6)/(L6/(1+Einstellungen!$B$3/100)),"") -> 70.120652
A7: Spirituose | B7: Gin Tonic | C7: Flasche 700 ml | D7: 14 | E7: 700 | F7: 200 | G7: 3 | H7: =IFERROR((D7/E7)*F7*(1+G7/100),"") -> 4.12 | I7: 75 | J7: =IFERROR(H7/(1-IF(ISBLANK(I7),Einstellungen!$B$4,I7)/100),"") -> 16.48 | K7: =IFERROR(J7*Einstellungen!$B$3/100,"") -> 3.1312 | L7: =IFERROR(ROUND((J7+K7)/(Einstellungen!$B$5+0),0)*(Einstellungen!$B$5+0),"") -> 19.6 | M7: =IFERROR(100*((L7/(1+Einstellungen!$B$3/100))-H7)/(L7/(1+Einstellungen!$B$3/100)),"") -> 74.985714
A8: Erfrischung | B8: Cola | C8: Flasche 2000 ml | D8: 1.1 | E8: 2000 | F8: 300 | G8: 2 | H8: =IFERROR((D8/E8)*F8*(1+G8/100),"") -> 0.1683 | J8: =IFERROR(H8/(1-IF(ISBLANK(I8),Einstellungen!$B$4,I8)/100),"") -> 0.561 | K8: =IFERROR(J8*Einstellungen!$B$3/100,"") -> 0.10659 | L8: =IFERROR(ROUND((J8+K8)/(Einstellungen!$B$5+0),0)*(Einstellungen!$B$5+0),"") -> 0.7 | M8: =IFERROR(100*((L8/(1+Einstellungen!$B$3/100))-H8)/(L8/(1+Einstellungen!$B$3/100)),"") -> 71.389
A9: Wasser | B9: Mineralwasser still | C9: Flasche 1500 ml | D9: 0.45 | E9: 1500 | F9: 300 | G9: 0 | H9: =IFERROR((D9/E9)*F9*(1+G9/100),"") -> 0.09 | J9: =IFERROR(H9/(1-IF(ISBLANK(I9),Einstellungen!$B$4,I9)/100),"") -> 0.3 | K9: =IFERROR(J9*Einstellungen!$B$3/100,"") -> 0.057 | L9: =IFERROR(ROUND((J9+K9)/(Einstellungen!$B$5+0),0)*(Einstellungen!$B$5+0),"") -> 0.4 | M9: =IFERROR(100*((L9/(1+Einstellungen!$B$3/100))-H9)/(L9/(1+Einstellungen!$B$3/100)),"") -> 73.225
A10: Cocktail | B10: Margarita | C10: Zutaten Mix 250 ml | D10: 2.8 | E10: 250 | F10: 250 | G10: 0 | H10: =IFERROR((D10/E10)*F10*(1+G10/100),"") -> 2.8 | I10: 70 | J10: =IFERROR(H10/(1-IF(ISBLANK(I10),Einstellungen!$B$4,I10)/100),"") -> 9.3333333 | K10: =IFERROR(J10*Einstellungen!$B$3/100,"") -> 1.7733333 | L10: =IFERROR(ROUND((J10+K10)/(Einstellungen!$B$5+0),0)*(Einstellungen!$B$5+0),"") -> 11.1 | M10: =IFERROR(100*((L10/(1+Einstellungen!$B$3/100))-H10)/(L10/(1+Einstellungen!$B$3/100)),"") -> 69.981982
H11: =IFERROR((D11/E11)*F11*(1+G11/100),"") | J11: =IFERROR(H11/(1-IF(ISBLANK(I11),Einstellungen!$B$4,I11)/100),"") | K11: =IFERROR(J11*Einstellungen!$B$3/100,"") | L11: =IFERROR(ROUND((J11+K11)/(Einstellungen!$B$5+0),0)*(Einstellungen!$B$5+0),"") | M11: =IFERROR(100*((L11/(1+Einstellungen!$B$3/100))-H11)/(L11/(1+Einstellungen!$B$3/100)),"")
H12: =IFERROR((D12/E12)*F12*(1+G12/100),"") | J12: =IFERROR(H12/(1-IF(ISBLANK(I12),Einstellungen!$B$4,I12)/100),"") | K12: =IFERROR(J12*Einstellungen!$B$3/100,"") | L12: =IFERROR(ROUND((J12+K12)/(Einstellungen!$B$5+0),0)*(Einstellungen!$B$5+0),"") | M12: =IFERROR(100*((L12/(1+Einstellungen!$B$3/100))-H12)/(L12/(1+Einstellungen!$B$3/100)),"")
H13: =IFERROR((D13/E13)*F13*(1+G13/100),"") | J13: =IFERROR(H13/(1-IF(ISBLANK(I13),Einstellungen!$B$4,I13)/100),"") | K13: =IFERROR(J13*Einstellungen!$B$3/100,"") | L13: =IFERROR(ROUND((J13+K13)/(Einstellungen!$B$5+0),0)*(Einstellungen!$B$5+0),"") | M13: =IFERROR(100*((L13/(1+Einstellungen!$B$3/100))-H13)/(L13/(1+Einstellungen!$B$3/100)),"")
H14: =IFERROR((D14/E14)*F14*(1+G14/100),"") | J14: =IFERROR(H14/(1-IF(ISBLANK(I14),Einstellungen!$B$4,I14)/100),"") | K14: =IFERROR(J14*Einstellungen!$B$3/100,"") | L14: =IFERROR(ROUND((J14+K14)/(Einstellungen!$B$5+0),0)*(Einstellungen!$B$5+0),"") | M14: =IFERROR(100*((L14/(1+Einstellungen!$B$3/100))-H14)/(L14/(1+Einstellungen!$B$3/100)),"")
H15: =IFERROR((D15/E15)*F15*(1+G15/100),"") | J15: =IFERROR(H15/(1-IF(ISBLANK(I15),Einstellungen!$B$4,I15)/100),"") | K15: =IFERROR(J15*Einstellungen!$B$3/100,"") | L15: =IFERROR(ROUND((J15+K15)/(Einstellungen!$B$5+0),0)*(Einstellungen!$B$5+0),"") | M15: =IFERROR(100*((L15/(1+Einstellungen!$B$3/100))-H15)/(L15/(1+Einstellungen!$B$3/100)),"")
H16: =IFERROR((D16/E16)*F16*(1+G16/100),"") | J16: =IFERROR(H16/(1-IF(ISBLANK(I16),Einstellungen!$B$4,I16)/100),"") | K16: =IFERROR(J16*Einstellungen!$B$3/100,"") | L16: =IFERROR(ROUND((J16+K16)/(Einstellungen!$B$5+0),0)*(Einstellungen!$B$5+0),"") | M16: =IFERROR(100*((L16/(1+Einstellungen!$B$3/100))-H16)/(L16/(1+Einstellungen!$B$3/100)),"")
H17: =IFERROR((D17/E17)*F17*(1+G17/100),"") | J17: =IFERROR(H17/(1-IF(ISBLANK(I17),Einstellungen!$B$4,I17)/100),"") | K17: =IFERROR(J17*Einstellungen!$B$3/100,"") | L17: =IFERROR(ROUND((J17+K17)/(Einstellungen!$B$5+0),0)*(Einstellungen!$B$5+0),"") | M17: =IFERROR(100*((L17/(1+Einstellungen!$B$3/100))-H17)/(L17/(1+Einstellungen!$B$3/100)),"")
H18: =IFERROR((D18/E18)*F18*(1+G18/100),"") | J18: =IFERROR(H18/(1-IF(ISBLANK(I18),Einstellungen!$B$4,I18)/100),"") | K18: =IFERROR(J18*Einstellungen!$B$3/100,"") | L18: =IFERROR(ROUND((J18+K18)/(Einstellungen!$B$5+0),0)*(Einstellungen!$B$5+0),"") | M18: =IFERROR(100*((L18/(1+Einstellungen!$B$3/100))-H18)/(L18/(1+Einstellungen!$B$3/100)),"")
H19: =IFERROR((D19/E19)*F19*(1+G19/100),"") | J19: =IFERROR(H19/(1-IF(ISBLANK(I19),Einstellungen!$B$4,I19)/100),"") | K19: =IFERROR(J19*Einstellungen!$B$3/100,"") | L19: =IFERROR(ROUND((J19+K19)/(Einstellungen!$B$5+0),0)*(Einstellungen!$B$5+0),"") | M19: =IFERROR(100*((L19/(1+Einstellungen!$B$3/100))-H19)/(L19/(1+Einstellungen!$B$3/100)),"")
H20: =IFERROR((D20/E20)*F20*(1+G20/100),"") | J20: =IFERROR(H20/(1-IF(ISBLANK(I20),Einstellungen!$B$4,I20)/100),"") | K20: =IFERROR(J20*Einstellungen!$B$3/100,"") | L20: =IFERROR(ROUND((J20+K20)/(Einstellungen!$B$5+0),0)*(Einstellungen!$B$5+0),"") | M20: =IFERROR(100*((L20/(1+Einstellungen!$B$3/100))-H20)/(L20/(1+Einstellungen!$B$3/100)),"")
H21: =IFERROR((D21/E21)*F21*(1+G21/100),"") | J21: =IFERROR(H21/(1-IF(ISBLANK(I21),Einstellungen!$B$4,I21)/100),"") | K21: =IFERROR(J21*Einstellungen!$B$3/100,"") | L21: =IFERROR(ROUND((J21+K21)/(Einstellungen!$B$5+0),0)*(Einstellungen!$B$5+0),"") | M21: =IFERROR(100*((L21/(1+Einstellungen!$B$3/100))-H21)/(L21/(1+Einstellungen!$B$3/100)),"")
H22: =IFERROR((D22/E22)*F22*(1+G22/100),"") | J22: =IFERROR(H22/(1-IF(ISBLANK(I22),Einstellungen!$B$4,I22)/100),"") | K22: =IFERROR(J22*Einstellungen!$B$3/100,"") | L22: =IFERROR(ROUND((J22+K22)/(Einstellungen!$B$5+0),0)*(Einstellungen!$B$5+0),"") | M22: =IFERROR(100*((L22/(1+Einstellungen!$B$3/100))-H22)/(L22/(1+Einstellungen!$B$3/100)),"")
... H201: =IFERROR((D201/E201)*F201*(1+G201/100),"") | J201: =IFERROR(H201/(1-IF(ISBLANK(I201),Einstellungen!$B$4,I201)/100),"") | K201: =IFERROR(J201*Einstellungen!$B$3/100,"") | L201: =IFERROR(ROUND((J201+K201)/(Einstellungen!$B$5+0),0)*(Einstellungen!$B$5+0),"") | M201: =IFERROR(100*((L201/(1+Einstellungen!$B$3/100))-H201)/(L201/(1+Einstellungen!$B$3/100)),"")

Sheet Einstellungen
A1: Globale Einstellungen
A2: Parameter | B2: Wert
A3: USt Getränke (%) | B3: 19
A4: Ziel-Bruttomarge (%) | B4: 70
A5: Rundungsschritt | B5: 0.1
A6: Warnung Marge unter (%) | B6: 60
A8: Hinweis: Passe hier USt, Zielmarge, Rundung und Schwelle für Warnung an.
