Workbook
Name PreiseRng: Rohstoffpreise!$A$3:$B$1000

Sheet Rezepte
A1: Rezeptkalkulation
A2: Rezept: | B2: Käsekuchen | E2: Reduktionsfaktor | F2: 0.8
A3: Gewicht [g] - roh | B3: =E20 -> 2008.2 | E3: Gewicht [g] - zubereitet | F3: =B3*F2 -> 1606.56
A4: Trage Gewicht in Spalte E ein (g roh). Preise in 'Rohstoffpreise' pflegen. Kosten berechnen sich automatisch.
A5: Abschnitt | B5: Menge | C5: Einheit | D5: Zutat | E5: Gewicht (g) - roh | F5: Rohstoffkosten €/kg | G5: Gesamt - Rohstoffkosten €
A6: MÜRBETEIG | B6: 150 | C6: g | D6: Mehl | E6: 150 | F6: =IFERROR(VLOOKUP(D6,Rohstoffpreise!$A$3:$B$1000,2,0),"") -> 0.7 | G6: =IFERROR((E6/1000)*F6,"") -> 0.105
B7: 60 | C7: g | D7: Zucker | E7: 60 | F7: =IFERROR(VLOOKUP(D7,Rohstoffpreise!$A$3:$B$1000,2,0),"") -> 1.91 | G7: =IFERROR((E7/1000)*F7,"") -> 0.1146
B8: 1 | C8: Pck | D8: Vanillinzucker | E8: 20 | F8: =IFERROR(VLOOKUP(D8,Rohstoffpreise!$A$3:$B$1000,2,0),"") -> 2.92 | G8: =IFERROR((E8/1000)*F8,"") -> 0.0584
B9: 1 | C9: Prise | D9: Salz | E9: 2 | F9: =IFERROR(VLOOKUP(D9,Rohstoffpreise!$A$3:$B$1000,2,0),"") -> 21 | G9: =IFERROR((E9/1000)*F9,"") -> 0.042
B10: 100 | C10: g | D10: Butter weich | E10: 100 | F10: =IFERROR(VLOOKUP(D10,Rohstoffpreise!$A$3:$B$1000,2,0),"") -> 14.95 | G10: =IFERROR((E10/1000)*F10,"") -> 1.495
A11: FÜLLUNG | B11: 600 | C11: ml | D11: Milch | E11: 100 | F11: =IFERROR(VLOOKUP(D11,Rohstoffpreise!$A$3:$B$1000,2,0),"") -> 2.39 | G11: =IFERROR((E11/1000)*F11,"") -> 0.239
B12: 2 | C12: Pck | D12: Vanillepuddingpulver | E12: 24 | F12: =IFERROR(VLOOKUP(D12,Rohstoffpreise!$A$3:$B$1000,2,0),"") -> 8.56 | G12: =IFERROR((E12/1000)*F12,"") -> 0.20544
B13: 1 | C13: kg | D13: Magerquark | E13: 1000 | F13: =IFERROR(VLOOKUP(D13,Rohstoffpreise!$A$3:$B$1000,2,0),"") -> 5.59 | G13: =IFERROR((E13/1000)*F13,"") -> 5.59
B14: 200 | C14: g | D14: Zucker | E14: 200 | F14: =IFERROR(VLOOKUP(D14,Rohstoffpreise!$A$3:$B$1000,2,0),"") -> 1.91 | G14: =IFERROR((E14/1000)*F14,"") -> 0.382
B15: 2 | C15: Stk | D15: Eier (Gr. M) | E15: 120 | F15: =IFERROR(VLOOKUP(D15,Rohstoffpreise!$A$3:$B$1000,2,0),"") -> 6.9 | G15: =IFERROR((E15/1000)*F15,"") -> 0.828
B16: 1 | C16: Stk | D16: Vanilleschote | E16: 5 | F16: =IFERROR(VLOOKUP(D16,Rohstoffpreise!$A$3:$B$1000,2,0),"") -> 19.9 | G16: =IFERROR((E16/1000)*F16,"") -> 0.0995
B17: 2 | C17: TL | D17: Zitronenabrieb | E17: 5 | F17: =IFERROR(VLOOKUP(D17,Rohstoffpreise!$A$3:$B$1000,2,0),"") -> 69 | G17: =IFERROR((E17/1000)*F17,"") -> 0.345
B18: 200 | C18: ml | D18: Neutrales Speiseöl | E18: 222.2 | F18: =IFERROR(VLOOKUP(D18,Rohstoffpreise!$A$3:$B$1000,2,0),"") -> 39 | G18: =IFERROR((E18/1000)*F18,"") -> 8.6658
F19: =IFERROR(VLOOKUP(D19,Rohstoffpreise!$A$3:$B$1000,2,0),"") | G19: =IFERROR((E19/1000)*F19,"")
A20: Gesamtgewicht [g] - roh | E20: =SUM(E6:E19) -> 2008.2 | F20: =IFERROR(VLOOKUP(D20,Rohstoffpreise!$A$3:$B$1000,2,0),"") | G20: =IFERROR((E20/1000)*F20,"")
A21: Wareneinsatz pro Kuchen | F21: =IFERROR(VLOOKUP(D21,Rohstoffpreise!$A$3:$B$1000,2,0),"") | G21: =IFERROR((E21/1000)*F21,"")
A22: Wareneinsatz pro 100 g - zubereitet | F22: =IFERROR(VLOOKUP(D22,Rohstoffpreise!$A$3:$B$1000,2,0),"") | G22: =IFERROR((E22/1000)*F22,"")
F23: =IFERROR(VLOOKUP(D23,Rohstoffpreise!$A$3:$B$1000,2,0),"") | G23: =IFERROR((E23/1000)*F23,"")
F24: =IFERROR(VLOOKUP(D24,Rohstoffpreise!$A$3:$B$1000,2,0),"") | G24: =IFERROR((E24/1000)*F24,"")
F25: =IFERROR(VLOOKUP(D25,Rohstoffpreise!$A$3:$B$1000,2,0),"") | G25: =IFERROR((E25/1000)*F25,"")
F26: =IFERROR(VLOOKUP(D26,Rohstoffpreise!$A$3:$B$1000,2,0),"") | G26: =IFERROR((E26/1000)*F26,"")
F27: =IFERROR(VLOOKUP(D27,Rohstoffpreise!$A$3:$B$1000,2,0),"") | G27: =IFERROR((E27/1000)*F27,"")
F28: =IFERROR(VLOOKUP(D28,Rohstoffpreise!$A$3:$B$1000,2,0),"") | G28: =IFERROR((E28/1000)*F28,"")
F29: =IFERROR(VLOOKUP(D29,Rohstoffpreise!$A$3:$B$1000,2,0),"") | G29: =IFERROR((E29/1000)*F29,"")
F30: =IFERROR(VLOOKUP(D30,Rohstoffpreise!$A$3:$B$1000,2,0),"") | G30: =IFERROR((E30/1000)*F30,"")
F31: =IFERROR(VLOOKUP(D31,Rohstoffpreise!$A$3:$B$1000,2,0),"") | G31: =IFERROR((E31/1000)*F31,"")
F32: =IFERROR(VLOOKUP(D32,Rohstoffpreise!$A$3:$B$1000,2,0),"") | G32: =IFERROR((E32/1000)*F32,"")
F33: =IFERROR(VLOOKUP(D33,Rohstoffpreise!$A$3:$B$1000,2,0),"") | G33: =IFERROR((E33/1000)*F33,"")
F34: =IFERROR(VLOOKUP(D34,Rohstoffpreise!$A$3:$B$1000,2,0),"") | G34: =IFERROR((E34/1000)*F34,"")
... F200: =IFERROR(VLOOKUP(D200,Rohstoffpreise!$A$3:$B$1000,2,0),"") | G200: =IFERROR((E200/1000)*F200,"")

Sheet Rohstoffpreise
A1: Rohstoffpreise (€/kg)
A2: Zutat | B2: Preis €/kg | C2: Anmerkung | D2: Kategorie
A3: Mehl | B3: 0.7 | D3: Backen
A4: Zucker | B4: 1.91 | D4: Backen
A5: Vanillinzucker | B5: 2.92 | C5: Päckchen umgerechnet pro kg | D5: Backen
A6: Salz | B6: 21 | D6: Basics
A7: Butter weich | B7: 14.95 | D7: Milchprodukte
A8: Milch | B8: 2.39 | D8: Milchprodukte
A9: Vanillepuddingpulver | B9: 8.56 | C9: Päckchen umgerechnet pro kg | D9: Backen
A10: Magerquark | B10: 5.59 | D10: Milchprodukte
A11: Eier (Gr. M) | B11: 6.9 | C11: umgerechnet pro kg | D11: Eier
A12: Vanilleschote | B12: 19.9 | C12: umgerechnet pro kg | D12: Gewürze
A13: Zitronenabrieb | B13: 69 | C13: umgerechnet pro kg | D13: Gewürze
A14: Neutrales Speiseöl | B14: 39 | D14: Öle
