Workbook
Name Empfehlung_5: Einstellungen!$E$3:$E$7
Name JaNein: Einstellungen!$C$3:$C$4
Name Rollen_Event: Einstellungen!$F$3:$F$5
Name Skala_1bis6: Einstellungen!$A$3:$A$8
Name Skala_5: Einstellungen!$B$3:$B$7
Name Wahrscheinlichkeit_5: Einstellungen!$D$3:$D$7

Sheet Übersicht
A1: Fragebogen Vorlagen (Mitarbeiter / Kunden / Events)
A3: Klicke auf eine Option, um zur Eingabe zu springen:
A5: =HYPERLINK("#'Mitarbeiter_Antworten'!A1","➜ Mitarbeiter-Antworten") -> ➜ Mitarbeiter-Antworten
A6: =HYPERLINK("#'Kunden_Antworten'!A1","➜ Kunden-Antworten") -> ➜ Kunden-Antworten
A7: =HYPERLINK("#'Event_Antworten'!A1","➜ Event-Antworten") -> ➜ Event-Antworten
A8: =HYPERLINK("#'Auswertung'!A1","➜ Auswertung (Berichte)") -> ➜ Auswertung (Berichte)
A10: Anleitung:
A11: • Wähle Antworten aus den Dropdowns. 1=best, 6=schlechtest. Keine Blattschutz.
A12: • Kopfzeilen haben #00484E mit weißer Schrift. Filter aktiv. Druck- und Export-freundlich.

Sheet Einstellungen
A1: Hinweis: 1 = besser, 6 = schlechter (Schulnoten) | H1: Skala_5_Text | I1: Wert | K1: Empfehlung_5_Text | L1: Wert
A2: Skala_1bis6 | B2: Skala_5 | C2: JaNein | D2: Wahrscheinlichkeit_5 | E2: Empfehlung_5 | F2: Rollen_Event | H2: Sehr zufrieden | I2: 5 | K2: Ja, auf jeden Fall | L2: 5
A3: 1 Sehr gut | B3: Sehr zufrieden | C3: Ja | D3: Sehr wahrscheinlich | E3: Ja, auf jeden Fall | F3: Teilnehmer | H3: Zufrieden | I3: 4 | K3: Ja, wahrscheinlich | L3: 4
A4: 2 Gut | B4: Zufrieden | C4: Nein | D4: Wahrscheinlich | E4: Ja, wahrscheinlich | F4: Referent | H4: Neutral | I4: 3 | K4: Weiß nicht | L4: 3
A5: 3 Befriedigend | B5: Neutral | D5: Eher unwahrscheinlich | E5: Weiß nicht | F5: Sponsor | H5: Unzufrieden | I5: 2 | K5: Nein, wahrscheinlich nicht | L5: 2
A6: 4 Ausreichend | B6: Unzufrieden | D6: Unwahrscheinlich | E6: Nein, wahrscheinlich nicht | H6: Sehr unzufrieden | I6: 1 | K6: Nein, auf keinen Fall | L6: 1
A7: 5 Mangelhaft | B7: Sehr unzufrieden | D7: Sehr unwahrscheinlich | E7: Nein, auf keinen Fall
A8: 6 Ungenügend

Sheet Mitarbeiter_Antworten
A1: Datum | B1: Mitarbeitername | C1: Abteilung | D1: Position | E1: Beschäftigungsdauer_Monate | F1: Arbeitszufriedenheit_Tätigkeit | G1: Arbeitszufriedenheit_Sinn_Herausforderung | H1: Arbeitszufriedenheit_Spielraum | I1: Arbeitsbedingungen_Umgebung | J1: Arbeitsbedingungen_Zeiten | K1: Arbeitsbedingungen_Arbeitsmittel | L1: Team_Zusammenarbeit | M1: Team_Respekt | N1: Team_Unterstützung | O1: Führung_Zufriedenheit | P1: Führung_Transparenz | Q1: Führung_Feedback | R1: Kommunikation_Funktioniert | S1: Kommunikation_Informiert | T1: Kommunikation_Gehört | U1: Kultur_Beschreibung | V1: Kultur_Werte | W1: Kultur_Willkommen | X1: Entwicklung_Möglichkeiten | Y1: Entwicklung_Unterstützung | Z1: WorkLife_Vereinbarkeit | AA1: WorkLife_Flexmodelle | AB1: WorkLife_Unterstützung | AC1: Motivation_Engagement | AD1: Motivation_Erhöhen_Text | AE1: Gesundheit_Zufriedenheit | AF1: Gesundheit_Unterstützung | AG1: Diversität_FairBehandelt | AH1: Nachhaltigkeit_Wichtigkeit | AI1: Nachhaltigkeit_Ideen_Text | AJ1: Verbesserungsvorschläge_Text | AK1: Anmerkungen_Text | AL1: Ø_Bewertung_gesamt
A2: 45851 | B2: Leon Hoffmann | C2: HR | D2: Entwickler/in | E2: 60 | F2: 5 Mangelhaft | G2: 4 Ausreichend | H2: 2 Gut | I2: 5 Mangelhaft | J2: 3 Befriedigend | K2: 1 Sehr gut | L2: 5 Mangelhaft | M2: 2 Gut | N2: 5 Mangelhaft | O2: 2 Gut | P2: 6 Ungenügend | Q2: 1 Sehr gut | R2: 3 Befriedigend | S2: 5 Mangelhaft | T2: 4 Ausreichend | U2: 5 Mangelhaft | V2: 5 Mangelhaft | W2: 3 Befriedigend | X2: 5 Mangelhaft | Y2: 2 Gut | Z2: 3 Befriedigend | AA2: 3 Befriedigend | AB2: 3 Befriedigend | AC2: 3 Befriedigend | AD2: Klare Ziele helfen | AE2: 5 Mangelhaft | AF2: 5 Mangelhaft | AG2: 1 Sehr gut | AH2: 3 Befriedigend | AI2: Bessere Tools nötig | AJ2: Mehr Feedback erwünscht | AK2: Bessere Tools nötig | AL2: =IFERROR((IFERROR(VALUE(LEFT(F2,1)),"")+IFERROR(VALUE(LEFT(G2,1)),"")+IFERROR(VALUE(LEFT(H2,1)),"")+IFERROR(VALUE(LEFT(I2,1)),"")+IFERROR(VALUE(LEFT(J2,1)),"")+IFERROR(VALUE(LEFT(K2,1)),"")+IFERROR(VALUE(LEFT(L2,1)),"")+IFERROR(VALUE(LEFT(M2,1)),"")+IFERROR(VALUE(LEFT(N2,1)),"")+IFERROR(VALUE(LEFT(O2,1)),"")+IFERROR(VALUE(LEFT(P2,1)),"")+IFERROR(VALUE(LEFT(Q2,1)),"")+IFERROR(VALUE(LEFT(R2,1)),"")+IFERROR(VALUE(LEFT(S2,1)),"")+IFERROR(VALUE(LEFT(T2,1)),"")+IFERROR(VALUE(LEFT(U2,1)),"")+IFERROR(VALUE(LEFT(V2,1)),"")+IFERROR(VALUE(LEFT(W2,1)),"")+IFERROR(VALUE(LEFT(X2,1)),"")+IFERROR(VALUE(LEFT(Y2,1)),"")+IFERROR(VALUE(LEFT(Z2,1)),"")+IFERROR(VALUE(LEFT(AA2,1)),"")+IFERROR(VALUE(LEFT(AB2,1)),"")+IFERROR(VALUE(LEFT(AC2,1)),"")+IFERROR(VALUE(LEFT(AE2,1)),"")+IFERROR(VALUE(LEFT(AF2,1)),"")+IFERROR(VALUE(LEFT(AG2,1)),"")+IFERROR(VALUE(LEFT(AH2,1)),""))/COUNTA(F2:AH2),"") -> 3.4137931
A3: 45883 | B3: Lukas Müller | C3: Marketing | D3: Werkstudent/in | E3: 12 | F3: 4 Ausreichend | G3: 5 Mangelhaft | H3: 6 Ungenügend | I3: 1 Sehr gut | J3: 1 Sehr gut | K3: 1 Sehr gut | L3: 4 Ausreichend | M3: 2 Gut | N3: 6 Ungenügend | O3: 6 Ungenügend | P3: 5 Mangelhaft | Q3: 5 Mangelhaft | R3: 6 Ungenügend | S3: 2 Gut | T3: 2 Gut | U3: 3 Befriedigend | V3: 1 Sehr gut | W3: 6 Ungenügend | X3: 2 Gut | Y3: 1 Sehr gut | Z3: 1 Sehr gut | AA3: 1 Sehr gut | AB3: 3 Befriedigend | AC3: 3 Befriedigend | AD3: Klare Ziele helfen | AE3: 5 Mangelhaft | AF3: 4 Ausreichend | AG3: 4 Ausreichend | AH3: 5 Mangelhaft | AI3: Gute Atmosphäre | AJ3: Gute Atmosphäre | AK3: Gute Atmosphäre | AL3: =IFERROR((IFERROR(VALUE(LEFT(F3,1)),"")+IFERROR(VALUE(LEFT(G3,1)),"")+IFERROR(VALUE(LEFT(H3,1)),"")+IFERROR(VALUE(LEFT(I3,1)),"")+IFERROR(VALUE(LEFT(J3,1)),"")+IFERROR(VALUE(LEFT(K3,1)),"")+IFERROR(VALUE(LEFT(L3,1)),"")+IFERROR(VALUE(LEFT(M3,1)),"")+IFERROR(VALUE(LEFT(N3,1)),"")+IFERROR(VALUE(LEFT(O3,1)),"")+IFERROR(VALUE(LEFT(P3,1)),"")+IFERROR(VALUE(LEFT(Q3,1)),"")+IFERROR(VALUE(LEFT(R3,1)),"")+IFERROR(VALUE(LEFT(S3,1)),"")+IFERROR(VALUE(LEFT(T3,1)),"")+IFERROR(VALUE(LEFT(U3,1)),"")+IFERROR(VALUE(LEFT(V3,1)),"")+IFERROR(VALUE(LEFT(W3,1)),"")+IFERROR(VALUE(LEFT(X3,1)),"")+IFERROR(VALUE(LEFT(Y3,1)),"")+IFERROR(VALUE(LEFT(Z3,1)),"")+IFERROR(VALUE(LEFT(AA3,1)),"")+IFERROR(VALUE(LEFT(AB3,1)),"")+IFERROR(VALUE(LEFT(AC3,1)),"")+IFERROR(VALUE(LEFT(AE3,1)),"")+IFERROR(VALUE(LEFT(AF3,1)),"")+IFERROR(VALUE(LEFT(AG3,1)),"")+IFERROR(VALUE(LEFT(AH3,1)),""))/COUNTA(F3:AH3),"") -> 3.2758621
A4: 45847 | B4: Lea Fischer | C4: Vertrieb | D4: Sachbearbeiter/in | E4: 60 | F4: 3 Befriedigend | G4: 5 Mangelhaft | H4: 1 Sehr gut | I4: 1 Sehr gut | J4: 4 Ausreichend | K4: 6 Ungenügend | L4: 6 Ungenügend | M4: 1 Sehr gut | N4: 6 Ungenügend | O4: 4 Ausreichend | P4: 5 Mangelhaft | Q4: 2 Gut | R4: 4 Ausreichend | S4: 3 Befriedigend | T4: 3 Befriedigend | U4: 3 Befriedigend | V4: 2 Gut | W4: 1 Sehr gut | X4: 6 Ungenügend | Y4: 5 Mangelhaft | Z4: 3 Befriedigend | AA4: 3 Befriedigend | AB4: 6 Ungenügend | AC4: 6 Ungenügend | AD4: – | AE4: 5 Mangelhaft | AF4: 4 Ausreichend | AG4: 1 Sehr gut | AH4: 6 Ungenügend | AI4: Mehr Feedback erwünscht | AJ4: Bessere Tools nötig | AK4: – | AL4: =IFERROR((IFERROR(VALUE(LEFT(F4,1)),"")+IFERROR(VALUE(LEFT(G4,1)),"")+IFERROR(VALUE(LEFT(H4,1)),"")+IFERROR(VALUE(LEFT(I4,1)),"")+IFERROR(VALUE(LEFT(J4,1)),"")+IFERROR(VALUE(LEFT(K4,1)),"")+IFERROR(VALUE(LEFT(L4,1)),"")+IFERROR(VALUE(LEFT(M4,1)),"")+IFERROR(VALUE(LEFT(N4,1)),"")+IFERROR(VALUE(LEFT(O4,1)),"")+IFERROR(VALUE(LEFT(P4,1)),"")+IFERROR(VALUE(LEFT(Q4,1)),"")+IFERROR(VALUE(LEFT(R4,1)),"")+IFERROR(VALUE(LEFT(S4,1)),"")+IFERROR(VALUE(LEFT(T4,1)),"")+IFERROR(VALUE(LEFT(U4,1)),"")+IFERROR(VALUE(LEFT(V4,1)),"")+IFERROR(VALUE(LEFT(W4,1)),"")+IFERROR(VALUE(LEFT(X4,1)),"")+IFERROR(VALUE(LEFT(Y4,1)),"")+IFERROR(VALUE(LEFT(Z4,1)),"")+IFERROR(VALUE(LEFT(AA4,1)),"")+IFERROR(VALUE(LEFT(AB4,1)),"")+IFERROR(VALUE(LEFT(AC4,1)),"")+IFERROR(VALUE(LEFT(AE4,1)),"")+IFERROR(VALUE(LEFT(AF4,1)),"")+IFERROR(VALUE(LEFT(AG4,1)),"")+IFERROR(VALUE(LEFT(AH4,1)),""))/COUNTA(F4:AH4),"") -> 3.6206897
A5: 45869 | B5: Ben Hoffmann | C5: Finanzen | D5: Analyst/in | E5: 18 | F5: 2 Gut | G5: 1 Sehr gut | H5: 4 Ausreichend | I5: 3 Befriedigend | J5: 1 Sehr gut | K5: 1 Sehr gut | L5: 6 Ungenügend | M5: 1 Sehr gut | N5: 4 Ausreichend | O5: 5 Mangelhaft | P5: 1 Sehr gut | Q5: 2 Gut | R5: 5 Mangelhaft | S5: 4 Ausreichend | T5: 2 Gut | U5: 5 Mangelhaft | V5: 4 Ausreichend | W5: 1 Sehr gut | X5: 4 Ausreichend | Y5: 4 Ausreichend | Z5: 1 Sehr gut | AA5: 6 Ungenügend | AB5: 3 Befriedigend | AC5: 5 Mangelhaft | AD5: Mehr Feedback erwünscht | AE5: 1 Sehr gut | AF5: 6 Ungenügend | AG5: 3 Befriedigend | AH5: 6 Ungenügend | AI5: Mehr Feedback erwünscht | AJ5: Bessere Tools nötig | AK5: Mehr Feedback erwünscht | AL5: =IFERROR((IFERROR(VALUE(LEFT(F5,1)),"")+IFERROR(VALUE(LEFT(G5,1)),"")+IFERROR(VALUE(LEFT(H5,1)),"")+IFERROR(VALUE(LEFT(I5,1)),"")+IFERROR(VALUE(LEFT(J5,1)),"")+IFERROR(VALUE(LEFT(K5,1)),"")+IFERROR(VALUE(LEFT(L5,1)),"")+IFERROR(VALUE(LEFT(M5,1)),"")+IFERROR(VALUE(LEFT(N5,1)),"")+IFERROR(VALUE(LEFT(O5,1)),"")+IFERROR(VALUE(LEFT(P5,1)),"")+IFERROR(VALUE(LEFT(Q5,1)),"")+IFERROR(VALUE(LEFT(R5,1)),"")+IFERROR(VALUE(LEFT(S5,1)),"")+IFERROR(VALUE(LEFT(T5,1)),"")+IFERROR(VALUE(LEFT(U5,1)),"")+IFERROR(VALUE(LEFT(V5,1)),"")+IFERROR(VALUE(LEFT(W5,1)),"")+IFERROR(VALUE(LEFT(X5,1)),"")+IFERROR(VALUE(LEFT(Y5,1)),"")+IFERROR(VALUE(LEFT(Z5,1)),"")+IFERROR(VALUE(LEFT(AA5,1)),"")+IFERROR(VALUE(LEFT(AB5,1)),"")+IFERROR(VALUE(LEFT(AC5,1)),"")+IFERROR(VALUE(LEFT(AE5,1)),"")+IFERROR(VALUE(LEFT(AF5,1)),"")+IFERROR(VALUE(LEFT(AG5,1)),"")+IFERROR(VALUE(LEFT(AH5,1)),""))/COUNTA(F5:AH5),"") -> 3.137931
A6: 45889 | B6: Marie Hoffmann | C6: Vertrieb | D6: Analyst/in | E6: 24 | F6: 5 Mangelhaft | G6: 2 Gut | H6: 1 Sehr gut | I6: 3 Befriedigend | J6: 1 Sehr gut | K6: 4 Ausreichend | L6: 1 Sehr gut | M6: 6 Ungenügend | N6: 1 Sehr gut | O6: 3 Befriedigend | P6: 5 Mangelhaft | Q6: 3 Befriedigend | R6: 5 Mangelhaft | S6: 2 Gut | T6: 3 Befriedigend | U6: 1 Sehr gut | V6: 6 Ungenügend | W6: 2 Gut | X6: 3 Befriedigend | Y6: 6 Ungenügend | Z6: 5 Mangelhaft | AA6: 3 Befriedigend | AB6: 6 Ungenügend | AC6: 4 Ausreichend | AD6: Bessere Tools nötig | AE6: 6 Ungenügend | AF6: 5 Mangelhaft | AG6: 1 Sehr gut | AH6: 6 Ungenügend | AI6: – | AJ6: Klare Ziele helfen | AK6: Klare Ziele helfen | AL6: =IFERROR((IFERROR(VALUE(LEFT(F6,1)),"")+IFERROR(VALUE(LEFT(G6,1)),"")+IFERROR(VALUE(LEFT(H6,1)),"")+IFERROR(VALUE(LEFT(I6,1)),"")+IFERROR(VALUE(LEFT(J6,1)),"")+IFERROR(VALUE(LEFT(K6,1)),"")+IFERROR(VALUE(LEFT(L6,1)),"")+IFERROR(VALUE(LEFT(M6,1)),"")+IFERROR(VALUE(LEFT(N6,1)),"")+IFERROR(VALUE(LEFT(O6,1)),"")+IFERROR(VALUE(LEFT(P6,1)),"")+IFERROR(VALUE(LEFT(Q6,1)),"")+IFERROR(VALUE(LEFT(R6,1)),"")+IFERROR(VALUE(LEFT(S6,1)),"")+IFERROR(VALUE(LEFT(T6,1)),"")+IFERROR(VALUE(LEFT(U6,1)),"")+IFERROR(VALUE(LEFT(V6,1)),"")+IFERROR(VALUE(LEFT(W6,1)),"")+IFERROR(VALUE(LEFT(X6,1)),"")+IFERROR(VALUE(LEFT(Y6,1)),"")+IFERROR(VALUE(LEFT(Z6,1)),"")+IFERROR(VALUE(LEFT(AA6,1)),"")+IFERROR(VALUE(LEFT(AB6,1)),"")+IFERROR(VALUE(LEFT(AC6,1)),"")+IFERROR(VALUE(LEFT(AE6,1)),"")+IFERROR(VALUE(LEFT(AF6,1)),"")+IFERROR(VALUE(LEFT(AG6,1)),"")+IFERROR(VALUE(LEFT(AH6,1)),""))/COUNTA(F6:AH6),"") -> 3.4137931
A7: 45898 | B7: Finn Becker | C7: Finanzen | D7: Teamleiter/in | E7: 24 | F7: 2 Gut | G7: 5 Mangelhaft | H7: 3 Befriedigend | I7: 2 Gut | J7: 5 Mangelhaft | K7: 5 Mangelhaft | L7: 2 Gut | M7: 4 Ausreichend | N7: 5 Mangelhaft | O7: 4 Ausreichend | P7: 5 Mangelhaft | Q7: 2 Gut | R7: 3 Befriedigend | S7: 6 Ungenügend | T7: 1 Sehr gut | U7: 5 Mangelhaft | V7: 4 Ausreichend | W7: 6 Ungenügend | X7: 1 Sehr gut | Y7: 5 Mangelhaft | Z7: 5 Mangelhaft | AA7: 4 Ausreichend | AB7: 2 Gut | AC7: 3 Befriedigend | AD7: Gute Atmosphäre | AE7: 5 Mangelhaft | AF7: 3 Befriedigend | AG7: 5 Mangelhaft | AH7: 3 Befriedigend | AI7: Bessere Tools nötig | AJ7: Gute Atmosphäre | AK7: Mehr Feedback erwünscht | AL7: =IFERROR((IFERROR(VALUE(LEFT(F7,1)),"")+IFERROR(VALUE(LEFT(G7,1)),"")+IFERROR(VALUE(LEFT(H7,1)),"")+IFERROR(VALUE(LEFT(I7,1)),"")+IFERROR(VALUE(LEFT(J7,1)),"")+IFERROR(VALUE(LEFT(K7,1)),"")+IFERROR(VALUE(LEFT(L7,1)),"")+IFERROR(VALUE(LEFT(M7,1)),"")+IFERROR(VALUE(LEFT(N7,1)),"")+IFERROR(VALUE(LEFT(O7,1)),"")+IFERROR(VALUE(LEFT(P7,1)),"")+IFERROR(VALUE(LEFT(Q7,1)),"")+IFERROR(VALUE(LEFT(R7,1)),"")+IFERROR(VALUE(LEFT(S7,1)),"")+IFERROR(VALUE(LEFT(T7,1)),"")+IFERROR(VALUE(LEFT(U7,1)),"")+IFERROR(VALUE(LEFT(V7,1)),"")+IFERROR(VALUE(LEFT(W7,1)),"")+IFERROR(VALUE(LEFT(X7,1)),"")+IFERROR(VALUE(LEFT(Y7,1)),"")+IFERROR(VALUE(LEFT(Z7,1)),"")+IFERROR(VALUE(LEFT(AA7,1)),"")+IFERROR(VALUE(LEFT(AB7,1)),"")+IFERROR(VALUE(LEFT(AC7,1)),"")+IFERROR(VALUE(LEFT(AE7,1)),"")+IFERROR(VALUE(LEFT(AF7,1)),"")+IFERROR(VALUE(LEFT(AG7,1)),"")+IFERROR(VALUE(LEFT(AH7,1)),""))/COUNTA(F7:AH7),"") -> 3.6206897
A8: 45843 | B8: Jonas Hoffmann | C8: Finanzen | D8: Analyst/in | E8: 48 | F8: 2 Gut | G8: 2 Gut | H8: 4 Ausreichend | I8: 4 Ausreichend | J8: 5 Mangelhaft | K8: 6 Ungenügend | L8: 1 Sehr gut | M8: 1 Sehr gut | N8: 2 Gut | O8: 6 Ungenügend | P8: 1 Sehr gut | Q8: 1 Sehr gut | R8: 6 Ungenügend | S8: 5 Mangelhaft | T8: 4 Ausreichend | U8: 3 Befriedigend | V8: 4 Ausreichend | W8: 3 Befriedigend | X8: 3 Befriedigend | Y8: 5 Mangelhaft | Z8: 6 Ungenügend | AA8: 2 Gut | AB8: 4 Ausreichend | AC8: 1 Sehr gut | AD8: Gute Atmosphäre | AE8: 2 Gut | AF8: 3 Befriedigend | AG8: 5 Mangelhaft | AH8: 1 Sehr gut | AI8: Bessere Tools nötig | AJ8: Klare Ziele helfen | AK8: Mehr Feedback erwünscht | AL8: =IFERROR((IFERROR(VALUE(LEFT(F8,1)),"")+IFERROR(VALUE(LEFT(G8,1)),"")+IFERROR(VALUE(LEFT(H8,1)),"")+IFERROR(VALUE(LEFT(I8,1)),"")+IFERROR(VALUE(LEFT(J8,1)),"")+IFERROR(VALUE(LEFT(K8,1)),"")+IFERROR(VALUE(LEFT(L8,1)),"")+IFERROR(VALUE(LEFT(M8,1)),"")+IFERROR(VALUE(LEFT(N8,1)),"")+IFERROR(VALUE(LEFT(O8,1)),"")+IFERROR(VALUE(LEFT(P8,1)),"")+IFERROR(VALUE(LEFT(Q8,1)),"")+IFERROR(VALUE(LEFT(R8,1)),"")+IFERROR(VALUE(LEFT(S8,1)),"")+IFERROR(VALUE(LEFT(T8,1)),"")+IFERROR(VALUE(LEFT(U8,1)),"")+IFERROR(VALUE(LEFT(V8,1)),"")+IFERROR(VALUE(LEFT(W8,1)),"")+IFERROR(VALUE(LEFT(X8,1)),"")+IFERROR(VALUE(LEFT(Y8,1)),"")+IFERROR(VALUE(LEFT(Z8,1)),"")+IFERROR(VALUE(LEFT(AA8,1)),"")+IFERROR(VALUE(LEFT(AB8,1)),"")+IFERROR(VALUE(LEFT(AC8,1)),"")+IFERROR(VALUE(LEFT(AE8,1)),"")+IFERROR(VALUE(LEFT(AF8,1)),"")+IFERROR(VALUE(LEFT(AG8,1)),"")+IFERROR(VALUE(LEFT(AH8,1)),""))/COUNTA(F8:AH8),"") -> 3.1724138
A9: 45872 | B9: Ben Schmidt | C9: HR | D9: Sachbearbeiter/in | E9: 18 | F9: 1 Sehr gut | G9: 4 Ausreichend | H9: 4 Ausreichend | I9: 1 Sehr gut | J9: 1 Sehr gut | K9: 5 Mangelhaft | L9: 3 Befriedigend | M9: 3 Befriedigend | N9: 1 Sehr gut | O9: 3 Befriedigend | P9: 3 Befriedigend | Q9: 1 Sehr gut | R9: 5 Mangelhaft | S9: 4 Ausreichend | T9: 2 Gut | U9: 6 Ungenügend | V9: 6 Ungenügend | W9: 6 Ungenügend | X9: 5 Mangelhaft | Y9: 1 Sehr gut | Z9: 6 Ungenügend | AA9: 2 Gut | AB9: 6 Ungenügend | AC9: 2 Gut | AD9: Mehr Feedback erwünscht | AE9: 6 Ungenügend | AF9: 6 Ungenügend | AG9: 2 Gut | AH9: 6 Ungenügend | AI9: Klare Ziele helfen | AJ9: Mehr Feedback erwünscht | AK9: Mehr Feedback erwünscht | AL9: =IFERROR((IFERROR(VALUE(LEFT(F9,1)),"")+IFERROR(VALUE(LEFT(G9,1)),"")+IFERROR(VALUE(LEFT(H9,1)),"")+IFERROR(VALUE(LEFT(I9,1)),"")+IFERROR(VALUE(LEFT(J9,1)),"")+IFERROR(VALUE(LEFT(K9,1)),"")+IFERROR(VALUE(LEFT(L9,1)),"")+IFERROR(VALUE(LEFT(M9,1)),"")+IFERROR(VALUE(LEFT(N9,1)),"")+IFERROR(VALUE(LEFT(O9,1)),"")+IFERROR(VALUE(LEFT(P9,1)),"")+IFERROR(VALUE(LEFT(Q9,1)),"")+IFERROR(VALUE(LEFT(R9,1)),"")+IFERROR(VALUE(LEFT(S9,1)),"")+IFERROR(VALUE(LEFT(T9,1)),"")+IFERROR(VALUE(LEFT(U9,1)),"")+IFERROR(VALUE(LEFT(V9,1)),"")+IFERROR(VALUE(LEFT(W9,1)),"")+IFERROR(VALUE(LEFT(X9,1)),"")+IFERROR(VALUE(LEFT(Y9,1)),"")+IFERROR(VALUE(LEFT(Z9,1)),"")+IFERROR(VALUE(LEFT(AA9,1)),"")+IFERROR(VALUE(LEFT(AB9,1)),"")+IFERROR(VALUE(LEFT(AC9,1)),"")+IFERROR(VALUE(LEFT(AE9,1)),"")+IFERROR(VALUE(LEFT(AF9,1)),"")+IFERROR(VALUE(LEFT(AG9,1)),"")+IFERROR(VALUE(LEFT(AH9,1)),""))/COUNTA(F9:AH9),"") -> 3.4827586
A10: 45882 | B10: Lukas Schmidt | C10: Marketing | D10: Analyst/in | E10: 48 | F10: 6 Ungenügend | G10: 5 Mangelhaft | H10: 4 Ausreichend | I10: 2 Gut | J10: 4 Ausreichend | K10: 5 Mangelhaft | L10: 2 Gut | M10: 3 Befriedigend | N10: 4 Ausreichend | O10: 5 Mangelhaft | P10: 5 Mangelhaft | Q10: 4 Ausreichend | R10: 1 Sehr gut | S10: 3 Befriedigend | T10: 3 Befriedigend | U10: 5 Mangelhaft | V10: 6 Ungenügend | W10: 6 Ungenügend | X10: 3 Befriedigend | Y10: 4 Ausreichend | Z10: 5 Mangelhaft | AA10: 2 Gut | AB10: 3 Befriedigend | AC10: 1 Sehr gut | AD10: Mehr Feedback erwünscht | AE10: 3 Befriedigend | AF10: 3 Befriedigend | AG10: 5 Mangelhaft | AH10: 6 Ungenügend | AI10: Gute Atmosphäre | AJ10: Mehr Feedback erwünscht | AK10: Bessere Tools nötig | AL10: =IFERROR((IFERROR(VALUE(LEFT(F10,1)),"")+IFERROR(VALUE(LEFT(G10,1)),"")+IFERROR(VALUE(LEFT(H10,1)),"")+IFERROR(VALUE(LEFT(I10,1)),"")+IFERROR(VALUE(LEFT(J10,1)),"")+IFERROR(VALUE(LEFT(K10,1)),"")+IFERROR(VALUE(LEFT(L10,1)),"")+IFERROR(VALUE(LEFT(M10,1)),"")+IFERROR(VALUE(LEFT(N10,1)),"")+IFERROR(VALUE(LEFT(O10,1)),"")+IFERROR(VALUE(LEFT(P10,1)),"")+IFERROR(VALUE(LEFT(Q10,1)),"")+IFERROR(VALUE(LEFT(R10,1)),"")+IFERROR(VALUE(LEFT(S10,1)),"")+IFERROR(VALUE(LEFT(T10,1)),"")+IFERROR(VALUE(LEFT(U10,1)),"")+IFERROR(VALUE(LEFT(V10,1)),"")+IFERROR(VALUE(LEFT(W10,1)),"")+IFERROR(VALUE(LEFT(X10,1)),"")+IFERROR(VALUE(LEFT(Y10,1)),"")+IFERROR(VALUE(LEFT(Z10,1)),"")+IFERROR(VALUE(LEFT(AA10,1)),"")+IFERROR(VALUE(LEFT(AB10,1)),"")+IFERROR(VALUE(LEFT(AC10,1)),"")+IFERROR(VALUE(LEFT(AE10,1)),"")+IFERROR(VALUE(LEFT(AF10,1)),"")+IFERROR(VALUE(LEFT(AG10,1)),"")+IFERROR(VALUE(LEFT(AH10,1)),""))/COUNTA(F10:AH10),"") -> 3.7241379
A11: 45862 | B11: Emma Hoffmann | C11: Marketing | D11: Werkstudent/in | E11: 36 | F11: 4 Ausreichend | G11: 6 Ungenügend | H11: 6 Ungenügend | I11: 1 Sehr gut | J11: 5 Mangelhaft | K11: 5 Mangelhaft | L11: 5 Mangelhaft | M11: 6 Ungenügend | N11: 5 Mangelhaft | O11: 1 Sehr gut | P11: 1 Sehr gut | Q11: 2 Gut | R11: 5 Mangelhaft | S11: 2 Gut | T11: 1 Sehr gut | U11: 3 Befriedigend | V11: 5 Mangelhaft | W11: 1 Sehr gut | X11: 1 Sehr gut | Y11: 2 Gut | Z11: 5 Mangelhaft | AA11: 4 Ausreichend | AB11: 2 Gut | AC11: 2 Gut | AD11: – | AE11: 2 Gut | AF11: 1 Sehr gut | AG11: 1 Sehr gut | AH11: 3 Befriedigend | AI11: Mehr Feedback erwünscht | AJ11: – | AK11: Bessere Tools nötig | AL11: =IFERROR((IFERROR(VALUE(LEFT(F11,1)),"")+IFERROR(VALUE(LEFT(G11,1)),"")+IFERROR(VALUE(LEFT(H11,1)),"")+IFERROR(VALUE(LEFT(I11,1)),"")+IFERROR(VALUE(LEFT(J11,1)),"")+IFERROR(VALUE(LEFT(K11,1)),"")+IFERROR(VALUE(LEFT(L11,1)),"")+IFERROR(VALUE(LEFT(M11,1)),"")+IFERROR(VALUE(LEFT(N11,1)),"")+IFERROR(VALUE(LEFT(O11,1)),"")+IFERROR(VALUE(LEFT(P11,1)),"")+IFERROR(VALUE(LEFT(Q11,1)),"")+IFERROR(VALUE(LEFT(R11,1)),"")+IFERROR(VALUE(LEFT(S11,1)),"")+IFERROR(VALUE(LEFT(T11,1)),"")+IFERROR(VALUE(LEFT(U11,1)),"")+IFERROR(VALUE(LEFT(V11,1)),"")+IFERROR(VALUE(LEFT(W11,1)),"")+IFERROR(VALUE(LEFT(X11,1)),"")+IFERROR(VALUE(LEFT(Y11,1)),"")+IFERROR(VALUE(LEFT(Z11,1)),"")+IFERROR(VALUE(LEFT(AA11,1)),"")+IFERROR(VALUE(LEFT(AB11,1)),"")+IFERROR(VALUE(LEFT(AC11,1)),"")+IFERROR(VALUE(LEFT(AE11,1)),"")+IFERROR(VALUE(LEFT(AF11,1)),"")+IFERROR(VALUE(LEFT(AG11,1)),"")+IFERROR(VALUE(LEFT(AH11,1)),""))/COUNTA(F11:AH11),"") -> 3
A12: 45845 | B12: Marie Becker | C12: IT | D12: Teamleiter/in | E12: 48 | F12: 3 Befriedigend | G12: 5 Mangelhaft | H12: 6 Ungenügend | I12: 3 Befriedigend | J12: 1 Sehr gut | K12: 4 Ausreichend | L12: 2 Gut | M12: 1 Sehr gut | N12: 5 Mangelhaft | O12: 2 Gut | P12: 5 Mangelhaft | Q12: 4 Ausreichend | R12: 3 Befriedigend | S12: 4 Ausreichend | T12: 3 Befriedigend | U12: 2 Gut | V12: 4 Ausreichend | W12: 2 Gut | X12: 2 Gut | Y12: 6 Ungenügend | Z12: 6 Ungenügend | AA12: 5 Mangelhaft | AB12: 1 Sehr gut | AC12: 1 Sehr gut | AD12: – | AE12: 2 Gut | AF12: 5 Mangelhaft | AG12: 2 Gut | AH12: 2 Gut | AI12: Klare Ziele helfen | AJ12: – | AK12: Bessere Tools nötig | AL12: =IFERROR((IFERROR(VALUE(LEFT(F12,1)),"")+IFERROR(VALUE(LEFT(G12,1)),"")+IFERROR(VALUE(LEFT(H12,1)),"")+IFERROR(VALUE(LEFT(I12,1)),"")+IFERROR(VALUE(LEFT(J12,1)),"")+IFERROR(VALUE(LEFT(K12,1)),"")+IFERROR(VALUE(LEFT(L12,1)),"")+IFERROR(VALUE(LEFT(M12,1)),"")+IFERROR(VALUE(LEFT(N12,1)),"")+IFERROR(VALUE(LEFT(O12,1)),"")+IFERROR(VALUE(LEFT(P12,1)),"")+IFERROR(VALUE(LEFT(Q12,1)),"")+IFERROR(VALUE(LEFT(R12,1)),"")+IFERROR(VALUE(LEFT(S12,1)),"")+IFERROR(VALUE(LEFT(T12,1)),"")+IFERROR(VALUE(LEFT(U12,1)),"")+IFERROR(VALUE(LEFT(V12,1)),"")+IFERROR(VALUE(LEFT(W12,1)),"")+IFERROR(VALUE(LEFT(X12,1)),"")+IFERROR(VALUE(LEFT(Y12,1)),"")+IFERROR(VALUE(LEFT(Z12,1)),"")+IFERROR(VALUE(LEFT(AA12,1)),"")+IFERROR(VALUE(LEFT(AB12,1)),"")+IFERROR(VALUE(LEFT(AC12,1)),"")+IFERROR(VALUE(LEFT(AE12,1)),"")+IFERROR(VALUE(LEFT(AF12,1)),"")+IFERROR(VALUE(LEFT(AG12,1)),"")+IFERROR(VALUE(LEFT(AH12,1)),""))/COUNTA(F12:AH12),"") -> 3.137931
A13: 45900 | B13: Mia Wagner | C13: Finanzen | D13: Sachbearbeiter/in | E13: 6 | F13: 2 Gut | G13: 6 Ungenügend | H13: 6 Ungenügend | I13: 4 Ausreichend | J13: 6 Ungenügend | K13: 1 Sehr gut | L13: 5 Mangelhaft | M13: 3 Befriedigend | N13: 2 Gut | O13: 4 Ausreichend | P13: 4 Ausreichend | Q13: 1 Sehr gut | R13: 5 Mangelhaft | S13: 1 Sehr gut | T13: 2 Gut | U13: 6 Ungenügend | V13: 4 Ausreichend | W13: 6 Ungenügend | X13: 1 Sehr gut | Y13: 2 Gut | Z13: 5 Mangelhaft | AA13: 6 Ungenügend | AB13: 2 Gut | AC13: 5 Mangelhaft | AD13: – | AE13: 5 Mangelhaft | AF13: 5 Mangelhaft | AG13: 5 Mangelhaft | AH13: 6 Ungenügend | AI13: Bessere Tools nötig | AJ13: Klare Ziele helfen | AK13: Mehr Feedback erwünscht | AL13: =IFERROR((IFERROR(VALUE(LEFT(F13,1)),"")+IFERROR(VALUE(LEFT(G13,1)),"")+IFERROR(VALUE(LEFT(H13,1)),"")+IFERROR(VALUE(LEFT(I13,1)),"")+IFERROR(VALUE(LEFT(J13,1)),"")+IFERROR(VALUE(LEFT(K13,1)),"")+IFERROR(VALUE(LEFT(L13,1)),"")+IFERROR(VALUE(LEFT(M13,1)),"")+IFERROR(VALUE(LEFT(N13,1)),"")+IFERROR(VALUE(LEFT(O13,1)),"")+IFERROR(VALUE(LEFT(P13,1)),"")+IFERROR(VALUE(LEFT(Q13,1)),"")+IFERROR(VALUE(LEFT(R13,1)),"")+IFERROR(VALUE(LEFT(S13,1)),"")+IFERROR(VALUE(LEFT(T13,1)),"")+IFERROR(VALUE(LEFT(U13,1)),"")+IFERROR(VALUE(LEFT(V13,1)),"")+IFERROR(VALUE(LEFT(W13,1)),"")+IFERROR(VALUE(LEFT(X13,1)),"")+IFERROR(VALUE(LEFT(Y13,1)),"")+IFERROR(VALUE(LEFT(Z13,1)),"")+IFERROR(VALUE(LEFT(AA13,1)),"")+IFERROR(VALUE(LEFT(AB13,1)),"")+IFERROR(VALUE(LEFT(AC13,1)),"")+IFERROR(VALUE(LEFT(AE13,1)),"")+IFERROR(VALUE(LEFT(AF13,1)),"")+IFERROR(VALUE(LEFT(AG13,1)),"")+IFERROR(VALUE(LEFT(AH13,1)),""))/COUNTA(F13:AH13),"") -> 3.7931034

Sheet Kunden_Antworten
A1: Datum | B1: Zufriedenheit_letzter_Besuch | C1: Gefallen_Personal | D1: Gefallen_Auswahl | E1: Gefallen_Preise | F1: Gefallen_Räumlichkeiten | G1: Gefallen_Abwicklung | H1: Gefallen_Atmosphäre | I1: Gefallen_Sonstiges_Text | J1: Verbesserungsvorschläge_Text | K1: Wiederbesuch_Wahrscheinlichkeit | L1: Weiterempfehlung | M1: Zusatzfragen_Text | N1: Gefallen_Summe | O1: Weiterempfehlungs_Score
A2: 45889 | B2: Zufrieden | C2: Nein | D2: Nein | E2: Nein | F2: Nein | G2: Nein | H2: Nein | I2: — | J2: Bessere Beschilderung | K2: Sehr unwahrscheinlich | L2: Ja, auf jeden Fall | M2: — | N2: =COUNTIF(C2:H2,"Ja") -> 0 | O2: =IFERROR(_xludf.XLOOKUP(L2,Einstellungen!$K$2:$K$6,Einstellungen!$L$2:$L$6), "")
A3: 45892 | B3: Unzufrieden | C3: Nein | D3: Nein | E3: Ja | F3: Nein | G3: Nein | H3: Nein | I3: Alles top | J3: Mehr Auswahl bei Snacks | K3: Unwahrscheinlich | L3: Weiß nicht | M3: Freundliches Team | N3: =COUNTIF(C3:H3,"Ja") -> 1 | O3: =IFERROR(_xludf.XLOOKUP(L3,Einstellungen!$K$2:$K$6,Einstellungen!$L$2:$L$6), "")
A4: 45849 | B4: Zufrieden | C4: Nein | D4: Ja | E4: Nein | F4: Nein | G4: Ja | H4: Ja | I4: — | J4: — | K4: Eher unwahrscheinlich | L4: Ja, wahrscheinlich | M4: — | N4: =COUNTIF(C4:H4,"Ja") -> 3 | O4: =IFERROR(_xludf.XLOOKUP(L4,Einstellungen!$K$2:$K$6,Einstellungen!$L$2:$L$6), "")
A5: 45889 | B5: Neutral | C5: Ja | D5: Nein | E5: Ja | F5: Ja | G5: Nein | H5: Nein | I5: — | J5: — | K5: Wahrscheinlich | L5: Nein, wahrscheinlich nicht | M5: Parkplätze knapp | N5: =COUNTIF(C5:H5,"Ja") -> 3 | O5: =IFERROR(_xludf.XLOOKUP(L5,Einstellungen!$K$2:$K$6,Einstellungen!$L$2:$L$6), "")
A6: 45875 | B6: Sehr unzufrieden | C6: Ja | D6: Nein | E6: Nein | F6: Nein | G6: Ja | H6: Ja | I6: Alles top | J6: Kürzere Wartezeit | K6: Wahrscheinlich | L6: Ja, wahrscheinlich | M6: Freundliches Team | N6: =COUNTIF(C6:H6,"Ja") -> 3 | O6: =IFERROR(_xludf.XLOOKUP(L6,Einstellungen!$K$2:$K$6,Einstellungen!$L$2:$L$6), "")
A7: 45869 | B7: Sehr zufrieden | C7: Nein | D7: Ja | E7: Ja | F7: Ja | G7: Ja | H7: Ja | I7: Alles top | J7: — | K7: Eher unwahrscheinlich | L7: Nein, wahrscheinlich nicht | M7: — | N7: =COUNTIF(C7:H7,"Ja") -> 5 | O7: =IFERROR(_xludf.XLOOKUP(L7,Einstellungen!$K$2:$K$6,Einstellungen!$L$2:$L$6), "")
A8: 45889 | B8: Sehr zufrieden | C8: Ja | D8: Nein | E8: Ja | F8: Ja | G8: Ja | H8: Nein | I8: Alles top | J8: Kürzere Wartezeit | K8: Wahrscheinlich | L8: Ja, wahrscheinlich | M8: Parkplätze knapp | N8: =COUNTIF(C8:H8,"Ja") -> 4 | O8: =IFERROR(_xludf.XLOOKUP(L8,Einstellungen!$K$2:$K$6,Einstellungen!$L$2:$L$6), "")
A9: 45850 | B9: Sehr unzufrieden | C9: Nein | D9: Nein | E9: Nein | F9: Nein | G9: Nein | H9: Ja | I9: Alles top | J9: Bessere Beschilderung | K9: Sehr wahrscheinlich | L9: Nein, auf keinen Fall | M9: Freundliches Team | N9: =COUNTIF(C9:H9,"Ja") -> 1 | O9: =IFERROR(_xludf.XLOOKUP(L9,Einstellungen!$K$2:$K$6,Einstellungen!$L$2:$L$6), "")
A10: 45865 | B10: Unzufrieden | C10: Ja | D10: Ja | E10: Ja | F10: Nein | G10: Ja | H10: Nein | I10: Kassenschlange | J10: Mehr Auswahl bei Snacks | K10: Wahrscheinlich | L10: Nein, wahrscheinlich nicht | M10: Freundliches Team | N10: =COUNTIF(C10:H10,"Ja") -> 4 | O10: =IFERROR(_xludf.XLOOKUP(L10,Einstellungen!$K$2:$K$6,Einstellungen!$L$2:$L$6), "")
A11: 45900 | B11: Neutral | C11: Ja | D11: Nein | E11: Ja | F11: Ja | G11: Nein | H11: Nein | I11: Musik zu laut | J11: Kürzere Wartezeit | K11: Eher unwahrscheinlich | L11: Nein, wahrscheinlich nicht | M11: Freundliches Team | N11: =COUNTIF(C11:H11,"Ja") -> 3 | O11: =IFERROR(_xludf.XLOOKUP(L11,Einstellungen!$K$2:$K$6,Einstellungen!$L$2:$L$6), "")
A12: 45870 | B12: Sehr zufrieden | C12: Ja | D12: Nein | E12: Nein | F12: Ja | G12: Ja | H12: Nein | I12: Kassenschlange | J12: Bessere Beschilderung | K12: Eher unwahrscheinlich | L12: Ja, wahrscheinlich | M12: Parkplätze knapp | N12: =COUNTIF(C12:H12,"Ja") -> 3 | O12: =IFERROR(_xludf.XLOOKUP(L12,Einstellungen!$K$2:$K$6,Einstellungen!$L$2:$L$6), "")
A13: 45846 | B13: Unzufrieden | C13: Ja | D13: Nein | E13: Ja | F13: Ja | G13: Ja | H13: Ja | I13: Musik zu laut | J13: Kürzere Wartezeit | K13: Sehr unwahrscheinlich | L13: Nein, wahrscheinlich nicht | M13: Parkplätze knapp | N13: =COUNTIF(C13:H13,"Ja") -> 5 | O13: =IFERROR(_xludf.XLOOKUP(L13,Einstellungen!$K$2:$K$6,Einstellungen!$L$2:$L$6), "")
... A16: 45869 | B16: Unzufrieden | C16: Nein | D16: Nein | E16: Ja | F16: Nein | G16: Nein | H16: Ja | I16: — | J16: Mehr Auswahl bei Snacks | K16: Wahrscheinlich | L16: Weiß nicht | M16: Freundliches Team | N16: =COUNTIF(C16:H16,"Ja") -> 2 | O16: =IFERROR(_xludf.XLOOKUP(L16,Einstellungen!$K$2:$K$6,Einstellungen!$L$2:$L$6), "")

Sheet Event_Antworten
A1: Datum | B1: Veranstaltungstitel | C1: Rolle | D1: Zufriedenheit_gesamt | E1: Gefallen_Text | F1: Verbesserung_Text | G1: Inhalte_Relevanz | H1: Referenten_Qualität | I1: Organisation | J1: Ablauf | K1: Weiterempfehlung | L1: Kommentare_Text
A2: 45860 | B2: Kundentag West | C2: Referent | D2: Neutral | E2: Catering top | F2: Mehr Q&A | G2: Unzufrieden | H2: Sehr unzufrieden | I2: Sehr zufrieden | J2: Zufrieden | K2: Ja, wahrscheinlich | L2: Zu laut im Foyer
A3: 45880 | B3: Webinar Serie #4 | C3: Sponsor | D3: Sehr zufrieden | E3: Catering top | F3: Bessere Akustik | G3: Sehr zufrieden | H3: Zufrieden | I3: Zufrieden | J3: Zufrieden | K3: Nein, auf keinen Fall | L3: Großartige Stimmung
A4: 45887 | B4: Produktlaunch Q3 | C4: Teilnehmer | D4: Unzufrieden | E4: Technikprobleme | F4: Kürzere Pausen | G4: Unzufrieden | H4: Sehr unzufrieden | I4: Sehr unzufrieden | J4: Sehr unzufrieden | K4: Weiß nicht | L4: Großartige Stimmung
A5: 45873 | B5: Kundentag West | C5: Teilnehmer | D5: Unzufrieden | E5: Catering top | F5: Kürzere Pausen | G5: Neutral | H5: Sehr unzufrieden | I5: Sehr unzufrieden | J5: Sehr zufrieden | K5: Ja, wahrscheinlich | L5: —
A6: 45883 | B6: Jahreskonferenz 2025 | C6: Teilnehmer | D6: Sehr unzufrieden | E6: Catering top | F6: Kürzere Pausen | G6: Sehr unzufrieden | H6: Sehr unzufrieden | I6: Unzufrieden | J6: Unzufrieden | K6: Ja, auf jeden Fall | L6: —
A7: 45883 | B7: Webinar Serie #4 | C7: Sponsor | D7: Sehr zufrieden | E7: Technikprobleme | F7: Kürzere Pausen | G7: Zufrieden | H7: Sehr unzufrieden | I7: Unzufrieden | J7: Unzufrieden | K7: Ja, auf jeden Fall | L7: Großartige Stimmung
A8: 45894 | B8: Sommer Meetup | C8: Referent | D8: Zufrieden | E8: Technikprobleme | F8: Bessere Akustik | G8: Sehr unzufrieden | H8: Neutral | I8: Unzufrieden | J8: Sehr unzufrieden | K8: Nein, wahrscheinlich nicht | L8: —
A9: 45849 | B9: Sommer Meetup | C9: Teilnehmer | D9: Zufrieden | E9: Networking gut | F9: Mehr Q&A | G9: Zufrieden | H9: Unzufrieden | I9: Sehr unzufrieden | J9: Unzufrieden | K9: Nein, wahrscheinlich nicht | L9: Zu laut im Foyer
A10: 45871 | B10: Sommer Meetup | C10: Teilnehmer | D10: Sehr zufrieden | E10: — | F10: — | G10: Neutral | H10: Zufrieden | I10: Sehr zufrieden | J10: Neutral | K10: Nein, wahrscheinlich nicht | L10: Zu laut im Foyer
A11: 45882 | B11: Produktlaunch Q3 | C11: Sponsor | D11: Zufrieden | E11: Networking gut | F11: Bessere Akustik | G11: Neutral | H11: Sehr unzufrieden | I11: Zufrieden | J11: Sehr zufrieden | K11: Ja, auf jeden Fall | L11: Großartige Stimmung

Sheet Auswertung
A1: Übersicht – Kennzahlen
A3: Mitarbeiter – Antworten gesamt | B3: =COUNTA(Mitarbeiter_Antworten!A2:A999) -> 12
A5: Block | B5: Ø-Note (1=best, 6=schlechtest)
A6: Arbeitszufriedenheit | B6: =IFERROR(SUMPRODUCT(VALUE(LEFT(Mitarbeiter_Antworten!F2:'Mitarbeiter_Antworten'!H999,1)))/COUNTA(Mitarbeiter_Antworten!F2:'Mitarbeiter_Antworten'!H999),"")
A7: Arbeitsbedingungen | B7: =IFERROR(SUMPRODUCT(VALUE(LEFT(Mitarbeiter_Antworten!I2:'Mitarbeiter_Antworten'!K999,1)))/COUNTA(Mitarbeiter_Antworten!I2:'Mitarbeiter_Antworten'!K999),"")
A8: Team | B8: =IFERROR(SUMPRODUCT(VALUE(LEFT(Mitarbeiter_Antworten!L2:'Mitarbeiter_Antworten'!N999,1)))/COUNTA(Mitarbeiter_Antworten!L2:'Mitarbeiter_Antworten'!N999),"")
A9: Führung | B9: =IFERROR(SUMPRODUCT(VALUE(LEFT(Mitarbeiter_Antworten!O2:'Mitarbeiter_Antworten'!Q999,1)))/COUNTA(Mitarbeiter_Antworten!O2:'Mitarbeiter_Antworten'!Q999),"")
A10: Kommunikation | B10: =IFERROR(SUMPRODUCT(VALUE(LEFT(Mitarbeiter_Antworten!R2:'Mitarbeiter_Antworten'!T999,1)))/COUNTA(Mitarbeiter_Antworten!R2:'Mitarbeiter_Antworten'!T999),"")
A11: Kultur | B11: =IFERROR(SUMPRODUCT(VALUE(LEFT(Mitarbeiter_Antworten!U2:'Mitarbeiter_Antworten'!W999,1)))/COUNTA(Mitarbeiter_Antworten!U2:'Mitarbeiter_Antworten'!W999),"")
A12: Entwicklung | B12: =IFERROR(SUMPRODUCT(VALUE(LEFT(Mitarbeiter_Antworten!X2:'Mitarbeiter_Antworten'!Y999,1)))/COUNTA(Mitarbeiter_Antworten!X2:'Mitarbeiter_Antworten'!Y999),"")
A13: WorkLife | B13: =IFERROR(SUMPRODUCT(VALUE(LEFT(Mitarbeiter_Antworten!Z2:'Mitarbeiter_Antworten'!AB999,1)))/COUNTA(Mitarbeiter_Antworten!Z2:'Mitarbeiter_Antworten'!AB999),"")
A14: Gesundheit | B14: =IFERROR(SUMPRODUCT(VALUE(LEFT(Mitarbeiter_Antworten!AC2:'Mitarbeiter_Antworten'!AD999,1)))/COUNTA(Mitarbeiter_Antworten!AC2:'Mitarbeiter_Antworten'!AD999),"")
A15: Diversität | B15: =IFERROR(SUMPRODUCT(VALUE(LEFT(Mitarbeiter_Antworten!AE2:'Mitarbeiter_Antworten'!AE999,1)))/COUNTA(Mitarbeiter_Antworten!AE2:'Mitarbeiter_Antworten'!AE999),"")
A16: Nachhaltigkeit | B16: =IFERROR(SUMPRODUCT(VALUE(LEFT(Mitarbeiter_Antworten!AF2:'Mitarbeiter_Antworten'!AF999,1)))/COUNTA(Mitarbeiter_Antworten!AF2:'Mitarbeiter_Antworten'!AF999),"")
A20: Kunden
A22: Ø Zufriedenheit letzter Besuch (5..1) | B22: =IFERROR(AVERAGE(IFERROR(_xludf.XLOOKUP(Kunden_Antworten!B2:B999,Einstellungen!$H$2:$H$6,Einstellungen!$I$2:$I$6), "")), "")
A24: Gefallen-Aspekt | B24: % Ja
A25: Personal | B25: =IFERROR(COUNTIF(Kunden_Antworten!C2:C999,"Ja")/COUNTA(Kunden_Antworten!C2:C999), "") -> 0.53333333
A26: Auswahl | B26: =IFERROR(COUNTIF(Kunden_Antworten!D2:D999,"Ja")/COUNTA(Kunden_Antworten!D2:D999), "") -> 0.26666667
A27: Preise | B27: =IFERROR(COUNTIF(Kunden_Antworten!E2:E999,"Ja")/COUNTA(Kunden_Antworten!E2:E999), "") -> 0.6
A28: Räumlichkeiten | B28: =IFERROR(COUNTIF(Kunden_Antworten!F2:F999,"Ja")/COUNTA(Kunden_Antworten!F2:F999), "") -> 0.4
A29: Abwicklung | B29: =IFERROR(COUNTIF(Kunden_Antworten!G2:G999,"Ja")/COUNTA(Kunden_Antworten!G2:G999), "") -> 0.53333333
A30: Atmosphäre | B30: =IFERROR(COUNTIF(Kunden_Antworten!H2:H999,"Ja")/COUNTA(Kunden_Antworten!H2:H999), "") -> 0.4
A33: Weiterempfehlung – Verteilung
A34: Ja, auf jeden Fall | B34: =COUNTIF(Kunden_Antworten!L2:L999,"Ja, auf jeden Fall") -> 2
A35: Ja, wahrscheinlich | B35: =COUNTIF(Kunden_Antworten!L2:L999,"Ja, wahrscheinlich") -> 4
A36: Weiß nicht | B36: =COUNTIF(Kunden_Antworten!L2:L999,"Weiß nicht") -> 2
A37: Nein, wahrscheinlich nicht | B37: =COUNTIF(Kunden_Antworten!L2:L999,"Nein, wahrscheinlich nicht") -> 5
A38: Nein, auf keinen Fall | B38: =COUNTIF(Kunden_Antworten!L2:L999,"Nein, auf keinen Fall") -> 2
A45: Events – Mittelwerte (5..1)
A46: Kennzahl | B46: Ø
A47: Zufriedenheit_gesamt | B47: =IFERROR(AVERAGE(IFERROR(_xludf.XLOOKUP(Event_Antworten!D2:D999,Einstellungen!$H$2:$H$6,Einstellungen!$I$2:$I$6), "")), "")
A48: Inhalte_Relevanz | B48: =IFERROR(AVERAGE(IFERROR(_xludf.XLOOKUP(Event_Antworten!G2:G999,Einstellungen!$H$2:$H$6,Einstellungen!$I$2:$I$6), "")), "")
A49: Referenten_Qualität | B49: =IFERROR(AVERAGE(IFERROR(_xludf.XLOOKUP(Event_Antworten!H2:H999,Einstellungen!$H$2:$H$6,Einstellungen!$I$2:$I$6), "")), "")
A50: Organisation | B50: =IFERROR(AVERAGE(IFERROR(_xludf.XLOOKUP(Event_Antworten!I2:I999,Einstellungen!$H$2:$H$6,Einstellungen!$I$2:$I$6), "")), "")
A51: Ablauf | B51: =IFERROR(AVERAGE(IFERROR(_xludf.XLOOKUP(Event_Antworten!J2:J999,Einstellungen!$H$2:$H$6,Einstellungen!$I$2:$I$6), "")), "")
A55: Events – Empfehlung (positiv)
A56: % Ja (auf jeden Fall / ja, wahrscheinlich) | B56: =IFERROR((COUNTIF(Event_Antworten!K2:K999,"Ja, auf jeden Fall")+COUNTIF(Event_Antworten!K2:K999,"Ja, wahrscheinlich"))/COUNTA(Event_Antworten!K2:K999), "") -> 0.5
A57: % Andere | B57: =IF(B56="","",1-B56) -> 0.5
