Workbook

Sheet Monatliche_Verbrauch
A1: Energieart | B1: Monat | C1: Zählerstand Anfang | D1: Zählerstand Ende | E1: Einheitspreis (€/Einheit) | F1: Verbrauch | G1: Kosten
A2: Strom | B2: Jan | C2: 1000 | D2: 1100 | E2: 0.3 | F2: =D2-C2 -> 0 | G2: =F2*E2 -> 0
A3: Strom | B3: Feb | C3: 1100 | D3: 1200 | E3: 0.3 | F3: =D3-C3 -> 0 | G3: =F3*E3 -> 0
A4: Strom | B4: Mär | C4: 1200 | D4: 1300 | E4: 0.3 | F4: =D4-C4 -> 0 | G4: =F4*E4 -> 0
A5: Strom | B5: Apr | C5: 1300 | D5: 1400 | E5: 0.3 | F5: =D5-C5 -> 0 | G5: =F5*E5 -> 0
A6: Strom | B6: Mai | C6: 1400 | D6: 1500 | E6: 0.3 | F6: =D6-C6 -> 0 | G6: =F6*E6 -> 0
A7: Strom | B7: Jun | C7: 1500 | D7: 1600 | E7: 0.3 | F7: =D7-C7 -> 0 | G7: =F7*E7 -> 0
A8: Strom | B8: Jul | C8: 1600 | D8: 1700 | E8: 0.3 | F8: =D8-C8 -> 0 | G8: =F8*E8 -> 0
A9: Strom | B9: Aug | C9: 1700 | D9: 1800 | E9: 0.3 | F9: =D9-C9 -> 0 | G9: =F9*E9 -> 0
A10: Strom | B10: Sep | C10: 1800 | D10: 1900 | E10: 0.3 | F10: =D10-C10 -> 0 | G10: =F10*E10 -> 0
A11: Strom | B11: Okt | C11: 1900 | D11: 2000 | E11: 0.3 | F11: =D11-C11 -> 0 | G11: =F11*E11 -> 0
A12: Strom | B12: Nov | C12: 2000 | D12: 2100 | E12: 0.3 | F12: =D12-C12 -> 0 | G12: =F12*E12 -> 0
A13: Strom | B13: Dez | C13: 2100 | D13: 2200 | E13: 0.3 | F13: =D13-C13 -> 0 | G13: =F13*E13 -> 0
... A37: Wasser | B37: Dez | C37: 20165 | D37: 20180 | E37: 0.004 | F37: =D37-C37 -> 0 | G37: =F37*E37 -> 0

Sheet Jahreszusammenfassung
A1: Energieart | B1: Gesamtverbrauch | C1: Gesamtkosten
A2: Strom | B2: =SUMIF(Monatliche_Verbrauch!$A:$A,"Strom",Monatliche_Verbrauch!$F:$F) -> 0 | C2: =SUMIF(Monatliche_Verbrauch!$A:$A,"Strom",Monatliche_Verbrauch!$G:$G) -> 0
A3: Gas | B3: =SUMIF(Monatliche_Verbrauch!$A:$A,"Gas",Monatliche_Verbrauch!$F:$F) -> 0 | C3: =SUMIF(Monatliche_Verbrauch!$A:$A,"Gas",Monatliche_Verbrauch!$G:$G) -> 0
A4: Wasser | B4: =SUMIF(Monatliche_Verbrauch!$A:$A,"Wasser",Monatliche_Verbrauch!$F:$F) -> 0 | C4: =SUMIF(Monatliche_Verbrauch!$A:$A,"Wasser",Monatliche_Verbrauch!$G:$G) -> 0
A5: Gesamt | B5: =SUM(B2:B4) -> 0 | C5: =SUM(C2:C4) -> 0

Sheet Diagramme
