Workbook

Sheet Spielplan
A1: Datum | B1: Uhrzeit | C1: Team A | D1: Team B | E1: Spielort | F1: Ergebnis | G1: Status | H1: Bemerkungen | I1: ToreA | J1: ToreB
A2: 45881 | B2: 0.625 | C2: Team Adler | D2: Team Löwen | E2: Stadion A | F2: 2:1 | G2: Gespielt | I2: =IFERROR(VALUE(LEFT(F2,FIND(":",F2)-1)),"") -> 2 | J2: =IFERROR(VALUE(MID(F2,FIND(":",F2)+1,99)),"") -> 1
A3: 45882 | B3: 0.77083333 | C3: Team Bären | D3: Team Wölfe | E3: Stadion B | G3: Ausstehend | I3: =IFERROR(VALUE(LEFT(F3,FIND(":",F3)-1)),"") | J3: =IFERROR(VALUE(MID(F3,FIND(":",F3)+1,99)),"")
A4: 45883 | B4: 0.70833333 | C4: Team Adler | D4: Team Bären | E4: Stadion C | G4: Ausstehend | I4: =IFERROR(VALUE(LEFT(F4,FIND(":",F4)-1)),"") | J4: =IFERROR(VALUE(MID(F4,FIND(":",F4)+1,99)),"")
A5: 45880 | B5: 0.66666667 | C5: Team Löwen | D5: Team Wölfe | E5: Stadion A | F5: 1:1 | G5: Gespielt | I5: =IFERROR(VALUE(LEFT(F5,FIND(":",F5)-1)),"") -> 1 | J5: =IFERROR(VALUE(MID(F5,FIND(":",F5)+1,99)),"") -> 1
A6: 45879 | B6: 0.82291667 | C6: Team Adler | D6: Team Wölfe | E6: Stadion B | F6: 0:3 | G6: Gespielt | I6: =IFERROR(VALUE(LEFT(F6,FIND(":",F6)-1)),"") -> 0 | J6: =IFERROR(VALUE(MID(F6,FIND(":",F6)+1,99)),"") -> 3
A7: 45884 | B7: 0.58333333 | C7: Team Löwen | D7: Team Bären | E7: Stadion C | G7: Ausstehend | I7: =IFERROR(VALUE(LEFT(F7,FIND(":",F7)-1)),"") | J7: =IFERROR(VALUE(MID(F7,FIND(":",F7)+1,99)),"")

Sheet Teams
A1: Team | B1: Farbe
A2: Team Adler
A3: Team Löwen
A4: Team Bären
A5: Team Wölfe

Sheet Übersicht
A1: Turnierübersicht
A3: Gesamtspiele | B3: =COUNTA(Spielplan!$A$2:$A$1000) -> 6
A4: Gespielte Spiele | B4: =COUNTIFS(Spielplan!$G$2:$G$1000,"Gespielt") -> 3
A5: Ausstehende Spiele | B5: =COUNTIFS(Spielplan!$G$2:$G$1000,"Ausstehend") -> 3
A6: Fortschritt | B6: =IF(B3=0,0,B4/B3) -> 0.5
A9: Team | B9: Spiele | C9: Siege | D9: Unentschieden | E9: Niederlagen | F9: Punkte
A10: Team Adler | B10: =SUMPRODUCT((Spielplan!$C$2:$C$1000="Team Adler")+(Spielplan!$D$2:$D$1000="Team Adler")) -> 3 | C10: =SUMPRODUCT((Spielplan!$G$2:$G$1000="Gespielt")*(((Spielplan!$C$2:$C$1000="Team Adler")*(Spielplan!$I$2:$I$1000>Spielplan!$J$2:$J$1000))+((Spielplan!$D$2:$D$1000="Team Adler")*(Spielplan!$J$2:$J$1000>Spielplan!$I$2:$I$1000)))) -> 1 | D10: =SUMPRODUCT((Spielplan!$G$2:$G$1000="Gespielt")*(((Spielplan!$C$2:$C$1000="Team Adler")+(Spielplan!$D$2:$D$1000="Team Adler"))*(Spielplan!$I$2:$I$1000=Spielplan!$J$2:$J$1000))) -> 0 | E10: =SUMPRODUCT((Spielplan!$G$2:$G$1000="Gespielt")*(((Spielplan!$C$2:$C$1000="Team Adler")*(Spielplan!$I$2:$I$1000<Spielplan!$J$2:$J$1000))+((Spielplan!$D$2:$D$1000="Team Adler")*(Spielplan!$J$2:$J$1000<Spielplan!$I$2:$I$1000)))) -> 1 | F10: =C10*3 + D10 -> 3
A11: Team Löwen | B11: =SUMPRODUCT((Spielplan!$C$2:$C$1000="Team Löwen")+(Spielplan!$D$2:$D$1000="Team Löwen")) -> 3 | C11: =SUMPRODUCT((Spielplan!$G$2:$G$1000="Gespielt")*(((Spielplan!$C$2:$C$1000="Team Löwen")*(Spielplan!$I$2:$I$1000>Spielplan!$J$2:$J$1000))+((Spielplan!$D$2:$D$1000="Team Löwen")*(Spielplan!$J$2:$J$1000>Spielplan!$I$2:$I$1000)))) -> 0 | D11: =SUMPRODUCT((Spielplan!$G$2:$G$1000="Gespielt")*(((Spielplan!$C$2:$C$1000="Team Löwen")+(Spielplan!$D$2:$D$1000="Team Löwen"))*(Spielplan!$I$2:$I$1000=Spielplan!$J$2:$J$1000))) -> 1 | E11: =SUMPRODUCT((Spielplan!$G$2:$G$1000="Gespielt")*(((Spielplan!$C$2:$C$1000="Team Löwen")*(Spielplan!$I$2:$I$1000<Spielplan!$J$2:$J$1000))+((Spielplan!$D$2:$D$1000="Team Löwen")*(Spielplan!$J$2:$J$1000<Spielplan!$I$2:$I$1000)))) -> 1 | F11: =C11*3 + D11 -> 1
A12: Team Bären | B12: =SUMPRODUCT((Spielplan!$C$2:$C$1000="Team Bären")+(Spielplan!$D$2:$D$1000="Team Bären")) -> 3 | C12: =SUMPRODUCT((Spielplan!$G$2:$G$1000="Gespielt")*(((Spielplan!$C$2:$C$1000="Team Bären")*(Spielplan!$I$2:$I$1000>Spielplan!$J$2:$J$1000))+((Spielplan!$D$2:$D$1000="Team Bären")*(Spielplan!$J$2:$J$1000>Spielplan!$I$2:$I$1000)))) -> 0 | D12: =SUMPRODUCT((Spielplan!$G$2:$G$1000="Gespielt")*(((Spielplan!$C$2:$C$1000="Team Bären")+(Spielplan!$D$2:$D$1000="Team Bären"))*(Spielplan!$I$2:$I$1000=Spielplan!$J$2:$J$1000))) -> 0 | E12: =SUMPRODUCT((Spielplan!$G$2:$G$1000="Gespielt")*(((Spielplan!$C$2:$C$1000="Team Bären")*(Spielplan!$I$2:$I$1000<Spielplan!$J$2:$J$1000))+((Spielplan!$D$2:$D$1000="Team Bären")*(Spielplan!$J$2:$J$1000<Spielplan!$I$2:$I$1000)))) -> 0 | F12: =C12*3 + D12 -> 0
A13: Team Wölfe | B13: =SUMPRODUCT((Spielplan!$C$2:$C$1000="Team Wölfe")+(Spielplan!$D$2:$D$1000="Team Wölfe")) -> 3 | C13: =SUMPRODUCT((Spielplan!$G$2:$G$1000="Gespielt")*(((Spielplan!$C$2:$C$1000="Team Wölfe")*(Spielplan!$I$2:$I$1000>Spielplan!$J$2:$J$1000))+((Spielplan!$D$2:$D$1000="Team Wölfe")*(Spielplan!$J$2:$J$1000>Spielplan!$I$2:$I$1000)))) -> 1 | D13: =SUMPRODUCT((Spielplan!$G$2:$G$1000="Gespielt")*(((Spielplan!$C$2:$C$1000="Team Wölfe")+(Spielplan!$D$2:$D$1000="Team Wölfe"))*(Spielplan!$I$2:$I$1000=Spielplan!$J$2:$J$1000))) -> 1 | E13: =SUMPRODUCT((Spielplan!$G$2:$G$1000="Gespielt")*(((Spielplan!$C$2:$C$1000="Team Wölfe")*(Spielplan!$I$2:$I$1000<Spielplan!$J$2:$J$1000))+((Spielplan!$D$2:$D$1000="Team Wölfe")*(Spielplan!$J$2:$J$1000<Spielplan!$I$2:$I$1000)))) -> 0 | F13: =C13*3 + D13 -> 4
