{"text_format":"3","workbook":"xlsx","n_sheets":5,"sheets":["Schulungen_Termine","Teilnehmer_Status","Kalenderuebersicht","Analyse_Diagramme","Anleitung_Legende"],"not_rendered":{"charts":2},"read":"whole","date_system":"1900"}

{"sheet":"Schulungen_Termine","index":0,"n_rows":101,"n_cols":8,"rows_kept":101}
["Schulungs-ID","Thema","Datum","Dauer (Stunden)","Schulungsart","Trainer/In","Teilnehmerzahl","Ort"]
[{"$f":"IF(B2<>\"\", \"S-\" & ROW(), \"\")","v":0},"Excel für Fortgeschrittene","2024-10-15",8,"Präsenz","Anna Schmidt",{"$f":"IF(A2<>\"\", COUNTIF(Teilnehmer_Status!B:B, A2), \"\")","v":0},"Raum 101"]
[{"$f":"IF(B3<>\"\", \"S-\" & ROW(), \"\")","v":0},"Grundlagen Python","2024-10-22",16,"Online","Ben Huber",{"$f":"IF(A3<>\"\", COUNTIF(Teilnehmer_Status!B:B, A3), \"\")","v":0},"Online"]
[{"$f":"IF(B4<>\"\", \"S-\" & ROW(), \"\")","v":0},"Kommunikation im Team","2024-11-05",4,"Workshop","Anna Schmidt",{"$f":"IF(A4<>\"\", COUNTIF(Teilnehmer_Status!B:B, A4), \"\")","v":0},"Raum 203"]
[{"$f":"IF(B5<>\"\", \"S-\" & ROW(), \"\")","v":0},"Projektmanagement Basics","2024-11-12",8,"Seminar","Carla Diaz",{"$f":"IF(A5<>\"\", COUNTIF(Teilnehmer_Status!B:B, A5), \"\")","v":0},"Konferenzzentrum"]
[{"$f":"IF(B6<>\"\", \"S-\" & ROW(), \"\")","v":0},{"$nulls":5},{"$f":"IF(A6<>\"\", COUNTIF(Teilnehmer_Status!B:B, A6), \"\")","v":0}]
[{"$f":"IF(B7<>\"\", \"S-\" & ROW(), \"\")","v":0},{"$nulls":5},{"$f":"IF(A7<>\"\", COUNTIF(Teilnehmer_Status!B:B, A7), \"\")","v":0}]
[{"$f":"IF(B8<>\"\", \"S-\" & ROW(), \"\")","v":0},{"$nulls":5},{"$f":"IF(A8<>\"\", COUNTIF(Teilnehmer_Status!B:B, A8), \"\")","v":0}]
[{"$f":"IF(B9<>\"\", \"S-\" & ROW(), \"\")","v":0},{"$nulls":5},{"$f":"IF(A9<>\"\", COUNTIF(Teilnehmer_Status!B:B, A9), \"\")","v":0}]
[{"$f":"IF(B10<>\"\", \"S-\" & ROW(), \"\")","v":0},{"$nulls":5},{"$f":"IF(A10<>\"\", COUNTIF(Teilnehmer_Status!B:B, A10), \"\")","v":0}]
[{"$f":"IF(B11<>\"\", \"S-\" & ROW(), \"\")","v":0},{"$nulls":5},{"$f":"IF(A11<>\"\", COUNTIF(Teilnehmer_Status!B:B, A11), \"\")","v":0}]
[{"$f":"IF(B12<>\"\", \"S-\" & ROW(), \"\")","v":0},{"$nulls":5},{"$f":"IF(A12<>\"\", COUNTIF(Teilnehmer_Status!B:B, A12), \"\")","v":0}]
[{"$f":"IF(B13<>\"\", \"S-\" & ROW(), \"\")","v":0},{"$nulls":5},{"$f":"IF(A13<>\"\", COUNTIF(Teilnehmer_Status!B:B, A13), \"\")","v":0}]
[{"$f":"IF(B14<>\"\", \"S-\" & ROW(), \"\")","v":0},{"$nulls":5},{"$f":"IF(A14<>\"\", COUNTIF(Teilnehmer_Status!B:B, A14), \"\")","v":0}]
[{"$f":"IF(B15<>\"\", \"S-\" & ROW(), \"\")","v":0},{"$nulls":5},{"$f":"IF(A15<>\"\", COUNTIF(Teilnehmer_Status!B:B, A15), \"\")","v":0}]
[{"$f":"IF(B16<>\"\", \"S-\" & ROW(), \"\")","v":0},{"$nulls":5},{"$f":"IF(A16<>\"\", COUNTIF(Teilnehmer_Status!B:B, A16), \"\")","v":0}]
[{"$f":"IF(B17<>\"\", \"S-\" & ROW(), \"\")","v":0},{"$nulls":5},{"$f":"IF(A17<>\"\", COUNTIF(Teilnehmer_Status!B:B, A17), \"\")","v":0}]
[{"$f":"IF(B18<>\"\", \"S-\" & ROW(), \"\")","v":0},{"$nulls":5},{"$f":"IF(A18<>\"\", COUNTIF(Teilnehmer_Status!B:B, A18), \"\")","v":0}]
[{"$f":"IF(B19<>\"\", \"S-\" & ROW(), \"\")","v":0},{"$nulls":5},{"$f":"IF(A19<>\"\", COUNTIF(Teilnehmer_Status!B:B, A19), \"\")","v":0}]
[{"$f":"IF(B20<>\"\", \"S-\" & ROW(), \"\")","v":0},{"$nulls":5},{"$f":"IF(A20<>\"\", COUNTIF(Teilnehmer_Status!B:B, A20), \"\")","v":0}]
[{"$f":"IF(B21<>\"\", \"S-\" & ROW(), \"\")","v":0},{"$nulls":5},{"$f":"IF(A21<>\"\", COUNTIF(Teilnehmer_Status!B:B, A21), \"\")","v":0}]
[{"$f":"IF(B22<>\"\", \"S-\" & ROW(), \"\")","v":0},{"$nulls":5},{"$f":"IF(A22<>\"\", COUNTIF(Teilnehmer_Status!B:B, A22), \"\")","v":0}]
[{"$f":"IF(B23<>\"\", \"S-\" & ROW(), \"\")","v":0},{"$nulls":5},{"$f":"IF(A23<>\"\", COUNTIF(Teilnehmer_Status!B:B, A23), \"\")","v":0}]
[{"$f":"IF(B24<>\"\", \"S-\" & ROW(), \"\")","v":0},{"$nulls":5},{"$f":"IF(A24<>\"\", COUNTIF(Teilnehmer_Status!B:B, A24), \"\")","v":0}]
[{"$f":"IF(B25<>\"\", \"S-\" & ROW(), \"\")","v":0},{"$nulls":5},{"$f":"IF(A25<>\"\", COUNTIF(Teilnehmer_Status!B:B, A25), \"\")","v":0}]
[{"$f":"IF(B26<>\"\", \"S-\" & ROW(), \"\")","v":0},{"$nulls":5},{"$f":"IF(A26<>\"\", COUNTIF(Teilnehmer_Status!B:B, A26), \"\")","v":0}]
[{"$f":"IF(B27<>\"\", \"S-\" & ROW(), \"\")","v":0},{"$nulls":5},{"$f":"IF(A27<>\"\", COUNTIF(Teilnehmer_Status!B:B, A27), \"\")","v":0}]
[{"$f":"IF(B28<>\"\", \"S-\" & ROW(), \"\")","v":0},{"$nulls":5},{"$f":"IF(A28<>\"\", COUNTIF(Teilnehmer_Status!B:B, A28), \"\")","v":0}]
[{"$f":"IF(B29<>\"\", \"S-\" & ROW(), \"\")","v":0},{"$nulls":5},{"$f":"IF(A29<>\"\", COUNTIF(Teilnehmer_Status!B:B, A29), \"\")","v":0}]
[{"$f":"IF(B30<>\"\", \"S-\" & ROW(), \"\")","v":0},{"$nulls":5},{"$f":"IF(A30<>\"\", COUNTIF(Teilnehmer_Status!B:B, A30), \"\")","v":0}]
[{"$f":"IF(B31<>\"\", \"S-\" & ROW(), \"\")","v":0},{"$nulls":5},{"$f":"IF(A31<>\"\", COUNTIF(Teilnehmer_Status!B:B, A31), \"\")","v":0}]
[{"$f":"IF(B32<>\"\", \"S-\" & ROW(), \"\")","v":0},{"$nulls":5},{"$f":"IF(A32<>\"\", COUNTIF(Teilnehmer_Status!B:B, A32), \"\")","v":0}]
[{"$f":"IF(B33<>\"\", \"S-\" & ROW(), \"\")","v":0},{"$nulls":5},{"$f":"IF(A33<>\"\", COUNTIF(Teilnehmer_Status!B:B, A33), \"\")","v":0}]
[{"$f":"IF(B34<>\"\", \"S-\" & ROW(), \"\")","v":0},{"$nulls":5},{"$f":"IF(A34<>\"\", COUNTIF(Teilnehmer_Status!B:B, A34), \"\")","v":0}]
[{"$f":"IF(B35<>\"\", \"S-\" & ROW(), \"\")","v":0},{"$nulls":5},{"$f":"IF(A35<>\"\", COUNTIF(Teilnehmer_Status!B:B, A35), \"\")","v":0}]
[{"$f":"IF(B36<>\"\", \"S-\" & ROW(), \"\")","v":0},{"$nulls":5},{"$f":"IF(A36<>\"\", COUNTIF(Teilnehmer_Status!B:B, A36), \"\")","v":0}]
[{"$f":"IF(B37<>\"\", \"S-\" & ROW(), \"\")","v":0},{"$nulls":5},{"$f":"IF(A37<>\"\", COUNTIF(Teilnehmer_Status!B:B, A37), \"\")","v":0}]
[{"$f":"IF(B38<>\"\", \"S-\" & ROW(), \"\")","v":0},{"$nulls":5},{"$f":"IF(A38<>\"\", COUNTIF(Teilnehmer_Status!B:B, A38), \"\")","v":0}]
[{"$f":"IF(B39<>\"\", \"S-\" & ROW(), \"\")","v":0},{"$nulls":5},{"$f":"IF(A39<>\"\", COUNTIF(Teilnehmer_Status!B:B, A39), \"\")","v":0}]
[{"$f":"IF(B40<>\"\", \"S-\" & ROW(), \"\")","v":0},{"$nulls":5},{"$f":"IF(A40<>\"\", COUNTIF(Teilnehmer_Status!B:B, A40), \"\")","v":0}]
[{"$f":"IF(B41<>\"\", \"S-\" & ROW(), \"\")","v":0},{"$nulls":5},{"$f":"IF(A41<>\"\", COUNTIF(Teilnehmer_Status!B:B, A41), \"\")","v":0}]
[{"$f":"IF(B42<>\"\", \"S-\" & ROW(), \"\")","v":0},{"$nulls":5},{"$f":"IF(A42<>\"\", COUNTIF(Teilnehmer_Status!B:B, A42), \"\")","v":0}]
[{"$f":"IF(B43<>\"\", \"S-\" & ROW(), \"\")","v":0},{"$nulls":5},{"$f":"IF(A43<>\"\", COUNTIF(Teilnehmer_Status!B:B, A43), \"\")","v":0}]
[{"$f":"IF(B44<>\"\", \"S-\" & ROW(), \"\")","v":0},{"$nulls":5},{"$f":"IF(A44<>\"\", COUNTIF(Teilnehmer_Status!B:B, A44), \"\")","v":0}]
[{"$f":"IF(B45<>\"\", \"S-\" & ROW(), \"\")","v":0},{"$nulls":5},{"$f":"IF(A45<>\"\", COUNTIF(Teilnehmer_Status!B:B, A45), \"\")","v":0}]
[{"$f":"IF(B46<>\"\", \"S-\" & ROW(), \"\")","v":0},{"$nulls":5},{"$f":"IF(A46<>\"\", COUNTIF(Teilnehmer_Status!B:B, A46), \"\")","v":0}]
[{"$f":"IF(B47<>\"\", \"S-\" & ROW(), \"\")","v":0},{"$nulls":5},{"$f":"IF(A47<>\"\", COUNTIF(Teilnehmer_Status!B:B, A47), \"\")","v":0}]
[{"$f":"IF(B48<>\"\", \"S-\" & ROW(), \"\")","v":0},{"$nulls":5},{"$f":"IF(A48<>\"\", COUNTIF(Teilnehmer_Status!B:B, A48), \"\")","v":0}]
[{"$f":"IF(B49<>\"\", \"S-\" & ROW(), \"\")","v":0},{"$nulls":5},{"$f":"IF(A49<>\"\", COUNTIF(Teilnehmer_Status!B:B, A49), \"\")","v":0}]
[{"$f":"IF(B50<>\"\", \"S-\" & ROW(), \"\")","v":0},{"$nulls":5},{"$f":"IF(A50<>\"\", COUNTIF(Teilnehmer_Status!B:B, A50), \"\")","v":0}]
[{"$f":"IF(B51<>\"\", \"S-\" & ROW(), \"\")","v":0},{"$nulls":5},{"$f":"IF(A51<>\"\", COUNTIF(Teilnehmer_Status!B:B, A51), \"\")","v":0}]
[{"$f":"IF(B52<>\"\", \"S-\" & ROW(), \"\")","v":0},{"$nulls":5},{"$f":"IF(A52<>\"\", COUNTIF(Teilnehmer_Status!B:B, A52), \"\")","v":0}]
[{"$f":"IF(B53<>\"\", \"S-\" & ROW(), \"\")","v":0},{"$nulls":5},{"$f":"IF(A53<>\"\", COUNTIF(Teilnehmer_Status!B:B, A53), \"\")","v":0}]
[{"$f":"IF(B54<>\"\", \"S-\" & ROW(), \"\")","v":0},{"$nulls":5},{"$f":"IF(A54<>\"\", COUNTIF(Teilnehmer_Status!B:B, A54), \"\")","v":0}]
[{"$f":"IF(B55<>\"\", \"S-\" & ROW(), \"\")","v":0},{"$nulls":5},{"$f":"IF(A55<>\"\", COUNTIF(Teilnehmer_Status!B:B, A55), \"\")","v":0}]
[{"$f":"IF(B56<>\"\", \"S-\" & ROW(), \"\")","v":0},{"$nulls":5},{"$f":"IF(A56<>\"\", COUNTIF(Teilnehmer_Status!B:B, A56), \"\")","v":0}]
[{"$f":"IF(B57<>\"\", \"S-\" & ROW(), \"\")","v":0},{"$nulls":5},{"$f":"IF(A57<>\"\", COUNTIF(Teilnehmer_Status!B:B, A57), \"\")","v":0}]
[{"$f":"IF(B58<>\"\", \"S-\" & ROW(), \"\")","v":0},{"$nulls":5},{"$f":"IF(A58<>\"\", COUNTIF(Teilnehmer_Status!B:B, A58), \"\")","v":0}]
[{"$f":"IF(B59<>\"\", \"S-\" & ROW(), \"\")","v":0},{"$nulls":5},{"$f":"IF(A59<>\"\", COUNTIF(Teilnehmer_Status!B:B, A59), \"\")","v":0}]
[{"$f":"IF(B60<>\"\", \"S-\" & ROW(), \"\")","v":0},{"$nulls":5},{"$f":"IF(A60<>\"\", COUNTIF(Teilnehmer_Status!B:B, A60), \"\")","v":0}]
[{"$f":"IF(B61<>\"\", \"S-\" & ROW(), \"\")","v":0},{"$nulls":5},{"$f":"IF(A61<>\"\", COUNTIF(Teilnehmer_Status!B:B, A61), \"\")","v":0}]
[{"$f":"IF(B62<>\"\", \"S-\" & ROW(), \"\")","v":0},{"$nulls":5},{"$f":"IF(A62<>\"\", COUNTIF(Teilnehmer_Status!B:B, A62), \"\")","v":0}]
[{"$f":"IF(B63<>\"\", \"S-\" & ROW(), \"\")","v":0},{"$nulls":5},{"$f":"IF(A63<>\"\", COUNTIF(Teilnehmer_Status!B:B, A63), \"\")","v":0}]
[{"$f":"IF(B64<>\"\", \"S-\" & ROW(), \"\")","v":0},{"$nulls":5},{"$f":"IF(A64<>\"\", COUNTIF(Teilnehmer_Status!B:B, A64), \"\")","v":0}]
[{"$f":"IF(B65<>\"\", \"S-\" & ROW(), \"\")","v":0},{"$nulls":5},{"$f":"IF(A65<>\"\", COUNTIF(Teilnehmer_Status!B:B, A65), \"\")","v":0}]
[{"$f":"IF(B66<>\"\", \"S-\" & ROW(), \"\")","v":0},{"$nulls":5},{"$f":"IF(A66<>\"\", COUNTIF(Teilnehmer_Status!B:B, A66), \"\")","v":0}]
[{"$f":"IF(B67<>\"\", \"S-\" & ROW(), \"\")","v":0},{"$nulls":5},{"$f":"IF(A67<>\"\", COUNTIF(Teilnehmer_Status!B:B, A67), \"\")","v":0}]
[{"$f":"IF(B68<>\"\", \"S-\" & ROW(), \"\")","v":0},{"$nulls":5},{"$f":"IF(A68<>\"\", COUNTIF(Teilnehmer_Status!B:B, A68), \"\")","v":0}]
[{"$f":"IF(B69<>\"\", \"S-\" & ROW(), \"\")","v":0},{"$nulls":5},{"$f":"IF(A69<>\"\", COUNTIF(Teilnehmer_Status!B:B, A69), \"\")","v":0}]
[{"$f":"IF(B70<>\"\", \"S-\" & ROW(), \"\")","v":0},{"$nulls":5},{"$f":"IF(A70<>\"\", COUNTIF(Teilnehmer_Status!B:B, A70), \"\")","v":0}]
[{"$f":"IF(B71<>\"\", \"S-\" & ROW(), \"\")","v":0},{"$nulls":5},{"$f":"IF(A71<>\"\", COUNTIF(Teilnehmer_Status!B:B, A71), \"\")","v":0}]
[{"$f":"IF(B72<>\"\", \"S-\" & ROW(), \"\")","v":0},{"$nulls":5},{"$f":"IF(A72<>\"\", COUNTIF(Teilnehmer_Status!B:B, A72), \"\")","v":0}]
[{"$f":"IF(B73<>\"\", \"S-\" & ROW(), \"\")","v":0},{"$nulls":5},{"$f":"IF(A73<>\"\", COUNTIF(Teilnehmer_Status!B:B, A73), \"\")","v":0}]
[{"$f":"IF(B74<>\"\", \"S-\" & ROW(), \"\")","v":0},{"$nulls":5},{"$f":"IF(A74<>\"\", COUNTIF(Teilnehmer_Status!B:B, A74), \"\")","v":0}]
[{"$f":"IF(B75<>\"\", \"S-\" & ROW(), \"\")","v":0},{"$nulls":5},{"$f":"IF(A75<>\"\", COUNTIF(Teilnehmer_Status!B:B, A75), \"\")","v":0}]
[{"$f":"IF(B76<>\"\", \"S-\" & ROW(), \"\")","v":0},{"$nulls":5},{"$f":"IF(A76<>\"\", COUNTIF(Teilnehmer_Status!B:B, A76), \"\")","v":0}]
[{"$f":"IF(B77<>\"\", \"S-\" & ROW(), \"\")","v":0},{"$nulls":5},{"$f":"IF(A77<>\"\", COUNTIF(Teilnehmer_Status!B:B, A77), \"\")","v":0}]
[{"$f":"IF(B78<>\"\", \"S-\" & ROW(), \"\")","v":0},{"$nulls":5},{"$f":"IF(A78<>\"\", COUNTIF(Teilnehmer_Status!B:B, A78), \"\")","v":0}]
[{"$f":"IF(B79<>\"\", \"S-\" & ROW(), \"\")","v":0},{"$nulls":5},{"$f":"IF(A79<>\"\", COUNTIF(Teilnehmer_Status!B:B, A79), \"\")","v":0}]
[{"$f":"IF(B80<>\"\", \"S-\" & ROW(), \"\")","v":0},{"$nulls":5},{"$f":"IF(A80<>\"\", COUNTIF(Teilnehmer_Status!B:B, A80), \"\")","v":0}]
[{"$f":"IF(B81<>\"\", \"S-\" & ROW(), \"\")","v":0},{"$nulls":5},{"$f":"IF(A81<>\"\", COUNTIF(Teilnehmer_Status!B:B, A81), \"\")","v":0}]
[{"$f":"IF(B82<>\"\", \"S-\" & ROW(), \"\")","v":0},{"$nulls":5},{"$f":"IF(A82<>\"\", COUNTIF(Teilnehmer_Status!B:B, A82), \"\")","v":0}]
[{"$f":"IF(B83<>\"\", \"S-\" & ROW(), \"\")","v":0},{"$nulls":5},{"$f":"IF(A83<>\"\", COUNTIF(Teilnehmer_Status!B:B, A83), \"\")","v":0}]
[{"$f":"IF(B84<>\"\", \"S-\" & ROW(), \"\")","v":0},{"$nulls":5},{"$f":"IF(A84<>\"\", COUNTIF(Teilnehmer_Status!B:B, A84), \"\")","v":0}]
[{"$f":"IF(B85<>\"\", \"S-\" & ROW(), \"\")","v":0},{"$nulls":5},{"$f":"IF(A85<>\"\", COUNTIF(Teilnehmer_Status!B:B, A85), \"\")","v":0}]
[{"$f":"IF(B86<>\"\", \"S-\" & ROW(), \"\")","v":0},{"$nulls":5},{"$f":"IF(A86<>\"\", COUNTIF(Teilnehmer_Status!B:B, A86), \"\")","v":0}]
[{"$f":"IF(B87<>\"\", \"S-\" & ROW(), \"\")","v":0},{"$nulls":5},{"$f":"IF(A87<>\"\", COUNTIF(Teilnehmer_Status!B:B, A87), \"\")","v":0}]
[{"$f":"IF(B88<>\"\", \"S-\" & ROW(), \"\")","v":0},{"$nulls":5},{"$f":"IF(A88<>\"\", COUNTIF(Teilnehmer_Status!B:B, A88), \"\")","v":0}]
[{"$f":"IF(B89<>\"\", \"S-\" & ROW(), \"\")","v":0},{"$nulls":5},{"$f":"IF(A89<>\"\", COUNTIF(Teilnehmer_Status!B:B, A89), \"\")","v":0}]
[{"$f":"IF(B90<>\"\", \"S-\" & ROW(), \"\")","v":0},{"$nulls":5},{"$f":"IF(A90<>\"\", COUNTIF(Teilnehmer_Status!B:B, A90), \"\")","v":0}]
[{"$f":"IF(B91<>\"\", \"S-\" & ROW(), \"\")","v":0},{"$nulls":5},{"$f":"IF(A91<>\"\", COUNTIF(Teilnehmer_Status!B:B, A91), \"\")","v":0}]
[{"$f":"IF(B92<>\"\", \"S-\" & ROW(), \"\")","v":0},{"$nulls":5},{"$f":"IF(A92<>\"\", COUNTIF(Teilnehmer_Status!B:B, A92), \"\")","v":0}]
[{"$f":"IF(B93<>\"\", \"S-\" & ROW(), \"\")","v":0},{"$nulls":5},{"$f":"IF(A93<>\"\", COUNTIF(Teilnehmer_Status!B:B, A93), \"\")","v":0}]
[{"$f":"IF(B94<>\"\", \"S-\" & ROW(), \"\")","v":0},{"$nulls":5},{"$f":"IF(A94<>\"\", COUNTIF(Teilnehmer_Status!B:B, A94), \"\")","v":0}]
[{"$f":"IF(B95<>\"\", \"S-\" & ROW(), \"\")","v":0},{"$nulls":5},{"$f":"IF(A95<>\"\", COUNTIF(Teilnehmer_Status!B:B, A95), \"\")","v":0}]
[{"$f":"IF(B96<>\"\", \"S-\" & ROW(), \"\")","v":0},{"$nulls":5},{"$f":"IF(A96<>\"\", COUNTIF(Teilnehmer_Status!B:B, A96), \"\")","v":0}]
[{"$f":"IF(B97<>\"\", \"S-\" & ROW(), \"\")","v":0},{"$nulls":5},{"$f":"IF(A97<>\"\", COUNTIF(Teilnehmer_Status!B:B, A97), \"\")","v":0}]
[{"$f":"IF(B98<>\"\", \"S-\" & ROW(), \"\")","v":0},{"$nulls":5},{"$f":"IF(A98<>\"\", COUNTIF(Teilnehmer_Status!B:B, A98), \"\")","v":0}]
[{"$f":"IF(B99<>\"\", \"S-\" & ROW(), \"\")","v":0},{"$nulls":5},{"$f":"IF(A99<>\"\", COUNTIF(Teilnehmer_Status!B:B, A99), \"\")","v":0}]
[{"$f":"IF(B100<>\"\", \"S-\" & ROW(), \"\")","v":0},{"$nulls":5},{"$f":"IF(A100<>\"\", COUNTIF(Teilnehmer_Status!B:B, A100), \"\")","v":0}]
[{"$f":"IF(B101<>\"\", \"S-\" & ROW(), \"\")","v":0},{"$nulls":5},{"$f":"IF(A101<>\"\", COUNTIF(Teilnehmer_Status!B:B, A101), \"\")","v":0}]

{"sheet":"Teilnehmer_Status","index":1,"n_rows":9,"n_cols":4,"rows_kept":9}
["Teilnehmername","Schulungs-ID","Teilnahme","Feedback / Notizen"]
["Max Mustermann","S-2","Anwesend","Guter Überblick."]
["Erika Mustermann","S-2","Anwesend"]
["John Doe","S-2","Fehlend","Krankmeldung"]
["Jane Doe","S-3","Anwesend","Sehr interaktiv."]
["Max Mustermann","S-3","Eingeladen"]
["Peter Jones","S-4","Anwesend"]
["Erika Mustermann","S-4","Anwesend"]
["Jane Doe","S-5","Anwesend","Gute Beispiele."]

{"sheet":"Kalenderuebersicht","index":2,"n_rows":101,"n_cols":5,"rows_kept":101}
["Kalenderwoche","Wochentag","Thema","Trainer","Ort"]
[{"$f":"IF(Schulungen_Termine!$C2<>\"\", ISOWEEKNUM(Schulungen_Termine!C2), \"\")","v":0},{"$f":"IF(Schulungen_Termine!$C2<>\"\", TEXT(Schulungen_Termine!C2, \"dddd\"), \"\")","v":0},{"$f":"IF(Schulungen_Termine!$C2<>\"\", Schulungen_Termine!B2, \"\")","v":0},{"$f":"IF(Schulungen_Termine!$C2<>\"\", Schulungen_Termine!F2, \"\")","v":0},{"$f":"IF(Schulungen_Termine!$C2<>\"\", Schulungen_Termine!H2, \"\")","v":0}]
[{"$f":"IF(Schulungen_Termine!$C3<>\"\", ISOWEEKNUM(Schulungen_Termine!C3), \"\")","v":0},{"$f":"IF(Schulungen_Termine!$C3<>\"\", TEXT(Schulungen_Termine!C3, \"dddd\"), \"\")","v":0},{"$f":"IF(Schulungen_Termine!$C3<>\"\", Schulungen_Termine!B3, \"\")","v":0},{"$f":"IF(Schulungen_Termine!$C3<>\"\", Schulungen_Termine!F3, \"\")","v":0},{"$f":"IF(Schulungen_Termine!$C3<>\"\", Schulungen_Termine!H3, \"\")","v":0}]
[{"$f":"IF(Schulungen_Termine!$C4<>\"\", ISOWEEKNUM(Schulungen_Termine!C4), \"\")","v":0},{"$f":"IF(Schulungen_Termine!$C4<>\"\", TEXT(Schulungen_Termine!C4, \"dddd\"), \"\")","v":0},{"$f":"IF(Schulungen_Termine!$C4<>\"\", Schulungen_Termine!B4, \"\")","v":0},{"$f":"IF(Schulungen_Termine!$C4<>\"\", Schulungen_Termine!F4, \"\")","v":0},{"$f":"IF(Schulungen_Termine!$C4<>\"\", Schulungen_Termine!H4, \"\")","v":0}]
[{"$f":"IF(Schulungen_Termine!$C5<>\"\", ISOWEEKNUM(Schulungen_Termine!C5), \"\")","v":0},{"$f":"IF(Schulungen_Termine!$C5<>\"\", TEXT(Schulungen_Termine!C5, \"dddd\"), \"\")","v":0},{"$f":"IF(Schulungen_Termine!$C5<>\"\", Schulungen_Termine!B5, \"\")","v":0},{"$f":"IF(Schulungen_Termine!$C5<>\"\", Schulungen_Termine!F5, \"\")","v":0},{"$f":"IF(Schulungen_Termine!$C5<>\"\", Schulungen_Termine!H5, \"\")","v":0}]
[{"$f":"IF(Schulungen_Termine!$C6<>\"\", ISOWEEKNUM(Schulungen_Termine!C6), \"\")","v":0},{"$f":"IF(Schulungen_Termine!$C6<>\"\", TEXT(Schulungen_Termine!C6, \"dddd\"), \"\")","v":0},{"$f":"IF(Schulungen_Termine!$C6<>\"\", Schulungen_Termine!B6, \"\")","v":0},{"$f":"IF(Schulungen_Termine!$C6<>\"\", Schulungen_Termine!F6, \"\")","v":0},{"$f":"IF(Schulungen_Termine!$C6<>\"\", Schulungen_Termine!H6, \"\")","v":0}]
[{"$f":"IF(Schulungen_Termine!$C7<>\"\", ISOWEEKNUM(Schulungen_Termine!C7), \"\")","v":0},{"$f":"IF(Schulungen_Termine!$C7<>\"\", TEXT(Schulungen_Termine!C7, \"dddd\"), \"\")","v":0},{"$f":"IF(Schulungen_Termine!$C7<>\"\", Schulungen_Termine!B7, \"\")","v":0},{"$f":"IF(Schulungen_Termine!$C7<>\"\", Schulungen_Termine!F7, \"\")","v":0},{"$f":"IF(Schulungen_Termine!$C7<>\"\", Schulungen_Termine!H7, \"\")","v":0}]
[{"$f":"IF(Schulungen_Termine!$C8<>\"\", ISOWEEKNUM(Schulungen_Termine!C8), \"\")","v":0},{"$f":"IF(Schulungen_Termine!$C8<>\"\", TEXT(Schulungen_Termine!C8, \"dddd\"), \"\")","v":0},{"$f":"IF(Schulungen_Termine!$C8<>\"\", Schulungen_Termine!B8, \"\")","v":0},{"$f":"IF(Schulungen_Termine!$C8<>\"\", Schulungen_Termine!F8, \"\")","v":0},{"$f":"IF(Schulungen_Termine!$C8<>\"\", Schulungen_Termine!H8, \"\")","v":0}]
[{"$f":"IF(Schulungen_Termine!$C9<>\"\", ISOWEEKNUM(Schulungen_Termine!C9), \"\")","v":0},{"$f":"IF(Schulungen_Termine!$C9<>\"\", TEXT(Schulungen_Termine!C9, \"dddd\"), \"\")","v":0},{"$f":"IF(Schulungen_Termine!$C9<>\"\", Schulungen_Termine!B9, \"\")","v":0},{"$f":"IF(Schulungen_Termine!$C9<>\"\", Schulungen_Termine!F9, \"\")","v":0},{"$f":"IF(Schulungen_Termine!$C9<>\"\", Schulungen_Termine!H9, \"\")","v":0}]
[{"$f":"IF(Schulungen_Termine!$C10<>\"\", ISOWEEKNUM(Schulungen_Termine!C10), \"\")","v":0},{"$f":"IF(Schulungen_Termine!$C10<>\"\", TEXT(Schulungen_Termine!C10, \"dddd\"), \"\")","v":0},{"$f":"IF(Schulungen_Termine!$C10<>\"\", Schulungen_Termine!B10, \"\")","v":0},{"$f":"IF(Schulungen_Termine!$C10<>\"\", Schulungen_Termine!F10, \"\")","v":0},{"$f":"IF(Schulungen_Termine!$C10<>\"\", Schulungen_Termine!H10, \"\")","v":0}]
[{"$f":"IF(Schulungen_Termine!$C11<>\"\", ISOWEEKNUM(Schulungen_Termine!C11), \"\")","v":0},{"$f":"IF(Schulungen_Termine!$C11<>\"\", TEXT(Schulungen_Termine!C11, \"dddd\"), \"\")","v":0},{"$f":"IF(Schulungen_Termine!$C11<>\"\", Schulungen_Termine!B11, \"\")","v":0},{"$f":"IF(Schulungen_Termine!$C11<>\"\", Schulungen_Termine!F11, \"\")","v":0},{"$f":"IF(Schulungen_Termine!$C11<>\"\", Schulungen_Termine!H11, \"\")","v":0}]
[{"$f":"IF(Schulungen_Termine!$C12<>\"\", ISOWEEKNUM(Schulungen_Termine!C12), \"\")","v":0},{"$f":"IF(Schulungen_Termine!$C12<>\"\", TEXT(Schulungen_Termine!C12, \"dddd\"), \"\")","v":0},{"$f":"IF(Schulungen_Termine!$C12<>\"\", Schulungen_Termine!B12, \"\")","v":0},{"$f":"IF(Schulungen_Termine!$C12<>\"\", Schulungen_Termine!F12, \"\")","v":0},{"$f":"IF(Schulungen_Termine!$C12<>\"\", Schulungen_Termine!H12, \"\")","v":0}]
[{"$f":"IF(Schulungen_Termine!$C13<>\"\", ISOWEEKNUM(Schulungen_Termine!C13), \"\")","v":0},{"$f":"IF(Schulungen_Termine!$C13<>\"\", TEXT(Schulungen_Termine!C13, \"dddd\"), \"\")","v":0},{"$f":"IF(Schulungen_Termine!$C13<>\"\", Schulungen_Termine!B13, \"\")","v":0},{"$f":"IF(Schulungen_Termine!$C13<>\"\", Schulungen_Termine!F13, \"\")","v":0},{"$f":"IF(Schulungen_Termine!$C13<>\"\", Schulungen_Termine!H13, \"\")","v":0}]
[{"$f":"IF(Schulungen_Termine!$C14<>\"\", ISOWEEKNUM(Schulungen_Termine!C14), \"\")","v":0},{"$f":"IF(Schulungen_Termine!$C14<>\"\", TEXT(Schulungen_Termine!C14, \"dddd\"), \"\")","v":0},{"$f":"IF(Schulungen_Termine!$C14<>\"\", Schulungen_Termine!B14, \"\")","v":0},{"$f":"IF(Schulungen_Termine!$C14<>\"\", Schulungen_Termine!F14, \"\")","v":0},{"$f":"IF(Schulungen_Termine!$C14<>\"\", Schulungen_Termine!H14, \"\")","v":0}]
[{"$f":"IF(Schulungen_Termine!$C15<>\"\", ISOWEEKNUM(Schulungen_Termine!C15), \"\")","v":0},{"$f":"IF(Schulungen_Termine!$C15<>\"\", TEXT(Schulungen_Termine!C15, \"dddd\"), \"\")","v":0},{"$f":"IF(Schulungen_Termine!$C15<>\"\", Schulungen_Termine!B15, \"\")","v":0},{"$f":"IF(Schulungen_Termine!$C15<>\"\", Schulungen_Termine!F15, \"\")","v":0},{"$f":"IF(Schulungen_Termine!$C15<>\"\", Schulungen_Termine!H15, \"\")","v":0}]
[{"$f":"IF(Schulungen_Termine!$C16<>\"\", ISOWEEKNUM(Schulungen_Termine!C16), \"\")","v":0},{"$f":"IF(Schulungen_Termine!$C16<>\"\", TEXT(Schulungen_Termine!C16, \"dddd\"), \"\")","v":0},{"$f":"IF(Schulungen_Termine!$C16<>\"\", Schulungen_Termine!B16, \"\")","v":0},{"$f":"IF(Schulungen_Termine!$C16<>\"\", Schulungen_Termine!F16, \"\")","v":0},{"$f":"IF(Schulungen_Termine!$C16<>\"\", Schulungen_Termine!H16, \"\")","v":0}]
[{"$f":"IF(Schulungen_Termine!$C17<>\"\", ISOWEEKNUM(Schulungen_Termine!C17), \"\")","v":0},{"$f":"IF(Schulungen_Termine!$C17<>\"\", TEXT(Schulungen_Termine!C17, \"dddd\"), \"\")","v":0},{"$f":"IF(Schulungen_Termine!$C17<>\"\", Schulungen_Termine!B17, \"\")","v":0},{"$f":"IF(Schulungen_Termine!$C17<>\"\", Schulungen_Termine!F17, \"\")","v":0},{"$f":"IF(Schulungen_Termine!$C17<>\"\", Schulungen_Termine!H17, \"\")","v":0}]
[{"$f":"IF(Schulungen_Termine!$C18<>\"\", ISOWEEKNUM(Schulungen_Termine!C18), \"\")","v":0},{"$f":"IF(Schulungen_Termine!$C18<>\"\", TEXT(Schulungen_Termine!C18, \"dddd\"), \"\")","v":0},{"$f":"IF(Schulungen_Termine!$C18<>\"\", Schulungen_Termine!B18, \"\")","v":0},{"$f":"IF(Schulungen_Termine!$C18<>\"\", Schulungen_Termine!F18, \"\")","v":0},{"$f":"IF(Schulungen_Termine!$C18<>\"\", Schulungen_Termine!H18, \"\")","v":0}]
[{"$f":"IF(Schulungen_Termine!$C19<>\"\", ISOWEEKNUM(Schulungen_Termine!C19), \"\")","v":0},{"$f":"IF(Schulungen_Termine!$C19<>\"\", TEXT(Schulungen_Termine!C19, \"dddd\"), \"\")","v":0},{"$f":"IF(Schulungen_Termine!$C19<>\"\", Schulungen_Termine!B19, \"\")","v":0},{"$f":"IF(Schulungen_Termine!$C19<>\"\", Schulungen_Termine!F19, \"\")","v":0},{"$f":"IF(Schulungen_Termine!$C19<>\"\", Schulungen_Termine!H19, \"\")","v":0}]
[{"$f":"IF(Schulungen_Termine!$C20<>\"\", ISOWEEKNUM(Schulungen_Termine!C20), \"\")","v":0},{"$f":"IF(Schulungen_Termine!$C20<>\"\", TEXT(Schulungen_Termine!C20, \"dddd\"), \"\")","v":0},{"$f":"IF(Schulungen_Termine!$C20<>\"\", Schulungen_Termine!B20, \"\")","v":0},{"$f":"IF(Schulungen_Termine!$C20<>\"\", Schulungen_Termine!F20, \"\")","v":0},{"$f":"IF(Schulungen_Termine!$C20<>\"\", Schulungen_Termine!H20, \"\")","v":0}]
[{"$f":"IF(Schulungen_Termine!$C21<>\"\", ISOWEEKNUM(Schulungen_Termine!C21), \"\")","v":0},{"$f":"IF(Schulungen_Termine!$C21<>\"\", TEXT(Schulungen_Termine!C21, \"dddd\"), \"\")","v":0},{"$f":"IF(Schulungen_Termine!$C21<>\"\", Schulungen_Termine!B21, \"\")","v":0},{"$f":"IF(Schulungen_Termine!$C21<>\"\", Schulungen_Termine!F21, \"\")","v":0},{"$f":"IF(Schulungen_Termine!$C21<>\"\", Schulungen_Termine!H21, \"\")","v":0}]
[{"$f":"IF(Schulungen_Termine!$C22<>\"\", ISOWEEKNUM(Schulungen_Termine!C22), \"\")","v":0},{"$f":"IF(Schulungen_Termine!$C22<>\"\", TEXT(Schulungen_Termine!C22, \"dddd\"), \"\")","v":0},{"$f":"IF(Schulungen_Termine!$C22<>\"\", Schulungen_Termine!B22, \"\")","v":0},{"$f":"IF(Schulungen_Termine!$C22<>\"\", Schulungen_Termine!F22, \"\")","v":0},{"$f":"IF(Schulungen_Termine!$C22<>\"\", Schulungen_Termine!H22, \"\")","v":0}]
[{"$f":"IF(Schulungen_Termine!$C23<>\"\", ISOWEEKNUM(Schulungen_Termine!C23), \"\")","v":0},{"$f":"IF(Schulungen_Termine!$C23<>\"\", TEXT(Schulungen_Termine!C23, \"dddd\"), \"\")","v":0},{"$f":"IF(Schulungen_Termine!$C23<>\"\", Schulungen_Termine!B23, \"\")","v":0},{"$f":"IF(Schulungen_Termine!$C23<>\"\", Schulungen_Termine!F23, \"\")","v":0},{"$f":"IF(Schulungen_Termine!$C23<>\"\", Schulungen_Termine!H23, \"\")","v":0}]
[{"$f":"IF(Schulungen_Termine!$C24<>\"\", ISOWEEKNUM(Schulungen_Termine!C24), \"\")","v":0},{"$f":"IF(Schulungen_Termine!$C24<>\"\", TEXT(Schulungen_Termine!C24, \"dddd\"), \"\")","v":0},{"$f":"IF(Schulungen_Termine!$C24<>\"\", Schulungen_Termine!B24, \"\")","v":0},{"$f":"IF(Schulungen_Termine!$C24<>\"\", Schulungen_Termine!F24, \"\")","v":0},{"$f":"IF(Schulungen_Termine!$C24<>\"\", Schulungen_Termine!H24, \"\")","v":0}]
[{"$f":"IF(Schulungen_Termine!$C25<>\"\", ISOWEEKNUM(Schulungen_Termine!C25), \"\")","v":0},{"$f":"IF(Schulungen_Termine!$C25<>\"\", TEXT(Schulungen_Termine!C25, \"dddd\"), \"\")","v":0},{"$f":"IF(Schulungen_Termine!$C25<>\"\", Schulungen_Termine!B25, \"\")","v":0},{"$f":"IF(Schulungen_Termine!$C25<>\"\", Schulungen_Termine!F25, \"\")","v":0},{"$f":"IF(Schulungen_Termine!$C25<>\"\", Schulungen_Termine!H25, \"\")","v":0}]
[{"$f":"IF(Schulungen_Termine!$C26<>\"\", ISOWEEKNUM(Schulungen_Termine!C26), \"\")","v":0},{"$f":"IF(Schulungen_Termine!$C26<>\"\", TEXT(Schulungen_Termine!C26, \"dddd\"), \"\")","v":0},{"$f":"IF(Schulungen_Termine!$C26<>\"\", Schulungen_Termine!B26, \"\")","v":0},{"$f":"IF(Schulungen_Termine!$C26<>\"\", Schulungen_Termine!F26, \"\")","v":0},{"$f":"IF(Schulungen_Termine!$C26<>\"\", Schulungen_Termine!H26, \"\")","v":0}]
[{"$f":"IF(Schulungen_Termine!$C27<>\"\", ISOWEEKNUM(Schulungen_Termine!C27), \"\")","v":0},{"$f":"IF(Schulungen_Termine!$C27<>\"\", TEXT(Schulungen_Termine!C27, \"dddd\"), \"\")","v":0},{"$f":"IF(Schulungen_Termine!$C27<>\"\", Schulungen_Termine!B27, \"\")","v":0},{"$f":"IF(Schulungen_Termine!$C27<>\"\", Schulungen_Termine!F27, \"\")","v":0},{"$f":"IF(Schulungen_Termine!$C27<>\"\", Schulungen_Termine!H27, \"\")","v":0}]
[{"$f":"IF(Schulungen_Termine!$C28<>\"\", ISOWEEKNUM(Schulungen_Termine!C28), \"\")","v":0},{"$f":"IF(Schulungen_Termine!$C28<>\"\", TEXT(Schulungen_Termine!C28, \"dddd\"), \"\")","v":0},{"$f":"IF(Schulungen_Termine!$C28<>\"\", Schulungen_Termine!B28, \"\")","v":0},{"$f":"IF(Schulungen_Termine!$C28<>\"\", Schulungen_Termine!F28, \"\")","v":0},{"$f":"IF(Schulungen_Termine!$C28<>\"\", Schulungen_Termine!H28, \"\")","v":0}]
[{"$f":"IF(Schulungen_Termine!$C29<>\"\", ISOWEEKNUM(Schulungen_Termine!C29), \"\")","v":0},{"$f":"IF(Schulungen_Termine!$C29<>\"\", TEXT(Schulungen_Termine!C29, \"dddd\"), \"\")","v":0},{"$f":"IF(Schulungen_Termine!$C29<>\"\", Schulungen_Termine!B29, \"\")","v":0},{"$f":"IF(Schulungen_Termine!$C29<>\"\", Schulungen_Termine!F29, \"\")","v":0},{"$f":"IF(Schulungen_Termine!$C29<>\"\", Schulungen_Termine!H29, \"\")","v":0}]
[{"$f":"IF(Schulungen_Termine!$C30<>\"\", ISOWEEKNUM(Schulungen_Termine!C30), \"\")","v":0},{"$f":"IF(Schulungen_Termine!$C30<>\"\", TEXT(Schulungen_Termine!C30, \"dddd\"), \"\")","v":0},{"$f":"IF(Schulungen_Termine!$C30<>\"\", Schulungen_Termine!B30, \"\")","v":0},{"$f":"IF(Schulungen_Termine!$C30<>\"\", Schulungen_Termine!F30, \"\")","v":0},{"$f":"IF(Schulungen_Termine!$C30<>\"\", Schulungen_Termine!H30, \"\")","v":0}]
[{"$f":"IF(Schulungen_Termine!$C31<>\"\", ISOWEEKNUM(Schulungen_Termine!C31), \"\")","v":0},{"$f":"IF(Schulungen_Termine!$C31<>\"\", TEXT(Schulungen_Termine!C31, \"dddd\"), \"\")","v":0},{"$f":"IF(Schulungen_Termine!$C31<>\"\", Schulungen_Termine!B31, \"\")","v":0},{"$f":"IF(Schulungen_Termine!$C31<>\"\", Schulungen_Termine!F31, \"\")","v":0},{"$f":"IF(Schulungen_Termine!$C31<>\"\", Schulungen_Termine!H31, \"\")","v":0}]
[{"$f":"IF(Schulungen_Termine!$C32<>\"\", ISOWEEKNUM(Schulungen_Termine!C32), \"\")","v":0},{"$f":"IF(Schulungen_Termine!$C32<>\"\", TEXT(Schulungen_Termine!C32, \"dddd\"), \"\")","v":0},{"$f":"IF(Schulungen_Termine!$C32<>\"\", Schulungen_Termine!B32, \"\")","v":0},{"$f":"IF(Schulungen_Termine!$C32<>\"\", Schulungen_Termine!F32, \"\")","v":0},{"$f":"IF(Schulungen_Termine!$C32<>\"\", Schulungen_Termine!H32, \"\")","v":0}]
[{"$f":"IF(Schulungen_Termine!$C33<>\"\", ISOWEEKNUM(Schulungen_Termine!C33), \"\")","v":0},{"$f":"IF(Schulungen_Termine!$C33<>\"\", TEXT(Schulungen_Termine!C33, \"dddd\"), \"\")","v":0},{"$f":"IF(Schulungen_Termine!$C33<>\"\", Schulungen_Termine!B33, \"\")","v":0},{"$f":"IF(Schulungen_Termine!$C33<>\"\", Schulungen_Termine!F33, \"\")","v":0},{"$f":"IF(Schulungen_Termine!$C33<>\"\", Schulungen_Termine!H33, \"\")","v":0}]
[{"$f":"IF(Schulungen_Termine!$C34<>\"\", ISOWEEKNUM(Schulungen_Termine!C34), \"\")","v":0},{"$f":"IF(Schulungen_Termine!$C34<>\"\", TEXT(Schulungen_Termine!C34, \"dddd\"), \"\")","v":0},{"$f":"IF(Schulungen_Termine!$C34<>\"\", Schulungen_Termine!B34, \"\")","v":0},{"$f":"IF(Schulungen_Termine!$C34<>\"\", Schulungen_Termine!F34, \"\")","v":0},{"$f":"IF(Schulungen_Termine!$C34<>\"\", Schulungen_Termine!H34, \"\")","v":0}]
[{"$f":"IF(Schulungen_Termine!$C35<>\"\", ISOWEEKNUM(Schulungen_Termine!C35), \"\")","v":0},{"$f":"IF(Schulungen_Termine!$C35<>\"\", TEXT(Schulungen_Termine!C35, \"dddd\"), \"\")","v":0},{"$f":"IF(Schulungen_Termine!$C35<>\"\", Schulungen_Termine!B35, \"\")","v":0},{"$f":"IF(Schulungen_Termine!$C35<>\"\", Schulungen_Termine!F35, \"\")","v":0},{"$f":"IF(Schulungen_Termine!$C35<>\"\", Schulungen_Termine!H35, \"\")","v":0}]
[{"$f":"IF(Schulungen_Termine!$C36<>\"\", ISOWEEKNUM(Schulungen_Termine!C36), \"\")","v":0},{"$f":"IF(Schulungen_Termine!$C36<>\"\", TEXT(Schulungen_Termine!C36, \"dddd\"), \"\")","v":0},{"$f":"IF(Schulungen_Termine!$C36<>\"\", Schulungen_Termine!B36, \"\")","v":0},{"$f":"IF(Schulungen_Termine!$C36<>\"\", Schulungen_Termine!F36, \"\")","v":0},{"$f":"IF(Schulungen_Termine!$C36<>\"\", Schulungen_Termine!H36, \"\")","v":0}]
[{"$f":"IF(Schulungen_Termine!$C37<>\"\", ISOWEEKNUM(Schulungen_Termine!C37), \"\")","v":0},{"$f":"IF(Schulungen_Termine!$C37<>\"\", TEXT(Schulungen_Termine!C37, \"dddd\"), \"\")","v":0},{"$f":"IF(Schulungen_Termine!$C37<>\"\", Schulungen_Termine!B37, \"\")","v":0},{"$f":"IF(Schulungen_Termine!$C37<>\"\", Schulungen_Termine!F37, \"\")","v":0},{"$f":"IF(Schulungen_Termine!$C37<>\"\", Schulungen_Termine!H37, \"\")","v":0}]
[{"$f":"IF(Schulungen_Termine!$C38<>\"\", ISOWEEKNUM(Schulungen_Termine!C38), \"\")","v":0},{"$f":"IF(Schulungen_Termine!$C38<>\"\", TEXT(Schulungen_Termine!C38, \"dddd\"), \"\")","v":0},{"$f":"IF(Schulungen_Termine!$C38<>\"\", Schulungen_Termine!B38, \"\")","v":0},{"$f":"IF(Schulungen_Termine!$C38<>\"\", Schulungen_Termine!F38, \"\")","v":0},{"$f":"IF(Schulungen_Termine!$C38<>\"\", Schulungen_Termine!H38, \"\")","v":0}]
[{"$f":"IF(Schulungen_Termine!$C39<>\"\", ISOWEEKNUM(Schulungen_Termine!C39), \"\")","v":0},{"$f":"IF(Schulungen_Termine!$C39<>\"\", TEXT(Schulungen_Termine!C39, \"dddd\"), \"\")","v":0},{"$f":"IF(Schulungen_Termine!$C39<>\"\", Schulungen_Termine!B39, \"\")","v":0},{"$f":"IF(Schulungen_Termine!$C39<>\"\", Schulungen_Termine!F39, \"\")","v":0},{"$f":"IF(Schulungen_Termine!$C39<>\"\", Schulungen_Termine!H39, \"\")","v":0}]
[{"$f":"IF(Schulungen_Termine!$C40<>\"\", ISOWEEKNUM(Schulungen_Termine!C40), \"\")","v":0},{"$f":"IF(Schulungen_Termine!$C40<>\"\", TEXT(Schulungen_Termine!C40, \"dddd\"), \"\")","v":0},{"$f":"IF(Schulungen_Termine!$C40<>\"\", Schulungen_Termine!B40, \"\")","v":0},{"$f":"IF(Schulungen_Termine!$C40<>\"\", Schulungen_Termine!F40, \"\")","v":0},{"$f":"IF(Schulungen_Termine!$C40<>\"\", Schulungen_Termine!H40, \"\")","v":0}]
[{"$f":"IF(Schulungen_Termine!$C41<>\"\", ISOWEEKNUM(Schulungen_Termine!C41), \"\")","v":0},{"$f":"IF(Schulungen_Termine!$C41<>\"\", TEXT(Schulungen_Termine!C41, \"dddd\"), \"\")","v":0},{"$f":"IF(Schulungen_Termine!$C41<>\"\", Schulungen_Termine!B41, \"\")","v":0},{"$f":"IF(Schulungen_Termine!$C41<>\"\", Schulungen_Termine!F41, \"\")","v":0},{"$f":"IF(Schulungen_Termine!$C41<>\"\", Schulungen_Termine!H41, \"\")","v":0}]
[{"$f":"IF(Schulungen_Termine!$C42<>\"\", ISOWEEKNUM(Schulungen_Termine!C42), \"\")","v":0},{"$f":"IF(Schulungen_Termine!$C42<>\"\", TEXT(Schulungen_Termine!C42, \"dddd\"), \"\")","v":0},{"$f":"IF(Schulungen_Termine!$C42<>\"\", Schulungen_Termine!B42, \"\")","v":0},{"$f":"IF(Schulungen_Termine!$C42<>\"\", Schulungen_Termine!F42, \"\")","v":0},{"$f":"IF(Schulungen_Termine!$C42<>\"\", Schulungen_Termine!H42, \"\")","v":0}]
[{"$f":"IF(Schulungen_Termine!$C43<>\"\", ISOWEEKNUM(Schulungen_Termine!C43), \"\")","v":0},{"$f":"IF(Schulungen_Termine!$C43<>\"\", TEXT(Schulungen_Termine!C43, \"dddd\"), \"\")","v":0},{"$f":"IF(Schulungen_Termine!$C43<>\"\", Schulungen_Termine!B43, \"\")","v":0},{"$f":"IF(Schulungen_Termine!$C43<>\"\", Schulungen_Termine!F43, \"\")","v":0},{"$f":"IF(Schulungen_Termine!$C43<>\"\", Schulungen_Termine!H43, \"\")","v":0}]
[{"$f":"IF(Schulungen_Termine!$C44<>\"\", ISOWEEKNUM(Schulungen_Termine!C44), \"\")","v":0},{"$f":"IF(Schulungen_Termine!$C44<>\"\", TEXT(Schulungen_Termine!C44, \"dddd\"), \"\")","v":0},{"$f":"IF(Schulungen_Termine!$C44<>\"\", Schulungen_Termine!B44, \"\")","v":0},{"$f":"IF(Schulungen_Termine!$C44<>\"\", Schulungen_Termine!F44, \"\")","v":0},{"$f":"IF(Schulungen_Termine!$C44<>\"\", Schulungen_Termine!H44, \"\")","v":0}]
[{"$f":"IF(Schulungen_Termine!$C45<>\"\", ISOWEEKNUM(Schulungen_Termine!C45), \"\")","v":0},{"$f":"IF(Schulungen_Termine!$C45<>\"\", TEXT(Schulungen_Termine!C45, \"dddd\"), \"\")","v":0},{"$f":"IF(Schulungen_Termine!$C45<>\"\", Schulungen_Termine!B45, \"\")","v":0},{"$f":"IF(Schulungen_Termine!$C45<>\"\", Schulungen_Termine!F45, \"\")","v":0},{"$f":"IF(Schulungen_Termine!$C45<>\"\", Schulungen_Termine!H45, \"\")","v":0}]
[{"$f":"IF(Schulungen_Termine!$C46<>\"\", ISOWEEKNUM(Schulungen_Termine!C46), \"\")","v":0},{"$f":"IF(Schulungen_Termine!$C46<>\"\", TEXT(Schulungen_Termine!C46, \"dddd\"), \"\")","v":0},{"$f":"IF(Schulungen_Termine!$C46<>\"\", Schulungen_Termine!B46, \"\")","v":0},{"$f":"IF(Schulungen_Termine!$C46<>\"\", Schulungen_Termine!F46, \"\")","v":0},{"$f":"IF(Schulungen_Termine!$C46<>\"\", Schulungen_Termine!H46, \"\")","v":0}]
[{"$f":"IF(Schulungen_Termine!$C47<>\"\", ISOWEEKNUM(Schulungen_Termine!C47), \"\")","v":0},{"$f":"IF(Schulungen_Termine!$C47<>\"\", TEXT(Schulungen_Termine!C47, \"dddd\"), \"\")","v":0},{"$f":"IF(Schulungen_Termine!$C47<>\"\", Schulungen_Termine!B47, \"\")","v":0},{"$f":"IF(Schulungen_Termine!$C47<>\"\", Schulungen_Termine!F47, \"\")","v":0},{"$f":"IF(Schulungen_Termine!$C47<>\"\", Schulungen_Termine!H47, \"\")","v":0}]
[{"$f":"IF(Schulungen_Termine!$C48<>\"\", ISOWEEKNUM(Schulungen_Termine!C48), \"\")","v":0},{"$f":"IF(Schulungen_Termine!$C48<>\"\", TEXT(Schulungen_Termine!C48, \"dddd\"), \"\")","v":0},{"$f":"IF(Schulungen_Termine!$C48<>\"\", Schulungen_Termine!B48, \"\")","v":0},{"$f":"IF(Schulungen_Termine!$C48<>\"\", Schulungen_Termine!F48, \"\")","v":0},{"$f":"IF(Schulungen_Termine!$C48<>\"\", Schulungen_Termine!H48, \"\")","v":0}]
[{"$f":"IF(Schulungen_Termine!$C49<>\"\", ISOWEEKNUM(Schulungen_Termine!C49), \"\")","v":0},{"$f":"IF(Schulungen_Termine!$C49<>\"\", TEXT(Schulungen_Termine!C49, \"dddd\"), \"\")","v":0},{"$f":"IF(Schulungen_Termine!$C49<>\"\", Schulungen_Termine!B49, \"\")","v":0},{"$f":"IF(Schulungen_Termine!$C49<>\"\", Schulungen_Termine!F49, \"\")","v":0},{"$f":"IF(Schulungen_Termine!$C49<>\"\", Schulungen_Termine!H49, \"\")","v":0}]
[{"$f":"IF(Schulungen_Termine!$C50<>\"\", ISOWEEKNUM(Schulungen_Termine!C50), \"\")","v":0},{"$f":"IF(Schulungen_Termine!$C50<>\"\", TEXT(Schulungen_Termine!C50, \"dddd\"), \"\")","v":0},{"$f":"IF(Schulungen_Termine!$C50<>\"\", Schulungen_Termine!B50, \"\")","v":0},{"$f":"IF(Schulungen_Termine!$C50<>\"\", Schulungen_Termine!F50, \"\")","v":0},{"$f":"IF(Schulungen_Termine!$C50<>\"\", Schulungen_Termine!H50, \"\")","v":0}]
[{"$f":"IF(Schulungen_Termine!$C51<>\"\", ISOWEEKNUM(Schulungen_Termine!C51), \"\")","v":0},{"$f":"IF(Schulungen_Termine!$C51<>\"\", TEXT(Schulungen_Termine!C51, \"dddd\"), \"\")","v":0},{"$f":"IF(Schulungen_Termine!$C51<>\"\", Schulungen_Termine!B51, \"\")","v":0},{"$f":"IF(Schulungen_Termine!$C51<>\"\", Schulungen_Termine!F51, \"\")","v":0},{"$f":"IF(Schulungen_Termine!$C51<>\"\", Schulungen_Termine!H51, \"\")","v":0}]
[{"$f":"IF(Schulungen_Termine!$C52<>\"\", ISOWEEKNUM(Schulungen_Termine!C52), \"\")","v":0},{"$f":"IF(Schulungen_Termine!$C52<>\"\", TEXT(Schulungen_Termine!C52, \"dddd\"), \"\")","v":0},{"$f":"IF(Schulungen_Termine!$C52<>\"\", Schulungen_Termine!B52, \"\")","v":0},{"$f":"IF(Schulungen_Termine!$C52<>\"\", Schulungen_Termine!F52, \"\")","v":0},{"$f":"IF(Schulungen_Termine!$C52<>\"\", Schulungen_Termine!H52, \"\")","v":0}]
[{"$f":"IF(Schulungen_Termine!$C53<>\"\", ISOWEEKNUM(Schulungen_Termine!C53), \"\")","v":0},{"$f":"IF(Schulungen_Termine!$C53<>\"\", TEXT(Schulungen_Termine!C53, \"dddd\"), \"\")","v":0},{"$f":"IF(Schulungen_Termine!$C53<>\"\", Schulungen_Termine!B53, \"\")","v":0},{"$f":"IF(Schulungen_Termine!$C53<>\"\", Schulungen_Termine!F53, \"\")","v":0},{"$f":"IF(Schulungen_Termine!$C53<>\"\", Schulungen_Termine!H53, \"\")","v":0}]
[{"$f":"IF(Schulungen_Termine!$C54<>\"\", ISOWEEKNUM(Schulungen_Termine!C54), \"\")","v":0},{"$f":"IF(Schulungen_Termine!$C54<>\"\", TEXT(Schulungen_Termine!C54, \"dddd\"), \"\")","v":0},{"$f":"IF(Schulungen_Termine!$C54<>\"\", Schulungen_Termine!B54, \"\")","v":0},{"$f":"IF(Schulungen_Termine!$C54<>\"\", Schulungen_Termine!F54, \"\")","v":0},{"$f":"IF(Schulungen_Termine!$C54<>\"\", Schulungen_Termine!H54, \"\")","v":0}]
[{"$f":"IF(Schulungen_Termine!$C55<>\"\", ISOWEEKNUM(Schulungen_Termine!C55), \"\")","v":0},{"$f":"IF(Schulungen_Termine!$C55<>\"\", TEXT(Schulungen_Termine!C55, \"dddd\"), \"\")","v":0},{"$f":"IF(Schulungen_Termine!$C55<>\"\", Schulungen_Termine!B55, \"\")","v":0},{"$f":"IF(Schulungen_Termine!$C55<>\"\", Schulungen_Termine!F55, \"\")","v":0},{"$f":"IF(Schulungen_Termine!$C55<>\"\", Schulungen_Termine!H55, \"\")","v":0}]
[{"$f":"IF(Schulungen_Termine!$C56<>\"\", ISOWEEKNUM(Schulungen_Termine!C56), \"\")","v":0},{"$f":"IF(Schulungen_Termine!$C56<>\"\", TEXT(Schulungen_Termine!C56, \"dddd\"), \"\")","v":0},{"$f":"IF(Schulungen_Termine!$C56<>\"\", Schulungen_Termine!B56, \"\")","v":0},{"$f":"IF(Schulungen_Termine!$C56<>\"\", Schulungen_Termine!F56, \"\")","v":0},{"$f":"IF(Schulungen_Termine!$C56<>\"\", Schulungen_Termine!H56, \"\")","v":0}]
[{"$f":"IF(Schulungen_Termine!$C57<>\"\", ISOWEEKNUM(Schulungen_Termine!C57), \"\")","v":0},{"$f":"IF(Schulungen_Termine!$C57<>\"\", TEXT(Schulungen_Termine!C57, \"dddd\"), \"\")","v":0},{"$f":"IF(Schulungen_Termine!$C57<>\"\", Schulungen_Termine!B57, \"\")","v":0},{"$f":"IF(Schulungen_Termine!$C57<>\"\", Schulungen_Termine!F57, \"\")","v":0},{"$f":"IF(Schulungen_Termine!$C57<>\"\", Schulungen_Termine!H57, \"\")","v":0}]
[{"$f":"IF(Schulungen_Termine!$C58<>\"\", ISOWEEKNUM(Schulungen_Termine!C58), \"\")","v":0},{"$f":"IF(Schulungen_Termine!$C58<>\"\", TEXT(Schulungen_Termine!C58, \"dddd\"), \"\")","v":0},{"$f":"IF(Schulungen_Termine!$C58<>\"\", Schulungen_Termine!B58, \"\")","v":0},{"$f":"IF(Schulungen_Termine!$C58<>\"\", Schulungen_Termine!F58, \"\")","v":0},{"$f":"IF(Schulungen_Termine!$C58<>\"\", Schulungen_Termine!H58, \"\")","v":0}]
[{"$f":"IF(Schulungen_Termine!$C59<>\"\", ISOWEEKNUM(Schulungen_Termine!C59), \"\")","v":0},{"$f":"IF(Schulungen_Termine!$C59<>\"\", TEXT(Schulungen_Termine!C59, \"dddd\"), \"\")","v":0},{"$f":"IF(Schulungen_Termine!$C59<>\"\", Schulungen_Termine!B59, \"\")","v":0},{"$f":"IF(Schulungen_Termine!$C59<>\"\", Schulungen_Termine!F59, \"\")","v":0},{"$f":"IF(Schulungen_Termine!$C59<>\"\", Schulungen_Termine!H59, \"\")","v":0}]
[{"$f":"IF(Schulungen_Termine!$C60<>\"\", ISOWEEKNUM(Schulungen_Termine!C60), \"\")","v":0},{"$f":"IF(Schulungen_Termine!$C60<>\"\", TEXT(Schulungen_Termine!C60, \"dddd\"), \"\")","v":0},{"$f":"IF(Schulungen_Termine!$C60<>\"\", Schulungen_Termine!B60, \"\")","v":0},{"$f":"IF(Schulungen_Termine!$C60<>\"\", Schulungen_Termine!F60, \"\")","v":0},{"$f":"IF(Schulungen_Termine!$C60<>\"\", Schulungen_Termine!H60, \"\")","v":0}]
[{"$f":"IF(Schulungen_Termine!$C61<>\"\", ISOWEEKNUM(Schulungen_Termine!C61), \"\")","v":0},{"$f":"IF(Schulungen_Termine!$C61<>\"\", TEXT(Schulungen_Termine!C61, \"dddd\"), \"\")","v":0},{"$f":"IF(Schulungen_Termine!$C61<>\"\", Schulungen_Termine!B61, \"\")","v":0},{"$f":"IF(Schulungen_Termine!$C61<>\"\", Schulungen_Termine!F61, \"\")","v":0},{"$f":"IF(Schulungen_Termine!$C61<>\"\", Schulungen_Termine!H61, \"\")","v":0}]
[{"$f":"IF(Schulungen_Termine!$C62<>\"\", ISOWEEKNUM(Schulungen_Termine!C62), \"\")","v":0},{"$f":"IF(Schulungen_Termine!$C62<>\"\", TEXT(Schulungen_Termine!C62, \"dddd\"), \"\")","v":0},{"$f":"IF(Schulungen_Termine!$C62<>\"\", Schulungen_Termine!B62, \"\")","v":0},{"$f":"IF(Schulungen_Termine!$C62<>\"\", Schulungen_Termine!F62, \"\")","v":0},{"$f":"IF(Schulungen_Termine!$C62<>\"\", Schulungen_Termine!H62, \"\")","v":0}]
[{"$f":"IF(Schulungen_Termine!$C63<>\"\", ISOWEEKNUM(Schulungen_Termine!C63), \"\")","v":0},{"$f":"IF(Schulungen_Termine!$C63<>\"\", TEXT(Schulungen_Termine!C63, \"dddd\"), \"\")","v":0},{"$f":"IF(Schulungen_Termine!$C63<>\"\", Schulungen_Termine!B63, \"\")","v":0},{"$f":"IF(Schulungen_Termine!$C63<>\"\", Schulungen_Termine!F63, \"\")","v":0},{"$f":"IF(Schulungen_Termine!$C63<>\"\", Schulungen_Termine!H63, \"\")","v":0}]
[{"$f":"IF(Schulungen_Termine!$C64<>\"\", ISOWEEKNUM(Schulungen_Termine!C64), \"\")","v":0},{"$f":"IF(Schulungen_Termine!$C64<>\"\", TEXT(Schulungen_Termine!C64, \"dddd\"), \"\")","v":0},{"$f":"IF(Schulungen_Termine!$C64<>\"\", Schulungen_Termine!B64, \"\")","v":0},{"$f":"IF(Schulungen_Termine!$C64<>\"\", Schulungen_Termine!F64, \"\")","v":0},{"$f":"IF(Schulungen_Termine!$C64<>\"\", Schulungen_Termine!H64, \"\")","v":0}]
[{"$f":"IF(Schulungen_Termine!$C65<>\"\", ISOWEEKNUM(Schulungen_Termine!C65), \"\")","v":0},{"$f":"IF(Schulungen_Termine!$C65<>\"\", TEXT(Schulungen_Termine!C65, \"dddd\"), \"\")","v":0},{"$f":"IF(Schulungen_Termine!$C65<>\"\", Schulungen_Termine!B65, \"\")","v":0},{"$f":"IF(Schulungen_Termine!$C65<>\"\", Schulungen_Termine!F65, \"\")","v":0},{"$f":"IF(Schulungen_Termine!$C65<>\"\", Schulungen_Termine!H65, \"\")","v":0}]
[{"$f":"IF(Schulungen_Termine!$C66<>\"\", ISOWEEKNUM(Schulungen_Termine!C66), \"\")","v":0},{"$f":"IF(Schulungen_Termine!$C66<>\"\", TEXT(Schulungen_Termine!C66, \"dddd\"), \"\")","v":0},{"$f":"IF(Schulungen_Termine!$C66<>\"\", Schulungen_Termine!B66, \"\")","v":0},{"$f":"IF(Schulungen_Termine!$C66<>\"\", Schulungen_Termine!F66, \"\")","v":0},{"$f":"IF(Schulungen_Termine!$C66<>\"\", Schulungen_Termine!H66, \"\")","v":0}]
[{"$f":"IF(Schulungen_Termine!$C67<>\"\", ISOWEEKNUM(Schulungen_Termine!C67), \"\")","v":0},{"$f":"IF(Schulungen_Termine!$C67<>\"\", TEXT(Schulungen_Termine!C67, \"dddd\"), \"\")","v":0},{"$f":"IF(Schulungen_Termine!$C67<>\"\", Schulungen_Termine!B67, \"\")","v":0},{"$f":"IF(Schulungen_Termine!$C67<>\"\", Schulungen_Termine!F67, \"\")","v":0},{"$f":"IF(Schulungen_Termine!$C67<>\"\", Schulungen_Termine!H67, \"\")","v":0}]
[{"$f":"IF(Schulungen_Termine!$C68<>\"\", ISOWEEKNUM(Schulungen_Termine!C68), \"\")","v":0},{"$f":"IF(Schulungen_Termine!$C68<>\"\", TEXT(Schulungen_Termine!C68, \"dddd\"), \"\")","v":0},{"$f":"IF(Schulungen_Termine!$C68<>\"\", Schulungen_Termine!B68, \"\")","v":0},{"$f":"IF(Schulungen_Termine!$C68<>\"\", Schulungen_Termine!F68, \"\")","v":0},{"$f":"IF(Schulungen_Termine!$C68<>\"\", Schulungen_Termine!H68, \"\")","v":0}]
[{"$f":"IF(Schulungen_Termine!$C69<>\"\", ISOWEEKNUM(Schulungen_Termine!C69), \"\")","v":0},{"$f":"IF(Schulungen_Termine!$C69<>\"\", TEXT(Schulungen_Termine!C69, \"dddd\"), \"\")","v":0},{"$f":"IF(Schulungen_Termine!$C69<>\"\", Schulungen_Termine!B69, \"\")","v":0},{"$f":"IF(Schulungen_Termine!$C69<>\"\", Schulungen_Termine!F69, \"\")","v":0},{"$f":"IF(Schulungen_Termine!$C69<>\"\", Schulungen_Termine!H69, \"\")","v":0}]
[{"$f":"IF(Schulungen_Termine!$C70<>\"\", ISOWEEKNUM(Schulungen_Termine!C70), \"\")","v":0},{"$f":"IF(Schulungen_Termine!$C70<>\"\", TEXT(Schulungen_Termine!C70, \"dddd\"), \"\")","v":0},{"$f":"IF(Schulungen_Termine!$C70<>\"\", Schulungen_Termine!B70, \"\")","v":0},{"$f":"IF(Schulungen_Termine!$C70<>\"\", Schulungen_Termine!F70, \"\")","v":0},{"$f":"IF(Schulungen_Termine!$C70<>\"\", Schulungen_Termine!H70, \"\")","v":0}]
[{"$f":"IF(Schulungen_Termine!$C71<>\"\", ISOWEEKNUM(Schulungen_Termine!C71), \"\")","v":0},{"$f":"IF(Schulungen_Termine!$C71<>\"\", TEXT(Schulungen_Termine!C71, \"dddd\"), \"\")","v":0},{"$f":"IF(Schulungen_Termine!$C71<>\"\", Schulungen_Termine!B71, \"\")","v":0},{"$f":"IF(Schulungen_Termine!$C71<>\"\", Schulungen_Termine!F71, \"\")","v":0},{"$f":"IF(Schulungen_Termine!$C71<>\"\", Schulungen_Termine!H71, \"\")","v":0}]
[{"$f":"IF(Schulungen_Termine!$C72<>\"\", ISOWEEKNUM(Schulungen_Termine!C72), \"\")","v":0},{"$f":"IF(Schulungen_Termine!$C72<>\"\", TEXT(Schulungen_Termine!C72, \"dddd\"), \"\")","v":0},{"$f":"IF(Schulungen_Termine!$C72<>\"\", Schulungen_Termine!B72, \"\")","v":0},{"$f":"IF(Schulungen_Termine!$C72<>\"\", Schulungen_Termine!F72, \"\")","v":0},{"$f":"IF(Schulungen_Termine!$C72<>\"\", Schulungen_Termine!H72, \"\")","v":0}]
[{"$f":"IF(Schulungen_Termine!$C73<>\"\", ISOWEEKNUM(Schulungen_Termine!C73), \"\")","v":0},{"$f":"IF(Schulungen_Termine!$C73<>\"\", TEXT(Schulungen_Termine!C73, \"dddd\"), \"\")","v":0},{"$f":"IF(Schulungen_Termine!$C73<>\"\", Schulungen_Termine!B73, \"\")","v":0},{"$f":"IF(Schulungen_Termine!$C73<>\"\", Schulungen_Termine!F73, \"\")","v":0},{"$f":"IF(Schulungen_Termine!$C73<>\"\", Schulungen_Termine!H73, \"\")","v":0}]
[{"$f":"IF(Schulungen_Termine!$C74<>\"\", ISOWEEKNUM(Schulungen_Termine!C74), \"\")","v":0},{"$f":"IF(Schulungen_Termine!$C74<>\"\", TEXT(Schulungen_Termine!C74, \"dddd\"), \"\")","v":0},{"$f":"IF(Schulungen_Termine!$C74<>\"\", Schulungen_Termine!B74, \"\")","v":0},{"$f":"IF(Schulungen_Termine!$C74<>\"\", Schulungen_Termine!F74, \"\")","v":0},{"$f":"IF(Schulungen_Termine!$C74<>\"\", Schulungen_Termine!H74, \"\")","v":0}]
[{"$f":"IF(Schulungen_Termine!$C75<>\"\", ISOWEEKNUM(Schulungen_Termine!C75), \"\")","v":0},{"$f":"IF(Schulungen_Termine!$C75<>\"\", TEXT(Schulungen_Termine!C75, \"dddd\"), \"\")","v":0},{"$f":"IF(Schulungen_Termine!$C75<>\"\", Schulungen_Termine!B75, \"\")","v":0},{"$f":"IF(Schulungen_Termine!$C75<>\"\", Schulungen_Termine!F75, \"\")","v":0},{"$f":"IF(Schulungen_Termine!$C75<>\"\", Schulungen_Termine!H75, \"\")","v":0}]
[{"$f":"IF(Schulungen_Termine!$C76<>\"\", ISOWEEKNUM(Schulungen_Termine!C76), \"\")","v":0},{"$f":"IF(Schulungen_Termine!$C76<>\"\", TEXT(Schulungen_Termine!C76, \"dddd\"), \"\")","v":0},{"$f":"IF(Schulungen_Termine!$C76<>\"\", Schulungen_Termine!B76, \"\")","v":0},{"$f":"IF(Schulungen_Termine!$C76<>\"\", Schulungen_Termine!F76, \"\")","v":0},{"$f":"IF(Schulungen_Termine!$C76<>\"\", Schulungen_Termine!H76, \"\")","v":0}]
[{"$f":"IF(Schulungen_Termine!$C77<>\"\", ISOWEEKNUM(Schulungen_Termine!C77), \"\")","v":0},{"$f":"IF(Schulungen_Termine!$C77<>\"\", TEXT(Schulungen_Termine!C77, \"dddd\"), \"\")","v":0},{"$f":"IF(Schulungen_Termine!$C77<>\"\", Schulungen_Termine!B77, \"\")","v":0},{"$f":"IF(Schulungen_Termine!$C77<>\"\", Schulungen_Termine!F77, \"\")","v":0},{"$f":"IF(Schulungen_Termine!$C77<>\"\", Schulungen_Termine!H77, \"\")","v":0}]
[{"$f":"IF(Schulungen_Termine!$C78<>\"\", ISOWEEKNUM(Schulungen_Termine!C78), \"\")","v":0},{"$f":"IF(Schulungen_Termine!$C78<>\"\", TEXT(Schulungen_Termine!C78, \"dddd\"), \"\")","v":0},{"$f":"IF(Schulungen_Termine!$C78<>\"\", Schulungen_Termine!B78, \"\")","v":0},{"$f":"IF(Schulungen_Termine!$C78<>\"\", Schulungen_Termine!F78, \"\")","v":0},{"$f":"IF(Schulungen_Termine!$C78<>\"\", Schulungen_Termine!H78, \"\")","v":0}]
[{"$f":"IF(Schulungen_Termine!$C79<>\"\", ISOWEEKNUM(Schulungen_Termine!C79), \"\")","v":0},{"$f":"IF(Schulungen_Termine!$C79<>\"\", TEXT(Schulungen_Termine!C79, \"dddd\"), \"\")","v":0},{"$f":"IF(Schulungen_Termine!$C79<>\"\", Schulungen_Termine!B79, \"\")","v":0},{"$f":"IF(Schulungen_Termine!$C79<>\"\", Schulungen_Termine!F79, \"\")","v":0},{"$f":"IF(Schulungen_Termine!$C79<>\"\", Schulungen_Termine!H79, \"\")","v":0}]
[{"$f":"IF(Schulungen_Termine!$C80<>\"\", ISOWEEKNUM(Schulungen_Termine!C80), \"\")","v":0},{"$f":"IF(Schulungen_Termine!$C80<>\"\", TEXT(Schulungen_Termine!C80, \"dddd\"), \"\")","v":0},{"$f":"IF(Schulungen_Termine!$C80<>\"\", Schulungen_Termine!B80, \"\")","v":0},{"$f":"IF(Schulungen_Termine!$C80<>\"\", Schulungen_Termine!F80, \"\")","v":0},{"$f":"IF(Schulungen_Termine!$C80<>\"\", Schulungen_Termine!H80, \"\")","v":0}]
[{"$f":"IF(Schulungen_Termine!$C81<>\"\", ISOWEEKNUM(Schulungen_Termine!C81), \"\")","v":0},{"$f":"IF(Schulungen_Termine!$C81<>\"\", TEXT(Schulungen_Termine!C81, \"dddd\"), \"\")","v":0},{"$f":"IF(Schulungen_Termine!$C81<>\"\", Schulungen_Termine!B81, \"\")","v":0},{"$f":"IF(Schulungen_Termine!$C81<>\"\", Schulungen_Termine!F81, \"\")","v":0},{"$f":"IF(Schulungen_Termine!$C81<>\"\", Schulungen_Termine!H81, \"\")","v":0}]
[{"$f":"IF(Schulungen_Termine!$C82<>\"\", ISOWEEKNUM(Schulungen_Termine!C82), \"\")","v":0},{"$f":"IF(Schulungen_Termine!$C82<>\"\", TEXT(Schulungen_Termine!C82, \"dddd\"), \"\")","v":0},{"$f":"IF(Schulungen_Termine!$C82<>\"\", Schulungen_Termine!B82, \"\")","v":0},{"$f":"IF(Schulungen_Termine!$C82<>\"\", Schulungen_Termine!F82, \"\")","v":0},{"$f":"IF(Schulungen_Termine!$C82<>\"\", Schulungen_Termine!H82, \"\")","v":0}]
[{"$f":"IF(Schulungen_Termine!$C83<>\"\", ISOWEEKNUM(Schulungen_Termine!C83), \"\")","v":0},{"$f":"IF(Schulungen_Termine!$C83<>\"\", TEXT(Schulungen_Termine!C83, \"dddd\"), \"\")","v":0},{"$f":"IF(Schulungen_Termine!$C83<>\"\", Schulungen_Termine!B83, \"\")","v":0},{"$f":"IF(Schulungen_Termine!$C83<>\"\", Schulungen_Termine!F83, \"\")","v":0},{"$f":"IF(Schulungen_Termine!$C83<>\"\", Schulungen_Termine!H83, \"\")","v":0}]
[{"$f":"IF(Schulungen_Termine!$C84<>\"\", ISOWEEKNUM(Schulungen_Termine!C84), \"\")","v":0},{"$f":"IF(Schulungen_Termine!$C84<>\"\", TEXT(Schulungen_Termine!C84, \"dddd\"), \"\")","v":0},{"$f":"IF(Schulungen_Termine!$C84<>\"\", Schulungen_Termine!B84, \"\")","v":0},{"$f":"IF(Schulungen_Termine!$C84<>\"\", Schulungen_Termine!F84, \"\")","v":0},{"$f":"IF(Schulungen_Termine!$C84<>\"\", Schulungen_Termine!H84, \"\")","v":0}]
[{"$f":"IF(Schulungen_Termine!$C85<>\"\", ISOWEEKNUM(Schulungen_Termine!C85), \"\")","v":0},{"$f":"IF(Schulungen_Termine!$C85<>\"\", TEXT(Schulungen_Termine!C85, \"dddd\"), \"\")","v":0},{"$f":"IF(Schulungen_Termine!$C85<>\"\", Schulungen_Termine!B85, \"\")","v":0},{"$f":"IF(Schulungen_Termine!$C85<>\"\", Schulungen_Termine!F85, \"\")","v":0},{"$f":"IF(Schulungen_Termine!$C85<>\"\", Schulungen_Termine!H85, \"\")","v":0}]
[{"$f":"IF(Schulungen_Termine!$C86<>\"\", ISOWEEKNUM(Schulungen_Termine!C86), \"\")","v":0},{"$f":"IF(Schulungen_Termine!$C86<>\"\", TEXT(Schulungen_Termine!C86, \"dddd\"), \"\")","v":0},{"$f":"IF(Schulungen_Termine!$C86<>\"\", Schulungen_Termine!B86, \"\")","v":0},{"$f":"IF(Schulungen_Termine!$C86<>\"\", Schulungen_Termine!F86, \"\")","v":0},{"$f":"IF(Schulungen_Termine!$C86<>\"\", Schulungen_Termine!H86, \"\")","v":0}]
[{"$f":"IF(Schulungen_Termine!$C87<>\"\", ISOWEEKNUM(Schulungen_Termine!C87), \"\")","v":0},{"$f":"IF(Schulungen_Termine!$C87<>\"\", TEXT(Schulungen_Termine!C87, \"dddd\"), \"\")","v":0},{"$f":"IF(Schulungen_Termine!$C87<>\"\", Schulungen_Termine!B87, \"\")","v":0},{"$f":"IF(Schulungen_Termine!$C87<>\"\", Schulungen_Termine!F87, \"\")","v":0},{"$f":"IF(Schulungen_Termine!$C87<>\"\", Schulungen_Termine!H87, \"\")","v":0}]
[{"$f":"IF(Schulungen_Termine!$C88<>\"\", ISOWEEKNUM(Schulungen_Termine!C88), \"\")","v":0},{"$f":"IF(Schulungen_Termine!$C88<>\"\", TEXT(Schulungen_Termine!C88, \"dddd\"), \"\")","v":0},{"$f":"IF(Schulungen_Termine!$C88<>\"\", Schulungen_Termine!B88, \"\")","v":0},{"$f":"IF(Schulungen_Termine!$C88<>\"\", Schulungen_Termine!F88, \"\")","v":0},{"$f":"IF(Schulungen_Termine!$C88<>\"\", Schulungen_Termine!H88, \"\")","v":0}]
[{"$f":"IF(Schulungen_Termine!$C89<>\"\", ISOWEEKNUM(Schulungen_Termine!C89), \"\")","v":0},{"$f":"IF(Schulungen_Termine!$C89<>\"\", TEXT(Schulungen_Termine!C89, \"dddd\"), \"\")","v":0},{"$f":"IF(Schulungen_Termine!$C89<>\"\", Schulungen_Termine!B89, \"\")","v":0},{"$f":"IF(Schulungen_Termine!$C89<>\"\", Schulungen_Termine!F89, \"\")","v":0},{"$f":"IF(Schulungen_Termine!$C89<>\"\", Schulungen_Termine!H89, \"\")","v":0}]
[{"$f":"IF(Schulungen_Termine!$C90<>\"\", ISOWEEKNUM(Schulungen_Termine!C90), \"\")","v":0},{"$f":"IF(Schulungen_Termine!$C90<>\"\", TEXT(Schulungen_Termine!C90, \"dddd\"), \"\")","v":0},{"$f":"IF(Schulungen_Termine!$C90<>\"\", Schulungen_Termine!B90, \"\")","v":0},{"$f":"IF(Schulungen_Termine!$C90<>\"\", Schulungen_Termine!F90, \"\")","v":0},{"$f":"IF(Schulungen_Termine!$C90<>\"\", Schulungen_Termine!H90, \"\")","v":0}]
[{"$f":"IF(Schulungen_Termine!$C91<>\"\", ISOWEEKNUM(Schulungen_Termine!C91), \"\")","v":0},{"$f":"IF(Schulungen_Termine!$C91<>\"\", TEXT(Schulungen_Termine!C91, \"dddd\"), \"\")","v":0},{"$f":"IF(Schulungen_Termine!$C91<>\"\", Schulungen_Termine!B91, \"\")","v":0},{"$f":"IF(Schulungen_Termine!$C91<>\"\", Schulungen_Termine!F91, \"\")","v":0},{"$f":"IF(Schulungen_Termine!$C91<>\"\", Schulungen_Termine!H91, \"\")","v":0}]
[{"$f":"IF(Schulungen_Termine!$C92<>\"\", ISOWEEKNUM(Schulungen_Termine!C92), \"\")","v":0},{"$f":"IF(Schulungen_Termine!$C92<>\"\", TEXT(Schulungen_Termine!C92, \"dddd\"), \"\")","v":0},{"$f":"IF(Schulungen_Termine!$C92<>\"\", Schulungen_Termine!B92, \"\")","v":0},{"$f":"IF(Schulungen_Termine!$C92<>\"\", Schulungen_Termine!F92, \"\")","v":0},{"$f":"IF(Schulungen_Termine!$C92<>\"\", Schulungen_Termine!H92, \"\")","v":0}]
[{"$f":"IF(Schulungen_Termine!$C93<>\"\", ISOWEEKNUM(Schulungen_Termine!C93), \"\")","v":0},{"$f":"IF(Schulungen_Termine!$C93<>\"\", TEXT(Schulungen_Termine!C93, \"dddd\"), \"\")","v":0},{"$f":"IF(Schulungen_Termine!$C93<>\"\", Schulungen_Termine!B93, \"\")","v":0},{"$f":"IF(Schulungen_Termine!$C93<>\"\", Schulungen_Termine!F93, \"\")","v":0},{"$f":"IF(Schulungen_Termine!$C93<>\"\", Schulungen_Termine!H93, \"\")","v":0}]
[{"$f":"IF(Schulungen_Termine!$C94<>\"\", ISOWEEKNUM(Schulungen_Termine!C94), \"\")","v":0},{"$f":"IF(Schulungen_Termine!$C94<>\"\", TEXT(Schulungen_Termine!C94, \"dddd\"), \"\")","v":0},{"$f":"IF(Schulungen_Termine!$C94<>\"\", Schulungen_Termine!B94, \"\")","v":0},{"$f":"IF(Schulungen_Termine!$C94<>\"\", Schulungen_Termine!F94, \"\")","v":0},{"$f":"IF(Schulungen_Termine!$C94<>\"\", Schulungen_Termine!H94, \"\")","v":0}]
[{"$f":"IF(Schulungen_Termine!$C95<>\"\", ISOWEEKNUM(Schulungen_Termine!C95), \"\")","v":0},{"$f":"IF(Schulungen_Termine!$C95<>\"\", TEXT(Schulungen_Termine!C95, \"dddd\"), \"\")","v":0},{"$f":"IF(Schulungen_Termine!$C95<>\"\", Schulungen_Termine!B95, \"\")","v":0},{"$f":"IF(Schulungen_Termine!$C95<>\"\", Schulungen_Termine!F95, \"\")","v":0},{"$f":"IF(Schulungen_Termine!$C95<>\"\", Schulungen_Termine!H95, \"\")","v":0}]
[{"$f":"IF(Schulungen_Termine!$C96<>\"\", ISOWEEKNUM(Schulungen_Termine!C96), \"\")","v":0},{"$f":"IF(Schulungen_Termine!$C96<>\"\", TEXT(Schulungen_Termine!C96, \"dddd\"), \"\")","v":0},{"$f":"IF(Schulungen_Termine!$C96<>\"\", Schulungen_Termine!B96, \"\")","v":0},{"$f":"IF(Schulungen_Termine!$C96<>\"\", Schulungen_Termine!F96, \"\")","v":0},{"$f":"IF(Schulungen_Termine!$C96<>\"\", Schulungen_Termine!H96, \"\")","v":0}]
[{"$f":"IF(Schulungen_Termine!$C97<>\"\", ISOWEEKNUM(Schulungen_Termine!C97), \"\")","v":0},{"$f":"IF(Schulungen_Termine!$C97<>\"\", TEXT(Schulungen_Termine!C97, \"dddd\"), \"\")","v":0},{"$f":"IF(Schulungen_Termine!$C97<>\"\", Schulungen_Termine!B97, \"\")","v":0},{"$f":"IF(Schulungen_Termine!$C97<>\"\", Schulungen_Termine!F97, \"\")","v":0},{"$f":"IF(Schulungen_Termine!$C97<>\"\", Schulungen_Termine!H97, \"\")","v":0}]
[{"$f":"IF(Schulungen_Termine!$C98<>\"\", ISOWEEKNUM(Schulungen_Termine!C98), \"\")","v":0},{"$f":"IF(Schulungen_Termine!$C98<>\"\", TEXT(Schulungen_Termine!C98, \"dddd\"), \"\")","v":0},{"$f":"IF(Schulungen_Termine!$C98<>\"\", Schulungen_Termine!B98, \"\")","v":0},{"$f":"IF(Schulungen_Termine!$C98<>\"\", Schulungen_Termine!F98, \"\")","v":0},{"$f":"IF(Schulungen_Termine!$C98<>\"\", Schulungen_Termine!H98, \"\")","v":0}]
[{"$f":"IF(Schulungen_Termine!$C99<>\"\", ISOWEEKNUM(Schulungen_Termine!C99), \"\")","v":0},{"$f":"IF(Schulungen_Termine!$C99<>\"\", TEXT(Schulungen_Termine!C99, \"dddd\"), \"\")","v":0},{"$f":"IF(Schulungen_Termine!$C99<>\"\", Schulungen_Termine!B99, \"\")","v":0},{"$f":"IF(Schulungen_Termine!$C99<>\"\", Schulungen_Termine!F99, \"\")","v":0},{"$f":"IF(Schulungen_Termine!$C99<>\"\", Schulungen_Termine!H99, \"\")","v":0}]
[{"$f":"IF(Schulungen_Termine!$C100<>\"\", ISOWEEKNUM(Schulungen_Termine!C100), \"\")","v":0},{"$f":"IF(Schulungen_Termine!$C100<>\"\", TEXT(Schulungen_Termine!C100, \"dddd\"), \"\")","v":0},{"$f":"IF(Schulungen_Termine!$C100<>\"\", Schulungen_Termine!B100, \"\")","v":0},{"$f":"IF(Schulungen_Termine!$C100<>\"\", Schulungen_Termine!F100, \"\")","v":0},{"$f":"IF(Schulungen_Termine!$C100<>\"\", Schulungen_Termine!H100, \"\")","v":0}]
[{"$f":"IF(Schulungen_Termine!$C101<>\"\", ISOWEEKNUM(Schulungen_Termine!C101), \"\")","v":0},{"$f":"IF(Schulungen_Termine!$C101<>\"\", TEXT(Schulungen_Termine!C101, \"dddd\"), \"\")","v":0},{"$f":"IF(Schulungen_Termine!$C101<>\"\", Schulungen_Termine!B101, \"\")","v":0},{"$f":"IF(Schulungen_Termine!$C101<>\"\", Schulungen_Termine!F101, \"\")","v":0},{"$f":"IF(Schulungen_Termine!$C101<>\"\", Schulungen_Termine!H101, \"\")","v":0}]

{"sheet":"Analyse_Diagramme","index":3,"n_rows":20,"n_cols":2,"rows_kept":20}
[]
["Gesamt-Analyse"]
["Schulungsstunden gesamt",{"$f":"SUM(Schulungen_Termine!D:D)","v":0}]
[]
[]
["Teilnahmequote"]
["Status","Anzahl"]
["Anwesend",{"$f":"COUNTIF(Teilnehmer_Status!C:C, A8)","v":0}]
["Fehlend",{"$f":"COUNTIF(Teilnehmer_Status!C:C, A9)","v":0}]
["Eingeladen",{"$f":"COUNTIF(Teilnehmer_Status!C:C, A10)","v":0}]
[]
[]
["Schulungen pro Trainer"]
["Trainer","Anzahl Schulungen"]
["Anna Schmidt",{"$f":"COUNTIF(Schulungen_Termine!F:F, A15)","v":0}]
["Ben Huber",{"$f":"COUNTIF(Schulungen_Termine!F:F, A16)","v":0}]
["Carla Diaz",{"$f":"COUNTIF(Schulungen_Termine!F:F, A17)","v":0}]
[]
[]
["*Hinweis: Die Trainerliste hier wird nicht automatisch aktualisiert."]

{"sheet":"Anleitung_Legende","index":4,"n_rows":14,"n_cols":2,"rows_kept":14}
["Anleitung zur Vorlage"]
[]
["Schulungen_Termine","Hier tragen Sie alle geplanten Schulungen ein. Die Schulungs-ID wird automatisch generiert. Hellblaue Felder sind zur Eingabe vorgesehen."]
["Teilnehmer_Status","Tragen Sie hier die Teilnehmer für jede Schulung ein. Wählen Sie die Schulungs-ID aus dem Dropdown, um eine Verknüpfung herzustellen."]
["Kalenderuebersicht","Dieses Blatt zeigt eine terminliche Übersicht aller Schulungen. Die Daten werden automatisch aus \"Schulungen & Termine\" übernommen."]
["Analyse_Diagramme","Hier finden Sie automatische Auswertungen und Diagramme. Die Diagramme aktualisieren sich, wenn Sie neue Daten eingeben."]
["Schutz","Alle Blätter sind geschützt, um Formeln vor versehentlichem Überschreiben zu sichern. Nur die hellblauen Eingabefelder sind editierbar."]
["VBA / Makros","Diese Vorlage enthält keine Makros. XlsxWriter, die zur Erstellung verwendete Bibliothek, unterstützt das Einbetten von VBA-Code nicht."]
[]
["Farblegende"]
[]
["Eingabefeld","Felder für Ihre Eingaben"]
["Teilnahme: Anwesend","Status für anwesende Teilnehmer"]
["Teilnahme: Fehlend","Status für fehlende Teilnehmer"]