Workbook

Sheet Übersicht
A1: Feld | B1: Wert
A2: Turniername
A3: Ort
A4: Datum
A5: Anzahl Teams
A6: Spielzeit (min)
A7: Punkte für Sieg
A8: Punkte für Unentschieden
A9: Punkte für Niederlage
A10: Anzahl Gruppen
A11: Kommentar

Sheet Teams
A1: Team Nr. | B1: Teamname | C1: Kontaktperson | D1: Telefonnummer | E1: E-Mail | F1: Gruppe

Sheet Spielplan
A1: Spiel Nr. | B1: Gruppe | C1: Team A | D1: Team B | E1: Spielzeit | F1: Spielfeld | G1: Ergebnis (A:B)

Sheet Tabelle
A1: Gruppe | B1: Team | C1: Spiele | D1: Siege | E1: Unentschieden | F1: Niederlagen | G1: Tore + | H1: Tore - | I1: Tordifferenz | J1: Punkte | K1: Platzierung
I2: =G2-H2 -> 0 | J2: =$D2*Einstellungen!$B$3+$E2*Einstellungen!$B$4+$F2*Einstellungen!$B$5 -> 0
I3: =G3-H3 -> 0 | J3: =$D3*Einstellungen!$B$3+$E3*Einstellungen!$B$4+$F3*Einstellungen!$B$5 -> 0
I4: =G4-H4 -> 0 | J4: =$D4*Einstellungen!$B$3+$E4*Einstellungen!$B$4+$F4*Einstellungen!$B$5 -> 0
I5: =G5-H5 -> 0 | J5: =$D5*Einstellungen!$B$3+$E5*Einstellungen!$B$4+$F5*Einstellungen!$B$5 -> 0
I6: =G6-H6 -> 0 | J6: =$D6*Einstellungen!$B$3+$E6*Einstellungen!$B$4+$F6*Einstellungen!$B$5 -> 0
I7: =G7-H7 -> 0 | J7: =$D7*Einstellungen!$B$3+$E7*Einstellungen!$B$4+$F7*Einstellungen!$B$5 -> 0
I8: =G8-H8 -> 0 | J8: =$D8*Einstellungen!$B$3+$E8*Einstellungen!$B$4+$F8*Einstellungen!$B$5 -> 0
I9: =G9-H9 -> 0 | J9: =$D9*Einstellungen!$B$3+$E9*Einstellungen!$B$4+$F9*Einstellungen!$B$5 -> 0
I10: =G10-H10 -> 0 | J10: =$D10*Einstellungen!$B$3+$E10*Einstellungen!$B$4+$F10*Einstellungen!$B$5 -> 0
I11: =G11-H11 -> 0 | J11: =$D11*Einstellungen!$B$3+$E11*Einstellungen!$B$4+$F11*Einstellungen!$B$5 -> 0
I12: =G12-H12 -> 0 | J12: =$D12*Einstellungen!$B$3+$E12*Einstellungen!$B$4+$F12*Einstellungen!$B$5 -> 0
I13: =G13-H13 -> 0 | J13: =$D13*Einstellungen!$B$3+$E13*Einstellungen!$B$4+$F13*Einstellungen!$B$5 -> 0
... I41: =G41-H41 -> 0 | J41: =$D41*Einstellungen!$B$3+$E41*Einstellungen!$B$4+$F41*Einstellungen!$B$5 -> 0

Sheet K.O.-Runde
A1: Runde | B1: Spiel Nr. | C1: Team A | D1: Team B | E1: Ergebnis (A:B) | F1: Sieger

Sheet Fair-Play
A1: Team | B1: Gelbe Karten | C1: Rote Karten | D1: Foulpunkte | E1: Fair-Play Bonus
D2: =B2+C2*3 -> 0 | E2: =IF(D2=0,1,0) -> 0
D3: =B3+C3*3 -> 0 | E3: =IF(D3=0,1,0) -> 0
D4: =B4+C4*3 -> 0 | E4: =IF(D4=0,1,0) -> 0
D5: =B5+C5*3 -> 0 | E5: =IF(D5=0,1,0) -> 0
D6: =B6+C6*3 -> 0 | E6: =IF(D6=0,1,0) -> 0
D7: =B7+C7*3 -> 0 | E7: =IF(D7=0,1,0) -> 0
D8: =B8+C8*3 -> 0 | E8: =IF(D8=0,1,0) -> 0
D9: =B9+C9*3 -> 0 | E9: =IF(D9=0,1,0) -> 0
D10: =B10+C10*3 -> 0 | E10: =IF(D10=0,1,0) -> 0
D11: =B11+C11*3 -> 0 | E11: =IF(D11=0,1,0) -> 0
D12: =B12+C12*3 -> 0 | E12: =IF(D12=0,1,0) -> 0
D13: =B13+C13*3 -> 0 | E13: =IF(D13=0,1,0) -> 0
... D41: =B41+C41*3 -> 0 | E41: =IF(D41=0,1,0) -> 0

Sheet Einstellungen
A1: Einstellung | B1: Wert
A2: Spielzeit pro Spiel
A3: Punkte Sieg | B3: 3
A4: Punkte Unentschieden | B4: 1
A5: Punkte Niederlage | B5: 0
A6: Max. Teams pro Gruppe
A7: Entscheidungsregeln bei Gleichstand
