Workbook
Name VerstossListe: Strafenkatalog!$B$2:$B$16

Sheet Strafenkatalog
A1: Kategorie | B1: Verstoß | C1: Preis (€) | D1: Beschreibung / Anmerkungen
A2: Training | B2: Zu spät zum Training | C2: 2 | D2: pro 5 Minuten
A3: Training | B3: Ohne Abmeldung fehlend | C3: 5
A4: Training | B4: Handy während Training | C4: 1 | D4: pro Verstoß
A5: Training | B5: Trikot vergessen | C5: 3
A6: Training | B6: Wasserflasche vergessen | C6: 1
A7: Training | B7: Schuhe nicht geputzt | C7: 1
A8: Spiel | B8: Zu spät zum Treffpunkt | C8: 2 | D8: pro 5 Minuten
A9: Spiel | B9: Gelbe Karte | C9: 1
A10: Spiel | B10: Rote Karte (Notbremse) | C10: 5
A11: Spiel | B11: Rote Karte (Tätlichkeit) | C11: 10
A12: Spiel | B12: Stutzen vergessen | C12: 2
A13: Spiel | B13: Ohne Schienbeinschoner | C13: 2
A14: Spiel | B14: Schiedsrichterbeleidigung | C14: 20
A15: Besprechung | B15: Zu spät zur Besprechung | C15: 2 | D15: pro 5 Minuten
A16: Besprechung | B16: Ohne Abmeldung fehlend | C16: 4

Sheet Strafen_Tracker
A1: Datum | B1: Spielername | C1: Kategorie | D1: Verstoß | E1: Preis (€) | F1: Anmerkungen
E2: =IFERROR(VLOOKUP(D2, Strafenkatalog!$B$2:$C$16, 2, FALSE), "")
E3: =IFERROR(VLOOKUP(D3, Strafenkatalog!$B$2:$C$16, 2, FALSE), "")
E4: =IFERROR(VLOOKUP(D4, Strafenkatalog!$B$2:$C$16, 2, FALSE), "")
E5: =IFERROR(VLOOKUP(D5, Strafenkatalog!$B$2:$C$16, 2, FALSE), "")
E6: =IFERROR(VLOOKUP(D6, Strafenkatalog!$B$2:$C$16, 2, FALSE), "")
E7: =IFERROR(VLOOKUP(D7, Strafenkatalog!$B$2:$C$16, 2, FALSE), "")
E8: =IFERROR(VLOOKUP(D8, Strafenkatalog!$B$2:$C$16, 2, FALSE), "")
E9: =IFERROR(VLOOKUP(D9, Strafenkatalog!$B$2:$C$16, 2, FALSE), "")
E10: =IFERROR(VLOOKUP(D10, Strafenkatalog!$B$2:$C$16, 2, FALSE), "")
E11: =IFERROR(VLOOKUP(D11, Strafenkatalog!$B$2:$C$16, 2, FALSE), "")
E12: =IFERROR(VLOOKUP(D12, Strafenkatalog!$B$2:$C$16, 2, FALSE), "")
E13: =IFERROR(VLOOKUP(D13, Strafenkatalog!$B$2:$C$16, 2, FALSE), "")
... E501: =IFERROR(VLOOKUP(D501, Strafenkatalog!$B$2:$C$16, 2, FALSE), "")
