Workbook

Sheet Eingabedaten Räume
A1: Raumbuch: Eingabe der Raumdaten
A3: Gebäude-Nr. | B3: Raumnummer | C3: Raumbezeichnung | D3: Nutzung | E3: Fläche (m²) | F3: Höhe (m) | G3: Bodenbelag | H3: Wand-/Deckenausstattung | I3: Fensteranzahl | J3: Türenanzahl | K3: Technische Ausstattung | L3: Besonderheiten / Notizen

Sheet Übersicht & Filter
A1: Gesamtübersicht der Räume
B3: Anzahl Räume: | C3: =SUBTOTAL(3,Raumübersicht[Raumnummer]) -> 0
B4: Gesamtfläche (m²): | C4: =SUBTOTAL(9,Raumübersicht[Fläche (m²)]) -> 0
A6: Gebäude-Nr. | B6: Raumnummer | C6: Raumbezeichnung | D6: Nutzung | E6: Fläche (m²) | F6: Höhe (m) | G6: Bodenbelag | H6: Wand-/Deckenausstattung | I6: Fensteranzahl | J6: Türenanzahl | K6: Technische Ausstattung | L6: Besonderheiten / Notizen
A7: =IF('Eingabedaten Räume'!A4<>"", 'Eingabedaten Räume'!A4, "") -> 0 | B7: =IF('Eingabedaten Räume'!B4<>"", 'Eingabedaten Räume'!B4, "") -> 0 | C7: =IF('Eingabedaten Räume'!C4<>"", 'Eingabedaten Räume'!C4, "") -> 0 | D7: =IF('Eingabedaten Räume'!D4<>"", 'Eingabedaten Räume'!D4, "") -> 0 | E7: =IF('Eingabedaten Räume'!E4<>"", 'Eingabedaten Räume'!E4, "") -> 0 | F7: =IF('Eingabedaten Räume'!F4<>"", 'Eingabedaten Räume'!F4, "") -> 0 | G7: =IF('Eingabedaten Räume'!G4<>"", 'Eingabedaten Räume'!G4, "") -> 0 | H7: =IF('Eingabedaten Räume'!H4<>"", 'Eingabedaten Räume'!H4, "") -> 0 | ... L7: =IF('Eingabedaten Räume'!L4<>"", 'Eingabedaten Räume'!L4, "") -> 0
A8: =IF('Eingabedaten Räume'!A5<>"", 'Eingabedaten Räume'!A5, "") -> 0 | B8: =IF('Eingabedaten Räume'!B5<>"", 'Eingabedaten Räume'!B5, "") -> 0 | C8: =IF('Eingabedaten Räume'!C5<>"", 'Eingabedaten Räume'!C5, "") -> 0 | D8: =IF('Eingabedaten Räume'!D5<>"", 'Eingabedaten Räume'!D5, "") -> 0 | E8: =IF('Eingabedaten Räume'!E5<>"", 'Eingabedaten Räume'!E5, "") -> 0 | F8: =IF('Eingabedaten Räume'!F5<>"", 'Eingabedaten Räume'!F5, "") -> 0 | G8: =IF('Eingabedaten Räume'!G5<>"", 'Eingabedaten Räume'!G5, "") -> 0 | H8: =IF('Eingabedaten Räume'!H5<>"", 'Eingabedaten Räume'!H5, "") -> 0 | ... L8: =IF('Eingabedaten Räume'!L5<>"", 'Eingabedaten Räume'!L5, "") -> 0
A9: =IF('Eingabedaten Räume'!A6<>"", 'Eingabedaten Räume'!A6, "") -> 0 | B9: =IF('Eingabedaten Räume'!B6<>"", 'Eingabedaten Räume'!B6, "") -> 0 | C9: =IF('Eingabedaten Räume'!C6<>"", 'Eingabedaten Räume'!C6, "") -> 0 | D9: =IF('Eingabedaten Räume'!D6<>"", 'Eingabedaten Räume'!D6, "") -> 0 | E9: =IF('Eingabedaten Räume'!E6<>"", 'Eingabedaten Räume'!E6, "") -> 0 | F9: =IF('Eingabedaten Räume'!F6<>"", 'Eingabedaten Räume'!F6, "") -> 0 | G9: =IF('Eingabedaten Räume'!G6<>"", 'Eingabedaten Räume'!G6, "") -> 0 | H9: =IF('Eingabedaten Räume'!H6<>"", 'Eingabedaten Räume'!H6, "") -> 0 | ... L9: =IF('Eingabedaten Räume'!L6<>"", 'Eingabedaten Räume'!L6, "") -> 0
A10: =IF('Eingabedaten Räume'!A7<>"", 'Eingabedaten Räume'!A7, "") -> 0 | B10: =IF('Eingabedaten Räume'!B7<>"", 'Eingabedaten Räume'!B7, "") -> 0 | C10: =IF('Eingabedaten Räume'!C7<>"", 'Eingabedaten Räume'!C7, "") -> 0 | D10: =IF('Eingabedaten Räume'!D7<>"", 'Eingabedaten Räume'!D7, "") -> 0 | E10: =IF('Eingabedaten Räume'!E7<>"", 'Eingabedaten Räume'!E7, "") -> 0 | F10: =IF('Eingabedaten Räume'!F7<>"", 'Eingabedaten Räume'!F7, "") -> 0 | G10: =IF('Eingabedaten Räume'!G7<>"", 'Eingabedaten Räume'!G7, "") -> 0 | H10: =IF('Eingabedaten Räume'!H7<>"", 'Eingabedaten Räume'!H7, "") -> 0 | ... L10: =IF('Eingabedaten Räume'!L7<>"", 'Eingabedaten Räume'!L7, "") -> 0
A11: =IF('Eingabedaten Räume'!A8<>"", 'Eingabedaten Räume'!A8, "") -> 0 | B11: =IF('Eingabedaten Räume'!B8<>"", 'Eingabedaten Räume'!B8, "") -> 0 | C11: =IF('Eingabedaten Räume'!C8<>"", 'Eingabedaten Räume'!C8, "") -> 0 | D11: =IF('Eingabedaten Räume'!D8<>"", 'Eingabedaten Räume'!D8, "") -> 0 | E11: =IF('Eingabedaten Räume'!E8<>"", 'Eingabedaten Räume'!E8, "") -> 0 | F11: =IF('Eingabedaten Räume'!F8<>"", 'Eingabedaten Räume'!F8, "") -> 0 | G11: =IF('Eingabedaten Räume'!G8<>"", 'Eingabedaten Räume'!G8, "") -> 0 | H11: =IF('Eingabedaten Räume'!H8<>"", 'Eingabedaten Räume'!H8, "") -> 0 | ... L11: =IF('Eingabedaten Räume'!L8<>"", 'Eingabedaten Räume'!L8, "") -> 0
A12: =IF('Eingabedaten Räume'!A9<>"", 'Eingabedaten Räume'!A9, "") -> 0 | B12: =IF('Eingabedaten Räume'!B9<>"", 'Eingabedaten Räume'!B9, "") -> 0 | C12: =IF('Eingabedaten Räume'!C9<>"", 'Eingabedaten Räume'!C9, "") -> 0 | D12: =IF('Eingabedaten Räume'!D9<>"", 'Eingabedaten Räume'!D9, "") -> 0 | E12: =IF('Eingabedaten Räume'!E9<>"", 'Eingabedaten Räume'!E9, "") -> 0 | F12: =IF('Eingabedaten Räume'!F9<>"", 'Eingabedaten Räume'!F9, "") -> 0 | G12: =IF('Eingabedaten Räume'!G9<>"", 'Eingabedaten Räume'!G9, "") -> 0 | H12: =IF('Eingabedaten Räume'!H9<>"", 'Eingabedaten Räume'!H9, "") -> 0 | ... L12: =IF('Eingabedaten Räume'!L9<>"", 'Eingabedaten Räume'!L9, "") -> 0
A13: =IF('Eingabedaten Räume'!A10<>"", 'Eingabedaten Räume'!A10, "") -> 0 | B13: =IF('Eingabedaten Räume'!B10<>"", 'Eingabedaten Räume'!B10, "") -> 0 | C13: =IF('Eingabedaten Räume'!C10<>"", 'Eingabedaten Räume'!C10, "") -> 0 | D13: =IF('Eingabedaten Räume'!D10<>"", 'Eingabedaten Räume'!D10, "") -> 0 | E13: =IF('Eingabedaten Räume'!E10<>"", 'Eingabedaten Räume'!E10, "") -> 0 | F13: =IF('Eingabedaten Räume'!F10<>"", 'Eingabedaten Räume'!F10, "") -> 0 | G13: =IF('Eingabedaten Räume'!G10<>"", 'Eingabedaten Räume'!G10, "") -> 0 | H13: =IF('Eingabedaten Räume'!H10<>"", 'Eingabedaten Räume'!H10, "") -> 0 | ... L13: =IF('Eingabedaten Räume'!L10<>"", 'Eingabedaten Räume'!L10, "") -> 0
A14: =IF('Eingabedaten Räume'!A11<>"", 'Eingabedaten Räume'!A11, "") -> 0 | B14: =IF('Eingabedaten Räume'!B11<>"", 'Eingabedaten Räume'!B11, "") -> 0 | C14: =IF('Eingabedaten Räume'!C11<>"", 'Eingabedaten Räume'!C11, "") -> 0 | D14: =IF('Eingabedaten Räume'!D11<>"", 'Eingabedaten Räume'!D11, "") -> 0 | E14: =IF('Eingabedaten Räume'!E11<>"", 'Eingabedaten Räume'!E11, "") -> 0 | F14: =IF('Eingabedaten Räume'!F11<>"", 'Eingabedaten Räume'!F11, "") -> 0 | G14: =IF('Eingabedaten Räume'!G11<>"", 'Eingabedaten Räume'!G11, "") -> 0 | H14: =IF('Eingabedaten Räume'!H11<>"", 'Eingabedaten Räume'!H11, "") -> 0 | ... L14: =IF('Eingabedaten Räume'!L11<>"", 'Eingabedaten Räume'!L11, "") -> 0
A15: =IF('Eingabedaten Räume'!A12<>"", 'Eingabedaten Räume'!A12, "") -> 0 | B15: =IF('Eingabedaten Räume'!B12<>"", 'Eingabedaten Räume'!B12, "") -> 0 | C15: =IF('Eingabedaten Räume'!C12<>"", 'Eingabedaten Räume'!C12, "") -> 0 | D15: =IF('Eingabedaten Räume'!D12<>"", 'Eingabedaten Räume'!D12, "") -> 0 | E15: =IF('Eingabedaten Räume'!E12<>"", 'Eingabedaten Räume'!E12, "") -> 0 | F15: =IF('Eingabedaten Räume'!F12<>"", 'Eingabedaten Räume'!F12, "") -> 0 | G15: =IF('Eingabedaten Räume'!G12<>"", 'Eingabedaten Räume'!G12, "") -> 0 | H15: =IF('Eingabedaten Räume'!H12<>"", 'Eingabedaten Räume'!H12, "") -> 0 | ... L15: =IF('Eingabedaten Räume'!L12<>"", 'Eingabedaten Räume'!L12, "") -> 0
A16: =IF('Eingabedaten Räume'!A13<>"", 'Eingabedaten Räume'!A13, "") -> 0 | B16: =IF('Eingabedaten Räume'!B13<>"", 'Eingabedaten Räume'!B13, "") -> 0 | C16: =IF('Eingabedaten Räume'!C13<>"", 'Eingabedaten Räume'!C13, "") -> 0 | D16: =IF('Eingabedaten Räume'!D13<>"", 'Eingabedaten Räume'!D13, "") -> 0 | E16: =IF('Eingabedaten Räume'!E13<>"", 'Eingabedaten Räume'!E13, "") -> 0 | F16: =IF('Eingabedaten Räume'!F13<>"", 'Eingabedaten Räume'!F13, "") -> 0 | G16: =IF('Eingabedaten Räume'!G13<>"", 'Eingabedaten Räume'!G13, "") -> 0 | H16: =IF('Eingabedaten Räume'!H13<>"", 'Eingabedaten Räume'!H13, "") -> 0 | ... L16: =IF('Eingabedaten Räume'!L13<>"", 'Eingabedaten Räume'!L13, "") -> 0
A17: =IF('Eingabedaten Räume'!A14<>"", 'Eingabedaten Räume'!A14, "") -> 0 | B17: =IF('Eingabedaten Räume'!B14<>"", 'Eingabedaten Räume'!B14, "") -> 0 | C17: =IF('Eingabedaten Räume'!C14<>"", 'Eingabedaten Räume'!C14, "") -> 0 | D17: =IF('Eingabedaten Räume'!D14<>"", 'Eingabedaten Räume'!D14, "") -> 0 | E17: =IF('Eingabedaten Räume'!E14<>"", 'Eingabedaten Räume'!E14, "") -> 0 | F17: =IF('Eingabedaten Räume'!F14<>"", 'Eingabedaten Räume'!F14, "") -> 0 | G17: =IF('Eingabedaten Räume'!G14<>"", 'Eingabedaten Räume'!G14, "") -> 0 | H17: =IF('Eingabedaten Räume'!H14<>"", 'Eingabedaten Räume'!H14, "") -> 0 | ... L17: =IF('Eingabedaten Räume'!L14<>"", 'Eingabedaten Räume'!L14, "") -> 0
A18: =IF('Eingabedaten Räume'!A15<>"", 'Eingabedaten Räume'!A15, "") -> 0 | B18: =IF('Eingabedaten Räume'!B15<>"", 'Eingabedaten Räume'!B15, "") -> 0 | C18: =IF('Eingabedaten Räume'!C15<>"", 'Eingabedaten Räume'!C15, "") -> 0 | D18: =IF('Eingabedaten Räume'!D15<>"", 'Eingabedaten Räume'!D15, "") -> 0 | E18: =IF('Eingabedaten Räume'!E15<>"", 'Eingabedaten Räume'!E15, "") -> 0 | F18: =IF('Eingabedaten Räume'!F15<>"", 'Eingabedaten Räume'!F15, "") -> 0 | G18: =IF('Eingabedaten Räume'!G15<>"", 'Eingabedaten Räume'!G15, "") -> 0 | H18: =IF('Eingabedaten Räume'!H15<>"", 'Eingabedaten Räume'!H15, "") -> 0 | ... L18: =IF('Eingabedaten Räume'!L15<>"", 'Eingabedaten Räume'!L15, "") -> 0
... A206: =IF('Eingabedaten Räume'!A203<>"", 'Eingabedaten Räume'!A203, "") -> 0 | B206: =IF('Eingabedaten Räume'!B203<>"", 'Eingabedaten Räume'!B203, "") -> 0 | C206: =IF('Eingabedaten Räume'!C203<>"", 'Eingabedaten Räume'!C203, "") -> 0 | D206: =IF('Eingabedaten Räume'!D203<>"", 'Eingabedaten Räume'!D203, "") -> 0 | E206: =IF('Eingabedaten Räume'!E203<>"", 'Eingabedaten Räume'!E203, "") -> 0 | F206: =IF('Eingabedaten Räume'!F203<>"", 'Eingabedaten Räume'!F203, "") -> 0 | G206: =IF('Eingabedaten Räume'!G203<>"", 'Eingabedaten Räume'!G203, "") -> 0 | H206: =IF('Eingabedaten Räume'!H203<>"", 'Eingabedaten Räume'!H203, "") -> 0 | ... L206: =IF('Eingabedaten Räume'!L203<>"", 'Eingabedaten Räume'!L203, "") -> 0

Sheet Analyse & Diagramme
A1: Analysen und Auswertungen
A3: Flächenverteilung nach Nutzung
A4: Nutzung | B4: Gesamtfläche (m²)
A5: Büro | B5: =SUMIF(Raumübersicht[Nutzung], A5, Raumübersicht[Fläche (m²)]) -> 0
A6: Lager | B6: =SUMIF(Raumübersicht[Nutzung], A6, Raumübersicht[Fläche (m²)]) -> 0
A7: Technik | B7: =SUMIF(Raumübersicht[Nutzung], A7, Raumübersicht[Fläche (m²)]) -> 0
A8: Küche | B8: =SUMIF(Raumübersicht[Nutzung], A8, Raumübersicht[Fläche (m²)]) -> 0
A9: Sozialraum | B9: =SUMIF(Raumübersicht[Nutzung], A9, Raumübersicht[Fläche (m²)]) -> 0
A10: Verkehrsfläche | B10: =SUMIF(Raumübersicht[Nutzung], A10, Raumübersicht[Fläche (m²)]) -> 0
A11: Sanitär | B11: =SUMIF(Raumübersicht[Nutzung], A11, Raumübersicht[Fläche (m²)]) -> 0
A18: Verteilung der Technischen Ausstattung
A19: Ausstattung | B19: Anzahl Räume
A20: Heizung | B20: =COUNTIF(Raumübersicht[Technische Ausstattung], "*"&A20&"*") -> 0
A21: Lüftung | B21: =COUNTIF(Raumübersicht[Technische Ausstattung], "*"&A21&"*") -> 0
A22: Klima | B22: =COUNTIF(Raumübersicht[Technische Ausstattung], "*"&A22&"*") -> 0
A23: Strom | B23: =COUNTIF(Raumübersicht[Technische Ausstattung], "*"&A23&"*") -> 0
A24: Netzwerk | B24: =COUNTIF(Raumübersicht[Technische Ausstattung], "*"&A24&"*") -> 0
A25: Wasser | B25: =COUNTIF(Raumübersicht[Technische Ausstattung], "*"&A25&"*") -> 0
A26: Sicherheitsanlage | B26: =COUNTIF(Raumübersicht[Technische Ausstattung], "*"&A26&"*") -> 0

Sheet Anleitung & Farblegende
A1: Anleitung und Hinweise
A3: Farblegende
B4: Eingabezelle (editierbar)
A6: Erläuterungen zu den Blättern
A8: Blatt 1 - Eingabedaten Räume: Tragen Sie hier alle Daten zu den Räumen ein. Die hellblauen Zellen sind für die Eingabe freigeschaltet. Alle anderen Zellen und Formeln sind geschützt.
A10: Blatt 2 - Übersicht & Filter: Dieses Blatt zeigt alle eingegebenen Daten in einer filterbaren Tabelle. Nutzen Sie die Pfeile in der Kopfzeile, um die Daten zu filtern. Die Summen oben passen sich automatisch an den Filter an.
A12: Blatt 3 - Analyse & Diagramme: Dieses Blatt enthält automatische Auswertungen und Diagramme, die sich basierend auf Ihren Eingaben aktualisieren.
A14: Blatt 4 - Anleitung: Dieses Blatt.
A17: Hinweise zur Nutzung
A19: Blattschutz: Die Blätter sind geschützt, um Formeln vor versehentlichem Ändern zu bewahren. Das Passwort lautet "Raumbuch123", wird aber für die normale Dateneingabe nicht benötigt.
A21: Bedingte Formatierung: In der Spalte "Fläche (m²)" auf dem Übersichtsblatt signalisieren Farben die Raumgröße (grün = klein, gelb = mittel, rot = groß).
A23: VBA/Makros: Diese Vorlage enthält keine Makros und ist daher sicher in der Anwendung.
