Workbook
Name Medikamente: 'Medikamentenliste'!$B$2:$B$101

Sheet Medikamentenliste
A1: Medikamenten-ID | B1: Medikamentenname | C1: Darreichungsform | D1: Dosierung / Einheit | E1: Aktueller Bestand | F1: Packungsgröße (Einheiten pro Packung) | G1: Verfallsdatum | H1: Stückkosten (in €) | I1: Gesamtkosten
I2: =[[#This Row],Aktueller Bestand]*[[#This Row],[Stückkosten (in €)]] -> 0
I3: =[[#This Row],Aktueller Bestand]*[[#This Row],[Stückkosten (in €)]] -> 0
I4: =[[#This Row],Aktueller Bestand]*[[#This Row],[Stückkosten (in €)]] -> 0
I5: =[[#This Row],Aktueller Bestand]*[[#This Row],[Stückkosten (in €)]] -> 0
I6: =[[#This Row],Aktueller Bestand]*[[#This Row],[Stückkosten (in €)]] -> 0
I7: =[[#This Row],Aktueller Bestand]*[[#This Row],[Stückkosten (in €)]] -> 0
I8: =[[#This Row],Aktueller Bestand]*[[#This Row],[Stückkosten (in €)]] -> 0
I9: =[[#This Row],Aktueller Bestand]*[[#This Row],[Stückkosten (in €)]] -> 0
I10: =[[#This Row],Aktueller Bestand]*[[#This Row],[Stückkosten (in €)]] -> 0
I11: =[[#This Row],Aktueller Bestand]*[[#This Row],[Stückkosten (in €)]] -> 0
I12: =[[#This Row],Aktueller Bestand]*[[#This Row],[Stückkosten (in €)]] -> 0
I13: =[[#This Row],Aktueller Bestand]*[[#This Row],[Stückkosten (in €)]] -> 0
... I101: =[[#This Row],Aktueller Bestand]*[[#This Row],[Stückkosten (in €)]] -> 0

Sheet Verbrauchskontrolle
A1: Datum | B1: Medikament | C1: Verbrauchte Menge | D1: Berechneter Restbestand
D2: =IFERROR(VLOOKUP($B2,'Medikamentenliste'!$B:$I,5,FALSE)-$C2,"") -> 0
D3: =IFERROR(VLOOKUP($B3,'Medikamentenliste'!$B:$I,5,FALSE)-$C3,"") -> 0
D4: =IFERROR(VLOOKUP($B4,'Medikamentenliste'!$B:$I,5,FALSE)-$C4,"") -> 0
D5: =IFERROR(VLOOKUP($B5,'Medikamentenliste'!$B:$I,5,FALSE)-$C5,"") -> 0
D6: =IFERROR(VLOOKUP($B6,'Medikamentenliste'!$B:$I,5,FALSE)-$C6,"") -> 0
D7: =IFERROR(VLOOKUP($B7,'Medikamentenliste'!$B:$I,5,FALSE)-$C7,"") -> 0
D8: =IFERROR(VLOOKUP($B8,'Medikamentenliste'!$B:$I,5,FALSE)-$C8,"") -> 0
D9: =IFERROR(VLOOKUP($B9,'Medikamentenliste'!$B:$I,5,FALSE)-$C9,"") -> 0
D10: =IFERROR(VLOOKUP($B10,'Medikamentenliste'!$B:$I,5,FALSE)-$C10,"") -> 0
D11: =IFERROR(VLOOKUP($B11,'Medikamentenliste'!$B:$I,5,FALSE)-$C11,"") -> 0
D12: =IFERROR(VLOOKUP($B12,'Medikamentenliste'!$B:$I,5,FALSE)-$C12,"") -> 0
D13: =IFERROR(VLOOKUP($B13,'Medikamentenliste'!$B:$I,5,FALSE)-$C13,"") -> 0
... D101: =IFERROR(VLOOKUP($B101,'Medikamentenliste'!$B:$I,5,FALSE)-$C101,"") -> 0

Sheet Bestellwarnung
A1: Medikament | B1: Aktueller Bestand | C1: Näheres Verfallsdatum (Tage) | D1: Muss bestellt werden?
B2: =IFERROR(VLOOKUP($A2,'Medikamentenliste'!$B:$I,5,FALSE),"") -> 0 | C2: =IFERROR(VLOOKUP($A2,'Medikamentenliste'!$B:$I,7,FALSE)-TODAY(),"") -> 0 | D2: =IF(OR($B2="",$B2=0,$B2<=10,$C2<=30,$C2<0),"Ja","Nein") -> 0
B3: =IFERROR(VLOOKUP($A3,'Medikamentenliste'!$B:$I,5,FALSE),"") -> 0 | C3: =IFERROR(VLOOKUP($A3,'Medikamentenliste'!$B:$I,7,FALSE)-TODAY(),"") -> 0 | D3: =IF(OR($B3="",$B3=0,$B3<=10,$C3<=30,$C3<0),"Ja","Nein") -> 0
B4: =IFERROR(VLOOKUP($A4,'Medikamentenliste'!$B:$I,5,FALSE),"") -> 0 | C4: =IFERROR(VLOOKUP($A4,'Medikamentenliste'!$B:$I,7,FALSE)-TODAY(),"") -> 0 | D4: =IF(OR($B4="",$B4=0,$B4<=10,$C4<=30,$C4<0),"Ja","Nein") -> 0
B5: =IFERROR(VLOOKUP($A5,'Medikamentenliste'!$B:$I,5,FALSE),"") -> 0 | C5: =IFERROR(VLOOKUP($A5,'Medikamentenliste'!$B:$I,7,FALSE)-TODAY(),"") -> 0 | D5: =IF(OR($B5="",$B5=0,$B5<=10,$C5<=30,$C5<0),"Ja","Nein") -> 0
B6: =IFERROR(VLOOKUP($A6,'Medikamentenliste'!$B:$I,5,FALSE),"") -> 0 | C6: =IFERROR(VLOOKUP($A6,'Medikamentenliste'!$B:$I,7,FALSE)-TODAY(),"") -> 0 | D6: =IF(OR($B6="",$B6=0,$B6<=10,$C6<=30,$C6<0),"Ja","Nein") -> 0
B7: =IFERROR(VLOOKUP($A7,'Medikamentenliste'!$B:$I,5,FALSE),"") -> 0 | C7: =IFERROR(VLOOKUP($A7,'Medikamentenliste'!$B:$I,7,FALSE)-TODAY(),"") -> 0 | D7: =IF(OR($B7="",$B7=0,$B7<=10,$C7<=30,$C7<0),"Ja","Nein") -> 0
B8: =IFERROR(VLOOKUP($A8,'Medikamentenliste'!$B:$I,5,FALSE),"") -> 0 | C8: =IFERROR(VLOOKUP($A8,'Medikamentenliste'!$B:$I,7,FALSE)-TODAY(),"") -> 0 | D8: =IF(OR($B8="",$B8=0,$B8<=10,$C8<=30,$C8<0),"Ja","Nein") -> 0
B9: =IFERROR(VLOOKUP($A9,'Medikamentenliste'!$B:$I,5,FALSE),"") -> 0 | C9: =IFERROR(VLOOKUP($A9,'Medikamentenliste'!$B:$I,7,FALSE)-TODAY(),"") -> 0 | D9: =IF(OR($B9="",$B9=0,$B9<=10,$C9<=30,$C9<0),"Ja","Nein") -> 0
B10: =IFERROR(VLOOKUP($A10,'Medikamentenliste'!$B:$I,5,FALSE),"") -> 0 | C10: =IFERROR(VLOOKUP($A10,'Medikamentenliste'!$B:$I,7,FALSE)-TODAY(),"") -> 0 | D10: =IF(OR($B10="",$B10=0,$B10<=10,$C10<=30,$C10<0),"Ja","Nein") -> 0
B11: =IFERROR(VLOOKUP($A11,'Medikamentenliste'!$B:$I,5,FALSE),"") -> 0 | C11: =IFERROR(VLOOKUP($A11,'Medikamentenliste'!$B:$I,7,FALSE)-TODAY(),"") -> 0 | D11: =IF(OR($B11="",$B11=0,$B11<=10,$C11<=30,$C11<0),"Ja","Nein") -> 0
B12: =IFERROR(VLOOKUP($A12,'Medikamentenliste'!$B:$I,5,FALSE),"") -> 0 | C12: =IFERROR(VLOOKUP($A12,'Medikamentenliste'!$B:$I,7,FALSE)-TODAY(),"") -> 0 | D12: =IF(OR($B12="",$B12=0,$B12<=10,$C12<=30,$C12<0),"Ja","Nein") -> 0
B13: =IFERROR(VLOOKUP($A13,'Medikamentenliste'!$B:$I,5,FALSE),"") -> 0 | C13: =IFERROR(VLOOKUP($A13,'Medikamentenliste'!$B:$I,7,FALSE)-TODAY(),"") -> 0 | D13: =IF(OR($B13="",$B13=0,$B13<=10,$C13<=30,$C13<0),"Ja","Nein") -> 0
... B101: =IFERROR(VLOOKUP($A101,'Medikamentenliste'!$B:$I,5,FALSE),"") -> 0 | C101: =IFERROR(VLOOKUP($A101,'Medikamentenliste'!$B:$I,7,FALSE)-TODAY(),"") -> 0 | D101: =IF(OR($B101="",$B101=0,$B101<=10,$C101<=30,$C101<0),"Ja","Nein") -> 0
