Workbook

Sheet Planung
A1: Turniername
A2: Ort
A3: Datum
A4: Anzahl Teams
A5: Gruppenanzahl
A6: Teams pro Gruppe
A7: Spielzeit (min)
A8: Spielfelder | B8: 2
A9: Punkte (Sieg) | B9: 3
A10: Punkte (Unentschieden) | B10: 1
A11: Punkte (Niederlage) | B11: 0
A14: Team Nr | B14: Teamname | C14: Gruppe (A/B)
A15: 1
A16: 2
A17: 3
A18: 4
A19: 5
A20: 6
A21: 7
A22: 8
A23: 9
A24: 10
A25: 11
A26: 12

Sheet Vorrunde
A1: Spiel Nr. | B1: Gruppe | C1: Team 1 | D1: Team 2 | E1: Tore T1 | F1: Tore T2 | G1: Uhrzeit | H1: Platz
A64: Gruppe A – Tabelle
B65: =IF($A65="","",COUNTIF($C$2:$C$61,$A65)+COUNTIF($D$2:$D$61,$A65)) -> 0 | C65: =IF($A65="","",SUMPRODUCT(($C$2:$C$61=$A65)*($E$2:$E$61>$F$2:$F$61)) + SUMPRODUCT(($D$2:$D$61=$A65)*($F$2:$F$61>$E$2:$E$61))) -> 0 | D65: =IF($A65="","",SUMIF($C$2:$C$61,$A65,$E$2:$E$61)+SUMIF($D$2:$D$61,$A65,$F$2:$F$61)) -> 0 | E65: =IF($A65="","",SUMIF($C$2:$C$61,$A65,$F$2:$F$61)+SUMIF($D$2:$D$61,$A65,$E$2:$E$61)) -> 0 | F65: =IF($A65="","",D65-E65) -> 0 | G65: =IF($A65="","",C65*Einstellungen!$B$2 + (B65-C65)*Einstellungen!$B$3) -> 0 | H65: =IF($A65="","",RANK(G65,$G$65:$G$70,0)) -> 0
B66: =IF($A66="","",COUNTIF($C$2:$C$61,$A66)+COUNTIF($D$2:$D$61,$A66)) -> 0 | C66: =IF($A66="","",SUMPRODUCT(($C$2:$C$61=$A66)*($E$2:$E$61>$F$2:$F$61)) + SUMPRODUCT(($D$2:$D$61=$A66)*($F$2:$F$61>$E$2:$E$61))) -> 0 | D66: =IF($A66="","",SUMIF($C$2:$C$61,$A66,$E$2:$E$61)+SUMIF($D$2:$D$61,$A66,$F$2:$F$61)) -> 0 | E66: =IF($A66="","",SUMIF($C$2:$C$61,$A66,$F$2:$F$61)+SUMIF($D$2:$D$61,$A66,$E$2:$E$61)) -> 0 | F66: =IF($A66="","",D66-E66) -> 0 | G66: =IF($A66="","",C66*Einstellungen!$B$2 + (B66-C66)*Einstellungen!$B$3) -> 0 | H66: =IF($A66="","",RANK(G66,$G$65:$G$70,0)) -> 0
B67: =IF($A67="","",COUNTIF($C$2:$C$61,$A67)+COUNTIF($D$2:$D$61,$A67)) -> 0 | C67: =IF($A67="","",SUMPRODUCT(($C$2:$C$61=$A67)*($E$2:$E$61>$F$2:$F$61)) + SUMPRODUCT(($D$2:$D$61=$A67)*($F$2:$F$61>$E$2:$E$61))) -> 0 | D67: =IF($A67="","",SUMIF($C$2:$C$61,$A67,$E$2:$E$61)+SUMIF($D$2:$D$61,$A67,$F$2:$F$61)) -> 0 | E67: =IF($A67="","",SUMIF($C$2:$C$61,$A67,$F$2:$F$61)+SUMIF($D$2:$D$61,$A67,$E$2:$E$61)) -> 0 | F67: =IF($A67="","",D67-E67) -> 0 | G67: =IF($A67="","",C67*Einstellungen!$B$2 + (B67-C67)*Einstellungen!$B$3) -> 0 | H67: =IF($A67="","",RANK(G67,$G$65:$G$70,0)) -> 0
B68: =IF($A68="","",COUNTIF($C$2:$C$61,$A68)+COUNTIF($D$2:$D$61,$A68)) -> 0 | C68: =IF($A68="","",SUMPRODUCT(($C$2:$C$61=$A68)*($E$2:$E$61>$F$2:$F$61)) + SUMPRODUCT(($D$2:$D$61=$A68)*($F$2:$F$61>$E$2:$E$61))) -> 0 | D68: =IF($A68="","",SUMIF($C$2:$C$61,$A68,$E$2:$E$61)+SUMIF($D$2:$D$61,$A68,$F$2:$F$61)) -> 0 | E68: =IF($A68="","",SUMIF($C$2:$C$61,$A68,$F$2:$F$61)+SUMIF($D$2:$D$61,$A68,$E$2:$E$61)) -> 0 | F68: =IF($A68="","",D68-E68) -> 0 | G68: =IF($A68="","",C68*Einstellungen!$B$2 + (B68-C68)*Einstellungen!$B$3) -> 0 | H68: =IF($A68="","",RANK(G68,$G$65:$G$70,0)) -> 0
B69: =IF($A69="","",COUNTIF($C$2:$C$61,$A69)+COUNTIF($D$2:$D$61,$A69)) -> 0 | C69: =IF($A69="","",SUMPRODUCT(($C$2:$C$61=$A69)*($E$2:$E$61>$F$2:$F$61)) + SUMPRODUCT(($D$2:$D$61=$A69)*($F$2:$F$61>$E$2:$E$61))) -> 0 | D69: =IF($A69="","",SUMIF($C$2:$C$61,$A69,$E$2:$E$61)+SUMIF($D$2:$D$61,$A69,$F$2:$F$61)) -> 0 | E69: =IF($A69="","",SUMIF($C$2:$C$61,$A69,$F$2:$F$61)+SUMIF($D$2:$D$61,$A69,$E$2:$E$61)) -> 0 | F69: =IF($A69="","",D69-E69) -> 0 | G69: =IF($A69="","",C69*Einstellungen!$B$2 + (B69-C69)*Einstellungen!$B$3) -> 0 | H69: =IF($A69="","",RANK(G69,$G$65:$G$70,0)) -> 0
B70: =IF($A70="","",COUNTIF($C$2:$C$61,$A70)+COUNTIF($D$2:$D$61,$A70)) -> 0 | C70: =IF($A70="","",SUMPRODUCT(($C$2:$C$61=$A70)*($E$2:$E$61>$F$2:$F$61)) + SUMPRODUCT(($D$2:$D$61=$A70)*($F$2:$F$61>$E$2:$E$61))) -> 0 | D70: =IF($A70="","",SUMIF($C$2:$C$61,$A70,$E$2:$E$61)+SUMIF($D$2:$D$61,$A70,$F$2:$F$61)) -> 0 | E70: =IF($A70="","",SUMIF($C$2:$C$61,$A70,$F$2:$F$61)+SUMIF($D$2:$D$61,$A70,$E$2:$E$61)) -> 0 | F70: =IF($A70="","",D70-E70) -> 0 | G70: =IF($A70="","",C70*Einstellungen!$B$2 + (B70-C70)*Einstellungen!$B$3) -> 0 | H70: =IF($A70="","",RANK(G70,$G$65:$G$70,0)) -> 0
A73: Gruppe B – Tabelle
B74: =IF($A74="","",COUNTIF($C$2:$C$61,$A74)+COUNTIF($D$2:$D$61,$A74)) -> 0 | C74: =IF($A74="","",SUMPRODUCT(($C$2:$C$61=$A74)*($E$2:$E$61>$F$2:$F$61)) + SUMPRODUCT(($D$2:$D$61=$A74)*($F$2:$F$61>$E$2:$E$61))) -> 0 | D74: =IF($A74="","",SUMIF($C$2:$C$61,$A74,$E$2:$E$61)+SUMIF($D$2:$D$61,$A74,$F$2:$F$61)) -> 0 | E74: =IF($A74="","",SUMIF($C$2:$C$61,$A74,$F$2:$F$61)+SUMIF($D$2:$D$61,$A74,$E$2:$E$61)) -> 0 | F74: =IF($A74="","",D74-E74) -> 0 | G74: =IF($A74="","",C74*Einstellungen!$B$2 + (B74-C74)*Einstellungen!$B$3) -> 0 | H74: =IF($A74="","",RANK(G74,$G$74:$G$79,0)) -> 0
B75: =IF($A75="","",COUNTIF($C$2:$C$61,$A75)+COUNTIF($D$2:$D$61,$A75)) -> 0 | C75: =IF($A75="","",SUMPRODUCT(($C$2:$C$61=$A75)*($E$2:$E$61>$F$2:$F$61)) + SUMPRODUCT(($D$2:$D$61=$A75)*($F$2:$F$61>$E$2:$E$61))) -> 0 | D75: =IF($A75="","",SUMIF($C$2:$C$61,$A75,$E$2:$E$61)+SUMIF($D$2:$D$61,$A75,$F$2:$F$61)) -> 0 | E75: =IF($A75="","",SUMIF($C$2:$C$61,$A75,$F$2:$F$61)+SUMIF($D$2:$D$61,$A75,$E$2:$E$61)) -> 0 | F75: =IF($A75="","",D75-E75) -> 0 | G75: =IF($A75="","",C75*Einstellungen!$B$2 + (B75-C75)*Einstellungen!$B$3) -> 0 | H75: =IF($A75="","",RANK(G75,$G$74:$G$79,0)) -> 0
B76: =IF($A76="","",COUNTIF($C$2:$C$61,$A76)+COUNTIF($D$2:$D$61,$A76)) -> 0 | C76: =IF($A76="","",SUMPRODUCT(($C$2:$C$61=$A76)*($E$2:$E$61>$F$2:$F$61)) + SUMPRODUCT(($D$2:$D$61=$A76)*($F$2:$F$61>$E$2:$E$61))) -> 0 | D76: =IF($A76="","",SUMIF($C$2:$C$61,$A76,$E$2:$E$61)+SUMIF($D$2:$D$61,$A76,$F$2:$F$61)) -> 0 | E76: =IF($A76="","",SUMIF($C$2:$C$61,$A76,$F$2:$F$61)+SUMIF($D$2:$D$61,$A76,$E$2:$E$61)) -> 0 | F76: =IF($A76="","",D76-E76) -> 0 | G76: =IF($A76="","",C76*Einstellungen!$B$2 + (B76-C76)*Einstellungen!$B$3) -> 0 | H76: =IF($A76="","",RANK(G76,$G$74:$G$79,0)) -> 0
B77: =IF($A77="","",COUNTIF($C$2:$C$61,$A77)+COUNTIF($D$2:$D$61,$A77)) -> 0 | C77: =IF($A77="","",SUMPRODUCT(($C$2:$C$61=$A77)*($E$2:$E$61>$F$2:$F$61)) + SUMPRODUCT(($D$2:$D$61=$A77)*($F$2:$F$61>$E$2:$E$61))) -> 0 | D77: =IF($A77="","",SUMIF($C$2:$C$61,$A77,$E$2:$E$61)+SUMIF($D$2:$D$61,$A77,$F$2:$F$61)) -> 0 | E77: =IF($A77="","",SUMIF($C$2:$C$61,$A77,$F$2:$F$61)+SUMIF($D$2:$D$61,$A77,$E$2:$E$61)) -> 0 | F77: =IF($A77="","",D77-E77) -> 0 | G77: =IF($A77="","",C77*Einstellungen!$B$2 + (B77-C77)*Einstellungen!$B$3) -> 0 | H77: =IF($A77="","",RANK(G77,$G$74:$G$79,0)) -> 0
B78: =IF($A78="","",COUNTIF($C$2:$C$61,$A78)+COUNTIF($D$2:$D$61,$A78)) -> 0 | C78: =IF($A78="","",SUMPRODUCT(($C$2:$C$61=$A78)*($E$2:$E$61>$F$2:$F$61)) + SUMPRODUCT(($D$2:$D$61=$A78)*($F$2:$F$61>$E$2:$E$61))) -> 0 | D78: =IF($A78="","",SUMIF($C$2:$C$61,$A78,$E$2:$E$61)+SUMIF($D$2:$D$61,$A78,$F$2:$F$61)) -> 0 | E78: =IF($A78="","",SUMIF($C$2:$C$61,$A78,$F$2:$F$61)+SUMIF($D$2:$D$61,$A78,$E$2:$E$61)) -> 0 | F78: =IF($A78="","",D78-E78) -> 0 | G78: =IF($A78="","",C78*Einstellungen!$B$2 + (B78-C78)*Einstellungen!$B$3) -> 0 | H78: =IF($A78="","",RANK(G78,$G$74:$G$79,0)) -> 0
B79: =IF($A79="","",COUNTIF($C$2:$C$61,$A79)+COUNTIF($D$2:$D$61,$A79)) -> 0 | C79: =IF($A79="","",SUMPRODUCT(($C$2:$C$61=$A79)*($E$2:$E$61>$F$2:$F$61)) + SUMPRODUCT(($D$2:$D$61=$A79)*($F$2:$F$61>$E$2:$E$61))) -> 0 | D79: =IF($A79="","",SUMIF($C$2:$C$61,$A79,$E$2:$E$61)+SUMIF($D$2:$D$61,$A79,$F$2:$F$61)) -> 0 | E79: =IF($A79="","",SUMIF($C$2:$C$61,$A79,$F$2:$F$61)+SUMIF($D$2:$D$61,$A79,$E$2:$E$61)) -> 0 | F79: =IF($A79="","",D79-E79) -> 0 | G79: =IF($A79="","",C79*Einstellungen!$B$2 + (B79-C79)*Einstellungen!$B$3) -> 0 | H79: =IF($A79="","",RANK(G79,$G$74:$G$79,0)) -> 0

Sheet Direkter_Vergleich_A
A1: Regeln für den direkten Vergleich in Gruppe A
A3: 1) Punkte aus direkten Duellen
A4: 2) Tordifferenz in direkten Duellen
A5: 3) Erzielte Tore in direkten Duellen
A6: 4) Gesamte Tordifferenz
A7: 5) Gesamt erzielte Tore
A8: 6) Losentscheid

Sheet Direkter_Vergleich_B
A1: Regeln für den direkten Vergleich in Gruppe B
A3: 1) Punkte aus direkten Duellen
A4: 2) Tordifferenz in direkten Duellen
A5: 3) Erzielte Tore in direkten Duellen
A6: 4) Gesamte Tordifferenz
A7: 5) Gesamt erzielte Tore
A8: 6) Losentscheid

Sheet Endrunde
A1: Spiel Nr. | B1: Runde | C1: Team A | D1: Team B | E1: Ergebnis | F1: Sieger
A2: 1 | B2: Viertelfinale
A3: 2 | B3: Viertelfinale
A4: 3 | B4: Viertelfinale
A5: 4 | B5: Viertelfinale
A6: 5 | B6: Halbfinale
A7: 6 | B7: Halbfinale
A8: 7 | B8: Finale

Sheet Anstoßzeiten
A1: Spiel Nr. | B1: Runde | C1: Datum | D1: Uhrzeit | E1: Platz

Sheet Einstellungen
A1: Spielzeit (min) | B1: 12
A2: Punkte Sieg | B2: 3
A3: Punkte Unentschieden | B3: 1
A4: Punkte Niederlage | B4: 0
A5: Fair-Play-Regeln | B5: Ja
A6: Entscheidung bei Gleichstand | B6: Elfmeterschießen

Sheet Sprache
A1: DE | B1: EN
A2: Spiel | B2: Match
A3: Gruppe | B3: Group
A4: Sieg | B4: Win
A5: Unentschieden | B5: Draw
A6: Niederlage | B6: Loss
A7: Tore | B7: Goals
A8: Platz | B8: Rank

Sheet Info
A1: Benutzerhinweise
A3: Diese Vorlage bildet ein Turnier mit zwei Gruppen und anschließenden K.O.-Runden ab. • Tragen Sie im Blatt 'Planung' alle Eckdaten und Teams ein. • Im Blatt 'Vorrunde' werden die Spiele erfasst; die Tabellen aktualisieren sich automatisch. • Bei Punktgleichheit siehe Blätter 'Direkter_Vergleich_A/B'. • Die Punkteformel nutzt die Angaben im Blatt 'Einstellungen'. • In der 'Endrunde' tragen Sie die Sieger ein, um den Turnierbaum fortzuführen.
